{"text_format":"1","workbook":"xlsx","n_sheets":3,"sheets":["Scholars Nomination Form","(Wofford Use Only)","Demographic Options"],"not_rendered":{"charts":0,"images":1,"macros":1,"external_links":0,"defined_names":0,"comments":0,"pivot_tables":0},"unopened":[],"bounds":{"document_bytes":16777216,"sheet_cells":100000,"rows_first":2000,"rows_last":500,"rows_between":2000,"halvings":0,"cell_chars":16384,"cell_head_chars":4096},"cells_cut":0,"cells_raw":0,"read":"whole","date_system":"1900"}

{"sheet":"Scholars Nomination Form","index":0,"n_rows":19,"n_cols":27,"rows_kept":19,"cut":false,"hidden":false,"merged":[[17,22,17,26],[18,1,18,2],[20,1,20,2],[21,1,21,2],[22,1,22,2],[1,1,7,1],[28,1,28,2],[29,1,29,2],[30,1,30,2],[19,1,19,2],[31,1,31,2],[32,1,32,2],[23,1,23,2],[24,1,24,2],[25,1,25,2],[26,1,26,2],[27,1,27,2],[38,1,38,2],[39,1,39,2],[40,1,40,2],[41,1,41,2],[42,1,42,2],[33,1,33,2],[34,1,34,2],[35,1,35,2],[36,1,36,2],[37,1,37,2],[48,1,48,2],[49,1,49,2],[50,1,50,2],[51,1,51,2],[52,1,52,2],[43,1,43,2],[44,1,44,2],[45,1,45,2],[46,1,46,2],[47,1,47,2],[58,1,58,2],[59,1,59,2],[60,1,60,2],[61,1,61,2],[62,1,62,2],[53,1,53,2],[54,1,54,2],[55,1,55,2],[56,1,56,2],[57,1,57,2],[68,1,68,2],[69,1,69,2],[70,1,70,2],[71,1,71,2],[72,1,72,2],[63,1,63,2],[64,1,64,2],[65,1,65,2],[66,1,66,2],[67,1,67,2],[78,1,78,2],[79,1,79,2],[80,1,80,2],[81,1,81,2],[82,1,82,2],[73,1,73,2],[74,1,74,2],[75,1,75,2],[76,1,76,2],[77,1,77,2],[88,1,88,2],[89,1,89,2],[90,1,90,2],[91,1,91,2],[92,1,92,2],[83,1,83,2],[84,1,84,2],[85,1,85,2],[86,1,86,2],[87,1,87,2],[98,1,98,2],[99,1,99,2],[100,1,100,2],[101,1,101,2],[102,1,102,2],[93,1,93,2],[94,1,94,2],[95,1,95,2],[96,1,96,2],[97,1,97,2],[108,1,108,2],[109,1,109,2],[110,1,110,2],[111,1,111,2],[112,1,112,2],[103,1,103,2],[104,1,104,2],[105,1,105,2],[106,1,106,2],[107,1,107,2],[118,1,118,2],[119,1,119,2],[120,1,120,2],[121,1,121,2],[122,1,122,2],[113,1,113,2],[114,1,114,2],[115,1,115,2],[116,1,116,2],[117,1,117,2],[128,1,128,2],[129,1,129,2],[130,1,130,2],[131,1,131,2],[132,1,132,2],[123,1,123,2],[124,1,124,2],[125,1,125,2],[126,1,126,2],[127,1,127,2],[138,1,138,2],[139,1,139,2],[140,1,140,2],[141,1,141,2],[142,1,142,2],[133,1,133,2],[134,1,134,2],[135,1,135,2],[136,1,136,2],[137,1,137,2],[148,1,148,2],[149,1,149,2],[150,1,150,2],[151,1,151,2],[152,1,152,2],[143,1,143,2],[144,1,144,2],[145,1,145,2],[146,1,146,2],[147,1,147,2],[158,1,158,2],[159,1,159,2],[160,1,160,2],[161,1,161,2],[162,1,162,2],[153,1,153,2],[154,1,154,2],[155,1,155,2],[156,1,156,2],[157,1,157,2],[168,1,168,2],[169,1,169,2],[170,1,170,2],[171,1,171,2],[172,1,172,2],[163,1,163,2],[164,1,164,2],[165,1,165,2],[166,1,166,2],[167,1,167,2],[178,1,178,2],[179,1,179,2],[180,1,180,2],[181,1,181,2],[182,1,182,2],[173,1,173,2],[174,1,174,2],[175,1,175,2],[176,1,176,2],[177,1,177,2],[188,1,188,2],[189,1,189,2],[190,1,190,2],[191,1,191,2],[192,1,192,2],[183,1,183,2],[184,1,184,2],[185,1,185,2],[186,1,186,2],[187,1,187,2],[198,1,198,2],[199,1,199,2],[200,1,200,2],[201,1,201,2],[202,1,202,2],[193,1,193,2],[194,1,194,2],[195,1,195,2],[196,1,196,2],[197,1,197,2],[208,1,208,2],[209,1,209,2],[210,1,210,2],[211,1,211,2],[212,1,212,2],[203,1,203,2],[204,1,204,2],[205,1,205,2],[206,1,206,2],[207,1,207,2],[218,1,218,2],[219,1,219,2],[220,1,220,2],[221,1,221,2],[222,1,222,2],[213,1,213,2],[214,1,214,2],[215,1,215,2],[216,1,216,2],[217,1,217,2],[228,1,228,2],[229,1,229,2],[230,1,230,2],[231,1,231,2],[232,1,232,2],[223,1,223,2],[224,1,224,2],[225,1,225,2],[226,1,226,2],[227,1,227,2],[238,1,238,2],[239,1,239,2],[240,1,240,2],[241,1,241,2],[242,1,242,2],[233,1,233,2],[234,1,234,2],[235,1,235,2],[236,1,236,2],[237,1,237,2],[248,1,248,2],[249,1,249,2],[250,1,250,2],[251,1,251,2],[252,1,252,2],[243,1,243,2],[244,1,244,2],[245,1,245,2],[246,1,246,2],[247,1,247,2],[258,1,258,2],[259,1,259,2],[260,1,260,2],[261,1,261,2],[262,1,262,2],[253,1,253,2],[254,1,254,2],[255,1,255,2],[256,1,256,2],[257,1,257,2],[268,1,268,2],[269,1,269,2],[270,1,270,2],[271,1,271,2],[272,1,272,2],[263,1,263,2],[264,1,264,2],[265,1,265,2],[266,1,266,2],[267,1,267,2],[278,1,278,2],[279,1,279,2],[280,1,280,2],[281,1,281,2],[282,1,282,2],[273,1,273,2],[274,1,274,2],[275,1,275,2],[276,1,276,2],[277,1,277,2],[288,1,288,2],[289,1,289,2],[290,1,290,2],[291,1,291,2],[292,1,292,2],[283,1,283,2],[284,1,284,2],[285,1,285,2],[286,1,286,2],[287,1,287,2],[298,1,298,2],[299,1,299,2],[300,1,300,2],[301,1,301,2],[302,1,302,2],[293,1,293,2],[294,1,294,2],[295,1,295,2],[296,1,296,2],[297,1,297,2],[308,1,308,2],[309,1,309,2],[310,1,310,2],[311,1,311,2],[312,1,312,2],[303,1,303,2],[304,1,304,2],[305,1,305,2],[306,1,306,2],[307,1,307,2],[318,1,318,2],[319,1,319,2],[320,1,320,2],[321,1,321,2],[322,1,322,2],[313,1,313,2],[314,1,314,2],[315,1,315,2],[316,1,316,2],[317,1,317,2],[328,1,328,2],[329,1,329,2],[330,1,330,2],[331,1,331,2],[332,1,332,2],[323,1,323,2],[324,1,324,2],[325,1,325,2],[326,1,326,2],[327,1,327,2],[338,1,338,2],[339,1,339,2],[340,1,340,2],[341,1,341,2],[342,1,342,2],[333,1,333,2],[334,1,334,2],[335,1,335,2],[336,1,336,2],[337,1,337,2],[348,1,348,2],[349,1,349,2],[350,1,350,2],[351,1,351,2],[352,1,352,2],[343,1,343,2],[344,1,344,2],[345,1,345,2],[346,1,346,2],[347,1,347,2],[358,1,358,2],[359,1,359,2],[360,1,360,2],[361,1,361,2],[362,1,362,2],[353,1,353,2],[354,1,354,2],[355,1,355,2],[356,1,356,2],[357,1,357,2],[368,1,368,2],[369,1,369,2],[370,1,370,2],[371,1,371,2],[372,1,372,2],[363,1,363,2],[364,1,364,2],[365,1,365,2],[366,1,366,2],[367,1,367,2],[378,1,378,2],[379,1,379,2],[380,1,380,2],[381,1,381,2],[382,1,382,2],[373,1,373,2],[374,1,374,2],[375,1,375,2],[376,1,376,2],[377,1,377,2],[388,1,388,2],[389,1,389,2],[390,1,390,2],[391,1,391,2],[392,1,392,2],[383,1,383,2],[384,1,384,2],[385,1,385,2],[386,1,386,2],[387,1,387,2],[398,1,398,2],[399,1,399,2],[400,1,400,2],[401,1,401,2],[402,1,402,2],[393,1,393,2],[394,1,394,2],[395,1,395,2],[396,1,396,2],[397,1,397,2],[408,1,408,2],[409,1,409,2],[410,1,410,2],[411,1,411,2],[412,1,412,2],[403,1,403,2],[404,1,404,2],[405,1,405,2],[406,1,406,2],[407,1,407,2],[418,1,418,2],[419,1,419,2],[420,1,420,2],[421,1,421,2],[422,1,422,2],[413,1,413,2],[414,1,414,2],[415,1,415,2],[416,1,416,2],[417,1,417,2],[428,1,428,2],[429,1,429,2],[430,1,430,2],[431,1,431,2],[432,1,432,2],[423,1,423,2],[424,1,424,2],[425,1,425,2],[426,1,426,2],[427,1,427,2],[438,1,438,2],[439,1,439,2],[440,1,440,2],[441,1,441,2],[442,1,442,2],[433,1,433,2],[434,1,434,2],[435,1,435,2],[436,1,436,2],[437,1,437,2],[448,1,448,2],[449,1,449,2],[450,1,450,2],[451,1,451,2],[452,1,452,2],[443,1,443,2],[444,1,444,2],[445,1,445,2],[446,1,446,2],[447,1,447,2],[458,1,458,2],[459,1,459,2],[460,1,460,2],[461,1,461,2],[462,1,462,2],[453,1,453,2],[454,1,454,2],[455,1,455,2],[456,1,456,2],[457,1,457,2],[468,1,468,2],[469,1,469,2],[470,1,470,2],[471,1,471,2],[472,1,472,2],[463,1,463,2],[464,1,464,2],[465,1,465,2],[466,1,466,2],[467,1,467,2],[485,1,485,2],[486,1,486,2],[487,1,487,2],[478,1,478,2],[479,1,479,2],[480,1,480,2],[481,1,481,2],[482,1,482,2],[473,1,473,2],[474,1,474,2],[475,1,475,2],[476,1,476,2],[477,1,477,2],[498,1,498,2],[499,1,499,2],[500,1,500,2],[1,2,7,4],[10,2,10,4],[12,2,12,4],[13,2,13,4],[14,2,14,4],[15,2,15,4],[9,1,9,4],[17,1,17,18],[11,2,11,4],[493,1,493,2],[494,1,494,2],[495,1,495,2],[496,1,496,2],[497,1,497,2],[488,1,488,2],[489,1,489,2],[490,1,490,2],[491,1,491,2],[492,1,492,2],[483,1,483,2],[484,1,484,2]]}
[]
[null,null,"Wofford Scholars \nNomination Form"]
[]
[]
[]
[]
[]
[]
[]
[null,"Counselor Information"]
[null,"Last Name:"]
[null,"First Name:"]
[null,"Email:"]
[null,"Phone:"]
[null,"High School:"]
[null,"CEEB:"]
[]
[null,"Nominee Information",null,null,null,null,null,null,null,null,null,null,null,null,null,null,null,null,null,null,null,null,"Demographic Information (Optional)"]
[null,"Student E-mail Address",null,"First Name","Middle Name","Last Name","Suffix","Birthdate","Mailing Address","City","State","Zip Code","Grad Year","GPA (Weighted)","Class Rank","# in Class","SAT Reading","SAT Math","ACT Comp.","PSAT Reading","PSAT Math","PLAN Comp.","Hispanic","Race (select all that apply)","Legal Sex","Gender Identity","Gender Identity (Other)"]

{"sheet":"(Wofford Use Only)","index":1,"n_rows":482,"n_cols":33,"rows_kept":482,"cut":false,"hidden":false,"merged":[]}
["Counselor Last Name","Counselor First Name","Counslor Email","Counselor Phone","High School","CEEB","Student E-mail Address","First Name","Middle Name","Last Name","Suffix","Birthdate","Mailing Address","City","State","Zip Code","Grad Year","GPA (Weighted)","Class Rank","# in Class","SAT Reading","SAT Math","ACT Comp.","PSAT Reading","PSAT Math","PLAN Comp.","Hispanic","Race","Legal Sex","Gender Identity","Gender Identity (Other)","Accepted","Rejected"]
[{"$f":"IF(ISBLANK('Scholars Nomination Form'!$F20),\"\",'Scholars Nomination Form'!$C$11)","v":""},{"$f":"IF(ISBLANK('Scholars Nomination Form'!$F20),\"\",'Scholars Nomination Form'!$C$12)","v":""},{"$f":"IF(ISBLANK('Scholars Nomination Form'!$F20),\"\",'Scholars Nomination Form'!$C$13)","v":""},{"$f":"IF(ISBLANK('Scholars Nomination Form'!$F20),\"\",'Scholars Nomination Form'!$C$14)","v":""},{"$f":"IF(ISBLANK('Scholars Nomination Form'!$F20),\"\",'Scholars Nomination Form'!$C$15)","v":""},{"$f":"IF(ISBLANK('Scholars Nomination Form'!$F20),\"\",'Scholars Nomination Form'!$C$16)","v":""},{"$f":"IF(ISBLANK('Scholars Nomination Form'!B20),\"\",'Scholars Nomination Form'!B20)","v":""},{"$f":"IF(ISBLANK('Scholars Nomination Form'!D20),\"\",'Scholars Nomination Form'!D20)","v":""},{"$f":"IF(ISBLANK('Scholars Nomination Form'!E20),\"\",'Scholars Nomination Form'!E20)","v":""},{"$f":"IF(ISBLANK('Scholars Nomination Form'!F20),\"\",'Scholars Nomination Form'!F20)","v":""},{"$f":"IF(ISBLANK('Scholars Nomination Form'!G20),\"\",'Scholars Nomination Form'!G20)","v":""},{"$f":"IF(ISBLANK('Scholars Nomination Form'!H20),\"\",'Scholars Nomination Form'!H20)","v":""},{"$f":"IF(ISBLANK('Scholars Nomination Form'!I20),\"\",'Scholars Nomination Form'!I20)","v":""},{"$f":"IF(ISBLANK('Scholars Nomination Form'!J20),\"\",'Scholars Nomination Form'!J20)","v":""},{"$f":"IF(ISBLANK('Scholars Nomination Form'!K20),\"\",'Scholars Nomination Form'!K20)","v":""},{"$f":"IF(ISBLANK('Scholars Nomination Form'!L20),\"\",'Scholars Nomination Form'!L20)","v":""},{"$f":"IF(ISBLANK('Scholars Nomination Form'!M20),\"\",'Scholars Nomination Form'!M20)","v":""},{"$f":"IF(ISBLANK('Scholars Nomination Form'!N20),\"\",'Scholars Nomination Form'!N20)","v":""},{"$f":"IF(ISBLANK('Scholars Nomination Form'!O20),\"\",'Scholars Nomination Form'!O20)","v":""},{"$f":"IF(ISBLANK('Scholars Nomination Form'!P20),\"\",'Scholars Nomination Form'!P20)","v":""},{"$f":"IF(ISBLANK('Scholars Nomination Form'!Q20),\"\",'Scholars Nomination Form'!Q20)","v":""},{"$f":"IF(ISBLANK('Scholars Nomination Form'!R20),\"\",'Scholars Nomination Form'!R20)","v":""},{"$f":"IF(ISBLANK('Scholars Nomination Form'!S20),\"\",'Scholars Nomination Form'!S20)","v":""},{"$f":"IF(ISBLANK('Scholars Nomination Form'!T20),\"\",'Scholars Nomination Form'!T20)","v":""},{"$f":"IF(ISBLANK('Scholars Nomination Form'!U20),\"\",'Scholars Nomination Form'!U20)","v":""},{"$f":"IF(ISBLANK('Scholars Nomination Form'!V20),\"\",'Scholars Nomination Form'!V20)","v":""},{"$f":"IF(ISBLANK('Scholars Nomination Form'!W20),\"\",'Scholars Nomination Form'!W20)","v":""},{"$f":"IF(ISBLANK('Scholars Nomination Form'!X20),\"\",'Scholars Nomination Form'!X20)","v":""},{"$f":"IF(ISBLANK('Scholars Nomination Form'!Y20),\"\",'Scholars Nomination Form'!Y20)","v":""},{"$f":"IF(ISBLANK('Scholars Nomination Form'!Z20),\"\",'Scholars Nomination Form'!Z20)","v":""},{"$f":"IF(ISBLANK('Scholars Nomination Form'!AA20),\"\",'Scholars Nomination Form'!AA20)","v":""}]
[{"$f":"IF(ISBLANK('Scholars Nomination Form'!$F21),\"\",'Scholars Nomination Form'!$C$11)","v":""},{"$f":"IF(ISBLANK('Scholars Nomination Form'!$F21),\"\",'Scholars Nomination Form'!$C$12)","v":""},{"$f":"IF(ISBLANK('Scholars Nomination Form'!$F21),\"\",'Scholars Nomination Form'!$C$13)","v":""},{"$f":"IF(ISBLANK('Scholars Nomination Form'!$F21),\"\",'Scholars Nomination Form'!$C$14)","v":""},{"$f":"IF(ISBLANK('Scholars Nomination Form'!$F21),\"\",'Scholars Nomination Form'!$C$15)","v":""},{"$f":"IF(ISBLANK('Scholars Nomination Form'!$F21),\"\",'Scholars Nomination Form'!$C$16)","v":""},{"$f":"IF(ISBLANK('Scholars Nomination Form'!B21),\"\",'Scholars Nomination Form'!B21)","v":""},{"$f":"IF(ISBLANK('Scholars Nomination Form'!D21),\"\",'Scholars Nomination Form'!D21)","v":""},{"$f":"IF(ISBLANK('Scholars Nomination Form'!E21),\"\",'Scholars Nomination Form'!E21)","v":""},{"$f":"IF(ISBLANK('Scholars Nomination Form'!F21),\"\",'Scholars Nomination Form'!F21)","v":""},{"$f":"IF(ISBLANK('Scholars Nomination Form'!G21),\"\",'Scholars Nomination Form'!G21)","v":""},{"$f":"IF(ISBLANK('Scholars Nomination Form'!H21),\"\",'Scholars Nomination Form'!H21)","v":""},{"$f":"IF(ISBLANK('Scholars Nomination Form'!I21),\"\",'Scholars Nomination Form'!I21)","v":""},{"$f":"IF(ISBLANK('Scholars Nomination Form'!J21),\"\",'Scholars Nomination Form'!J21)","v":""},{"$f":"IF(ISBLANK('Scholars Nomination Form'!K21),\"\",'Scholars Nomination Form'!K21)","v":""},{"$f":"IF(ISBLANK('Scholars Nomination Form'!L21),\"\",'Scholars Nomination Form'!L21)","v":""},{"$f":"IF(ISBLANK('Scholars Nomination Form'!M21),\"\",'Scholars Nomination Form'!M21)","v":""},{"$f":"IF(ISBLANK('Scholars Nomination Form'!N21),\"\",'Scholars Nomination Form'!N21)","v":""},{"$f":"IF(ISBLANK('Scholars Nomination Form'!O21),\"\",'Scholars Nomination Form'!O21)","v":""},{"$f":"IF(ISBLANK('Scholars Nomination Form'!P21),\"\",'Scholars Nomination Form'!P21)","v":""},{"$f":"IF(ISBLANK('Scholars Nomination Form'!Q21),\"\",'Scholars Nomination Form'!Q21)","v":""},{"$f":"IF(ISBLANK('Scholars Nomination Form'!R21),\"\",'Scholars Nomination Form'!R21)","v":""},{"$f":"IF(ISBLANK('Scholars Nomination Form'!S21),\"\",'Scholars Nomination Form'!S21)","v":""},{"$f":"IF(ISBLANK('Scholars Nomination Form'!T21),\"\",'Scholars Nomination Form'!T21)","v":""},{"$f":"IF(ISBLANK('Scholars Nomination Form'!U21),\"\",'Scholars Nomination Form'!U21)","v":""},{"$f":"IF(ISBLANK('Scholars Nomination Form'!V21),\"\",'Scholars Nomination Form'!V21)","v":""},{"$f":"IF(ISBLANK('Scholars Nomination Form'!W21),\"\",'Scholars Nomination Form'!W21)","v":""},{"$f":"IF(ISBLANK('Scholars Nomination Form'!X21),\"\",'Scholars Nomination Form'!X21)","v":""},{"$f":"IF(ISBLANK('Scholars Nomination Form'!Y21),\"\",'Scholars Nomination Form'!Y21)","v":""},{"$f":"IF(ISBLANK('Scholars Nomination Form'!Z21),\"\",'Scholars Nomination Form'!Z21)","v":""},{"$f":"IF(ISBLANK('Scholars Nomination Form'!AA21),\"\",'Scholars Nomination Form'!AA21)","v":""}]
[{"$f":"IF(ISBLANK('Scholars Nomination Form'!$F22),\"\",'Scholars Nomination Form'!$C$11)","v":""},{"$f":"IF(ISBLANK('Scholars Nomination Form'!$F22),\"\",'Scholars Nomination Form'!$C$12)","v":""},{"$f":"IF(ISBLANK('Scholars Nomination Form'!$F22),\"\",'Scholars Nomination Form'!$C$13)","v":""},{"$f":"IF(ISBLANK('Scholars Nomination Form'!$F22),\"\",'Scholars Nomination Form'!$C$14)","v":""},{"$f":"IF(ISBLANK('Scholars Nomination Form'!$F22),\"\",'Scholars Nomination Form'!$C$15)","v":""},{"$f":"IF(ISBLANK('Scholars Nomination Form'!$F22),\"\",'Scholars Nomination Form'!$C$16)","v":""},{"$f":"IF(ISBLANK('Scholars Nomination Form'!B22),\"\",'Scholars Nomination Form'!B22)","v":""},{"$f":"IF(ISBLANK('Scholars Nomination Form'!D22),\"\",'Scholars Nomination Form'!D22)","v":""},{"$f":"IF(ISBLANK('Scholars Nomination Form'!E22),\"\",'Scholars Nomination Form'!E22)","v":""},{"$f":"IF(ISBLANK('Scholars Nomination Form'!F22),\"\",'Scholars Nomination Form'!F22)","v":""},{"$f":"IF(ISBLANK('Scholars Nomination Form'!G22),\"\",'Scholars Nomination Form'!G22)","v":""},{"$f":"IF(ISBLANK('Scholars Nomination Form'!H22),\"\",'Scholars Nomination Form'!H22)","v":""},{"$f":"IF(ISBLANK('Scholars Nomination Form'!I22),\"\",'Scholars Nomination Form'!I22)","v":""},{"$f":"IF(ISBLANK('Scholars Nomination Form'!J22),\"\",'Scholars Nomination Form'!J22)","v":""},{"$f":"IF(ISBLANK('Scholars Nomination Form'!K22),\"\",'Scholars Nomination Form'!K22)","v":""},{"$f":"IF(ISBLANK('Scholars Nomination Form'!L22),\"\",'Scholars Nomination Form'!L22)","v":""},{"$f":"IF(ISBLANK('Scholars Nomination Form'!M22),\"\",'Scholars Nomination Form'!M22)","v":""},{"$f":"IF(ISBLANK('Scholars Nomination Form'!N22),\"\",'Scholars Nomination Form'!N22)","v":""},{"$f":"IF(ISBLANK('Scholars Nomination Form'!O22),\"\",'Scholars Nomination Form'!O22)","v":""},{"$f":"IF(ISBLANK('Scholars Nomination Form'!P22),\"\",'Scholars Nomination Form'!P22)","v":""},{"$f":"IF(ISBLANK('Scholars Nomination Form'!Q22),\"\",'Scholars Nomination Form'!Q22)","v":""},{"$f":"IF(ISBLANK('Scholars Nomination Form'!R22),\"\",'Scholars Nomination Form'!R22)","v":""},{"$f":"IF(ISBLANK('Scholars Nomination Form'!S22),\"\",'Scholars Nomination Form'!S22)","v":""},{"$f":"IF(ISBLANK('Scholars Nomination Form'!T22),\"\",'Scholars Nomination Form'!T22)","v":""},{"$f":"IF(ISBLANK('Scholars Nomination Form'!U22),\"\",'Scholars Nomination Form'!U22)","v":""},{"$f":"IF(ISBLANK('Scholars Nomination Form'!V22),\"\",'Scholars Nomination Form'!V22)","v":""},{"$f":"IF(ISBLANK('Scholars Nomination Form'!W22),\"\",'Scholars Nomination Form'!W22)","v":""},{"$f":"IF(ISBLANK('Scholars Nomination Form'!X22),\"\",'Scholars Nomination Form'!X22)","v":""},{"$f":"IF(ISBLANK('Scholars Nomination Form'!Y22),\"\",'Scholars Nomination Form'!Y22)","v":""},{"$f":"IF(ISBLANK('Scholars Nomination Form'!Z22),\"\",'Scholars Nomination Form'!Z22)","v":""},{"$f":"IF(ISBLANK('Scholars Nomination Form'!AA22),\"\",'Scholars Nomination Form'!AA22)","v":""}]
[{"$f":"IF(ISBLANK('Scholars Nomination Form'!$F23),\"\",'Scholars Nomination Form'!$C$11)","v":""},{"$f":"IF(ISBLANK('Scholars Nomination Form'!$F23),\"\",'Scholars Nomination Form'!$C$12)","v":""},{"$f":"IF(ISBLANK('Scholars Nomination Form'!$F23),\"\",'Scholars Nomination Form'!$C$13)","v":""},{"$f":"IF(ISBLANK('Scholars Nomination Form'!$F23),\"\",'Scholars Nomination Form'!$C$14)","v":""},{"$f":"IF(ISBLANK('Scholars Nomination Form'!$F23),\"\",'Scholars Nomination Form'!$C$15)","v":""},{"$f":"IF(ISBLANK('Scholars Nomination Form'!$F23),\"\",'Scholars Nomination Form'!$C$16)","v":""},{"$f":"IF(ISBLANK('Scholars Nomination Form'!B23),\"\",'Scholars Nomination Form'!B23)","v":""},{"$f":"IF(ISBLANK('Scholars Nomination Form'!D23),\"\",'Scholars Nomination Form'!D23)","v":""},{"$f":"IF(ISBLANK('Scholars Nomination Form'!E23),\"\",'Scholars Nomination Form'!E23)","v":""},{"$f":"IF(ISBLANK('Scholars Nomination Form'!F23),\"\",'Scholars Nomination Form'!F23)","v":""},{"$f":"IF(ISBLANK('Scholars Nomination Form'!G23),\"\",'Scholars Nomination Form'!G23)","v":""},{"$f":"IF(ISBLANK('Scholars Nomination Form'!H23),\"\",'Scholars Nomination Form'!H23)","v":""},{"$f":"IF(ISBLANK('Scholars Nomination Form'!I23),\"\",'Scholars Nomination Form'!I23)","v":""},{"$f":"IF(ISBLANK('Scholars Nomination Form'!J23),\"\",'Scholars Nomination Form'!J23)","v":""},{"$f":"IF(ISBLANK('Scholars Nomination Form'!K23),\"\",'Scholars Nomination Form'!K23)","v":""},{"$f":"IF(ISBLANK('Scholars Nomination Form'!L23),\"\",'Scholars Nomination Form'!L23)","v":""},{"$f":"IF(ISBLANK('Scholars Nomination Form'!M23),\"\",'Scholars Nomination Form'!M23)","v":""},{"$f":"IF(ISBLANK('Scholars Nomination Form'!N23),\"\",'Scholars Nomination Form'!N23)","v":""},{"$f":"IF(ISBLANK('Scholars Nomination Form'!O23),\"\",'Scholars Nomination Form'!O23)","v":""},{"$f":"IF(ISBLANK('Scholars Nomination Form'!P23),\"\",'Scholars Nomination Form'!P23)","v":""},{"$f":"IF(ISBLANK('Scholars Nomination Form'!Q23),\"\",'Scholars Nomination Form'!Q23)","v":""},{"$f":"IF(ISBLANK('Scholars Nomination Form'!R23),\"\",'Scholars Nomination Form'!R23)","v":""},{"$f":"IF(ISBLANK('Scholars Nomination Form'!S23),\"\",'Scholars Nomination Form'!S23)","v":""},{"$f":"IF(ISBLANK('Scholars Nomination Form'!T23),\"\",'Scholars Nomination Form'!T23)","v":""},{"$f":"IF(ISBLANK('Scholars Nomination Form'!U23),\"\",'Scholars Nomination Form'!U23)","v":""},{"$f":"IF(ISBLANK('Scholars Nomination Form'!V23),\"\",'Scholars Nomination Form'!V23)","v":""},{"$f":"IF(ISBLANK('Scholars Nomination Form'!W23),\"\",'Scholars Nomination Form'!W23)","v":""},{"$f":"IF(ISBLANK('Scholars Nomination Form'!X23),\"\",'Scholars Nomination Form'!X23)","v":""},{"$f":"IF(ISBLANK('Scholars Nomination Form'!Y23),\"\",'Scholars Nomination Form'!Y23)","v":""},{"$f":"IF(ISBLANK('Scholars Nomination Form'!Z23),\"\",'Scholars Nomination Form'!Z23)","v":""},{"$f":"IF(ISBLANK('Scholars Nomination Form'!AA23),\"\",'Scholars Nomination Form'!AA23)","v":""}]
[{"$f":"IF(ISBLANK('Scholars Nomination Form'!$F24),\"\",'Scholars Nomination Form'!$C$11)","v":""},{"$f":"IF(ISBLANK('Scholars Nomination Form'!$F24),\"\",'Scholars Nomination Form'!$C$12)","v":""},{"$f":"IF(ISBLANK('Scholars Nomination Form'!$F24),\"\",'Scholars Nomination Form'!$C$13)","v":""},{"$f":"IF(ISBLANK('Scholars Nomination Form'!$F24),\"\",'Scholars Nomination Form'!$C$14)","v":""},{"$f":"IF(ISBLANK('Scholars Nomination Form'!$F24),\"\",'Scholars Nomination Form'!$C$15)","v":""},{"$f":"IF(ISBLANK('Scholars Nomination Form'!$F24),\"\",'Scholars Nomination Form'!$C$16)","v":""},{"$f":"IF(ISBLANK('Scholars Nomination Form'!B24),\"\",'Scholars Nomination Form'!B24)","v":""},{"$f":"IF(ISBLANK('Scholars Nomination Form'!D24),\"\",'Scholars Nomination Form'!D24)","v":""},{"$f":"IF(ISBLANK('Scholars Nomination Form'!E24),\"\",'Scholars Nomination Form'!E24)","v":""},{"$f":"IF(ISBLANK('Scholars Nomination Form'!F24),\"\",'Scholars Nomination Form'!F24)","v":""},{"$f":"IF(ISBLANK('Scholars Nomination Form'!G24),\"\",'Scholars Nomination Form'!G24)","v":""},{"$f":"IF(ISBLANK('Scholars Nomination Form'!H24),\"\",'Scholars Nomination Form'!H24)","v":""},{"$f":"IF(ISBLANK('Scholars Nomination Form'!I24),\"\",'Scholars Nomination Form'!I24)","v":""},{"$f":"IF(ISBLANK('Scholars Nomination Form'!J24),\"\",'Scholars Nomination Form'!J24)","v":""},{"$f":"IF(ISBLANK('Scholars Nomination Form'!K24),\"\",'Scholars Nomination Form'!K24)","v":""},{"$f":"IF(ISBLANK('Scholars Nomination Form'!L24),\"\",'Scholars Nomination Form'!L24)","v":""},{"$f":"IF(ISBLANK('Scholars Nomination Form'!M24),\"\",'Scholars Nomination Form'!M24)","v":""},{"$f":"IF(ISBLANK('Scholars Nomination Form'!N24),\"\",'Scholars Nomination Form'!N24)","v":""},{"$f":"IF(ISBLANK('Scholars Nomination Form'!O24),\"\",'Scholars Nomination Form'!O24)","v":""},{"$f":"IF(ISBLANK('Scholars Nomination Form'!P24),\"\",'Scholars Nomination Form'!P24)","v":""},{"$f":"IF(ISBLANK('Scholars Nomination Form'!Q24),\"\",'Scholars Nomination Form'!Q24)","v":""},{"$f":"IF(ISBLANK('Scholars Nomination Form'!R24),\"\",'Scholars Nomination Form'!R24)","v":""},{"$f":"IF(ISBLANK('Scholars Nomination Form'!S24),\"\",'Scholars Nomination Form'!S24)","v":""},{"$f":"IF(ISBLANK('Scholars Nomination Form'!T24),\"\",'Scholars Nomination Form'!T24)","v":""},{"$f":"IF(ISBLANK('Scholars Nomination Form'!U24),\"\",'Scholars Nomination Form'!U24)","v":""},{"$f":"IF(ISBLANK('Scholars Nomination Form'!V24),\"\",'Scholars Nomination Form'!V24)","v":""},{"$f":"IF(ISBLANK('Scholars Nomination Form'!W24),\"\",'Scholars Nomination Form'!W24)","v":""},{"$f":"IF(ISBLANK('Scholars Nomination Form'!X24),\"\",'Scholars Nomination Form'!X24)","v":""},{"$f":"IF(ISBLANK('Scholars Nomination Form'!Y24),\"\",'Scholars Nomination Form'!Y24)","v":""},{"$f":"IF(ISBLANK('Scholars Nomination Form'!Z24),\"\",'Scholars Nomination Form'!Z24)","v":""},{"$f":"IF(ISBLANK('Scholars Nomination Form'!AA24),\"\",'Scholars Nomination Form'!AA24)","v":""}]
[{"$f":"IF(ISBLANK('Scholars Nomination Form'!$F25),\"\",'Scholars Nomination Form'!$C$11)","v":""},{"$f":"IF(ISBLANK('Scholars Nomination Form'!$F25),\"\",'Scholars Nomination Form'!$C$12)","v":""},{"$f":"IF(ISBLANK('Scholars Nomination Form'!$F25),\"\",'Scholars Nomination Form'!$C$13)","v":""},{"$f":"IF(ISBLANK('Scholars Nomination Form'!$F25),\"\",'Scholars Nomination Form'!$C$14)","v":""},{"$f":"IF(ISBLANK('Scholars Nomination Form'!$F25),\"\",'Scholars Nomination Form'!$C$15)","v":""},{"$f":"IF(ISBLANK('Scholars Nomination Form'!$F25),\"\",'Scholars Nomination Form'!$C$16)","v":""},{"$f":"IF(ISBLANK('Scholars Nomination Form'!B25),\"\",'Scholars Nomination Form'!B25)","v":""},{"$f":"IF(ISBLANK('Scholars Nomination Form'!D25),\"\",'Scholars Nomination Form'!D25)","v":""},{"$f":"IF(ISBLANK('Scholars Nomination Form'!E25),\"\",'Scholars Nomination Form'!E25)","v":""},{"$f":"IF(ISBLANK('Scholars Nomination Form'!F25),\"\",'Scholars Nomination Form'!F25)","v":""},{"$f":"IF(ISBLANK('Scholars Nomination Form'!G25),\"\",'Scholars Nomination Form'!G25)","v":""},{"$f":"IF(ISBLANK('Scholars Nomination Form'!H25),\"\",'Scholars Nomination Form'!H25)","v":""},{"$f":"IF(ISBLANK('Scholars Nomination Form'!I25),\"\",'Scholars Nomination Form'!I25)","v":""},{"$f":"IF(ISBLANK('Scholars Nomination Form'!J25),\"\",'Scholars Nomination Form'!J25)","v":""},{"$f":"IF(ISBLANK('Scholars Nomination Form'!K25),\"\",'Scholars Nomination Form'!K25)","v":""},{"$f":"IF(ISBLANK('Scholars Nomination Form'!L25),\"\",'Scholars Nomination Form'!L25)","v":""},{"$f":"IF(ISBLANK('Scholars Nomination Form'!M25),\"\",'Scholars Nomination Form'!M25)","v":""},{"$f":"IF(ISBLANK('Scholars Nomination Form'!N25),\"\",'Scholars Nomination Form'!N25)","v":""},{"$f":"IF(ISBLANK('Scholars Nomination Form'!O25),\"\",'Scholars Nomination Form'!O25)","v":""},{"$f":"IF(ISBLANK('Scholars Nomination Form'!P25),\"\",'Scholars Nomination Form'!P25)","v":""},{"$f":"IF(ISBLANK('Scholars Nomination Form'!Q25),\"\",'Scholars Nomination Form'!Q25)","v":""},{"$f":"IF(ISBLANK('Scholars Nomination Form'!R25),\"\",'Scholars Nomination Form'!R25)","v":""},{"$f":"IF(ISBLANK('Scholars Nomination Form'!S25),\"\",'Scholars Nomination Form'!S25)","v":""},{"$f":"IF(ISBLANK('Scholars Nomination Form'!T25),\"\",'Scholars Nomination Form'!T25)","v":""},{"$f":"IF(ISBLANK('Scholars Nomination Form'!U25),\"\",'Scholars Nomination Form'!U25)","v":""},{"$f":"IF(ISBLANK('Scholars Nomination Form'!V25),\"\",'Scholars Nomination Form'!V25)","v":""},{"$f":"IF(ISBLANK('Scholars Nomination Form'!W25),\"\",'Scholars Nomination Form'!W25)","v":""},{"$f":"IF(ISBLANK('Scholars Nomination Form'!X25),\"\",'Scholars Nomination Form'!X25)","v":""},{"$f":"IF(ISBLANK('Scholars Nomination Form'!Y25),\"\",'Scholars Nomination Form'!Y25)","v":""},{"$f":"IF(ISBLANK('Scholars Nomination Form'!Z25),\"\",'Scholars Nomination Form'!Z25)","v":""},{"$f":"IF(ISBLANK('Scholars Nomination Form'!AA25),\"\",'Scholars Nomination Form'!AA25)","v":""}]
[{"$f":"IF(ISBLANK('Scholars Nomination Form'!$F26),\"\",'Scholars Nomination Form'!$C$11)","v":""},{"$f":"IF(ISBLANK('Scholars Nomination Form'!$F26),\"\",'Scholars Nomination Form'!$C$12)","v":""},{"$f":"IF(ISBLANK('Scholars Nomination Form'!$F26),\"\",'Scholars Nomination Form'!$C$13)","v":""},{"$f":"IF(ISBLANK('Scholars Nomination Form'!$F26),\"\",'Scholars Nomination Form'!$C$14)","v":""},{"$f":"IF(ISBLANK('Scholars Nomination Form'!$F26),\"\",'Scholars Nomination Form'!$C$15)","v":""},{"$f":"IF(ISBLANK('Scholars Nomination Form'!$F26),\"\",'Scholars Nomination Form'!$C$16)","v":""},{"$f":"IF(ISBLANK('Scholars Nomination Form'!B26),\"\",'Scholars Nomination Form'!B26)","v":""},{"$f":"IF(ISBLANK('Scholars Nomination Form'!D26),\"\",'Scholars Nomination Form'!D26)","v":""},{"$f":"IF(ISBLANK('Scholars Nomination Form'!E26),\"\",'Scholars Nomination Form'!E26)","v":""},{"$f":"IF(ISBLANK('Scholars Nomination Form'!F26),\"\",'Scholars Nomination Form'!F26)","v":""},{"$f":"IF(ISBLANK('Scholars Nomination Form'!G26),\"\",'Scholars Nomination Form'!G26)","v":""},{"$f":"IF(ISBLANK('Scholars Nomination Form'!H26),\"\",'Scholars Nomination Form'!H26)","v":""},{"$f":"IF(ISBLANK('Scholars Nomination Form'!I26),\"\",'Scholars Nomination Form'!I26)","v":""},{"$f":"IF(ISBLANK('Scholars Nomination Form'!J26),\"\",'Scholars Nomination Form'!J26)","v":""},{"$f":"IF(ISBLANK('Scholars Nomination Form'!K26),\"\",'Scholars Nomination Form'!K26)","v":""},{"$f":"IF(ISBLANK('Scholars Nomination Form'!L26),\"\",'Scholars Nomination Form'!L26)","v":""},{"$f":"IF(ISBLANK('Scholars Nomination Form'!M26),\"\",'Scholars Nomination Form'!M26)","v":""},{"$f":"IF(ISBLANK('Scholars Nomination Form'!N26),\"\",'Scholars Nomination Form'!N26)","v":""},{"$f":"IF(ISBLANK('Scholars Nomination Form'!O26),\"\",'Scholars Nomination Form'!O26)","v":""},{"$f":"IF(ISBLANK('Scholars Nomination Form'!P26),\"\",'Scholars Nomination Form'!P26)","v":""},{"$f":"IF(ISBLANK('Scholars Nomination Form'!Q26),\"\",'Scholars Nomination Form'!Q26)","v":""},{"$f":"IF(ISBLANK('Scholars Nomination Form'!R26),\"\",'Scholars Nomination Form'!R26)","v":""},{"$f":"IF(ISBLANK('Scholars Nomination Form'!S26),\"\",'Scholars Nomination Form'!S26)","v":""},{"$f":"IF(ISBLANK('Scholars Nomination Form'!T26),\"\",'Scholars Nomination Form'!T26)","v":""},{"$f":"IF(ISBLANK('Scholars Nomination Form'!U26),\"\",'Scholars Nomination Form'!U26)","v":""},{"$f":"IF(ISBLANK('Scholars Nomination Form'!V26),\"\",'Scholars Nomination Form'!V26)","v":""},{"$f":"IF(ISBLANK('Scholars Nomination Form'!W26),\"\",'Scholars Nomination Form'!W26)","v":""},{"$f":"IF(ISBLANK('Scholars Nomination Form'!X26),\"\",'Scholars Nomination Form'!X26)","v":""},{"$f":"IF(ISBLANK('Scholars Nomination Form'!Y26),\"\",'Scholars Nomination Form'!Y26)","v":""},{"$f":"IF(ISBLANK('Scholars Nomination Form'!Z26),\"\",'Scholars Nomination Form'!Z26)","v":""},{"$f":"IF(ISBLANK('Scholars Nomination Form'!AA26),\"\",'Scholars Nomination Form'!AA26)","v":""}]
[{"$f":"IF(ISBLANK('Scholars Nomination Form'!$F27),\"\",'Scholars Nomination Form'!$C$11)","v":""},{"$f":"IF(ISBLANK('Scholars Nomination Form'!$F27),\"\",'Scholars Nomination Form'!$C$12)","v":""},{"$f":"IF(ISBLANK('Scholars Nomination Form'!$F27),\"\",'Scholars Nomination Form'!$C$13)","v":""},{"$f":"IF(ISBLANK('Scholars Nomination Form'!$F27),\"\",'Scholars Nomination Form'!$C$14)","v":""},{"$f":"IF(ISBLANK('Scholars Nomination Form'!$F27),\"\",'Scholars Nomination Form'!$C$15)","v":""},{"$f":"IF(ISBLANK('Scholars Nomination Form'!$F27),\"\",'Scholars Nomination Form'!$C$16)","v":""},{"$f":"IF(ISBLANK('Scholars Nomination Form'!B27),\"\",'Scholars Nomination Form'!B27)","v":""},{"$f":"IF(ISBLANK('Scholars Nomination Form'!D27),\"\",'Scholars Nomination Form'!D27)","v":""},{"$f":"IF(ISBLANK('Scholars Nomination Form'!E27),\"\",'Scholars Nomination Form'!E27)","v":""},{"$f":"IF(ISBLANK('Scholars Nomination Form'!F27),\"\",'Scholars Nomination Form'!F27)","v":""},{"$f":"IF(ISBLANK('Scholars Nomination Form'!G27),\"\",'Scholars Nomination Form'!G27)","v":""},{"$f":"IF(ISBLANK('Scholars Nomination Form'!H27),\"\",'Scholars Nomination Form'!H27)","v":""},{"$f":"IF(ISBLANK('Scholars Nomination Form'!I27),\"\",'Scholars Nomination Form'!I27)","v":""},{"$f":"IF(ISBLANK('Scholars Nomination Form'!J27),\"\",'Scholars Nomination Form'!J27)","v":""},{"$f":"IF(ISBLANK('Scholars Nomination Form'!K27),\"\",'Scholars Nomination Form'!K27)","v":""},{"$f":"IF(ISBLANK('Scholars Nomination Form'!L27),\"\",'Scholars Nomination Form'!L27)","v":""},{"$f":"IF(ISBLANK('Scholars Nomination Form'!M27),\"\",'Scholars Nomination Form'!M27)","v":""},{"$f":"IF(ISBLANK('Scholars Nomination Form'!N27),\"\",'Scholars Nomination Form'!N27)","v":""},{"$f":"IF(ISBLANK('Scholars Nomination Form'!O27),\"\",'Scholars Nomination Form'!O27)","v":""},{"$f":"IF(ISBLANK('Scholars Nomination Form'!P27),\"\",'Scholars Nomination Form'!P27)","v":""},{"$f":"IF(ISBLANK('Scholars Nomination Form'!Q27),\"\",'Scholars Nomination Form'!Q27)","v":""},{"$f":"IF(ISBLANK('Scholars Nomination Form'!R27),\"\",'Scholars Nomination Form'!R27)","v":""},{"$f":"IF(ISBLANK('Scholars Nomination Form'!S27),\"\",'Scholars Nomination Form'!S27)","v":""},{"$f":"IF(ISBLANK('Scholars Nomination Form'!T27),\"\",'Scholars Nomination Form'!T27)","v":""},{"$f":"IF(ISBLANK('Scholars Nomination Form'!U27),\"\",'Scholars Nomination Form'!U27)","v":""},{"$f":"IF(ISBLANK('Scholars Nomination Form'!V27),\"\",'Scholars Nomination Form'!V27)","v":""},{"$f":"IF(ISBLANK('Scholars Nomination Form'!W27),\"\",'Scholars Nomination Form'!W27)","v":""},{"$f":"IF(ISBLANK('Scholars Nomination Form'!X27),\"\",'Scholars Nomination Form'!X27)","v":""},{"$f":"IF(ISBLANK('Scholars Nomination Form'!Y27),\"\",'Scholars Nomination Form'!Y27)","v":""},{"$f":"IF(ISBLANK('Scholars Nomination Form'!Z27),\"\",'Scholars Nomination Form'!Z27)","v":""},{"$f":"IF(ISBLANK('Scholars Nomination Form'!AA27),\"\",'Scholars Nomination Form'!AA27)","v":""}]
[{"$f":"IF(ISBLANK('Scholars Nomination Form'!$F28),\"\",'Scholars Nomination Form'!$C$11)","v":""},{"$f":"IF(ISBLANK('Scholars Nomination Form'!$F28),\"\",'Scholars Nomination Form'!$C$12)","v":""},{"$f":"IF(ISBLANK('Scholars Nomination Form'!$F28),\"\",'Scholars Nomination Form'!$C$13)","v":""},{"$f":"IF(ISBLANK('Scholars Nomination Form'!$F28),\"\",'Scholars Nomination Form'!$C$14)","v":""},{"$f":"IF(ISBLANK('Scholars Nomination Form'!$F28),\"\",'Scholars Nomination Form'!$C$15)","v":""},{"$f":"IF(ISBLANK('Scholars Nomination Form'!$F28),\"\",'Scholars Nomination Form'!$C$16)","v":""},{"$f":"IF(ISBLANK('Scholars Nomination Form'!B28),\"\",'Scholars Nomination Form'!B28)","v":""},{"$f":"IF(ISBLANK('Scholars Nomination Form'!D28),\"\",'Scholars Nomination Form'!D28)","v":""},{"$f":"IF(ISBLANK('Scholars Nomination Form'!E28),\"\",'Scholars Nomination Form'!E28)","v":""},{"$f":"IF(ISBLANK('Scholars Nomination Form'!F28),\"\",'Scholars Nomination Form'!F28)","v":""},{"$f":"IF(ISBLANK('Scholars Nomination Form'!G28),\"\",'Scholars Nomination Form'!G28)","v":""},{"$f":"IF(ISBLANK('Scholars Nomination Form'!H28),\"\",'Scholars Nomination Form'!H28)","v":""},{"$f":"IF(ISBLANK('Scholars Nomination Form'!I28),\"\",'Scholars Nomination Form'!I28)","v":""},{"$f":"IF(ISBLANK('Scholars Nomination Form'!J28),\"\",'Scholars Nomination Form'!J28)","v":""},{"$f":"IF(ISBLANK('Scholars Nomination Form'!K28),\"\",'Scholars Nomination Form'!K28)","v":""},{"$f":"IF(ISBLANK('Scholars Nomination Form'!L28),\"\",'Scholars Nomination Form'!L28)","v":""},{"$f":"IF(ISBLANK('Scholars Nomination Form'!M28),\"\",'Scholars Nomination Form'!M28)","v":""},{"$f":"IF(ISBLANK('Scholars Nomination Form'!N28),\"\",'Scholars Nomination Form'!N28)","v":""},{"$f":"IF(ISBLANK('Scholars Nomination Form'!O28),\"\",'Scholars Nomination Form'!O28)","v":""},{"$f":"IF(ISBLANK('Scholars Nomination Form'!P28),\"\",'Scholars Nomination Form'!P28)","v":""},{"$f":"IF(ISBLANK('Scholars Nomination Form'!Q28),\"\",'Scholars Nomination Form'!Q28)","v":""},{"$f":"IF(ISBLANK('Scholars Nomination Form'!R28),\"\",'Scholars Nomination Form'!R28)","v":""},{"$f":"IF(ISBLANK('Scholars Nomination Form'!S28),\"\",'Scholars Nomination Form'!S28)","v":""},{"$f":"IF(ISBLANK('Scholars Nomination Form'!T28),\"\",'Scholars Nomination Form'!T28)","v":""},{"$f":"IF(ISBLANK('Scholars Nomination Form'!U28),\"\",'Scholars Nomination Form'!U28)","v":""},{"$f":"IF(ISBLANK('Scholars Nomination Form'!V28),\"\",'Scholars Nomination Form'!V28)","v":""},{"$f":"IF(ISBLANK('Scholars Nomination Form'!W28),\"\",'Scholars Nomination Form'!W28)","v":""},{"$f":"IF(ISBLANK('Scholars Nomination Form'!X28),\"\",'Scholars Nomination Form'!X28)","v":""},{"$f":"IF(ISBLANK('Scholars Nomination Form'!Y28),\"\",'Scholars Nomination Form'!Y28)","v":""},{"$f":"IF(ISBLANK('Scholars Nomination Form'!Z28),\"\",'Scholars Nomination Form'!Z28)","v":""},{"$f":"IF(ISBLANK('Scholars Nomination Form'!AA28),\"\",'Scholars Nomination Form'!AA28)","v":""}]
[{"$f":"IF(ISBLANK('Scholars Nomination Form'!$F29),\"\",'Scholars Nomination Form'!$C$11)","v":""},{"$f":"IF(ISBLANK('Scholars Nomination Form'!$F29),\"\",'Scholars Nomination Form'!$C$12)","v":""},{"$f":"IF(ISBLANK('Scholars Nomination Form'!$F29),\"\",'Scholars Nomination Form'!$C$13)","v":""},{"$f":"IF(ISBLANK('Scholars Nomination Form'!$F29),\"\",'Scholars Nomination Form'!$C$14)","v":""},{"$f":"IF(ISBLANK('Scholars Nomination Form'!$F29),\"\",'Scholars Nomination Form'!$C$15)","v":""},{"$f":"IF(ISBLANK('Scholars Nomination Form'!$F29),\"\",'Scholars Nomination Form'!$C$16)","v":""},{"$f":"IF(ISBLANK('Scholars Nomination Form'!B29),\"\",'Scholars Nomination Form'!B29)","v":""},{"$f":"IF(ISBLANK('Scholars Nomination Form'!D29),\"\",'Scholars Nomination Form'!D29)","v":""},{"$f":"IF(ISBLANK('Scholars Nomination Form'!E29),\"\",'Scholars Nomination Form'!E29)","v":""},{"$f":"IF(ISBLANK('Scholars Nomination Form'!F29),\"\",'Scholars Nomination Form'!F29)","v":""},{"$f":"IF(ISBLANK('Scholars Nomination Form'!G29),\"\",'Scholars Nomination Form'!G29)","v":""},{"$f":"IF(ISBLANK('Scholars Nomination Form'!H29),\"\",'Scholars Nomination Form'!H29)","v":""},{"$f":"IF(ISBLANK('Scholars Nomination Form'!I29),\"\",'Scholars Nomination Form'!I29)","v":""},{"$f":"IF(ISBLANK('Scholars Nomination Form'!J29),\"\",'Scholars Nomination Form'!J29)","v":""},{"$f":"IF(ISBLANK('Scholars Nomination Form'!K29),\"\",'Scholars Nomination Form'!K29)","v":""},{"$f":"IF(ISBLANK('Scholars Nomination Form'!L29),\"\",'Scholars Nomination Form'!L29)","v":""},{"$f":"IF(ISBLANK('Scholars Nomination Form'!M29),\"\",'Scholars Nomination Form'!M29)","v":""},{"$f":"IF(ISBLANK('Scholars Nomination Form'!N29),\"\",'Scholars Nomination Form'!N29)","v":""},{"$f":"IF(ISBLANK('Scholars Nomination Form'!O29),\"\",'Scholars Nomination Form'!O29)","v":""},{"$f":"IF(ISBLANK('Scholars Nomination Form'!P29),\"\",'Scholars Nomination Form'!P29)","v":""},{"$f":"IF(ISBLANK('Scholars Nomination Form'!Q29),\"\",'Scholars Nomination Form'!Q29)","v":""},{"$f":"IF(ISBLANK('Scholars Nomination Form'!R29),\"\",'Scholars Nomination Form'!R29)","v":""},{"$f":"IF(ISBLANK('Scholars Nomination Form'!S29),\"\",'Scholars Nomination Form'!S29)","v":""},{"$f":"IF(ISBLANK('Scholars Nomination Form'!T29),\"\",'Scholars Nomination Form'!T29)","v":""},{"$f":"IF(ISBLANK('Scholars Nomination Form'!U29),\"\",'Scholars Nomination Form'!U29)","v":""},{"$f":"IF(ISBLANK('Scholars Nomination Form'!V29),\"\",'Scholars Nomination Form'!V29)","v":""},{"$f":"IF(ISBLANK('Scholars Nomination Form'!W29),\"\",'Scholars Nomination Form'!W29)","v":""},{"$f":"IF(ISBLANK('Scholars Nomination Form'!X29),\"\",'Scholars Nomination Form'!X29)","v":""},{"$f":"IF(ISBLANK('Scholars Nomination Form'!Y29),\"\",'Scholars Nomination Form'!Y29)","v":""},{"$f":"IF(ISBLANK('Scholars Nomination Form'!Z29),\"\",'Scholars Nomination Form'!Z29)","v":""},{"$f":"IF(ISBLANK('Scholars Nomination Form'!AA29),\"\",'Scholars Nomination Form'!AA29)","v":""}]
[{"$f":"IF(ISBLANK('Scholars Nomination Form'!$F30),\"\",'Scholars Nomination Form'!$C$11)","v":""},{"$f":"IF(ISBLANK('Scholars Nomination Form'!$F30),\"\",'Scholars Nomination Form'!$C$12)","v":""},{"$f":"IF(ISBLANK('Scholars Nomination Form'!$F30),\"\",'Scholars Nomination Form'!$C$13)","v":""},{"$f":"IF(ISBLANK('Scholars Nomination Form'!$F30),\"\",'Scholars Nomination Form'!$C$14)","v":""},{"$f":"IF(ISBLANK('Scholars Nomination Form'!$F30),\"\",'Scholars Nomination Form'!$C$15)","v":""},{"$f":"IF(ISBLANK('Scholars Nomination Form'!$F30),\"\",'Scholars Nomination Form'!$C$16)","v":""},{"$f":"IF(ISBLANK('Scholars Nomination Form'!B30),\"\",'Scholars Nomination Form'!B30)","v":""},{"$f":"IF(ISBLANK('Scholars Nomination Form'!D30),\"\",'Scholars Nomination Form'!D30)","v":""},{"$f":"IF(ISBLANK('Scholars Nomination Form'!E30),\"\",'Scholars Nomination Form'!E30)","v":""},{"$f":"IF(ISBLANK('Scholars Nomination Form'!F30),\"\",'Scholars Nomination Form'!F30)","v":""},{"$f":"IF(ISBLANK('Scholars Nomination Form'!G30),\"\",'Scholars Nomination Form'!G30)","v":""},{"$f":"IF(ISBLANK('Scholars Nomination Form'!H30),\"\",'Scholars Nomination Form'!H30)","v":""},{"$f":"IF(ISBLANK('Scholars Nomination Form'!I30),\"\",'Scholars Nomination Form'!I30)","v":""},{"$f":"IF(ISBLANK('Scholars Nomination Form'!J30),\"\",'Scholars Nomination Form'!J30)","v":""},{"$f":"IF(ISBLANK('Scholars Nomination Form'!K30),\"\",'Scholars Nomination Form'!K30)","v":""},{"$f":"IF(ISBLANK('Scholars Nomination Form'!L30),\"\",'Scholars Nomination Form'!L30)","v":""},{"$f":"IF(ISBLANK('Scholars Nomination Form'!M30),\"\",'Scholars Nomination Form'!M30)","v":""},{"$f":"IF(ISBLANK('Scholars Nomination Form'!N30),\"\",'Scholars Nomination Form'!N30)","v":""},{"$f":"IF(ISBLANK('Scholars Nomination Form'!O30),\"\",'Scholars Nomination Form'!O30)","v":""},{"$f":"IF(ISBLANK('Scholars Nomination Form'!P30),\"\",'Scholars Nomination Form'!P30)","v":""},{"$f":"IF(ISBLANK('Scholars Nomination Form'!Q30),\"\",'Scholars Nomination Form'!Q30)","v":""},{"$f":"IF(ISBLANK('Scholars Nomination Form'!R30),\"\",'Scholars Nomination Form'!R30)","v":""},{"$f":"IF(ISBLANK('Scholars Nomination Form'!S30),\"\",'Scholars Nomination Form'!S30)","v":""},{"$f":"IF(ISBLANK('Scholars Nomination Form'!T30),\"\",'Scholars Nomination Form'!T30)","v":""},{"$f":"IF(ISBLANK('Scholars Nomination Form'!U30),\"\",'Scholars Nomination Form'!U30)","v":""},{"$f":"IF(ISBLANK('Scholars Nomination Form'!V30),\"\",'Scholars Nomination Form'!V30)","v":""},{"$f":"IF(ISBLANK('Scholars Nomination Form'!W30),\"\",'Scholars Nomination Form'!W30)","v":""},{"$f":"IF(ISBLANK('Scholars Nomination Form'!X30),\"\",'Scholars Nomination Form'!X30)","v":""},{"$f":"IF(ISBLANK('Scholars Nomination Form'!Y30),\"\",'Scholars Nomination Form'!Y30)","v":""},{"$f":"IF(ISBLANK('Scholars Nomination Form'!Z30),\"\",'Scholars Nomination Form'!Z30)","v":""},{"$f":"IF(ISBLANK('Scholars Nomination Form'!AA30),\"\",'Scholars Nomination Form'!AA30)","v":""}]
[{"$f":"IF(ISBLANK('Scholars Nomination Form'!$F31),\"\",'Scholars Nomination Form'!$C$11)","v":""},{"$f":"IF(ISBLANK('Scholars Nomination Form'!$F31),\"\",'Scholars Nomination Form'!$C$12)","v":""},{"$f":"IF(ISBLANK('Scholars Nomination Form'!$F31),\"\",'Scholars Nomination Form'!$C$13)","v":""},{"$f":"IF(ISBLANK('Scholars Nomination Form'!$F31),\"\",'Scholars Nomination Form'!$C$14)","v":""},{"$f":"IF(ISBLANK('Scholars Nomination Form'!$F31),\"\",'Scholars Nomination Form'!$C$15)","v":""},{"$f":"IF(ISBLANK('Scholars Nomination Form'!$F31),\"\",'Scholars Nomination Form'!$C$16)","v":""},{"$f":"IF(ISBLANK('Scholars Nomination Form'!B31),\"\",'Scholars Nomination Form'!B31)","v":""},{"$f":"IF(ISBLANK('Scholars Nomination Form'!D31),\"\",'Scholars Nomination Form'!D31)","v":""},{"$f":"IF(ISBLANK('Scholars Nomination Form'!E31),\"\",'Scholars Nomination Form'!E31)","v":""},{"$f":"IF(ISBLANK('Scholars Nomination Form'!F31),\"\",'Scholars Nomination Form'!F31)","v":""},{"$f":"IF(ISBLANK('Scholars Nomination Form'!G31),\"\",'Scholars Nomination Form'!G31)","v":""},{"$f":"IF(ISBLANK('Scholars Nomination Form'!H31),\"\",'Scholars Nomination Form'!H31)","v":""},{"$f":"IF(ISBLANK('Scholars Nomination Form'!I31),\"\",'Scholars Nomination Form'!I31)","v":""},{"$f":"IF(ISBLANK('Scholars Nomination Form'!J31),\"\",'Scholars Nomination Form'!J31)","v":""},{"$f":"IF(ISBLANK('Scholars Nomination Form'!K31),\"\",'Scholars Nomination Form'!K31)","v":""},{"$f":"IF(ISBLANK('Scholars Nomination Form'!L31),\"\",'Scholars Nomination Form'!L31)","v":""},{"$f":"IF(ISBLANK('Scholars Nomination Form'!M31),\"\",'Scholars Nomination Form'!M31)","v":""},{"$f":"IF(ISBLANK('Scholars Nomination Form'!N31),\"\",'Scholars Nomination Form'!N31)","v":""},{"$f":"IF(ISBLANK('Scholars Nomination Form'!O31),\"\",'Scholars Nomination Form'!O31)","v":""},{"$f":"IF(ISBLANK('Scholars Nomination Form'!P31),\"\",'Scholars Nomination Form'!P31)","v":""},{"$f":"IF(ISBLANK('Scholars Nomination Form'!Q31),\"\",'Scholars Nomination Form'!Q31)","v":""},{"$f":"IF(ISBLANK('Scholars Nomination Form'!R31),\"\",'Scholars Nomination Form'!R31)","v":""},{"$f":"IF(ISBLANK('Scholars Nomination Form'!S31),\"\",'Scholars Nomination Form'!S31)","v":""},{"$f":"IF(ISBLANK('Scholars Nomination Form'!T31),\"\",'Scholars Nomination Form'!T31)","v":""},{"$f":"IF(ISBLANK('Scholars Nomination Form'!U31),\"\",'Scholars Nomination Form'!U31)","v":""},{"$f":"IF(ISBLANK('Scholars Nomination Form'!V31),\"\",'Scholars Nomination Form'!V31)","v":""},{"$f":"IF(ISBLANK('Scholars Nomination Form'!W31),\"\",'Scholars Nomination Form'!W31)","v":""},{"$f":"IF(ISBLANK('Scholars Nomination Form'!X31),\"\",'Scholars Nomination Form'!X31)","v":""},{"$f":"IF(ISBLANK('Scholars Nomination Form'!Y31),\"\",'Scholars Nomination Form'!Y31)","v":""},{"$f":"IF(ISBLANK('Scholars Nomination Form'!Z31),\"\",'Scholars Nomination Form'!Z31)","v":""},{"$f":"IF(ISBLANK('Scholars Nomination Form'!AA31),\"\",'Scholars Nomination Form'!AA31)","v":""}]
[{"$f":"IF(ISBLANK('Scholars Nomination Form'!$F32),\"\",'Scholars Nomination Form'!$C$11)","v":""},{"$f":"IF(ISBLANK('Scholars Nomination Form'!$F32),\"\",'Scholars Nomination Form'!$C$12)","v":""},{"$f":"IF(ISBLANK('Scholars Nomination Form'!$F32),\"\",'Scholars Nomination Form'!$C$13)","v":""},{"$f":"IF(ISBLANK('Scholars Nomination Form'!$F32),\"\",'Scholars Nomination Form'!$C$14)","v":""},{"$f":"IF(ISBLANK('Scholars Nomination Form'!$F32),\"\",'Scholars Nomination Form'!$C$15)","v":""},{"$f":"IF(ISBLANK('Scholars Nomination Form'!$F32),\"\",'Scholars Nomination Form'!$C$16)","v":""},{"$f":"IF(ISBLANK('Scholars Nomination Form'!B32),\"\",'Scholars Nomination Form'!B32)","v":""},{"$f":"IF(ISBLANK('Scholars Nomination Form'!D32),\"\",'Scholars Nomination Form'!D32)","v":""},{"$f":"IF(ISBLANK('Scholars Nomination Form'!E32),\"\",'Scholars Nomination Form'!E32)","v":""},{"$f":"IF(ISBLANK('Scholars Nomination Form'!F32),\"\",'Scholars Nomination Form'!F32)","v":""},{"$f":"IF(ISBLANK('Scholars Nomination Form'!G32),\"\",'Scholars Nomination Form'!G32)","v":""},{"$f":"IF(ISBLANK('Scholars Nomination Form'!H32),\"\",'Scholars Nomination Form'!H32)","v":""},{"$f":"IF(ISBLANK('Scholars Nomination Form'!I32),\"\",'Scholars Nomination Form'!I32)","v":""},{"$f":"IF(ISBLANK('Scholars Nomination Form'!J32),\"\",'Scholars Nomination Form'!J32)","v":""},{"$f":"IF(ISBLANK('Scholars Nomination Form'!K32),\"\",'Scholars Nomination Form'!K32)","v":""},{"$f":"IF(ISBLANK('Scholars Nomination Form'!L32),\"\",'Scholars Nomination Form'!L32)","v":""},{"$f":"IF(ISBLANK('Scholars Nomination Form'!M32),\"\",'Scholars Nomination Form'!M32)","v":""},{"$f":"IF(ISBLANK('Scholars Nomination Form'!N32),\"\",'Scholars Nomination Form'!N32)","v":""},{"$f":"IF(ISBLANK('Scholars Nomination Form'!O32),\"\",'Scholars Nomination Form'!O32)","v":""},{"$f":"IF(ISBLANK('Scholars Nomination Form'!P32),\"\",'Scholars Nomination Form'!P32)","v":""},{"$f":"IF(ISBLANK('Scholars Nomination Form'!Q32),\"\",'Scholars Nomination Form'!Q32)","v":""},{"$f":"IF(ISBLANK('Scholars Nomination Form'!R32),\"\",'Scholars Nomination Form'!R32)","v":""},{"$f":"IF(ISBLANK('Scholars Nomination Form'!S32),\"\",'Scholars Nomination Form'!S32)","v":""},{"$f":"IF(ISBLANK('Scholars Nomination Form'!T32),\"\",'Scholars Nomination Form'!T32)","v":""},{"$f":"IF(ISBLANK('Scholars Nomination Form'!U32),\"\",'Scholars Nomination Form'!U32)","v":""},{"$f":"IF(ISBLANK('Scholars Nomination Form'!V32),\"\",'Scholars Nomination Form'!V32)","v":""},{"$f":"IF(ISBLANK('Scholars Nomination Form'!W32),\"\",'Scholars Nomination Form'!W32)","v":""},{"$f":"IF(ISBLANK('Scholars Nomination Form'!X32),\"\",'Scholars Nomination Form'!X32)","v":""},{"$f":"IF(ISBLANK('Scholars Nomination Form'!Y32),\"\",'Scholars Nomination Form'!Y32)","v":""},{"$f":"IF(ISBLANK('Scholars Nomination Form'!Z32),\"\",'Scholars Nomination Form'!Z32)","v":""},{"$f":"IF(ISBLANK('Scholars Nomination Form'!AA32),\"\",'Scholars Nomination Form'!AA32)","v":""}]
[{"$f":"IF(ISBLANK('Scholars Nomination Form'!$F33),\"\",'Scholars Nomination Form'!$C$11)","v":""},{"$f":"IF(ISBLANK('Scholars Nomination Form'!$F33),\"\",'Scholars Nomination Form'!$C$12)","v":""},{"$f":"IF(ISBLANK('Scholars Nomination Form'!$F33),\"\",'Scholars Nomination Form'!$C$13)","v":""},{"$f":"IF(ISBLANK('Scholars Nomination Form'!$F33),\"\",'Scholars Nomination Form'!$C$14)","v":""},{"$f":"IF(ISBLANK('Scholars Nomination Form'!$F33),\"\",'Scholars Nomination Form'!$C$15)","v":""},{"$f":"IF(ISBLANK('Scholars Nomination Form'!$F33),\"\",'Scholars Nomination Form'!$C$16)","v":""},{"$f":"IF(ISBLANK('Scholars Nomination Form'!B33),\"\",'Scholars Nomination Form'!B33)","v":""},{"$f":"IF(ISBLANK('Scholars Nomination Form'!D33),\"\",'Scholars Nomination Form'!D33)","v":""},{"$f":"IF(ISBLANK('Scholars Nomination Form'!E33),\"\",'Scholars Nomination Form'!E33)","v":""},{"$f":"IF(ISBLANK('Scholars Nomination Form'!F33),\"\",'Scholars Nomination Form'!F33)","v":""},{"$f":"IF(ISBLANK('Scholars Nomination Form'!G33),\"\",'Scholars Nomination Form'!G33)","v":""},{"$f":"IF(ISBLANK('Scholars Nomination Form'!H33),\"\",'Scholars Nomination Form'!H33)","v":""},{"$f":"IF(ISBLANK('Scholars Nomination Form'!I33),\"\",'Scholars Nomination Form'!I33)","v":""},{"$f":"IF(ISBLANK('Scholars Nomination Form'!J33),\"\",'Scholars Nomination Form'!J33)","v":""},{"$f":"IF(ISBLANK('Scholars Nomination Form'!K33),\"\",'Scholars Nomination Form'!K33)","v":""},{"$f":"IF(ISBLANK('Scholars Nomination Form'!L33),\"\",'Scholars Nomination Form'!L33)","v":""},{"$f":"IF(ISBLANK('Scholars Nomination Form'!M33),\"\",'Scholars Nomination Form'!M33)","v":""},{"$f":"IF(ISBLANK('Scholars Nomination Form'!N33),\"\",'Scholars Nomination Form'!N33)","v":""},{"$f":"IF(ISBLANK('Scholars Nomination Form'!O33),\"\",'Scholars Nomination Form'!O33)","v":""},{"$f":"IF(ISBLANK('Scholars Nomination Form'!P33),\"\",'Scholars Nomination Form'!P33)","v":""},{"$f":"IF(ISBLANK('Scholars Nomination Form'!Q33),\"\",'Scholars Nomination Form'!Q33)","v":""},{"$f":"IF(ISBLANK('Scholars Nomination Form'!R33),\"\",'Scholars Nomination Form'!R33)","v":""},{"$f":"IF(ISBLANK('Scholars Nomination Form'!S33),\"\",'Scholars Nomination Form'!S33)","v":""},{"$f":"IF(ISBLANK('Scholars Nomination Form'!T33),\"\",'Scholars Nomination Form'!T33)","v":""},{"$f":"IF(ISBLANK('Scholars Nomination Form'!U33),\"\",'Scholars Nomination Form'!U33)","v":""},{"$f":"IF(ISBLANK('Scholars Nomination Form'!V33),\"\",'Scholars Nomination Form'!V33)","v":""},{"$f":"IF(ISBLANK('Scholars Nomination Form'!W33),\"\",'Scholars Nomination Form'!W33)","v":""},{"$f":"IF(ISBLANK('Scholars Nomination Form'!X33),\"\",'Scholars Nomination Form'!X33)","v":""},{"$f":"IF(ISBLANK('Scholars Nomination Form'!Y33),\"\",'Scholars Nomination Form'!Y33)","v":""},{"$f":"IF(ISBLANK('Scholars Nomination Form'!Z33),\"\",'Scholars Nomination Form'!Z33)","v":""},{"$f":"IF(ISBLANK('Scholars Nomination Form'!AA33),\"\",'Scholars Nomination Form'!AA33)","v":""}]
[{"$f":"IF(ISBLANK('Scholars Nomination Form'!$F34),\"\",'Scholars Nomination Form'!$C$11)","v":""},{"$f":"IF(ISBLANK('Scholars Nomination Form'!$F34),\"\",'Scholars Nomination Form'!$C$12)","v":""},{"$f":"IF(ISBLANK('Scholars Nomination Form'!$F34),\"\",'Scholars Nomination Form'!$C$13)","v":""},{"$f":"IF(ISBLANK('Scholars Nomination Form'!$F34),\"\",'Scholars Nomination Form'!$C$14)","v":""},{"$f":"IF(ISBLANK('Scholars Nomination Form'!$F34),\"\",'Scholars Nomination Form'!$C$15)","v":""},{"$f":"IF(ISBLANK('Scholars Nomination Form'!$F34),\"\",'Scholars Nomination Form'!$C$16)","v":""},{"$f":"IF(ISBLANK('Scholars Nomination Form'!B34),\"\",'Scholars Nomination Form'!B34)","v":""},{"$f":"IF(ISBLANK('Scholars Nomination Form'!D34),\"\",'Scholars Nomination Form'!D34)","v":""},{"$f":"IF(ISBLANK('Scholars Nomination Form'!E34),\"\",'Scholars Nomination Form'!E34)","v":""},{"$f":"IF(ISBLANK('Scholars Nomination Form'!F34),\"\",'Scholars Nomination Form'!F34)","v":""},{"$f":"IF(ISBLANK('Scholars Nomination Form'!G34),\"\",'Scholars Nomination Form'!G34)","v":""},{"$f":"IF(ISBLANK('Scholars Nomination Form'!H34),\"\",'Scholars Nomination Form'!H34)","v":""},{"$f":"IF(ISBLANK('Scholars Nomination Form'!I34),\"\",'Scholars Nomination Form'!I34)","v":""},{"$f":"IF(ISBLANK('Scholars Nomination Form'!J34),\"\",'Scholars Nomination Form'!J34)","v":""},{"$f":"IF(ISBLANK('Scholars Nomination Form'!K34),\"\",'Scholars Nomination Form'!K34)","v":""},{"$f":"IF(ISBLANK('Scholars Nomination Form'!L34),\"\",'Scholars Nomination Form'!L34)","v":""},{"$f":"IF(ISBLANK('Scholars Nomination Form'!M34),\"\",'Scholars Nomination Form'!M34)","v":""},{"$f":"IF(ISBLANK('Scholars Nomination Form'!N34),\"\",'Scholars Nomination Form'!N34)","v":""},{"$f":"IF(ISBLANK('Scholars Nomination Form'!O34),\"\",'Scholars Nomination Form'!O34)","v":""},{"$f":"IF(ISBLANK('Scholars Nomination Form'!P34),\"\",'Scholars Nomination Form'!P34)","v":""},{"$f":"IF(ISBLANK('Scholars Nomination Form'!Q34),\"\",'Scholars Nomination Form'!Q34)","v":""},{"$f":"IF(ISBLANK('Scholars Nomination Form'!R34),\"\",'Scholars Nomination Form'!R34)","v":""},{"$f":"IF(ISBLANK('Scholars Nomination Form'!S34),\"\",'Scholars Nomination Form'!S34)","v":""},{"$f":"IF(ISBLANK('Scholars Nomination Form'!T34),\"\",'Scholars Nomination Form'!T34)","v":""},{"$f":"IF(ISBLANK('Scholars Nomination Form'!U34),\"\",'Scholars Nomination Form'!U34)","v":""},{"$f":"IF(ISBLANK('Scholars Nomination Form'!V34),\"\",'Scholars Nomination Form'!V34)","v":""},{"$f":"IF(ISBLANK('Scholars Nomination Form'!W34),\"\",'Scholars Nomination Form'!W34)","v":""},{"$f":"IF(ISBLANK('Scholars Nomination Form'!X34),\"\",'Scholars Nomination Form'!X34)","v":""},{"$f":"IF(ISBLANK('Scholars Nomination Form'!Y34),\"\",'Scholars Nomination Form'!Y34)","v":""},{"$f":"IF(ISBLANK('Scholars Nomination Form'!Z34),\"\",'Scholars Nomination Form'!Z34)","v":""},{"$f":"IF(ISBLANK('Scholars Nomination Form'!AA34),\"\",'Scholars Nomination Form'!AA34)","v":""}]
[{"$f":"IF(ISBLANK('Scholars Nomination Form'!$F35),\"\",'Scholars Nomination Form'!$C$11)","v":""},{"$f":"IF(ISBLANK('Scholars Nomination Form'!$F35),\"\",'Scholars Nomination Form'!$C$12)","v":""},{"$f":"IF(ISBLANK('Scholars Nomination Form'!$F35),\"\",'Scholars Nomination Form'!$C$13)","v":""},{"$f":"IF(ISBLANK('Scholars Nomination Form'!$F35),\"\",'Scholars Nomination Form'!$C$14)","v":""},{"$f":"IF(ISBLANK('Scholars Nomination Form'!$F35),\"\",'Scholars Nomination Form'!$C$15)","v":""},{"$f":"IF(ISBLANK('Scholars Nomination Form'!$F35),\"\",'Scholars Nomination Form'!$C$16)","v":""},{"$f":"IF(ISBLANK('Scholars Nomination Form'!B35),\"\",'Scholars Nomination Form'!B35)","v":""},{"$f":"IF(ISBLANK('Scholars Nomination Form'!D35),\"\",'Scholars Nomination Form'!D35)","v":""},{"$f":"IF(ISBLANK('Scholars Nomination Form'!E35),\"\",'Scholars Nomination Form'!E35)","v":""},{"$f":"IF(ISBLANK('Scholars Nomination Form'!F35),\"\",'Scholars Nomination Form'!F35)","v":""},{"$f":"IF(ISBLANK('Scholars Nomination Form'!G35),\"\",'Scholars Nomination Form'!G35)","v":""},{"$f":"IF(ISBLANK('Scholars Nomination Form'!H35),\"\",'Scholars Nomination Form'!H35)","v":""},{"$f":"IF(ISBLANK('Scholars Nomination Form'!I35),\"\",'Scholars Nomination Form'!I35)","v":""},{"$f":"IF(ISBLANK('Scholars Nomination Form'!J35),\"\",'Scholars Nomination Form'!J35)","v":""},{"$f":"IF(ISBLANK('Scholars Nomination Form'!K35),\"\",'Scholars Nomination Form'!K35)","v":""},{"$f":"IF(ISBLANK('Scholars Nomination Form'!L35),\"\",'Scholars Nomination Form'!L35)","v":""},{"$f":"IF(ISBLANK('Scholars Nomination Form'!M35),\"\",'Scholars Nomination Form'!M35)","v":""},{"$f":"IF(ISBLANK('Scholars Nomination Form'!N35),\"\",'Scholars Nomination Form'!N35)","v":""},{"$f":"IF(ISBLANK('Scholars Nomination Form'!O35),\"\",'Scholars Nomination Form'!O35)","v":""},{"$f":"IF(ISBLANK('Scholars Nomination Form'!P35),\"\",'Scholars Nomination Form'!P35)","v":""},{"$f":"IF(ISBLANK('Scholars Nomination Form'!Q35),\"\",'Scholars Nomination Form'!Q35)","v":""},{"$f":"IF(ISBLANK('Scholars Nomination Form'!R35),\"\",'Scholars Nomination Form'!R35)","v":""},{"$f":"IF(ISBLANK('Scholars Nomination Form'!S35),\"\",'Scholars Nomination Form'!S35)","v":""},{"$f":"IF(ISBLANK('Scholars Nomination Form'!T35),\"\",'Scholars Nomination Form'!T35)","v":""},{"$f":"IF(ISBLANK('Scholars Nomination Form'!U35),\"\",'Scholars Nomination Form'!U35)","v":""},{"$f":"IF(ISBLANK('Scholars Nomination Form'!V35),\"\",'Scholars Nomination Form'!V35)","v":""},{"$f":"IF(ISBLANK('Scholars Nomination Form'!W35),\"\",'Scholars Nomination Form'!W35)","v":""},{"$f":"IF(ISBLANK('Scholars Nomination Form'!X35),\"\",'Scholars Nomination Form'!X35)","v":""},{"$f":"IF(ISBLANK('Scholars Nomination Form'!Y35),\"\",'Scholars Nomination Form'!Y35)","v":""},{"$f":"IF(ISBLANK('Scholars Nomination Form'!Z35),\"\",'Scholars Nomination Form'!Z35)","v":""},{"$f":"IF(ISBLANK('Scholars Nomination Form'!AA35),\"\",'Scholars Nomination Form'!AA35)","v":""}]
[{"$f":"IF(ISBLANK('Scholars Nomination Form'!$F36),\"\",'Scholars Nomination Form'!$C$11)","v":""},{"$f":"IF(ISBLANK('Scholars Nomination Form'!$F36),\"\",'Scholars Nomination Form'!$C$12)","v":""},{"$f":"IF(ISBLANK('Scholars Nomination Form'!$F36),\"\",'Scholars Nomination Form'!$C$13)","v":""},{"$f":"IF(ISBLANK('Scholars Nomination Form'!$F36),\"\",'Scholars Nomination Form'!$C$14)","v":""},{"$f":"IF(ISBLANK('Scholars Nomination Form'!$F36),\"\",'Scholars Nomination Form'!$C$15)","v":""},{"$f":"IF(ISBLANK('Scholars Nomination Form'!$F36),\"\",'Scholars Nomination Form'!$C$16)","v":""},{"$f":"IF(ISBLANK('Scholars Nomination Form'!B36),\"\",'Scholars Nomination Form'!B36)","v":""},{"$f":"IF(ISBLANK('Scholars Nomination Form'!D36),\"\",'Scholars Nomination Form'!D36)","v":""},{"$f":"IF(ISBLANK('Scholars Nomination Form'!E36),\"\",'Scholars Nomination Form'!E36)","v":""},{"$f":"IF(ISBLANK('Scholars Nomination Form'!F36),\"\",'Scholars Nomination Form'!F36)","v":""},{"$f":"IF(ISBLANK('Scholars Nomination Form'!G36),\"\",'Scholars Nomination Form'!G36)","v":""},{"$f":"IF(ISBLANK('Scholars Nomination Form'!H36),\"\",'Scholars Nomination Form'!H36)","v":""},{"$f":"IF(ISBLANK('Scholars Nomination Form'!I36),\"\",'Scholars Nomination Form'!I36)","v":""},{"$f":"IF(ISBLANK('Scholars Nomination Form'!J36),\"\",'Scholars Nomination Form'!J36)","v":""},{"$f":"IF(ISBLANK('Scholars Nomination Form'!K36),\"\",'Scholars Nomination Form'!K36)","v":""},{"$f":"IF(ISBLANK('Scholars Nomination Form'!L36),\"\",'Scholars Nomination Form'!L36)","v":""},{"$f":"IF(ISBLANK('Scholars Nomination Form'!M36),\"\",'Scholars Nomination Form'!M36)","v":""},{"$f":"IF(ISBLANK('Scholars Nomination Form'!N36),\"\",'Scholars Nomination Form'!N36)","v":""},{"$f":"IF(ISBLANK('Scholars Nomination Form'!O36),\"\",'Scholars Nomination Form'!O36)","v":""},{"$f":"IF(ISBLANK('Scholars Nomination Form'!P36),\"\",'Scholars Nomination Form'!P36)","v":""},{"$f":"IF(ISBLANK('Scholars Nomination Form'!Q36),\"\",'Scholars Nomination Form'!Q36)","v":""},{"$f":"IF(ISBLANK('Scholars Nomination Form'!R36),\"\",'Scholars Nomination Form'!R36)","v":""},{"$f":"IF(ISBLANK('Scholars Nomination Form'!S36),\"\",'Scholars Nomination Form'!S36)","v":""},{"$f":"IF(ISBLANK('Scholars Nomination Form'!T36),\"\",'Scholars Nomination Form'!T36)","v":""},{"$f":"IF(ISBLANK('Scholars Nomination Form'!U36),\"\",'Scholars Nomination Form'!U36)","v":""},{"$f":"IF(ISBLANK('Scholars Nomination Form'!V36),\"\",'Scholars Nomination Form'!V36)","v":""},{"$f":"IF(ISBLANK('Scholars Nomination Form'!W36),\"\",'Scholars Nomination Form'!W36)","v":""},{"$f":"IF(ISBLANK('Scholars Nomination Form'!X36),\"\",'Scholars Nomination Form'!X36)","v":""},{"$f":"IF(ISBLANK('Scholars Nomination Form'!Y36),\"\",'Scholars Nomination Form'!Y36)","v":""},{"$f":"IF(ISBLANK('Scholars Nomination Form'!Z36),\"\",'Scholars Nomination Form'!Z36)","v":""},{"$f":"IF(ISBLANK('Scholars Nomination Form'!AA36),\"\",'Scholars Nomination Form'!AA36)","v":""}]
[{"$f":"IF(ISBLANK('Scholars Nomination Form'!$F37),\"\",'Scholars Nomination Form'!$C$11)","v":""},{"$f":"IF(ISBLANK('Scholars Nomination Form'!$F37),\"\",'Scholars Nomination Form'!$C$12)","v":""},{"$f":"IF(ISBLANK('Scholars Nomination Form'!$F37),\"\",'Scholars Nomination Form'!$C$13)","v":""},{"$f":"IF(ISBLANK('Scholars Nomination Form'!$F37),\"\",'Scholars Nomination Form'!$C$14)","v":""},{"$f":"IF(ISBLANK('Scholars Nomination Form'!$F37),\"\",'Scholars Nomination Form'!$C$15)","v":""},{"$f":"IF(ISBLANK('Scholars Nomination Form'!$F37),\"\",'Scholars Nomination Form'!$C$16)","v":""},{"$f":"IF(ISBLANK('Scholars Nomination Form'!B37),\"\",'Scholars Nomination Form'!B37)","v":""},{"$f":"IF(ISBLANK('Scholars Nomination Form'!D37),\"\",'Scholars Nomination Form'!D37)","v":""},{"$f":"IF(ISBLANK('Scholars Nomination Form'!E37),\"\",'Scholars Nomination Form'!E37)","v":""},{"$f":"IF(ISBLANK('Scholars Nomination Form'!F37),\"\",'Scholars Nomination Form'!F37)","v":""},{"$f":"IF(ISBLANK('Scholars Nomination Form'!G37),\"\",'Scholars Nomination Form'!G37)","v":""},{"$f":"IF(ISBLANK('Scholars Nomination Form'!H37),\"\",'Scholars Nomination Form'!H37)","v":""},{"$f":"IF(ISBLANK('Scholars Nomination Form'!I37),\"\",'Scholars Nomination Form'!I37)","v":""},{"$f":"IF(ISBLANK('Scholars Nomination Form'!J37),\"\",'Scholars Nomination Form'!J37)","v":""},{"$f":"IF(ISBLANK('Scholars Nomination Form'!K37),\"\",'Scholars Nomination Form'!K37)","v":""},{"$f":"IF(ISBLANK('Scholars Nomination Form'!L37),\"\",'Scholars Nomination Form'!L37)","v":""},{"$f":"IF(ISBLANK('Scholars Nomination Form'!M37),\"\",'Scholars Nomination Form'!M37)","v":""},{"$f":"IF(ISBLANK('Scholars Nomination Form'!N37),\"\",'Scholars Nomination Form'!N37)","v":""},{"$f":"IF(ISBLANK('Scholars Nomination Form'!O37),\"\",'Scholars Nomination Form'!O37)","v":""},{"$f":"IF(ISBLANK('Scholars Nomination Form'!P37),\"\",'Scholars Nomination Form'!P37)","v":""},{"$f":"IF(ISBLANK('Scholars Nomination Form'!Q37),\"\",'Scholars Nomination Form'!Q37)","v":""},{"$f":"IF(ISBLANK('Scholars Nomination Form'!R37),\"\",'Scholars Nomination Form'!R37)","v":""},{"$f":"IF(ISBLANK('Scholars Nomination Form'!S37),\"\",'Scholars Nomination Form'!S37)","v":""},{"$f":"IF(ISBLANK('Scholars Nomination Form'!T37),\"\",'Scholars Nomination Form'!T37)","v":""},{"$f":"IF(ISBLANK('Scholars Nomination Form'!U37),\"\",'Scholars Nomination Form'!U37)","v":""},{"$f":"IF(ISBLANK('Scholars Nomination Form'!V37),\"\",'Scholars Nomination Form'!V37)","v":""},{"$f":"IF(ISBLANK('Scholars Nomination Form'!W37),\"\",'Scholars Nomination Form'!W37)","v":""},{"$f":"IF(ISBLANK('Scholars Nomination Form'!X37),\"\",'Scholars Nomination Form'!X37)","v":""},{"$f":"IF(ISBLANK('Scholars Nomination Form'!Y37),\"\",'Scholars Nomination Form'!Y37)","v":""},{"$f":"IF(ISBLANK('Scholars Nomination Form'!Z37),\"\",'Scholars Nomination Form'!Z37)","v":""},{"$f":"IF(ISBLANK('Scholars Nomination Form'!AA37),\"\",'Scholars Nomination Form'!AA37)","v":""}]
[{"$f":"IF(ISBLANK('Scholars Nomination Form'!$F38),\"\",'Scholars Nomination Form'!$C$11)","v":""},{"$f":"IF(ISBLANK('Scholars Nomination Form'!$F38),\"\",'Scholars Nomination Form'!$C$12)","v":""},{"$f":"IF(ISBLANK('Scholars Nomination Form'!$F38),\"\",'Scholars Nomination Form'!$C$13)","v":""},{"$f":"IF(ISBLANK('Scholars Nomination Form'!$F38),\"\",'Scholars Nomination Form'!$C$14)","v":""},{"$f":"IF(ISBLANK('Scholars Nomination Form'!$F38),\"\",'Scholars Nomination Form'!$C$15)","v":""},{"$f":"IF(ISBLANK('Scholars Nomination Form'!$F38),\"\",'Scholars Nomination Form'!$C$16)","v":""},{"$f":"IF(ISBLANK('Scholars Nomination Form'!B38),\"\",'Scholars Nomination Form'!B38)","v":""},{"$f":"IF(ISBLANK('Scholars Nomination Form'!D38),\"\",'Scholars Nomination Form'!D38)","v":""},{"$f":"IF(ISBLANK('Scholars Nomination Form'!E38),\"\",'Scholars Nomination Form'!E38)","v":""},{"$f":"IF(ISBLANK('Scholars Nomination Form'!F38),\"\",'Scholars Nomination Form'!F38)","v":""},{"$f":"IF(ISBLANK('Scholars Nomination Form'!G38),\"\",'Scholars Nomination Form'!G38)","v":""},{"$f":"IF(ISBLANK('Scholars Nomination Form'!H38),\"\",'Scholars Nomination Form'!H38)","v":""},{"$f":"IF(ISBLANK('Scholars Nomination Form'!I38),\"\",'Scholars Nomination Form'!I38)","v":""},{"$f":"IF(ISBLANK('Scholars Nomination Form'!J38),\"\",'Scholars Nomination Form'!J38)","v":""},{"$f":"IF(ISBLANK('Scholars Nomination Form'!K38),\"\",'Scholars Nomination Form'!K38)","v":""},{"$f":"IF(ISBLANK('Scholars Nomination Form'!L38),\"\",'Scholars Nomination Form'!L38)","v":""},{"$f":"IF(ISBLANK('Scholars Nomination Form'!M38),\"\",'Scholars Nomination Form'!M38)","v":""},{"$f":"IF(ISBLANK('Scholars Nomination Form'!N38),\"\",'Scholars Nomination Form'!N38)","v":""},{"$f":"IF(ISBLANK('Scholars Nomination Form'!O38),\"\",'Scholars Nomination Form'!O38)","v":""},{"$f":"IF(ISBLANK('Scholars Nomination Form'!P38),\"\",'Scholars Nomination Form'!P38)","v":""},{"$f":"IF(ISBLANK('Scholars Nomination Form'!Q38),\"\",'Scholars Nomination Form'!Q38)","v":""},{"$f":"IF(ISBLANK('Scholars Nomination Form'!R38),\"\",'Scholars Nomination Form'!R38)","v":""},{"$f":"IF(ISBLANK('Scholars Nomination Form'!S38),\"\",'Scholars Nomination Form'!S38)","v":""},{"$f":"IF(ISBLANK('Scholars Nomination Form'!T38),\"\",'Scholars Nomination Form'!T38)","v":""},{"$f":"IF(ISBLANK('Scholars Nomination Form'!U38),\"\",'Scholars Nomination Form'!U38)","v":""},{"$f":"IF(ISBLANK('Scholars Nomination Form'!V38),\"\",'Scholars Nomination Form'!V38)","v":""},{"$f":"IF(ISBLANK('Scholars Nomination Form'!W38),\"\",'Scholars Nomination Form'!W38)","v":""},{"$f":"IF(ISBLANK('Scholars Nomination Form'!X38),\"\",'Scholars Nomination Form'!X38)","v":""},{"$f":"IF(ISBLANK('Scholars Nomination Form'!Y38),\"\",'Scholars Nomination Form'!Y38)","v":""},{"$f":"IF(ISBLANK('Scholars Nomination Form'!Z38),\"\",'Scholars Nomination Form'!Z38)","v":""},{"$f":"IF(ISBLANK('Scholars Nomination Form'!AA38),\"\",'Scholars Nomination Form'!AA38)","v":""}]
[{"$f":"IF(ISBLANK('Scholars Nomination Form'!$F39),\"\",'Scholars Nomination Form'!$C$11)","v":""},{"$f":"IF(ISBLANK('Scholars Nomination Form'!$F39),\"\",'Scholars Nomination Form'!$C$12)","v":""},{"$f":"IF(ISBLANK('Scholars Nomination Form'!$F39),\"\",'Scholars Nomination Form'!$C$13)","v":""},{"$f":"IF(ISBLANK('Scholars Nomination Form'!$F39),\"\",'Scholars Nomination Form'!$C$14)","v":""},{"$f":"IF(ISBLANK('Scholars Nomination Form'!$F39),\"\",'Scholars Nomination Form'!$C$15)","v":""},{"$f":"IF(ISBLANK('Scholars Nomination Form'!$F39),\"\",'Scholars Nomination Form'!$C$16)","v":""},{"$f":"IF(ISBLANK('Scholars Nomination Form'!B39),\"\",'Scholars Nomination Form'!B39)","v":""},{"$f":"IF(ISBLANK('Scholars Nomination Form'!D39),\"\",'Scholars Nomination Form'!D39)","v":""},{"$f":"IF(ISBLANK('Scholars Nomination Form'!E39),\"\",'Scholars Nomination Form'!E39)","v":""},{"$f":"IF(ISBLANK('Scholars Nomination Form'!F39),\"\",'Scholars Nomination Form'!F39)","v":""},{"$f":"IF(ISBLANK('Scholars Nomination Form'!G39),\"\",'Scholars Nomination Form'!G39)","v":""},{"$f":"IF(ISBLANK('Scholars Nomination Form'!H39),\"\",'Scholars Nomination Form'!H39)","v":""},{"$f":"IF(ISBLANK('Scholars Nomination Form'!I39),\"\",'Scholars Nomination Form'!I39)","v":""},{"$f":"IF(ISBLANK('Scholars Nomination Form'!J39),\"\",'Scholars Nomination Form'!J39)","v":""},{"$f":"IF(ISBLANK('Scholars Nomination Form'!K39),\"\",'Scholars Nomination Form'!K39)","v":""},{"$f":"IF(ISBLANK('Scholars Nomination Form'!L39),\"\",'Scholars Nomination Form'!L39)","v":""},{"$f":"IF(ISBLANK('Scholars Nomination Form'!M39),\"\",'Scholars Nomination Form'!M39)","v":""},{"$f":"IF(ISBLANK('Scholars Nomination Form'!N39),\"\",'Scholars Nomination Form'!N39)","v":""},{"$f":"IF(ISBLANK('Scholars Nomination Form'!O39),\"\",'Scholars Nomination Form'!O39)","v":""},{"$f":"IF(ISBLANK('Scholars Nomination Form'!P39),\"\",'Scholars Nomination Form'!P39)","v":""},{"$f":"IF(ISBLANK('Scholars Nomination Form'!Q39),\"\",'Scholars Nomination Form'!Q39)","v":""},{"$f":"IF(ISBLANK('Scholars Nomination Form'!R39),\"\",'Scholars Nomination Form'!R39)","v":""},{"$f":"IF(ISBLANK('Scholars Nomination Form'!S39),\"\",'Scholars Nomination Form'!S39)","v":""},{"$f":"IF(ISBLANK('Scholars Nomination Form'!T39),\"\",'Scholars Nomination Form'!T39)","v":""},{"$f":"IF(ISBLANK('Scholars Nomination Form'!U39),\"\",'Scholars Nomination Form'!U39)","v":""},{"$f":"IF(ISBLANK('Scholars Nomination Form'!V39),\"\",'Scholars Nomination Form'!V39)","v":""},{"$f":"IF(ISBLANK('Scholars Nomination Form'!W39),\"\",'Scholars Nomination Form'!W39)","v":""},{"$f":"IF(ISBLANK('Scholars Nomination Form'!X39),\"\",'Scholars Nomination Form'!X39)","v":""},{"$f":"IF(ISBLANK('Scholars Nomination Form'!Y39),\"\",'Scholars Nomination Form'!Y39)","v":""},{"$f":"IF(ISBLANK('Scholars Nomination Form'!Z39),\"\",'Scholars Nomination Form'!Z39)","v":""},{"$f":"IF(ISBLANK('Scholars Nomination Form'!AA39),\"\",'Scholars Nomination Form'!AA39)","v":""}]
[{"$f":"IF(ISBLANK('Scholars Nomination Form'!$F40),\"\",'Scholars Nomination Form'!$C$11)","v":""},{"$f":"IF(ISBLANK('Scholars Nomination Form'!$F40),\"\",'Scholars Nomination Form'!$C$12)","v":""},{"$f":"IF(ISBLANK('Scholars Nomination Form'!$F40),\"\",'Scholars Nomination Form'!$C$13)","v":""},{"$f":"IF(ISBLANK('Scholars Nomination Form'!$F40),\"\",'Scholars Nomination Form'!$C$14)","v":""},{"$f":"IF(ISBLANK('Scholars Nomination Form'!$F40),\"\",'Scholars Nomination Form'!$C$15)","v":""},{"$f":"IF(ISBLANK('Scholars Nomination Form'!$F40),\"\",'Scholars Nomination Form'!$C$16)","v":""},{"$f":"IF(ISBLANK('Scholars Nomination Form'!B40),\"\",'Scholars Nomination Form'!B40)","v":""},{"$f":"IF(ISBLANK('Scholars Nomination Form'!D40),\"\",'Scholars Nomination Form'!D40)","v":""},{"$f":"IF(ISBLANK('Scholars Nomination Form'!E40),\"\",'Scholars Nomination Form'!E40)","v":""},{"$f":"IF(ISBLANK('Scholars Nomination Form'!F40),\"\",'Scholars Nomination Form'!F40)","v":""},{"$f":"IF(ISBLANK('Scholars Nomination Form'!G40),\"\",'Scholars Nomination Form'!G40)","v":""},{"$f":"IF(ISBLANK('Scholars Nomination Form'!H40),\"\",'Scholars Nomination Form'!H40)","v":""},{"$f":"IF(ISBLANK('Scholars Nomination Form'!I40),\"\",'Scholars Nomination Form'!I40)","v":""},{"$f":"IF(ISBLANK('Scholars Nomination Form'!J40),\"\",'Scholars Nomination Form'!J40)","v":""},{"$f":"IF(ISBLANK('Scholars Nomination Form'!K40),\"\",'Scholars Nomination Form'!K40)","v":""},{"$f":"IF(ISBLANK('Scholars Nomination Form'!L40),\"\",'Scholars Nomination Form'!L40)","v":""},{"$f":"IF(ISBLANK('Scholars Nomination Form'!M40),\"\",'Scholars Nomination Form'!M40)","v":""},{"$f":"IF(ISBLANK('Scholars Nomination Form'!N40),\"\",'Scholars Nomination Form'!N40)","v":""},{"$f":"IF(ISBLANK('Scholars Nomination Form'!O40),\"\",'Scholars Nomination Form'!O40)","v":""},{"$f":"IF(ISBLANK('Scholars Nomination Form'!P40),\"\",'Scholars Nomination Form'!P40)","v":""},{"$f":"IF(ISBLANK('Scholars Nomination Form'!Q40),\"\",'Scholars Nomination Form'!Q40)","v":""},{"$f":"IF(ISBLANK('Scholars Nomination Form'!R40),\"\",'Scholars Nomination Form'!R40)","v":""},{"$f":"IF(ISBLANK('Scholars Nomination Form'!S40),\"\",'Scholars Nomination Form'!S40)","v":""},{"$f":"IF(ISBLANK('Scholars Nomination Form'!T40),\"\",'Scholars Nomination Form'!T40)","v":""},{"$f":"IF(ISBLANK('Scholars Nomination Form'!U40),\"\",'Scholars Nomination Form'!U40)","v":""},{"$f":"IF(ISBLANK('Scholars Nomination Form'!V40),\"\",'Scholars Nomination Form'!V40)","v":""},{"$f":"IF(ISBLANK('Scholars Nomination Form'!W40),\"\",'Scholars Nomination Form'!W40)","v":""},{"$f":"IF(ISBLANK('Scholars Nomination Form'!X40),\"\",'Scholars Nomination Form'!X40)","v":""},{"$f":"IF(ISBLANK('Scholars Nomination Form'!Y40),\"\",'Scholars Nomination Form'!Y40)","v":""},{"$f":"IF(ISBLANK('Scholars Nomination Form'!Z40),\"\",'Scholars Nomination Form'!Z40)","v":""},{"$f":"IF(ISBLANK('Scholars Nomination Form'!AA40),\"\",'Scholars Nomination Form'!AA40)","v":""}]
[{"$f":"IF(ISBLANK('Scholars Nomination Form'!$F41),\"\",'Scholars Nomination Form'!$C$11)","v":""},{"$f":"IF(ISBLANK('Scholars Nomination Form'!$F41),\"\",'Scholars Nomination Form'!$C$12)","v":""},{"$f":"IF(ISBLANK('Scholars Nomination Form'!$F41),\"\",'Scholars Nomination Form'!$C$13)","v":""},{"$f":"IF(ISBLANK('Scholars Nomination Form'!$F41),\"\",'Scholars Nomination Form'!$C$14)","v":""},{"$f":"IF(ISBLANK('Scholars Nomination Form'!$F41),\"\",'Scholars Nomination Form'!$C$15)","v":""},{"$f":"IF(ISBLANK('Scholars Nomination Form'!$F41),\"\",'Scholars Nomination Form'!$C$16)","v":""},{"$f":"IF(ISBLANK('Scholars Nomination Form'!B41),\"\",'Scholars Nomination Form'!B41)","v":""},{"$f":"IF(ISBLANK('Scholars Nomination Form'!D41),\"\",'Scholars Nomination Form'!D41)","v":""},{"$f":"IF(ISBLANK('Scholars Nomination Form'!E41),\"\",'Scholars Nomination Form'!E41)","v":""},{"$f":"IF(ISBLANK('Scholars Nomination Form'!F41),\"\",'Scholars Nomination Form'!F41)","v":""},{"$f":"IF(ISBLANK('Scholars Nomination Form'!G41),\"\",'Scholars Nomination Form'!G41)","v":""},{"$f":"IF(ISBLANK('Scholars Nomination Form'!H41),\"\",'Scholars Nomination Form'!H41)","v":""},{"$f":"IF(ISBLANK('Scholars Nomination Form'!I41),\"\",'Scholars Nomination Form'!I41)","v":""},{"$f":"IF(ISBLANK('Scholars Nomination Form'!J41),\"\",'Scholars Nomination Form'!J41)","v":""},{"$f":"IF(ISBLANK('Scholars Nomination Form'!K41),\"\",'Scholars Nomination Form'!K41)","v":""},{"$f":"IF(ISBLANK('Scholars Nomination Form'!L41),\"\",'Scholars Nomination Form'!L41)","v":""},{"$f":"IF(ISBLANK('Scholars Nomination Form'!M41),\"\",'Scholars Nomination Form'!M41)","v":""},{"$f":"IF(ISBLANK('Scholars Nomination Form'!N41),\"\",'Scholars Nomination Form'!N41)","v":""},{"$f":"IF(ISBLANK('Scholars Nomination Form'!O41),\"\",'Scholars Nomination Form'!O41)","v":""},{"$f":"IF(ISBLANK('Scholars Nomination Form'!P41),\"\",'Scholars Nomination Form'!P41)","v":""},{"$f":"IF(ISBLANK('Scholars Nomination Form'!Q41),\"\",'Scholars Nomination Form'!Q41)","v":""},{"$f":"IF(ISBLANK('Scholars Nomination Form'!R41),\"\",'Scholars Nomination Form'!R41)","v":""},{"$f":"IF(ISBLANK('Scholars Nomination Form'!S41),\"\",'Scholars Nomination Form'!S41)","v":""},{"$f":"IF(ISBLANK('Scholars Nomination Form'!T41),\"\",'Scholars Nomination Form'!T41)","v":""},{"$f":"IF(ISBLANK('Scholars Nomination Form'!U41),\"\",'Scholars Nomination Form'!U41)","v":""},{"$f":"IF(ISBLANK('Scholars Nomination Form'!V41),\"\",'Scholars Nomination Form'!V41)","v":""},{"$f":"IF(ISBLANK('Scholars Nomination Form'!W41),\"\",'Scholars Nomination Form'!W41)","v":""},{"$f":"IF(ISBLANK('Scholars Nomination Form'!X41),\"\",'Scholars Nomination Form'!X41)","v":""},{"$f":"IF(ISBLANK('Scholars Nomination Form'!Y41),\"\",'Scholars Nomination Form'!Y41)","v":""},{"$f":"IF(ISBLANK('Scholars Nomination Form'!Z41),\"\",'Scholars Nomination Form'!Z41)","v":""},{"$f":"IF(ISBLANK('Scholars Nomination Form'!AA41),\"\",'Scholars Nomination Form'!AA41)","v":""}]
[{"$f":"IF(ISBLANK('Scholars Nomination Form'!$F42),\"\",'Scholars Nomination Form'!$C$11)","v":""},{"$f":"IF(ISBLANK('Scholars Nomination Form'!$F42),\"\",'Scholars Nomination Form'!$C$12)","v":""},{"$f":"IF(ISBLANK('Scholars Nomination Form'!$F42),\"\",'Scholars Nomination Form'!$C$13)","v":""},{"$f":"IF(ISBLANK('Scholars Nomination Form'!$F42),\"\",'Scholars Nomination Form'!$C$14)","v":""},{"$f":"IF(ISBLANK('Scholars Nomination Form'!$F42),\"\",'Scholars Nomination Form'!$C$15)","v":""},{"$f":"IF(ISBLANK('Scholars Nomination Form'!$F42),\"\",'Scholars Nomination Form'!$C$16)","v":""},{"$f":"IF(ISBLANK('Scholars Nomination Form'!B42),\"\",'Scholars Nomination Form'!B42)","v":""},{"$f":"IF(ISBLANK('Scholars Nomination Form'!D42),\"\",'Scholars Nomination Form'!D42)","v":""},{"$f":"IF(ISBLANK('Scholars Nomination Form'!E42),\"\",'Scholars Nomination Form'!E42)","v":""},{"$f":"IF(ISBLANK('Scholars Nomination Form'!F42),\"\",'Scholars Nomination Form'!F42)","v":""},{"$f":"IF(ISBLANK('Scholars Nomination Form'!G42),\"\",'Scholars Nomination Form'!G42)","v":""},{"$f":"IF(ISBLANK('Scholars Nomination Form'!H42),\"\",'Scholars Nomination Form'!H42)","v":""},{"$f":"IF(ISBLANK('Scholars Nomination Form'!I42),\"\",'Scholars Nomination Form'!I42)","v":""},{"$f":"IF(ISBLANK('Scholars Nomination Form'!J42),\"\",'Scholars Nomination Form'!J42)","v":""},{"$f":"IF(ISBLANK('Scholars Nomination Form'!K42),\"\",'Scholars Nomination Form'!K42)","v":""},{"$f":"IF(ISBLANK('Scholars Nomination Form'!L42),\"\",'Scholars Nomination Form'!L42)","v":""},{"$f":"IF(ISBLANK('Scholars Nomination Form'!M42),\"\",'Scholars Nomination Form'!M42)","v":""},{"$f":"IF(ISBLANK('Scholars Nomination Form'!N42),\"\",'Scholars Nomination Form'!N42)","v":""},{"$f":"IF(ISBLANK('Scholars Nomination Form'!O42),\"\",'Scholars Nomination Form'!O42)","v":""},{"$f":"IF(ISBLANK('Scholars Nomination Form'!P42),\"\",'Scholars Nomination Form'!P42)","v":""},{"$f":"IF(ISBLANK('Scholars Nomination Form'!Q42),\"\",'Scholars Nomination Form'!Q42)","v":""},{"$f":"IF(ISBLANK('Scholars Nomination Form'!R42),\"\",'Scholars Nomination Form'!R42)","v":""},{"$f":"IF(ISBLANK('Scholars Nomination Form'!S42),\"\",'Scholars Nomination Form'!S42)","v":""},{"$f":"IF(ISBLANK('Scholars Nomination Form'!T42),\"\",'Scholars Nomination Form'!T42)","v":""},{"$f":"IF(ISBLANK('Scholars Nomination Form'!U42),\"\",'Scholars Nomination Form'!U42)","v":""},{"$f":"IF(ISBLANK('Scholars Nomination Form'!V42),\"\",'Scholars Nomination Form'!V42)","v":""},{"$f":"IF(ISBLANK('Scholars Nomination Form'!W42),\"\",'Scholars Nomination Form'!W42)","v":""},{"$f":"IF(ISBLANK('Scholars Nomination Form'!X42),\"\",'Scholars Nomination Form'!X42)","v":""},{"$f":"IF(ISBLANK('Scholars Nomination Form'!Y42),\"\",'Scholars Nomination Form'!Y42)","v":""},{"$f":"IF(ISBLANK('Scholars Nomination Form'!Z42),\"\",'Scholars Nomination Form'!Z42)","v":""},{"$f":"IF(ISBLANK('Scholars Nomination Form'!AA42),\"\",'Scholars Nomination Form'!AA42)","v":""}]
[{"$f":"IF(ISBLANK('Scholars Nomination Form'!$F43),\"\",'Scholars Nomination Form'!$C$11)","v":""},{"$f":"IF(ISBLANK('Scholars Nomination Form'!$F43),\"\",'Scholars Nomination Form'!$C$12)","v":""},{"$f":"IF(ISBLANK('Scholars Nomination Form'!$F43),\"\",'Scholars Nomination Form'!$C$13)","v":""},{"$f":"IF(ISBLANK('Scholars Nomination Form'!$F43),\"\",'Scholars Nomination Form'!$C$14)","v":""},{"$f":"IF(ISBLANK('Scholars Nomination Form'!$F43),\"\",'Scholars Nomination Form'!$C$15)","v":""},{"$f":"IF(ISBLANK('Scholars Nomination Form'!$F43),\"\",'Scholars Nomination Form'!$C$16)","v":""},{"$f":"IF(ISBLANK('Scholars Nomination Form'!B43),\"\",'Scholars Nomination Form'!B43)","v":""},{"$f":"IF(ISBLANK('Scholars Nomination Form'!D43),\"\",'Scholars Nomination Form'!D43)","v":""},{"$f":"IF(ISBLANK('Scholars Nomination Form'!E43),\"\",'Scholars Nomination Form'!E43)","v":""},{"$f":"IF(ISBLANK('Scholars Nomination Form'!F43),\"\",'Scholars Nomination Form'!F43)","v":""},{"$f":"IF(ISBLANK('Scholars Nomination Form'!G43),\"\",'Scholars Nomination Form'!G43)","v":""},{"$f":"IF(ISBLANK('Scholars Nomination Form'!H43),\"\",'Scholars Nomination Form'!H43)","v":""},{"$f":"IF(ISBLANK('Scholars Nomination Form'!I43),\"\",'Scholars Nomination Form'!I43)","v":""},{"$f":"IF(ISBLANK('Scholars Nomination Form'!J43),\"\",'Scholars Nomination Form'!J43)","v":""},{"$f":"IF(ISBLANK('Scholars Nomination Form'!K43),\"\",'Scholars Nomination Form'!K43)","v":""},{"$f":"IF(ISBLANK('Scholars Nomination Form'!L43),\"\",'Scholars Nomination Form'!L43)","v":""},{"$f":"IF(ISBLANK('Scholars Nomination Form'!M43),\"\",'Scholars Nomination Form'!M43)","v":""},{"$f":"IF(ISBLANK('Scholars Nomination Form'!N43),\"\",'Scholars Nomination Form'!N43)","v":""},{"$f":"IF(ISBLANK('Scholars Nomination Form'!O43),\"\",'Scholars Nomination Form'!O43)","v":""},{"$f":"IF(ISBLANK('Scholars Nomination Form'!P43),\"\",'Scholars Nomination Form'!P43)","v":""},{"$f":"IF(ISBLANK('Scholars Nomination Form'!Q43),\"\",'Scholars Nomination Form'!Q43)","v":""},{"$f":"IF(ISBLANK('Scholars Nomination Form'!R43),\"\",'Scholars Nomination Form'!R43)","v":""},{"$f":"IF(ISBLANK('Scholars Nomination Form'!S43),\"\",'Scholars Nomination Form'!S43)","v":""},{"$f":"IF(ISBLANK('Scholars Nomination Form'!T43),\"\",'Scholars Nomination Form'!T43)","v":""},{"$f":"IF(ISBLANK('Scholars Nomination Form'!U43),\"\",'Scholars Nomination Form'!U43)","v":""},{"$f":"IF(ISBLANK('Scholars Nomination Form'!V43),\"\",'Scholars Nomination Form'!V43)","v":""},{"$f":"IF(ISBLANK('Scholars Nomination Form'!W43),\"\",'Scholars Nomination Form'!W43)","v":""},{"$f":"IF(ISBLANK('Scholars Nomination Form'!X43),\"\",'Scholars Nomination Form'!X43)","v":""},{"$f":"IF(ISBLANK('Scholars Nomination Form'!Y43),\"\",'Scholars Nomination Form'!Y43)","v":""},{"$f":"IF(ISBLANK('Scholars Nomination Form'!Z43),\"\",'Scholars Nomination Form'!Z43)","v":""},{"$f":"IF(ISBLANK('Scholars Nomination Form'!AA43),\"\",'Scholars Nomination Form'!AA43)","v":""}]
[{"$f":"IF(ISBLANK('Scholars Nomination Form'!$F44),\"\",'Scholars Nomination Form'!$C$11)","v":""},{"$f":"IF(ISBLANK('Scholars Nomination Form'!$F44),\"\",'Scholars Nomination Form'!$C$12)","v":""},{"$f":"IF(ISBLANK('Scholars Nomination Form'!$F44),\"\",'Scholars Nomination Form'!$C$13)","v":""},{"$f":"IF(ISBLANK('Scholars Nomination Form'!$F44),\"\",'Scholars Nomination Form'!$C$14)","v":""},{"$f":"IF(ISBLANK('Scholars Nomination Form'!$F44),\"\",'Scholars Nomination Form'!$C$15)","v":""},{"$f":"IF(ISBLANK('Scholars Nomination Form'!$F44),\"\",'Scholars Nomination Form'!$C$16)","v":""},{"$f":"IF(ISBLANK('Scholars Nomination Form'!B44),\"\",'Scholars Nomination Form'!B44)","v":""},{"$f":"IF(ISBLANK('Scholars Nomination Form'!D44),\"\",'Scholars Nomination Form'!D44)","v":""},{"$f":"IF(ISBLANK('Scholars Nomination Form'!E44),\"\",'Scholars Nomination Form'!E44)","v":""},{"$f":"IF(ISBLANK('Scholars Nomination Form'!F44),\"\",'Scholars Nomination Form'!F44)","v":""},{"$f":"IF(ISBLANK('Scholars Nomination Form'!G44),\"\",'Scholars Nomination Form'!G44)","v":""},{"$f":"IF(ISBLANK('Scholars Nomination Form'!H44),\"\",'Scholars Nomination Form'!H44)","v":""},{"$f":"IF(ISBLANK('Scholars Nomination Form'!I44),\"\",'Scholars Nomination Form'!I44)","v":""},{"$f":"IF(ISBLANK('Scholars Nomination Form'!J44),\"\",'Scholars Nomination Form'!J44)","v":""},{"$f":"IF(ISBLANK('Scholars Nomination Form'!K44),\"\",'Scholars Nomination Form'!K44)","v":""},{"$f":"IF(ISBLANK('Scholars Nomination Form'!L44),\"\",'Scholars Nomination Form'!L44)","v":""},{"$f":"IF(ISBLANK('Scholars Nomination Form'!M44),\"\",'Scholars Nomination Form'!M44)","v":""},{"$f":"IF(ISBLANK('Scholars Nomination Form'!N44),\"\",'Scholars Nomination Form'!N44)","v":""},{"$f":"IF(ISBLANK('Scholars Nomination Form'!O44),\"\",'Scholars Nomination Form'!O44)","v":""},{"$f":"IF(ISBLANK('Scholars Nomination Form'!P44),\"\",'Scholars Nomination Form'!P44)","v":""},{"$f":"IF(ISBLANK('Scholars Nomination Form'!Q44),\"\",'Scholars Nomination Form'!Q44)","v":""},{"$f":"IF(ISBLANK('Scholars Nomination Form'!R44),\"\",'Scholars Nomination Form'!R44)","v":""},{"$f":"IF(ISBLANK('Scholars Nomination Form'!S44),\"\",'Scholars Nomination Form'!S44)","v":""},{"$f":"IF(ISBLANK('Scholars Nomination Form'!T44),\"\",'Scholars Nomination Form'!T44)","v":""},{"$f":"IF(ISBLANK('Scholars Nomination Form'!U44),\"\",'Scholars Nomination Form'!U44)","v":""},{"$f":"IF(ISBLANK('Scholars Nomination Form'!V44),\"\",'Scholars Nomination Form'!V44)","v":""},{"$f":"IF(ISBLANK('Scholars Nomination Form'!W44),\"\",'Scholars Nomination Form'!W44)","v":""},{"$f":"IF(ISBLANK('Scholars Nomination Form'!X44),\"\",'Scholars Nomination Form'!X44)","v":""},{"$f":"IF(ISBLANK('Scholars Nomination Form'!Y44),\"\",'Scholars Nomination Form'!Y44)","v":""},{"$f":"IF(ISBLANK('Scholars Nomination Form'!Z44),\"\",'Scholars Nomination Form'!Z44)","v":""},{"$f":"IF(ISBLANK('Scholars Nomination Form'!AA44),\"\",'Scholars Nomination Form'!AA44)","v":""}]
[{"$f":"IF(ISBLANK('Scholars Nomination Form'!$F45),\"\",'Scholars Nomination Form'!$C$11)","v":""},{"$f":"IF(ISBLANK('Scholars Nomination Form'!$F45),\"\",'Scholars Nomination Form'!$C$12)","v":""},{"$f":"IF(ISBLANK('Scholars Nomination Form'!$F45),\"\",'Scholars Nomination Form'!$C$13)","v":""},{"$f":"IF(ISBLANK('Scholars Nomination Form'!$F45),\"\",'Scholars Nomination Form'!$C$14)","v":""},{"$f":"IF(ISBLANK('Scholars Nomination Form'!$F45),\"\",'Scholars Nomination Form'!$C$15)","v":""},{"$f":"IF(ISBLANK('Scholars Nomination Form'!$F45),\"\",'Scholars Nomination Form'!$C$16)","v":""},{"$f":"IF(ISBLANK('Scholars Nomination Form'!B45),\"\",'Scholars Nomination Form'!B45)","v":""},{"$f":"IF(ISBLANK('Scholars Nomination Form'!D45),\"\",'Scholars Nomination Form'!D45)","v":""},{"$f":"IF(ISBLANK('Scholars Nomination Form'!E45),\"\",'Scholars Nomination Form'!E45)","v":""},{"$f":"IF(ISBLANK('Scholars Nomination Form'!F45),\"\",'Scholars Nomination Form'!F45)","v":""},{"$f":"IF(ISBLANK('Scholars Nomination Form'!G45),\"\",'Scholars Nomination Form'!G45)","v":""},{"$f":"IF(ISBLANK('Scholars Nomination Form'!H45),\"\",'Scholars Nomination Form'!H45)","v":""},{"$f":"IF(ISBLANK('Scholars Nomination Form'!I45),\"\",'Scholars Nomination Form'!I45)","v":""},{"$f":"IF(ISBLANK('Scholars Nomination Form'!J45),\"\",'Scholars Nomination Form'!J45)","v":""},{"$f":"IF(ISBLANK('Scholars Nomination Form'!K45),\"\",'Scholars Nomination Form'!K45)","v":""},{"$f":"IF(ISBLANK('Scholars Nomination Form'!L45),\"\",'Scholars Nomination Form'!L45)","v":""},{"$f":"IF(ISBLANK('Scholars Nomination Form'!M45),\"\",'Scholars Nomination Form'!M45)","v":""},{"$f":"IF(ISBLANK('Scholars Nomination Form'!N45),\"\",'Scholars Nomination Form'!N45)","v":""},{"$f":"IF(ISBLANK('Scholars Nomination Form'!O45),\"\",'Scholars Nomination Form'!O45)","v":""},{"$f":"IF(ISBLANK('Scholars Nomination Form'!P45),\"\",'Scholars Nomination Form'!P45)","v":""},{"$f":"IF(ISBLANK('Scholars Nomination Form'!Q45),\"\",'Scholars Nomination Form'!Q45)","v":""},{"$f":"IF(ISBLANK('Scholars Nomination Form'!R45),\"\",'Scholars Nomination Form'!R45)","v":""},{"$f":"IF(ISBLANK('Scholars Nomination Form'!S45),\"\",'Scholars Nomination Form'!S45)","v":""},{"$f":"IF(ISBLANK('Scholars Nomination Form'!T45),\"\",'Scholars Nomination Form'!T45)","v":""},{"$f":"IF(ISBLANK('Scholars Nomination Form'!U45),\"\",'Scholars Nomination Form'!U45)","v":""},{"$f":"IF(ISBLANK('Scholars Nomination Form'!V45),\"\",'Scholars Nomination Form'!V45)","v":""},{"$f":"IF(ISBLANK('Scholars Nomination Form'!W45),\"\",'Scholars Nomination Form'!W45)","v":""},{"$f":"IF(ISBLANK('Scholars Nomination Form'!X45),\"\",'Scholars Nomination Form'!X45)","v":""},{"$f":"IF(ISBLANK('Scholars Nomination Form'!Y45),\"\",'Scholars Nomination Form'!Y45)","v":""},{"$f":"IF(ISBLANK('Scholars Nomination Form'!Z45),\"\",'Scholars Nomination Form'!Z45)","v":""},{"$f":"IF(ISBLANK('Scholars Nomination Form'!AA45),\"\",'Scholars Nomination Form'!AA45)","v":""}]
[{"$f":"IF(ISBLANK('Scholars Nomination Form'!$F46),\"\",'Scholars Nomination Form'!$C$11)","v":""},{"$f":"IF(ISBLANK('Scholars Nomination Form'!$F46),\"\",'Scholars Nomination Form'!$C$12)","v":""},{"$f":"IF(ISBLANK('Scholars Nomination Form'!$F46),\"\",'Scholars Nomination Form'!$C$13)","v":""},{"$f":"IF(ISBLANK('Scholars Nomination Form'!$F46),\"\",'Scholars Nomination Form'!$C$14)","v":""},{"$f":"IF(ISBLANK('Scholars Nomination Form'!$F46),\"\",'Scholars Nomination Form'!$C$15)","v":""},{"$f":"IF(ISBLANK('Scholars Nomination Form'!$F46),\"\",'Scholars Nomination Form'!$C$16)","v":""},{"$f":"IF(ISBLANK('Scholars Nomination Form'!B46),\"\",'Scholars Nomination Form'!B46)","v":""},{"$f":"IF(ISBLANK('Scholars Nomination Form'!D46),\"\",'Scholars Nomination Form'!D46)","v":""},{"$f":"IF(ISBLANK('Scholars Nomination Form'!E46),\"\",'Scholars Nomination Form'!E46)","v":""},{"$f":"IF(ISBLANK('Scholars Nomination Form'!F46),\"\",'Scholars Nomination Form'!F46)","v":""},{"$f":"IF(ISBLANK('Scholars Nomination Form'!G46),\"\",'Scholars Nomination Form'!G46)","v":""},{"$f":"IF(ISBLANK('Scholars Nomination Form'!H46),\"\",'Scholars Nomination Form'!H46)","v":""},{"$f":"IF(ISBLANK('Scholars Nomination Form'!I46),\"\",'Scholars Nomination Form'!I46)","v":""},{"$f":"IF(ISBLANK('Scholars Nomination Form'!J46),\"\",'Scholars Nomination Form'!J46)","v":""},{"$f":"IF(ISBLANK('Scholars Nomination Form'!K46),\"\",'Scholars Nomination Form'!K46)","v":""},{"$f":"IF(ISBLANK('Scholars Nomination Form'!L46),\"\",'Scholars Nomination Form'!L46)","v":""},{"$f":"IF(ISBLANK('Scholars Nomination Form'!M46),\"\",'Scholars Nomination Form'!M46)","v":""},{"$f":"IF(ISBLANK('Scholars Nomination Form'!N46),\"\",'Scholars Nomination Form'!N46)","v":""},{"$f":"IF(ISBLANK('Scholars Nomination Form'!O46),\"\",'Scholars Nomination Form'!O46)","v":""},{"$f":"IF(ISBLANK('Scholars Nomination Form'!P46),\"\",'Scholars Nomination Form'!P46)","v":""},{"$f":"IF(ISBLANK('Scholars Nomination Form'!Q46),\"\",'Scholars Nomination Form'!Q46)","v":""},{"$f":"IF(ISBLANK('Scholars Nomination Form'!R46),\"\",'Scholars Nomination Form'!R46)","v":""},{"$f":"IF(ISBLANK('Scholars Nomination Form'!S46),\"\",'Scholars Nomination Form'!S46)","v":""},{"$f":"IF(ISBLANK('Scholars Nomination Form'!T46),\"\",'Scholars Nomination Form'!T46)","v":""},{"$f":"IF(ISBLANK('Scholars Nomination Form'!U46),\"\",'Scholars Nomination Form'!U46)","v":""},{"$f":"IF(ISBLANK('Scholars Nomination Form'!V46),\"\",'Scholars Nomination Form'!V46)","v":""},{"$f":"IF(ISBLANK('Scholars Nomination Form'!W46),\"\",'Scholars Nomination Form'!W46)","v":""},{"$f":"IF(ISBLANK('Scholars Nomination Form'!X46),\"\",'Scholars Nomination Form'!X46)","v":""},{"$f":"IF(ISBLANK('Scholars Nomination Form'!Y46),\"\",'Scholars Nomination Form'!Y46)","v":""},{"$f":"IF(ISBLANK('Scholars Nomination Form'!Z46),\"\",'Scholars Nomination Form'!Z46)","v":""},{"$f":"IF(ISBLANK('Scholars Nomination Form'!AA46),\"\",'Scholars Nomination Form'!AA46)","v":""}]
[{"$f":"IF(ISBLANK('Scholars Nomination Form'!$F47),\"\",'Scholars Nomination Form'!$C$11)","v":""},{"$f":"IF(ISBLANK('Scholars Nomination Form'!$F47),\"\",'Scholars Nomination Form'!$C$12)","v":""},{"$f":"IF(ISBLANK('Scholars Nomination Form'!$F47),\"\",'Scholars Nomination Form'!$C$13)","v":""},{"$f":"IF(ISBLANK('Scholars Nomination Form'!$F47),\"\",'Scholars Nomination Form'!$C$14)","v":""},{"$f":"IF(ISBLANK('Scholars Nomination Form'!$F47),\"\",'Scholars Nomination Form'!$C$15)","v":""},{"$f":"IF(ISBLANK('Scholars Nomination Form'!$F47),\"\",'Scholars Nomination Form'!$C$16)","v":""},{"$f":"IF(ISBLANK('Scholars Nomination Form'!B47),\"\",'Scholars Nomination Form'!B47)","v":""},{"$f":"IF(ISBLANK('Scholars Nomination Form'!D47),\"\",'Scholars Nomination Form'!D47)","v":""},{"$f":"IF(ISBLANK('Scholars Nomination Form'!E47),\"\",'Scholars Nomination Form'!E47)","v":""},{"$f":"IF(ISBLANK('Scholars Nomination Form'!F47),\"\",'Scholars Nomination Form'!F47)","v":""},{"$f":"IF(ISBLANK('Scholars Nomination Form'!G47),\"\",'Scholars Nomination Form'!G47)","v":""},{"$f":"IF(ISBLANK('Scholars Nomination Form'!H47),\"\",'Scholars Nomination Form'!H47)","v":""},{"$f":"IF(ISBLANK('Scholars Nomination Form'!I47),\"\",'Scholars Nomination Form'!I47)","v":""},{"$f":"IF(ISBLANK('Scholars Nomination Form'!J47),\"\",'Scholars Nomination Form'!J47)","v":""},{"$f":"IF(ISBLANK('Scholars Nomination Form'!K47),\"\",'Scholars Nomination Form'!K47)","v":""},{"$f":"IF(ISBLANK('Scholars Nomination Form'!L47),\"\",'Scholars Nomination Form'!L47)","v":""},{"$f":"IF(ISBLANK('Scholars Nomination Form'!M47),\"\",'Scholars Nomination Form'!M47)","v":""},{"$f":"IF(ISBLANK('Scholars Nomination Form'!N47),\"\",'Scholars Nomination Form'!N47)","v":""},{"$f":"IF(ISBLANK('Scholars Nomination Form'!O47),\"\",'Scholars Nomination Form'!O47)","v":""},{"$f":"IF(ISBLANK('Scholars Nomination Form'!P47),\"\",'Scholars Nomination Form'!P47)","v":""},{"$f":"IF(ISBLANK('Scholars Nomination Form'!Q47),\"\",'Scholars Nomination Form'!Q47)","v":""},{"$f":"IF(ISBLANK('Scholars Nomination Form'!R47),\"\",'Scholars Nomination Form'!R47)","v":""},{"$f":"IF(ISBLANK('Scholars Nomination Form'!S47),\"\",'Scholars Nomination Form'!S47)","v":""},{"$f":"IF(ISBLANK('Scholars Nomination Form'!T47),\"\",'Scholars Nomination Form'!T47)","v":""},{"$f":"IF(ISBLANK('Scholars Nomination Form'!U47),\"\",'Scholars Nomination Form'!U47)","v":""},{"$f":"IF(ISBLANK('Scholars Nomination Form'!V47),\"\",'Scholars Nomination Form'!V47)","v":""},{"$f":"IF(ISBLANK('Scholars Nomination Form'!W47),\"\",'Scholars Nomination Form'!W47)","v":""},{"$f":"IF(ISBLANK('Scholars Nomination Form'!X47),\"\",'Scholars Nomination Form'!X47)","v":""},{"$f":"IF(ISBLANK('Scholars Nomination Form'!Y47),\"\",'Scholars Nomination Form'!Y47)","v":""},{"$f":"IF(ISBLANK('Scholars Nomination Form'!Z47),\"\",'Scholars Nomination Form'!Z47)","v":""},{"$f":"IF(ISBLANK('Scholars Nomination Form'!AA47),\"\",'Scholars Nomination Form'!AA47)","v":""}]
[{"$f":"IF(ISBLANK('Scholars Nomination Form'!$F48),\"\",'Scholars Nomination Form'!$C$11)","v":""},{"$f":"IF(ISBLANK('Scholars Nomination Form'!$F48),\"\",'Scholars Nomination Form'!$C$12)","v":""},{"$f":"IF(ISBLANK('Scholars Nomination Form'!$F48),\"\",'Scholars Nomination Form'!$C$13)","v":""},{"$f":"IF(ISBLANK('Scholars Nomination Form'!$F48),\"\",'Scholars Nomination Form'!$C$14)","v":""},{"$f":"IF(ISBLANK('Scholars Nomination Form'!$F48),\"\",'Scholars Nomination Form'!$C$15)","v":""},{"$f":"IF(ISBLANK('Scholars Nomination Form'!$F48),\"\",'Scholars Nomination Form'!$C$16)","v":""},{"$f":"IF(ISBLANK('Scholars Nomination Form'!B48),\"\",'Scholars Nomination Form'!B48)","v":""},{"$f":"IF(ISBLANK('Scholars Nomination Form'!D48),\"\",'Scholars Nomination Form'!D48)","v":""},{"$f":"IF(ISBLANK('Scholars Nomination Form'!E48),\"\",'Scholars Nomination Form'!E48)","v":""},{"$f":"IF(ISBLANK('Scholars Nomination Form'!F48),\"\",'Scholars Nomination Form'!F48)","v":""},{"$f":"IF(ISBLANK('Scholars Nomination Form'!G48),\"\",'Scholars Nomination Form'!G48)","v":""},{"$f":"IF(ISBLANK('Scholars Nomination Form'!H48),\"\",'Scholars Nomination Form'!H48)","v":""},{"$f":"IF(ISBLANK('Scholars Nomination Form'!I48),\"\",'Scholars Nomination Form'!I48)","v":""},{"$f":"IF(ISBLANK('Scholars Nomination Form'!J48),\"\",'Scholars Nomination Form'!J48)","v":""},{"$f":"IF(ISBLANK('Scholars Nomination Form'!K48),\"\",'Scholars Nomination Form'!K48)","v":""},{"$f":"IF(ISBLANK('Scholars Nomination Form'!L48),\"\",'Scholars Nomination Form'!L48)","v":""},{"$f":"IF(ISBLANK('Scholars Nomination Form'!M48),\"\",'Scholars Nomination Form'!M48)","v":""},{"$f":"IF(ISBLANK('Scholars Nomination Form'!N48),\"\",'Scholars Nomination Form'!N48)","v":""},{"$f":"IF(ISBLANK('Scholars Nomination Form'!O48),\"\",'Scholars Nomination Form'!O48)","v":""},{"$f":"IF(ISBLANK('Scholars Nomination Form'!P48),\"\",'Scholars Nomination Form'!P48)","v":""},{"$f":"IF(ISBLANK('Scholars Nomination Form'!Q48),\"\",'Scholars Nomination Form'!Q48)","v":""},{"$f":"IF(ISBLANK('Scholars Nomination Form'!R48),\"\",'Scholars Nomination Form'!R48)","v":""},{"$f":"IF(ISBLANK('Scholars Nomination Form'!S48),\"\",'Scholars Nomination Form'!S48)","v":""},{"$f":"IF(ISBLANK('Scholars Nomination Form'!T48),\"\",'Scholars Nomination Form'!T48)","v":""},{"$f":"IF(ISBLANK('Scholars Nomination Form'!U48),\"\",'Scholars Nomination Form'!U48)","v":""},{"$f":"IF(ISBLANK('Scholars Nomination Form'!V48),\"\",'Scholars Nomination Form'!V48)","v":""},{"$f":"IF(ISBLANK('Scholars Nomination Form'!W48),\"\",'Scholars Nomination Form'!W48)","v":""},{"$f":"IF(ISBLANK('Scholars Nomination Form'!X48),\"\",'Scholars Nomination Form'!X48)","v":""},{"$f":"IF(ISBLANK('Scholars Nomination Form'!Y48),\"\",'Scholars Nomination Form'!Y48)","v":""},{"$f":"IF(ISBLANK('Scholars Nomination Form'!Z48),\"\",'Scholars Nomination Form'!Z48)","v":""},{"$f":"IF(ISBLANK('Scholars Nomination Form'!AA48),\"\",'Scholars Nomination Form'!AA48)","v":""}]
[{"$f":"IF(ISBLANK('Scholars Nomination Form'!$F49),\"\",'Scholars Nomination Form'!$C$11)","v":""},{"$f":"IF(ISBLANK('Scholars Nomination Form'!$F49),\"\",'Scholars Nomination Form'!$C$12)","v":""},{"$f":"IF(ISBLANK('Scholars Nomination Form'!$F49),\"\",'Scholars Nomination Form'!$C$13)","v":""},{"$f":"IF(ISBLANK('Scholars Nomination Form'!$F49),\"\",'Scholars Nomination Form'!$C$14)","v":""},{"$f":"IF(ISBLANK('Scholars Nomination Form'!$F49),\"\",'Scholars Nomination Form'!$C$15)","v":""},{"$f":"IF(ISBLANK('Scholars Nomination Form'!$F49),\"\",'Scholars Nomination Form'!$C$16)","v":""},{"$f":"IF(ISBLANK('Scholars Nomination Form'!B49),\"\",'Scholars Nomination Form'!B49)","v":""},{"$f":"IF(ISBLANK('Scholars Nomination Form'!D49),\"\",'Scholars Nomination Form'!D49)","v":""},{"$f":"IF(ISBLANK('Scholars Nomination Form'!E49),\"\",'Scholars Nomination Form'!E49)","v":""},{"$f":"IF(ISBLANK('Scholars Nomination Form'!F49),\"\",'Scholars Nomination Form'!F49)","v":""},{"$f":"IF(ISBLANK('Scholars Nomination Form'!G49),\"\",'Scholars Nomination Form'!G49)","v":""},{"$f":"IF(ISBLANK('Scholars Nomination Form'!H49),\"\",'Scholars Nomination Form'!H49)","v":""},{"$f":"IF(ISBLANK('Scholars Nomination Form'!I49),\"\",'Scholars Nomination Form'!I49)","v":""},{"$f":"IF(ISBLANK('Scholars Nomination Form'!J49),\"\",'Scholars Nomination Form'!J49)","v":""},{"$f":"IF(ISBLANK('Scholars Nomination Form'!K49),\"\",'Scholars Nomination Form'!K49)","v":""},{"$f":"IF(ISBLANK('Scholars Nomination Form'!L49),\"\",'Scholars Nomination Form'!L49)","v":""},{"$f":"IF(ISBLANK('Scholars Nomination Form'!M49),\"\",'Scholars Nomination Form'!M49)","v":""},{"$f":"IF(ISBLANK('Scholars Nomination Form'!N49),\"\",'Scholars Nomination Form'!N49)","v":""},{"$f":"IF(ISBLANK('Scholars Nomination Form'!O49),\"\",'Scholars Nomination Form'!O49)","v":""},{"$f":"IF(ISBLANK('Scholars Nomination Form'!P49),\"\",'Scholars Nomination Form'!P49)","v":""},{"$f":"IF(ISBLANK('Scholars Nomination Form'!Q49),\"\",'Scholars Nomination Form'!Q49)","v":""},{"$f":"IF(ISBLANK('Scholars Nomination Form'!R49),\"\",'Scholars Nomination Form'!R49)","v":""},{"$f":"IF(ISBLANK('Scholars Nomination Form'!S49),\"\",'Scholars Nomination Form'!S49)","v":""},{"$f":"IF(ISBLANK('Scholars Nomination Form'!T49),\"\",'Scholars Nomination Form'!T49)","v":""},{"$f":"IF(ISBLANK('Scholars Nomination Form'!U49),\"\",'Scholars Nomination Form'!U49)","v":""},{"$f":"IF(ISBLANK('Scholars Nomination Form'!V49),\"\",'Scholars Nomination Form'!V49)","v":""},{"$f":"IF(ISBLANK('Scholars Nomination Form'!W49),\"\",'Scholars Nomination Form'!W49)","v":""},{"$f":"IF(ISBLANK('Scholars Nomination Form'!X49),\"\",'Scholars Nomination Form'!X49)","v":""},{"$f":"IF(ISBLANK('Scholars Nomination Form'!Y49),\"\",'Scholars Nomination Form'!Y49)","v":""},{"$f":"IF(ISBLANK('Scholars Nomination Form'!Z49),\"\",'Scholars Nomination Form'!Z49)","v":""},{"$f":"IF(ISBLANK('Scholars Nomination Form'!AA49),\"\",'Scholars Nomination Form'!AA49)","v":""}]
[{"$f":"IF(ISBLANK('Scholars Nomination Form'!$F50),\"\",'Scholars Nomination Form'!$C$11)","v":""},{"$f":"IF(ISBLANK('Scholars Nomination Form'!$F50),\"\",'Scholars Nomination Form'!$C$12)","v":""},{"$f":"IF(ISBLANK('Scholars Nomination Form'!$F50),\"\",'Scholars Nomination Form'!$C$13)","v":""},{"$f":"IF(ISBLANK('Scholars Nomination Form'!$F50),\"\",'Scholars Nomination Form'!$C$14)","v":""},{"$f":"IF(ISBLANK('Scholars Nomination Form'!$F50),\"\",'Scholars Nomination Form'!$C$15)","v":""},{"$f":"IF(ISBLANK('Scholars Nomination Form'!$F50),\"\",'Scholars Nomination Form'!$C$16)","v":""},{"$f":"IF(ISBLANK('Scholars Nomination Form'!B50),\"\",'Scholars Nomination Form'!B50)","v":""},{"$f":"IF(ISBLANK('Scholars Nomination Form'!D50),\"\",'Scholars Nomination Form'!D50)","v":""},{"$f":"IF(ISBLANK('Scholars Nomination Form'!E50),\"\",'Scholars Nomination Form'!E50)","v":""},{"$f":"IF(ISBLANK('Scholars Nomination Form'!F50),\"\",'Scholars Nomination Form'!F50)","v":""},{"$f":"IF(ISBLANK('Scholars Nomination Form'!G50),\"\",'Scholars Nomination Form'!G50)","v":""},{"$f":"IF(ISBLANK('Scholars Nomination Form'!H50),\"\",'Scholars Nomination Form'!H50)","v":""},{"$f":"IF(ISBLANK('Scholars Nomination Form'!I50),\"\",'Scholars Nomination Form'!I50)","v":""},{"$f":"IF(ISBLANK('Scholars Nomination Form'!J50),\"\",'Scholars Nomination Form'!J50)","v":""},{"$f":"IF(ISBLANK('Scholars Nomination Form'!K50),\"\",'Scholars Nomination Form'!K50)","v":""},{"$f":"IF(ISBLANK('Scholars Nomination Form'!L50),\"\",'Scholars Nomination Form'!L50)","v":""},{"$f":"IF(ISBLANK('Scholars Nomination Form'!M50),\"\",'Scholars Nomination Form'!M50)","v":""},{"$f":"IF(ISBLANK('Scholars Nomination Form'!N50),\"\",'Scholars Nomination Form'!N50)","v":""},{"$f":"IF(ISBLANK('Scholars Nomination Form'!O50),\"\",'Scholars Nomination Form'!O50)","v":""},{"$f":"IF(ISBLANK('Scholars Nomination Form'!P50),\"\",'Scholars Nomination Form'!P50)","v":""},{"$f":"IF(ISBLANK('Scholars Nomination Form'!Q50),\"\",'Scholars Nomination Form'!Q50)","v":""},{"$f":"IF(ISBLANK('Scholars Nomination Form'!R50),\"\",'Scholars Nomination Form'!R50)","v":""},{"$f":"IF(ISBLANK('Scholars Nomination Form'!S50),\"\",'Scholars Nomination Form'!S50)","v":""},{"$f":"IF(ISBLANK('Scholars Nomination Form'!T50),\"\",'Scholars Nomination Form'!T50)","v":""},{"$f":"IF(ISBLANK('Scholars Nomination Form'!U50),\"\",'Scholars Nomination Form'!U50)","v":""},{"$f":"IF(ISBLANK('Scholars Nomination Form'!V50),\"\",'Scholars Nomination Form'!V50)","v":""},{"$f":"IF(ISBLANK('Scholars Nomination Form'!W50),\"\",'Scholars Nomination Form'!W50)","v":""},{"$f":"IF(ISBLANK('Scholars Nomination Form'!X50),\"\",'Scholars Nomination Form'!X50)","v":""},{"$f":"IF(ISBLANK('Scholars Nomination Form'!Y50),\"\",'Scholars Nomination Form'!Y50)","v":""},{"$f":"IF(ISBLANK('Scholars Nomination Form'!Z50),\"\",'Scholars Nomination Form'!Z50)","v":""},{"$f":"IF(ISBLANK('Scholars Nomination Form'!AA50),\"\",'Scholars Nomination Form'!AA50)","v":""}]
[{"$f":"IF(ISBLANK('Scholars Nomination Form'!$F51),\"\",'Scholars Nomination Form'!$C$11)","v":""},{"$f":"IF(ISBLANK('Scholars Nomination Form'!$F51),\"\",'Scholars Nomination Form'!$C$12)","v":""},{"$f":"IF(ISBLANK('Scholars Nomination Form'!$F51),\"\",'Scholars Nomination Form'!$C$13)","v":""},{"$f":"IF(ISBLANK('Scholars Nomination Form'!$F51),\"\",'Scholars Nomination Form'!$C$14)","v":""},{"$f":"IF(ISBLANK('Scholars Nomination Form'!$F51),\"\",'Scholars Nomination Form'!$C$15)","v":""},{"$f":"IF(ISBLANK('Scholars Nomination Form'!$F51),\"\",'Scholars Nomination Form'!$C$16)","v":""},{"$f":"IF(ISBLANK('Scholars Nomination Form'!B51),\"\",'Scholars Nomination Form'!B51)","v":""},{"$f":"IF(ISBLANK('Scholars Nomination Form'!D51),\"\",'Scholars Nomination Form'!D51)","v":""},{"$f":"IF(ISBLANK('Scholars Nomination Form'!E51),\"\",'Scholars Nomination Form'!E51)","v":""},{"$f":"IF(ISBLANK('Scholars Nomination Form'!F51),\"\",'Scholars Nomination Form'!F51)","v":""},{"$f":"IF(ISBLANK('Scholars Nomination Form'!G51),\"\",'Scholars Nomination Form'!G51)","v":""},{"$f":"IF(ISBLANK('Scholars Nomination Form'!H51),\"\",'Scholars Nomination Form'!H51)","v":""},{"$f":"IF(ISBLANK('Scholars Nomination Form'!I51),\"\",'Scholars Nomination Form'!I51)","v":""},{"$f":"IF(ISBLANK('Scholars Nomination Form'!J51),\"\",'Scholars Nomination Form'!J51)","v":""},{"$f":"IF(ISBLANK('Scholars Nomination Form'!K51),\"\",'Scholars Nomination Form'!K51)","v":""},{"$f":"IF(ISBLANK('Scholars Nomination Form'!L51),\"\",'Scholars Nomination Form'!L51)","v":""},{"$f":"IF(ISBLANK('Scholars Nomination Form'!M51),\"\",'Scholars Nomination Form'!M51)","v":""},{"$f":"IF(ISBLANK('Scholars Nomination Form'!N51),\"\",'Scholars Nomination Form'!N51)","v":""},{"$f":"IF(ISBLANK('Scholars Nomination Form'!O51),\"\",'Scholars Nomination Form'!O51)","v":""},{"$f":"IF(ISBLANK('Scholars Nomination Form'!P51),\"\",'Scholars Nomination Form'!P51)","v":""},{"$f":"IF(ISBLANK('Scholars Nomination Form'!Q51),\"\",'Scholars Nomination Form'!Q51)","v":""},{"$f":"IF(ISBLANK('Scholars Nomination Form'!R51),\"\",'Scholars Nomination Form'!R51)","v":""},{"$f":"IF(ISBLANK('Scholars Nomination Form'!S51),\"\",'Scholars Nomination Form'!S51)","v":""},{"$f":"IF(ISBLANK('Scholars Nomination Form'!T51),\"\",'Scholars Nomination Form'!T51)","v":""},{"$f":"IF(ISBLANK('Scholars Nomination Form'!U51),\"\",'Scholars Nomination Form'!U51)","v":""},{"$f":"IF(ISBLANK('Scholars Nomination Form'!V51),\"\",'Scholars Nomination Form'!V51)","v":""},{"$f":"IF(ISBLANK('Scholars Nomination Form'!W51),\"\",'Scholars Nomination Form'!W51)","v":""},{"$f":"IF(ISBLANK('Scholars Nomination Form'!X51),\"\",'Scholars Nomination Form'!X51)","v":""},{"$f":"IF(ISBLANK('Scholars Nomination Form'!Y51),\"\",'Scholars Nomination Form'!Y51)","v":""},{"$f":"IF(ISBLANK('Scholars Nomination Form'!Z51),\"\",'Scholars Nomination Form'!Z51)","v":""},{"$f":"IF(ISBLANK('Scholars Nomination Form'!AA51),\"\",'Scholars Nomination Form'!AA51)","v":""}]
[{"$f":"IF(ISBLANK('Scholars Nomination Form'!$F52),\"\",'Scholars Nomination Form'!$C$11)","v":""},{"$f":"IF(ISBLANK('Scholars Nomination Form'!$F52),\"\",'Scholars Nomination Form'!$C$12)","v":""},{"$f":"IF(ISBLANK('Scholars Nomination Form'!$F52),\"\",'Scholars Nomination Form'!$C$13)","v":""},{"$f":"IF(ISBLANK('Scholars Nomination Form'!$F52),\"\",'Scholars Nomination Form'!$C$14)","v":""},{"$f":"IF(ISBLANK('Scholars Nomination Form'!$F52),\"\",'Scholars Nomination Form'!$C$15)","v":""},{"$f":"IF(ISBLANK('Scholars Nomination Form'!$F52),\"\",'Scholars Nomination Form'!$C$16)","v":""},{"$f":"IF(ISBLANK('Scholars Nomination Form'!B52),\"\",'Scholars Nomination Form'!B52)","v":""},{"$f":"IF(ISBLANK('Scholars Nomination Form'!D52),\"\",'Scholars Nomination Form'!D52)","v":""},{"$f":"IF(ISBLANK('Scholars Nomination Form'!E52),\"\",'Scholars Nomination Form'!E52)","v":""},{"$f":"IF(ISBLANK('Scholars Nomination Form'!F52),\"\",'Scholars Nomination Form'!F52)","v":""},{"$f":"IF(ISBLANK('Scholars Nomination Form'!G52),\"\",'Scholars Nomination Form'!G52)","v":""},{"$f":"IF(ISBLANK('Scholars Nomination Form'!H52),\"\",'Scholars Nomination Form'!H52)","v":""},{"$f":"IF(ISBLANK('Scholars Nomination Form'!I52),\"\",'Scholars Nomination Form'!I52)","v":""},{"$f":"IF(ISBLANK('Scholars Nomination Form'!J52),\"\",'Scholars Nomination Form'!J52)","v":""},{"$f":"IF(ISBLANK('Scholars Nomination Form'!K52),\"\",'Scholars Nomination Form'!K52)","v":""},{"$f":"IF(ISBLANK('Scholars Nomination Form'!L52),\"\",'Scholars Nomination Form'!L52)","v":""},{"$f":"IF(ISBLANK('Scholars Nomination Form'!M52),\"\",'Scholars Nomination Form'!M52)","v":""},{"$f":"IF(ISBLANK('Scholars Nomination Form'!N52),\"\",'Scholars Nomination Form'!N52)","v":""},{"$f":"IF(ISBLANK('Scholars Nomination Form'!O52),\"\",'Scholars Nomination Form'!O52)","v":""},{"$f":"IF(ISBLANK('Scholars Nomination Form'!P52),\"\",'Scholars Nomination Form'!P52)","v":""},{"$f":"IF(ISBLANK('Scholars Nomination Form'!Q52),\"\",'Scholars Nomination Form'!Q52)","v":""},{"$f":"IF(ISBLANK('Scholars Nomination Form'!R52),\"\",'Scholars Nomination Form'!R52)","v":""},{"$f":"IF(ISBLANK('Scholars Nomination Form'!S52),\"\",'Scholars Nomination Form'!S52)","v":""},{"$f":"IF(ISBLANK('Scholars Nomination Form'!T52),\"\",'Scholars Nomination Form'!T52)","v":""},{"$f":"IF(ISBLANK('Scholars Nomination Form'!U52),\"\",'Scholars Nomination Form'!U52)","v":""},{"$f":"IF(ISBLANK('Scholars Nomination Form'!V52),\"\",'Scholars Nomination Form'!V52)","v":""},{"$f":"IF(ISBLANK('Scholars Nomination Form'!W52),\"\",'Scholars Nomination Form'!W52)","v":""},{"$f":"IF(ISBLANK('Scholars Nomination Form'!X52),\"\",'Scholars Nomination Form'!X52)","v":""},{"$f":"IF(ISBLANK('Scholars Nomination Form'!Y52),\"\",'Scholars Nomination Form'!Y52)","v":""},{"$f":"IF(ISBLANK('Scholars Nomination Form'!Z52),\"\",'Scholars Nomination Form'!Z52)","v":""},{"$f":"IF(ISBLANK('Scholars Nomination Form'!AA52),\"\",'Scholars Nomination Form'!AA52)","v":""}]
[{"$f":"IF(ISBLANK('Scholars Nomination Form'!$F53),\"\",'Scholars Nomination Form'!$C$11)","v":""},{"$f":"IF(ISBLANK('Scholars Nomination Form'!$F53),\"\",'Scholars Nomination Form'!$C$12)","v":""},{"$f":"IF(ISBLANK('Scholars Nomination Form'!$F53),\"\",'Scholars Nomination Form'!$C$13)","v":""},{"$f":"IF(ISBLANK('Scholars Nomination Form'!$F53),\"\",'Scholars Nomination Form'!$C$14)","v":""},{"$f":"IF(ISBLANK('Scholars Nomination Form'!$F53),\"\",'Scholars Nomination Form'!$C$15)","v":""},{"$f":"IF(ISBLANK('Scholars Nomination Form'!$F53),\"\",'Scholars Nomination Form'!$C$16)","v":""},{"$f":"IF(ISBLANK('Scholars Nomination Form'!B53),\"\",'Scholars Nomination Form'!B53)","v":""},{"$f":"IF(ISBLANK('Scholars Nomination Form'!D53),\"\",'Scholars Nomination Form'!D53)","v":""},{"$f":"IF(ISBLANK('Scholars Nomination Form'!E53),\"\",'Scholars Nomination Form'!E53)","v":""},{"$f":"IF(ISBLANK('Scholars Nomination Form'!F53),\"\",'Scholars Nomination Form'!F53)","v":""},{"$f":"IF(ISBLANK('Scholars Nomination Form'!G53),\"\",'Scholars Nomination Form'!G53)","v":""},{"$f":"IF(ISBLANK('Scholars Nomination Form'!H53),\"\",'Scholars Nomination Form'!H53)","v":""},{"$f":"IF(ISBLANK('Scholars Nomination Form'!I53),\"\",'Scholars Nomination Form'!I53)","v":""},{"$f":"IF(ISBLANK('Scholars Nomination Form'!J53),\"\",'Scholars Nomination Form'!J53)","v":""},{"$f":"IF(ISBLANK('Scholars Nomination Form'!K53),\"\",'Scholars Nomination Form'!K53)","v":""},{"$f":"IF(ISBLANK('Scholars Nomination Form'!L53),\"\",'Scholars Nomination Form'!L53)","v":""},{"$f":"IF(ISBLANK('Scholars Nomination Form'!M53),\"\",'Scholars Nomination Form'!M53)","v":""},{"$f":"IF(ISBLANK('Scholars Nomination Form'!N53),\"\",'Scholars Nomination Form'!N53)","v":""},{"$f":"IF(ISBLANK('Scholars Nomination Form'!O53),\"\",'Scholars Nomination Form'!O53)","v":""},{"$f":"IF(ISBLANK('Scholars Nomination Form'!P53),\"\",'Scholars Nomination Form'!P53)","v":""},{"$f":"IF(ISBLANK('Scholars Nomination Form'!Q53),\"\",'Scholars Nomination Form'!Q53)","v":""},{"$f":"IF(ISBLANK('Scholars Nomination Form'!R53),\"\",'Scholars Nomination Form'!R53)","v":""},{"$f":"IF(ISBLANK('Scholars Nomination Form'!S53),\"\",'Scholars Nomination Form'!S53)","v":""},{"$f":"IF(ISBLANK('Scholars Nomination Form'!T53),\"\",'Scholars Nomination Form'!T53)","v":""},{"$f":"IF(ISBLANK('Scholars Nomination Form'!U53),\"\",'Scholars Nomination Form'!U53)","v":""},{"$f":"IF(ISBLANK('Scholars Nomination Form'!V53),\"\",'Scholars Nomination Form'!V53)","v":""},{"$f":"IF(ISBLANK('Scholars Nomination Form'!W53),\"\",'Scholars Nomination Form'!W53)","v":""},{"$f":"IF(ISBLANK('Scholars Nomination Form'!X53),\"\",'Scholars Nomination Form'!X53)","v":""},{"$f":"IF(ISBLANK('Scholars Nomination Form'!Y53),\"\",'Scholars Nomination Form'!Y53)","v":""},{"$f":"IF(ISBLANK('Scholars Nomination Form'!Z53),\"\",'Scholars Nomination Form'!Z53)","v":""},{"$f":"IF(ISBLANK('Scholars Nomination Form'!AA53),\"\",'Scholars Nomination Form'!AA53)","v":""}]
[{"$f":"IF(ISBLANK('Scholars Nomination Form'!$F54),\"\",'Scholars Nomination Form'!$C$11)","v":""},{"$f":"IF(ISBLANK('Scholars Nomination Form'!$F54),\"\",'Scholars Nomination Form'!$C$12)","v":""},{"$f":"IF(ISBLANK('Scholars Nomination Form'!$F54),\"\",'Scholars Nomination Form'!$C$13)","v":""},{"$f":"IF(ISBLANK('Scholars Nomination Form'!$F54),\"\",'Scholars Nomination Form'!$C$14)","v":""},{"$f":"IF(ISBLANK('Scholars Nomination Form'!$F54),\"\",'Scholars Nomination Form'!$C$15)","v":""},{"$f":"IF(ISBLANK('Scholars Nomination Form'!$F54),\"\",'Scholars Nomination Form'!$C$16)","v":""},{"$f":"IF(ISBLANK('Scholars Nomination Form'!B54),\"\",'Scholars Nomination Form'!B54)","v":""},{"$f":"IF(ISBLANK('Scholars Nomination Form'!D54),\"\",'Scholars Nomination Form'!D54)","v":""},{"$f":"IF(ISBLANK('Scholars Nomination Form'!E54),\"\",'Scholars Nomination Form'!E54)","v":""},{"$f":"IF(ISBLANK('Scholars Nomination Form'!F54),\"\",'Scholars Nomination Form'!F54)","v":""},{"$f":"IF(ISBLANK('Scholars Nomination Form'!G54),\"\",'Scholars Nomination Form'!G54)","v":""},{"$f":"IF(ISBLANK('Scholars Nomination Form'!H54),\"\",'Scholars Nomination Form'!H54)","v":""},{"$f":"IF(ISBLANK('Scholars Nomination Form'!I54),\"\",'Scholars Nomination Form'!I54)","v":""},{"$f":"IF(ISBLANK('Scholars Nomination Form'!J54),\"\",'Scholars Nomination Form'!J54)","v":""},{"$f":"IF(ISBLANK('Scholars Nomination Form'!K54),\"\",'Scholars Nomination Form'!K54)","v":""},{"$f":"IF(ISBLANK('Scholars Nomination Form'!L54),\"\",'Scholars Nomination Form'!L54)","v":""},{"$f":"IF(ISBLANK('Scholars Nomination Form'!M54),\"\",'Scholars Nomination Form'!M54)","v":""},{"$f":"IF(ISBLANK('Scholars Nomination Form'!N54),\"\",'Scholars Nomination Form'!N54)","v":""},{"$f":"IF(ISBLANK('Scholars Nomination Form'!O54),\"\",'Scholars Nomination Form'!O54)","v":""},{"$f":"IF(ISBLANK('Scholars Nomination Form'!P54),\"\",'Scholars Nomination Form'!P54)","v":""},{"$f":"IF(ISBLANK('Scholars Nomination Form'!Q54),\"\",'Scholars Nomination Form'!Q54)","v":""},{"$f":"IF(ISBLANK('Scholars Nomination Form'!R54),\"\",'Scholars Nomination Form'!R54)","v":""},{"$f":"IF(ISBLANK('Scholars Nomination Form'!S54),\"\",'Scholars Nomination Form'!S54)","v":""},{"$f":"IF(ISBLANK('Scholars Nomination Form'!T54),\"\",'Scholars Nomination Form'!T54)","v":""},{"$f":"IF(ISBLANK('Scholars Nomination Form'!U54),\"\",'Scholars Nomination Form'!U54)","v":""},{"$f":"IF(ISBLANK('Scholars Nomination Form'!V54),\"\",'Scholars Nomination Form'!V54)","v":""},{"$f":"IF(ISBLANK('Scholars Nomination Form'!W54),\"\",'Scholars Nomination Form'!W54)","v":""},{"$f":"IF(ISBLANK('Scholars Nomination Form'!X54),\"\",'Scholars Nomination Form'!X54)","v":""},{"$f":"IF(ISBLANK('Scholars Nomination Form'!Y54),\"\",'Scholars Nomination Form'!Y54)","v":""},{"$f":"IF(ISBLANK('Scholars Nomination Form'!Z54),\"\",'Scholars Nomination Form'!Z54)","v":""},{"$f":"IF(ISBLANK('Scholars Nomination Form'!AA54),\"\",'Scholars Nomination Form'!AA54)","v":""}]
[{"$f":"IF(ISBLANK('Scholars Nomination Form'!$F55),\"\",'Scholars Nomination Form'!$C$11)","v":""},{"$f":"IF(ISBLANK('Scholars Nomination Form'!$F55),\"\",'Scholars Nomination Form'!$C$12)","v":""},{"$f":"IF(ISBLANK('Scholars Nomination Form'!$F55),\"\",'Scholars Nomination Form'!$C$13)","v":""},{"$f":"IF(ISBLANK('Scholars Nomination Form'!$F55),\"\",'Scholars Nomination Form'!$C$14)","v":""},{"$f":"IF(ISBLANK('Scholars Nomination Form'!$F55),\"\",'Scholars Nomination Form'!$C$15)","v":""},{"$f":"IF(ISBLANK('Scholars Nomination Form'!$F55),\"\",'Scholars Nomination Form'!$C$16)","v":""},{"$f":"IF(ISBLANK('Scholars Nomination Form'!B55),\"\",'Scholars Nomination Form'!B55)","v":""},{"$f":"IF(ISBLANK('Scholars Nomination Form'!D55),\"\",'Scholars Nomination Form'!D55)","v":""},{"$f":"IF(ISBLANK('Scholars Nomination Form'!E55),\"\",'Scholars Nomination Form'!E55)","v":""},{"$f":"IF(ISBLANK('Scholars Nomination Form'!F55),\"\",'Scholars Nomination Form'!F55)","v":""},{"$f":"IF(ISBLANK('Scholars Nomination Form'!G55),\"\",'Scholars Nomination Form'!G55)","v":""},{"$f":"IF(ISBLANK('Scholars Nomination Form'!H55),\"\",'Scholars Nomination Form'!H55)","v":""},{"$f":"IF(ISBLANK('Scholars Nomination Form'!I55),\"\",'Scholars Nomination Form'!I55)","v":""},{"$f":"IF(ISBLANK('Scholars Nomination Form'!J55),\"\",'Scholars Nomination Form'!J55)","v":""},{"$f":"IF(ISBLANK('Scholars Nomination Form'!K55),\"\",'Scholars Nomination Form'!K55)","v":""},{"$f":"IF(ISBLANK('Scholars Nomination Form'!L55),\"\",'Scholars Nomination Form'!L55)","v":""},{"$f":"IF(ISBLANK('Scholars Nomination Form'!M55),\"\",'Scholars Nomination Form'!M55)","v":""},{"$f":"IF(ISBLANK('Scholars Nomination Form'!N55),\"\",'Scholars Nomination Form'!N55)","v":""},{"$f":"IF(ISBLANK('Scholars Nomination Form'!O55),\"\",'Scholars Nomination Form'!O55)","v":""},{"$f":"IF(ISBLANK('Scholars Nomination Form'!P55),\"\",'Scholars Nomination Form'!P55)","v":""},{"$f":"IF(ISBLANK('Scholars Nomination Form'!Q55),\"\",'Scholars Nomination Form'!Q55)","v":""},{"$f":"IF(ISBLANK('Scholars Nomination Form'!R55),\"\",'Scholars Nomination Form'!R55)","v":""},{"$f":"IF(ISBLANK('Scholars Nomination Form'!S55),\"\",'Scholars Nomination Form'!S55)","v":""},{"$f":"IF(ISBLANK('Scholars Nomination Form'!T55),\"\",'Scholars Nomination Form'!T55)","v":""},{"$f":"IF(ISBLANK('Scholars Nomination Form'!U55),\"\",'Scholars Nomination Form'!U55)","v":""},{"$f":"IF(ISBLANK('Scholars Nomination Form'!V55),\"\",'Scholars Nomination Form'!V55)","v":""},{"$f":"IF(ISBLANK('Scholars Nomination Form'!W55),\"\",'Scholars Nomination Form'!W55)","v":""},{"$f":"IF(ISBLANK('Scholars Nomination Form'!X55),\"\",'Scholars Nomination Form'!X55)","v":""},{"$f":"IF(ISBLANK('Scholars Nomination Form'!Y55),\"\",'Scholars Nomination Form'!Y55)","v":""},{"$f":"IF(ISBLANK('Scholars Nomination Form'!Z55),\"\",'Scholars Nomination Form'!Z55)","v":""},{"$f":"IF(ISBLANK('Scholars Nomination Form'!AA55),\"\",'Scholars Nomination Form'!AA55)","v":""}]
[{"$f":"IF(ISBLANK('Scholars Nomination Form'!$F56),\"\",'Scholars Nomination Form'!$C$11)","v":""},{"$f":"IF(ISBLANK('Scholars Nomination Form'!$F56),\"\",'Scholars Nomination Form'!$C$12)","v":""},{"$f":"IF(ISBLANK('Scholars Nomination Form'!$F56),\"\",'Scholars Nomination Form'!$C$13)","v":""},{"$f":"IF(ISBLANK('Scholars Nomination Form'!$F56),\"\",'Scholars Nomination Form'!$C$14)","v":""},{"$f":"IF(ISBLANK('Scholars Nomination Form'!$F56),\"\",'Scholars Nomination Form'!$C$15)","v":""},{"$f":"IF(ISBLANK('Scholars Nomination Form'!$F56),\"\",'Scholars Nomination Form'!$C$16)","v":""},{"$f":"IF(ISBLANK('Scholars Nomination Form'!B56),\"\",'Scholars Nomination Form'!B56)","v":""},{"$f":"IF(ISBLANK('Scholars Nomination Form'!D56),\"\",'Scholars Nomination Form'!D56)","v":""},{"$f":"IF(ISBLANK('Scholars Nomination Form'!E56),\"\",'Scholars Nomination Form'!E56)","v":""},{"$f":"IF(ISBLANK('Scholars Nomination Form'!F56),\"\",'Scholars Nomination Form'!F56)","v":""},{"$f":"IF(ISBLANK('Scholars Nomination Form'!G56),\"\",'Scholars Nomination Form'!G56)","v":""},{"$f":"IF(ISBLANK('Scholars Nomination Form'!H56),\"\",'Scholars Nomination Form'!H56)","v":""},{"$f":"IF(ISBLANK('Scholars Nomination Form'!I56),\"\",'Scholars Nomination Form'!I56)","v":""},{"$f":"IF(ISBLANK('Scholars Nomination Form'!J56),\"\",'Scholars Nomination Form'!J56)","v":""},{"$f":"IF(ISBLANK('Scholars Nomination Form'!K56),\"\",'Scholars Nomination Form'!K56)","v":""},{"$f":"IF(ISBLANK('Scholars Nomination Form'!L56),\"\",'Scholars Nomination Form'!L56)","v":""},{"$f":"IF(ISBLANK('Scholars Nomination Form'!M56),\"\",'Scholars Nomination Form'!M56)","v":""},{"$f":"IF(ISBLANK('Scholars Nomination Form'!N56),\"\",'Scholars Nomination Form'!N56)","v":""},{"$f":"IF(ISBLANK('Scholars Nomination Form'!O56),\"\",'Scholars Nomination Form'!O56)","v":""},{"$f":"IF(ISBLANK('Scholars Nomination Form'!P56),\"\",'Scholars Nomination Form'!P56)","v":""},{"$f":"IF(ISBLANK('Scholars Nomination Form'!Q56),\"\",'Scholars Nomination Form'!Q56)","v":""},{"$f":"IF(ISBLANK('Scholars Nomination Form'!R56),\"\",'Scholars Nomination Form'!R56)","v":""},{"$f":"IF(ISBLANK('Scholars Nomination Form'!S56),\"\",'Scholars Nomination Form'!S56)","v":""},{"$f":"IF(ISBLANK('Scholars Nomination Form'!T56),\"\",'Scholars Nomination Form'!T56)","v":""},{"$f":"IF(ISBLANK('Scholars Nomination Form'!U56),\"\",'Scholars Nomination Form'!U56)","v":""},{"$f":"IF(ISBLANK('Scholars Nomination Form'!V56),\"\",'Scholars Nomination Form'!V56)","v":""},{"$f":"IF(ISBLANK('Scholars Nomination Form'!W56),\"\",'Scholars Nomination Form'!W56)","v":""},{"$f":"IF(ISBLANK('Scholars Nomination Form'!X56),\"\",'Scholars Nomination Form'!X56)","v":""},{"$f":"IF(ISBLANK('Scholars Nomination Form'!Y56),\"\",'Scholars Nomination Form'!Y56)","v":""},{"$f":"IF(ISBLANK('Scholars Nomination Form'!Z56),\"\",'Scholars Nomination Form'!Z56)","v":""},{"$f":"IF(ISBLANK('Scholars Nomination Form'!AA56),\"\",'Scholars Nomination Form'!AA56)","v":""}]
[{"$f":"IF(ISBLANK('Scholars Nomination Form'!$F57),\"\",'Scholars Nomination Form'!$C$11)","v":""},{"$f":"IF(ISBLANK('Scholars Nomination Form'!$F57),\"\",'Scholars Nomination Form'!$C$12)","v":""},{"$f":"IF(ISBLANK('Scholars Nomination Form'!$F57),\"\",'Scholars Nomination Form'!$C$13)","v":""},{"$f":"IF(ISBLANK('Scholars Nomination Form'!$F57),\"\",'Scholars Nomination Form'!$C$14)","v":""},{"$f":"IF(ISBLANK('Scholars Nomination Form'!$F57),\"\",'Scholars Nomination Form'!$C$15)","v":""},{"$f":"IF(ISBLANK('Scholars Nomination Form'!$F57),\"\",'Scholars Nomination Form'!$C$16)","v":""},{"$f":"IF(ISBLANK('Scholars Nomination Form'!B57),\"\",'Scholars Nomination Form'!B57)","v":""},{"$f":"IF(ISBLANK('Scholars Nomination Form'!D57),\"\",'Scholars Nomination Form'!D57)","v":""},{"$f":"IF(ISBLANK('Scholars Nomination Form'!E57),\"\",'Scholars Nomination Form'!E57)","v":""},{"$f":"IF(ISBLANK('Scholars Nomination Form'!F57),\"\",'Scholars Nomination Form'!F57)","v":""},{"$f":"IF(ISBLANK('Scholars Nomination Form'!G57),\"\",'Scholars Nomination Form'!G57)","v":""},{"$f":"IF(ISBLANK('Scholars Nomination Form'!H57),\"\",'Scholars Nomination Form'!H57)","v":""},{"$f":"IF(ISBLANK('Scholars Nomination Form'!I57),\"\",'Scholars Nomination Form'!I57)","v":""},{"$f":"IF(ISBLANK('Scholars Nomination Form'!J57),\"\",'Scholars Nomination Form'!J57)","v":""},{"$f":"IF(ISBLANK('Scholars Nomination Form'!K57),\"\",'Scholars Nomination Form'!K57)","v":""},{"$f":"IF(ISBLANK('Scholars Nomination Form'!L57),\"\",'Scholars Nomination Form'!L57)","v":""},{"$f":"IF(ISBLANK('Scholars Nomination Form'!M57),\"\",'Scholars Nomination Form'!M57)","v":""},{"$f":"IF(ISBLANK('Scholars Nomination Form'!N57),\"\",'Scholars Nomination Form'!N57)","v":""},{"$f":"IF(ISBLANK('Scholars Nomination Form'!O57),\"\",'Scholars Nomination Form'!O57)","v":""},{"$f":"IF(ISBLANK('Scholars Nomination Form'!P57),\"\",'Scholars Nomination Form'!P57)","v":""},{"$f":"IF(ISBLANK('Scholars Nomination Form'!Q57),\"\",'Scholars Nomination Form'!Q57)","v":""},{"$f":"IF(ISBLANK('Scholars Nomination Form'!R57),\"\",'Scholars Nomination Form'!R57)","v":""},{"$f":"IF(ISBLANK('Scholars Nomination Form'!S57),\"\",'Scholars Nomination Form'!S57)","v":""},{"$f":"IF(ISBLANK('Scholars Nomination Form'!T57),\"\",'Scholars Nomination Form'!T57)","v":""},{"$f":"IF(ISBLANK('Scholars Nomination Form'!U57),\"\",'Scholars Nomination Form'!U57)","v":""},{"$f":"IF(ISBLANK('Scholars Nomination Form'!V57),\"\",'Scholars Nomination Form'!V57)","v":""},{"$f":"IF(ISBLANK('Scholars Nomination Form'!W57),\"\",'Scholars Nomination Form'!W57)","v":""},{"$f":"IF(ISBLANK('Scholars Nomination Form'!X57),\"\",'Scholars Nomination Form'!X57)","v":""},{"$f":"IF(ISBLANK('Scholars Nomination Form'!Y57),\"\",'Scholars Nomination Form'!Y57)","v":""},{"$f":"IF(ISBLANK('Scholars Nomination Form'!Z57),\"\",'Scholars Nomination Form'!Z57)","v":""},{"$f":"IF(ISBLANK('Scholars Nomination Form'!AA57),\"\",'Scholars Nomination Form'!AA57)","v":""}]
[{"$f":"IF(ISBLANK('Scholars Nomination Form'!$F58),\"\",'Scholars Nomination Form'!$C$11)","v":""},{"$f":"IF(ISBLANK('Scholars Nomination Form'!$F58),\"\",'Scholars Nomination Form'!$C$12)","v":""},{"$f":"IF(ISBLANK('Scholars Nomination Form'!$F58),\"\",'Scholars Nomination Form'!$C$13)","v":""},{"$f":"IF(ISBLANK('Scholars Nomination Form'!$F58),\"\",'Scholars Nomination Form'!$C$14)","v":""},{"$f":"IF(ISBLANK('Scholars Nomination Form'!$F58),\"\",'Scholars Nomination Form'!$C$15)","v":""},{"$f":"IF(ISBLANK('Scholars Nomination Form'!$F58),\"\",'Scholars Nomination Form'!$C$16)","v":""},{"$f":"IF(ISBLANK('Scholars Nomination Form'!B58),\"\",'Scholars Nomination Form'!B58)","v":""},{"$f":"IF(ISBLANK('Scholars Nomination Form'!D58),\"\",'Scholars Nomination Form'!D58)","v":""},{"$f":"IF(ISBLANK('Scholars Nomination Form'!E58),\"\",'Scholars Nomination Form'!E58)","v":""},{"$f":"IF(ISBLANK('Scholars Nomination Form'!F58),\"\",'Scholars Nomination Form'!F58)","v":""},{"$f":"IF(ISBLANK('Scholars Nomination Form'!G58),\"\",'Scholars Nomination Form'!G58)","v":""},{"$f":"IF(ISBLANK('Scholars Nomination Form'!H58),\"\",'Scholars Nomination Form'!H58)","v":""},{"$f":"IF(ISBLANK('Scholars Nomination Form'!I58),\"\",'Scholars Nomination Form'!I58)","v":""},{"$f":"IF(ISBLANK('Scholars Nomination Form'!J58),\"\",'Scholars Nomination Form'!J58)","v":""},{"$f":"IF(ISBLANK('Scholars Nomination Form'!K58),\"\",'Scholars Nomination Form'!K58)","v":""},{"$f":"IF(ISBLANK('Scholars Nomination Form'!L58),\"\",'Scholars Nomination Form'!L58)","v":""},{"$f":"IF(ISBLANK('Scholars Nomination Form'!M58),\"\",'Scholars Nomination Form'!M58)","v":""},{"$f":"IF(ISBLANK('Scholars Nomination Form'!N58),\"\",'Scholars Nomination Form'!N58)","v":""},{"$f":"IF(ISBLANK('Scholars Nomination Form'!O58),\"\",'Scholars Nomination Form'!O58)","v":""},{"$f":"IF(ISBLANK('Scholars Nomination Form'!P58),\"\",'Scholars Nomination Form'!P58)","v":""},{"$f":"IF(ISBLANK('Scholars Nomination Form'!Q58),\"\",'Scholars Nomination Form'!Q58)","v":""},{"$f":"IF(ISBLANK('Scholars Nomination Form'!R58),\"\",'Scholars Nomination Form'!R58)","v":""},{"$f":"IF(ISBLANK('Scholars Nomination Form'!S58),\"\",'Scholars Nomination Form'!S58)","v":""},{"$f":"IF(ISBLANK('Scholars Nomination Form'!T58),\"\",'Scholars Nomination Form'!T58)","v":""},{"$f":"IF(ISBLANK('Scholars Nomination Form'!U58),\"\",'Scholars Nomination Form'!U58)","v":""},{"$f":"IF(ISBLANK('Scholars Nomination Form'!V58),\"\",'Scholars Nomination Form'!V58)","v":""},{"$f":"IF(ISBLANK('Scholars Nomination Form'!W58),\"\",'Scholars Nomination Form'!W58)","v":""},{"$f":"IF(ISBLANK('Scholars Nomination Form'!X58),\"\",'Scholars Nomination Form'!X58)","v":""},{"$f":"IF(ISBLANK('Scholars Nomination Form'!Y58),\"\",'Scholars Nomination Form'!Y58)","v":""},{"$f":"IF(ISBLANK('Scholars Nomination Form'!Z58),\"\",'Scholars Nomination Form'!Z58)","v":""},{"$f":"IF(ISBLANK('Scholars Nomination Form'!AA58),\"\",'Scholars Nomination Form'!AA58)","v":""}]
[{"$f":"IF(ISBLANK('Scholars Nomination Form'!$F59),\"\",'Scholars Nomination Form'!$C$11)","v":""},{"$f":"IF(ISBLANK('Scholars Nomination Form'!$F59),\"\",'Scholars Nomination Form'!$C$12)","v":""},{"$f":"IF(ISBLANK('Scholars Nomination Form'!$F59),\"\",'Scholars Nomination Form'!$C$13)","v":""},{"$f":"IF(ISBLANK('Scholars Nomination Form'!$F59),\"\",'Scholars Nomination Form'!$C$14)","v":""},{"$f":"IF(ISBLANK('Scholars Nomination Form'!$F59),\"\",'Scholars Nomination Form'!$C$15)","v":""},{"$f":"IF(ISBLANK('Scholars Nomination Form'!$F59),\"\",'Scholars Nomination Form'!$C$16)","v":""},{"$f":"IF(ISBLANK('Scholars Nomination Form'!B59),\"\",'Scholars Nomination Form'!B59)","v":""},{"$f":"IF(ISBLANK('Scholars Nomination Form'!D59),\"\",'Scholars Nomination Form'!D59)","v":""},{"$f":"IF(ISBLANK('Scholars Nomination Form'!E59),\"\",'Scholars Nomination Form'!E59)","v":""},{"$f":"IF(ISBLANK('Scholars Nomination Form'!F59),\"\",'Scholars Nomination Form'!F59)","v":""},{"$f":"IF(ISBLANK('Scholars Nomination Form'!G59),\"\",'Scholars Nomination Form'!G59)","v":""},{"$f":"IF(ISBLANK('Scholars Nomination Form'!H59),\"\",'Scholars Nomination Form'!H59)","v":""},{"$f":"IF(ISBLANK('Scholars Nomination Form'!I59),\"\",'Scholars Nomination Form'!I59)","v":""},{"$f":"IF(ISBLANK('Scholars Nomination Form'!J59),\"\",'Scholars Nomination Form'!J59)","v":""},{"$f":"IF(ISBLANK('Scholars Nomination Form'!K59),\"\",'Scholars Nomination Form'!K59)","v":""},{"$f":"IF(ISBLANK('Scholars Nomination Form'!L59),\"\",'Scholars Nomination Form'!L59)","v":""},{"$f":"IF(ISBLANK('Scholars Nomination Form'!M59),\"\",'Scholars Nomination Form'!M59)","v":""},{"$f":"IF(ISBLANK('Scholars Nomination Form'!N59),\"\",'Scholars Nomination Form'!N59)","v":""},{"$f":"IF(ISBLANK('Scholars Nomination Form'!O59),\"\",'Scholars Nomination Form'!O59)","v":""},{"$f":"IF(ISBLANK('Scholars Nomination Form'!P59),\"\",'Scholars Nomination Form'!P59)","v":""},{"$f":"IF(ISBLANK('Scholars Nomination Form'!Q59),\"\",'Scholars Nomination Form'!Q59)","v":""},{"$f":"IF(ISBLANK('Scholars Nomination Form'!R59),\"\",'Scholars Nomination Form'!R59)","v":""},{"$f":"IF(ISBLANK('Scholars Nomination Form'!S59),\"\",'Scholars Nomination Form'!S59)","v":""},{"$f":"IF(ISBLANK('Scholars Nomination Form'!T59),\"\",'Scholars Nomination Form'!T59)","v":""},{"$f":"IF(ISBLANK('Scholars Nomination Form'!U59),\"\",'Scholars Nomination Form'!U59)","v":""},{"$f":"IF(ISBLANK('Scholars Nomination Form'!V59),\"\",'Scholars Nomination Form'!V59)","v":""},{"$f":"IF(ISBLANK('Scholars Nomination Form'!W59),\"\",'Scholars Nomination Form'!W59)","v":""},{"$f":"IF(ISBLANK('Scholars Nomination Form'!X59),\"\",'Scholars Nomination Form'!X59)","v":""},{"$f":"IF(ISBLANK('Scholars Nomination Form'!Y59),\"\",'Scholars Nomination Form'!Y59)","v":""},{"$f":"IF(ISBLANK('Scholars Nomination Form'!Z59),\"\",'Scholars Nomination Form'!Z59)","v":""},{"$f":"IF(ISBLANK('Scholars Nomination Form'!AA59),\"\",'Scholars Nomination Form'!AA59)","v":""}]
[{"$f":"IF(ISBLANK('Scholars Nomination Form'!$F60),\"\",'Scholars Nomination Form'!$C$11)","v":""},{"$f":"IF(ISBLANK('Scholars Nomination Form'!$F60),\"\",'Scholars Nomination Form'!$C$12)","v":""},{"$f":"IF(ISBLANK('Scholars Nomination Form'!$F60),\"\",'Scholars Nomination Form'!$C$13)","v":""},{"$f":"IF(ISBLANK('Scholars Nomination Form'!$F60),\"\",'Scholars Nomination Form'!$C$14)","v":""},{"$f":"IF(ISBLANK('Scholars Nomination Form'!$F60),\"\",'Scholars Nomination Form'!$C$15)","v":""},{"$f":"IF(ISBLANK('Scholars Nomination Form'!$F60),\"\",'Scholars Nomination Form'!$C$16)","v":""},{"$f":"IF(ISBLANK('Scholars Nomination Form'!B60),\"\",'Scholars Nomination Form'!B60)","v":""},{"$f":"IF(ISBLANK('Scholars Nomination Form'!D60),\"\",'Scholars Nomination Form'!D60)","v":""},{"$f":"IF(ISBLANK('Scholars Nomination Form'!E60),\"\",'Scholars Nomination Form'!E60)","v":""},{"$f":"IF(ISBLANK('Scholars Nomination Form'!F60),\"\",'Scholars Nomination Form'!F60)","v":""},{"$f":"IF(ISBLANK('Scholars Nomination Form'!G60),\"\",'Scholars Nomination Form'!G60)","v":""},{"$f":"IF(ISBLANK('Scholars Nomination Form'!H60),\"\",'Scholars Nomination Form'!H60)","v":""},{"$f":"IF(ISBLANK('Scholars Nomination Form'!I60),\"\",'Scholars Nomination Form'!I60)","v":""},{"$f":"IF(ISBLANK('Scholars Nomination Form'!J60),\"\",'Scholars Nomination Form'!J60)","v":""},{"$f":"IF(ISBLANK('Scholars Nomination Form'!K60),\"\",'Scholars Nomination Form'!K60)","v":""},{"$f":"IF(ISBLANK('Scholars Nomination Form'!L60),\"\",'Scholars Nomination Form'!L60)","v":""},{"$f":"IF(ISBLANK('Scholars Nomination Form'!M60),\"\",'Scholars Nomination Form'!M60)","v":""},{"$f":"IF(ISBLANK('Scholars Nomination Form'!N60),\"\",'Scholars Nomination Form'!N60)","v":""},{"$f":"IF(ISBLANK('Scholars Nomination Form'!O60),\"\",'Scholars Nomination Form'!O60)","v":""},{"$f":"IF(ISBLANK('Scholars Nomination Form'!P60),\"\",'Scholars Nomination Form'!P60)","v":""},{"$f":"IF(ISBLANK('Scholars Nomination Form'!Q60),\"\",'Scholars Nomination Form'!Q60)","v":""},{"$f":"IF(ISBLANK('Scholars Nomination Form'!R60),\"\",'Scholars Nomination Form'!R60)","v":""},{"$f":"IF(ISBLANK('Scholars Nomination Form'!S60),\"\",'Scholars Nomination Form'!S60)","v":""},{"$f":"IF(ISBLANK('Scholars Nomination Form'!T60),\"\",'Scholars Nomination Form'!T60)","v":""},{"$f":"IF(ISBLANK('Scholars Nomination Form'!U60),\"\",'Scholars Nomination Form'!U60)","v":""},{"$f":"IF(ISBLANK('Scholars Nomination Form'!V60),\"\",'Scholars Nomination Form'!V60)","v":""},{"$f":"IF(ISBLANK('Scholars Nomination Form'!W60),\"\",'Scholars Nomination Form'!W60)","v":""},{"$f":"IF(ISBLANK('Scholars Nomination Form'!X60),\"\",'Scholars Nomination Form'!X60)","v":""},{"$f":"IF(ISBLANK('Scholars Nomination Form'!Y60),\"\",'Scholars Nomination Form'!Y60)","v":""},{"$f":"IF(ISBLANK('Scholars Nomination Form'!Z60),\"\",'Scholars Nomination Form'!Z60)","v":""},{"$f":"IF(ISBLANK('Scholars Nomination Form'!AA60),\"\",'Scholars Nomination Form'!AA60)","v":""}]
[{"$f":"IF(ISBLANK('Scholars Nomination Form'!$F61),\"\",'Scholars Nomination Form'!$C$11)","v":""},{"$f":"IF(ISBLANK('Scholars Nomination Form'!$F61),\"\",'Scholars Nomination Form'!$C$12)","v":""},{"$f":"IF(ISBLANK('Scholars Nomination Form'!$F61),\"\",'Scholars Nomination Form'!$C$13)","v":""},{"$f":"IF(ISBLANK('Scholars Nomination Form'!$F61),\"\",'Scholars Nomination Form'!$C$14)","v":""},{"$f":"IF(ISBLANK('Scholars Nomination Form'!$F61),\"\",'Scholars Nomination Form'!$C$15)","v":""},{"$f":"IF(ISBLANK('Scholars Nomination Form'!$F61),\"\",'Scholars Nomination Form'!$C$16)","v":""},{"$f":"IF(ISBLANK('Scholars Nomination Form'!B61),\"\",'Scholars Nomination Form'!B61)","v":""},{"$f":"IF(ISBLANK('Scholars Nomination Form'!D61),\"\",'Scholars Nomination Form'!D61)","v":""},{"$f":"IF(ISBLANK('Scholars Nomination Form'!E61),\"\",'Scholars Nomination Form'!E61)","v":""},{"$f":"IF(ISBLANK('Scholars Nomination Form'!F61),\"\",'Scholars Nomination Form'!F61)","v":""},{"$f":"IF(ISBLANK('Scholars Nomination Form'!G61),\"\",'Scholars Nomination Form'!G61)","v":""},{"$f":"IF(ISBLANK('Scholars Nomination Form'!H61),\"\",'Scholars Nomination Form'!H61)","v":""},{"$f":"IF(ISBLANK('Scholars Nomination Form'!I61),\"\",'Scholars Nomination Form'!I61)","v":""},{"$f":"IF(ISBLANK('Scholars Nomination Form'!J61),\"\",'Scholars Nomination Form'!J61)","v":""},{"$f":"IF(ISBLANK('Scholars Nomination Form'!K61),\"\",'Scholars Nomination Form'!K61)","v":""},{"$f":"IF(ISBLANK('Scholars Nomination Form'!L61),\"\",'Scholars Nomination Form'!L61)","v":""},{"$f":"IF(ISBLANK('Scholars Nomination Form'!M61),\"\",'Scholars Nomination Form'!M61)","v":""},{"$f":"IF(ISBLANK('Scholars Nomination Form'!N61),\"\",'Scholars Nomination Form'!N61)","v":""},{"$f":"IF(ISBLANK('Scholars Nomination Form'!O61),\"\",'Scholars Nomination Form'!O61)","v":""},{"$f":"IF(ISBLANK('Scholars Nomination Form'!P61),\"\",'Scholars Nomination Form'!P61)","v":""},{"$f":"IF(ISBLANK('Scholars Nomination Form'!Q61),\"\",'Scholars Nomination Form'!Q61)","v":""},{"$f":"IF(ISBLANK('Scholars Nomination Form'!R61),\"\",'Scholars Nomination Form'!R61)","v":""},{"$f":"IF(ISBLANK('Scholars Nomination Form'!S61),\"\",'Scholars Nomination Form'!S61)","v":""},{"$f":"IF(ISBLANK('Scholars Nomination Form'!T61),\"\",'Scholars Nomination Form'!T61)","v":""},{"$f":"IF(ISBLANK('Scholars Nomination Form'!U61),\"\",'Scholars Nomination Form'!U61)","v":""},{"$f":"IF(ISBLANK('Scholars Nomination Form'!V61),\"\",'Scholars Nomination Form'!V61)","v":""},{"$f":"IF(ISBLANK('Scholars Nomination Form'!W61),\"\",'Scholars Nomination Form'!W61)","v":""},{"$f":"IF(ISBLANK('Scholars Nomination Form'!X61),\"\",'Scholars Nomination Form'!X61)","v":""},{"$f":"IF(ISBLANK('Scholars Nomination Form'!Y61),\"\",'Scholars Nomination Form'!Y61)","v":""},{"$f":"IF(ISBLANK('Scholars Nomination Form'!Z61),\"\",'Scholars Nomination Form'!Z61)","v":""},{"$f":"IF(ISBLANK('Scholars Nomination Form'!AA61),\"\",'Scholars Nomination Form'!AA61)","v":""}]
[{"$f":"IF(ISBLANK('Scholars Nomination Form'!$F62),\"\",'Scholars Nomination Form'!$C$11)","v":""},{"$f":"IF(ISBLANK('Scholars Nomination Form'!$F62),\"\",'Scholars Nomination Form'!$C$12)","v":""},{"$f":"IF(ISBLANK('Scholars Nomination Form'!$F62),\"\",'Scholars Nomination Form'!$C$13)","v":""},{"$f":"IF(ISBLANK('Scholars Nomination Form'!$F62),\"\",'Scholars Nomination Form'!$C$14)","v":""},{"$f":"IF(ISBLANK('Scholars Nomination Form'!$F62),\"\",'Scholars Nomination Form'!$C$15)","v":""},{"$f":"IF(ISBLANK('Scholars Nomination Form'!$F62),\"\",'Scholars Nomination Form'!$C$16)","v":""},{"$f":"IF(ISBLANK('Scholars Nomination Form'!B62),\"\",'Scholars Nomination Form'!B62)","v":""},{"$f":"IF(ISBLANK('Scholars Nomination Form'!D62),\"\",'Scholars Nomination Form'!D62)","v":""},{"$f":"IF(ISBLANK('Scholars Nomination Form'!E62),\"\",'Scholars Nomination Form'!E62)","v":""},{"$f":"IF(ISBLANK('Scholars Nomination Form'!F62),\"\",'Scholars Nomination Form'!F62)","v":""},{"$f":"IF(ISBLANK('Scholars Nomination Form'!G62),\"\",'Scholars Nomination Form'!G62)","v":""},{"$f":"IF(ISBLANK('Scholars Nomination Form'!H62),\"\",'Scholars Nomination Form'!H62)","v":""},{"$f":"IF(ISBLANK('Scholars Nomination Form'!I62),\"\",'Scholars Nomination Form'!I62)","v":""},{"$f":"IF(ISBLANK('Scholars Nomination Form'!J62),\"\",'Scholars Nomination Form'!J62)","v":""},{"$f":"IF(ISBLANK('Scholars Nomination Form'!K62),\"\",'Scholars Nomination Form'!K62)","v":""},{"$f":"IF(ISBLANK('Scholars Nomination Form'!L62),\"\",'Scholars Nomination Form'!L62)","v":""},{"$f":"IF(ISBLANK('Scholars Nomination Form'!M62),\"\",'Scholars Nomination Form'!M62)","v":""},{"$f":"IF(ISBLANK('Scholars Nomination Form'!N62),\"\",'Scholars Nomination Form'!N62)","v":""},{"$f":"IF(ISBLANK('Scholars Nomination Form'!O62),\"\",'Scholars Nomination Form'!O62)","v":""},{"$f":"IF(ISBLANK('Scholars Nomination Form'!P62),\"\",'Scholars Nomination Form'!P62)","v":""},{"$f":"IF(ISBLANK('Scholars Nomination Form'!Q62),\"\",'Scholars Nomination Form'!Q62)","v":""},{"$f":"IF(ISBLANK('Scholars Nomination Form'!R62),\"\",'Scholars Nomination Form'!R62)","v":""},{"$f":"IF(ISBLANK('Scholars Nomination Form'!S62),\"\",'Scholars Nomination Form'!S62)","v":""},{"$f":"IF(ISBLANK('Scholars Nomination Form'!T62),\"\",'Scholars Nomination Form'!T62)","v":""},{"$f":"IF(ISBLANK('Scholars Nomination Form'!U62),\"\",'Scholars Nomination Form'!U62)","v":""},{"$f":"IF(ISBLANK('Scholars Nomination Form'!V62),\"\",'Scholars Nomination Form'!V62)","v":""},{"$f":"IF(ISBLANK('Scholars Nomination Form'!W62),\"\",'Scholars Nomination Form'!W62)","v":""},{"$f":"IF(ISBLANK('Scholars Nomination Form'!X62),\"\",'Scholars Nomination Form'!X62)","v":""},{"$f":"IF(ISBLANK('Scholars Nomination Form'!Y62),\"\",'Scholars Nomination Form'!Y62)","v":""},{"$f":"IF(ISBLANK('Scholars Nomination Form'!Z62),\"\",'Scholars Nomination Form'!Z62)","v":""},{"$f":"IF(ISBLANK('Scholars Nomination Form'!AA62),\"\",'Scholars Nomination Form'!AA62)","v":""}]
[{"$f":"IF(ISBLANK('Scholars Nomination Form'!$F63),\"\",'Scholars Nomination Form'!$C$11)","v":""},{"$f":"IF(ISBLANK('Scholars Nomination Form'!$F63),\"\",'Scholars Nomination Form'!$C$12)","v":""},{"$f":"IF(ISBLANK('Scholars Nomination Form'!$F63),\"\",'Scholars Nomination Form'!$C$13)","v":""},{"$f":"IF(ISBLANK('Scholars Nomination Form'!$F63),\"\",'Scholars Nomination Form'!$C$14)","v":""},{"$f":"IF(ISBLANK('Scholars Nomination Form'!$F63),\"\",'Scholars Nomination Form'!$C$15)","v":""},{"$f":"IF(ISBLANK('Scholars Nomination Form'!$F63),\"\",'Scholars Nomination Form'!$C$16)","v":""},{"$f":"IF(ISBLANK('Scholars Nomination Form'!B63),\"\",'Scholars Nomination Form'!B63)","v":""},{"$f":"IF(ISBLANK('Scholars Nomination Form'!D63),\"\",'Scholars Nomination Form'!D63)","v":""},{"$f":"IF(ISBLANK('Scholars Nomination Form'!E63),\"\",'Scholars Nomination Form'!E63)","v":""},{"$f":"IF(ISBLANK('Scholars Nomination Form'!F63),\"\",'Scholars Nomination Form'!F63)","v":""},{"$f":"IF(ISBLANK('Scholars Nomination Form'!G63),\"\",'Scholars Nomination Form'!G63)","v":""},{"$f":"IF(ISBLANK('Scholars Nomination Form'!H63),\"\",'Scholars Nomination Form'!H63)","v":""},{"$f":"IF(ISBLANK('Scholars Nomination Form'!I63),\"\",'Scholars Nomination Form'!I63)","v":""},{"$f":"IF(ISBLANK('Scholars Nomination Form'!J63),\"\",'Scholars Nomination Form'!J63)","v":""},{"$f":"IF(ISBLANK('Scholars Nomination Form'!K63),\"\",'Scholars Nomination Form'!K63)","v":""},{"$f":"IF(ISBLANK('Scholars Nomination Form'!L63),\"\",'Scholars Nomination Form'!L63)","v":""},{"$f":"IF(ISBLANK('Scholars Nomination Form'!M63),\"\",'Scholars Nomination Form'!M63)","v":""},{"$f":"IF(ISBLANK('Scholars Nomination Form'!N63),\"\",'Scholars Nomination Form'!N63)","v":""},{"$f":"IF(ISBLANK('Scholars Nomination Form'!O63),\"\",'Scholars Nomination Form'!O63)","v":""},{"$f":"IF(ISBLANK('Scholars Nomination Form'!P63),\"\",'Scholars Nomination Form'!P63)","v":""},{"$f":"IF(ISBLANK('Scholars Nomination Form'!Q63),\"\",'Scholars Nomination Form'!Q63)","v":""},{"$f":"IF(ISBLANK('Scholars Nomination Form'!R63),\"\",'Scholars Nomination Form'!R63)","v":""},{"$f":"IF(ISBLANK('Scholars Nomination Form'!S63),\"\",'Scholars Nomination Form'!S63)","v":""},{"$f":"IF(ISBLANK('Scholars Nomination Form'!T63),\"\",'Scholars Nomination Form'!T63)","v":""},{"$f":"IF(ISBLANK('Scholars Nomination Form'!U63),\"\",'Scholars Nomination Form'!U63)","v":""},{"$f":"IF(ISBLANK('Scholars Nomination Form'!V63),\"\",'Scholars Nomination Form'!V63)","v":""},{"$f":"IF(ISBLANK('Scholars Nomination Form'!W63),\"\",'Scholars Nomination Form'!W63)","v":""},{"$f":"IF(ISBLANK('Scholars Nomination Form'!X63),\"\",'Scholars Nomination Form'!X63)","v":""},{"$f":"IF(ISBLANK('Scholars Nomination Form'!Y63),\"\",'Scholars Nomination Form'!Y63)","v":""},{"$f":"IF(ISBLANK('Scholars Nomination Form'!Z63),\"\",'Scholars Nomination Form'!Z63)","v":""},{"$f":"IF(ISBLANK('Scholars Nomination Form'!AA63),\"\",'Scholars Nomination Form'!AA63)","v":""}]
[{"$f":"IF(ISBLANK('Scholars Nomination Form'!$F64),\"\",'Scholars Nomination Form'!$C$11)","v":""},{"$f":"IF(ISBLANK('Scholars Nomination Form'!$F64),\"\",'Scholars Nomination Form'!$C$12)","v":""},{"$f":"IF(ISBLANK('Scholars Nomination Form'!$F64),\"\",'Scholars Nomination Form'!$C$13)","v":""},{"$f":"IF(ISBLANK('Scholars Nomination Form'!$F64),\"\",'Scholars Nomination Form'!$C$14)","v":""},{"$f":"IF(ISBLANK('Scholars Nomination Form'!$F64),\"\",'Scholars Nomination Form'!$C$15)","v":""},{"$f":"IF(ISBLANK('Scholars Nomination Form'!$F64),\"\",'Scholars Nomination Form'!$C$16)","v":""},{"$f":"IF(ISBLANK('Scholars Nomination Form'!B64),\"\",'Scholars Nomination Form'!B64)","v":""},{"$f":"IF(ISBLANK('Scholars Nomination Form'!D64),\"\",'Scholars Nomination Form'!D64)","v":""},{"$f":"IF(ISBLANK('Scholars Nomination Form'!E64),\"\",'Scholars Nomination Form'!E64)","v":""},{"$f":"IF(ISBLANK('Scholars Nomination Form'!F64),\"\",'Scholars Nomination Form'!F64)","v":""},{"$f":"IF(ISBLANK('Scholars Nomination Form'!G64),\"\",'Scholars Nomination Form'!G64)","v":""},{"$f":"IF(ISBLANK('Scholars Nomination Form'!H64),\"\",'Scholars Nomination Form'!H64)","v":""},{"$f":"IF(ISBLANK('Scholars Nomination Form'!I64),\"\",'Scholars Nomination Form'!I64)","v":""},{"$f":"IF(ISBLANK('Scholars Nomination Form'!J64),\"\",'Scholars Nomination Form'!J64)","v":""},{"$f":"IF(ISBLANK('Scholars Nomination Form'!K64),\"\",'Scholars Nomination Form'!K64)","v":""},{"$f":"IF(ISBLANK('Scholars Nomination Form'!L64),\"\",'Scholars Nomination Form'!L64)","v":""},{"$f":"IF(ISBLANK('Scholars Nomination Form'!M64),\"\",'Scholars Nomination Form'!M64)","v":""},{"$f":"IF(ISBLANK('Scholars Nomination Form'!N64),\"\",'Scholars Nomination Form'!N64)","v":""},{"$f":"IF(ISBLANK('Scholars Nomination Form'!O64),\"\",'Scholars Nomination Form'!O64)","v":""},{"$f":"IF(ISBLANK('Scholars Nomination Form'!P64),\"\",'Scholars Nomination Form'!P64)","v":""},{"$f":"IF(ISBLANK('Scholars Nomination Form'!Q64),\"\",'Scholars Nomination Form'!Q64)","v":""},{"$f":"IF(ISBLANK('Scholars Nomination Form'!R64),\"\",'Scholars Nomination Form'!R64)","v":""},{"$f":"IF(ISBLANK('Scholars Nomination Form'!S64),\"\",'Scholars Nomination Form'!S64)","v":""},{"$f":"IF(ISBLANK('Scholars Nomination Form'!T64),\"\",'Scholars Nomination Form'!T64)","v":""},{"$f":"IF(ISBLANK('Scholars Nomination Form'!U64),\"\",'Scholars Nomination Form'!U64)","v":""},{"$f":"IF(ISBLANK('Scholars Nomination Form'!V64),\"\",'Scholars Nomination Form'!V64)","v":""},{"$f":"IF(ISBLANK('Scholars Nomination Form'!W64),\"\",'Scholars Nomination Form'!W64)","v":""},{"$f":"IF(ISBLANK('Scholars Nomination Form'!X64),\"\",'Scholars Nomination Form'!X64)","v":""},{"$f":"IF(ISBLANK('Scholars Nomination Form'!Y64),\"\",'Scholars Nomination Form'!Y64)","v":""},{"$f":"IF(ISBLANK('Scholars Nomination Form'!Z64),\"\",'Scholars Nomination Form'!Z64)","v":""},{"$f":"IF(ISBLANK('Scholars Nomination Form'!AA64),\"\",'Scholars Nomination Form'!AA64)","v":""}]
[{"$f":"IF(ISBLANK('Scholars Nomination Form'!$F65),\"\",'Scholars Nomination Form'!$C$11)","v":""},{"$f":"IF(ISBLANK('Scholars Nomination Form'!$F65),\"\",'Scholars Nomination Form'!$C$12)","v":""},{"$f":"IF(ISBLANK('Scholars Nomination Form'!$F65),\"\",'Scholars Nomination Form'!$C$13)","v":""},{"$f":"IF(ISBLANK('Scholars Nomination Form'!$F65),\"\",'Scholars Nomination Form'!$C$14)","v":""},{"$f":"IF(ISBLANK('Scholars Nomination Form'!$F65),\"\",'Scholars Nomination Form'!$C$15)","v":""},{"$f":"IF(ISBLANK('Scholars Nomination Form'!$F65),\"\",'Scholars Nomination Form'!$C$16)","v":""},{"$f":"IF(ISBLANK('Scholars Nomination Form'!B65),\"\",'Scholars Nomination Form'!B65)","v":""},{"$f":"IF(ISBLANK('Scholars Nomination Form'!D65),\"\",'Scholars Nomination Form'!D65)","v":""},{"$f":"IF(ISBLANK('Scholars Nomination Form'!E65),\"\",'Scholars Nomination Form'!E65)","v":""},{"$f":"IF(ISBLANK('Scholars Nomination Form'!F65),\"\",'Scholars Nomination Form'!F65)","v":""},{"$f":"IF(ISBLANK('Scholars Nomination Form'!G65),\"\",'Scholars Nomination Form'!G65)","v":""},{"$f":"IF(ISBLANK('Scholars Nomination Form'!H65),\"\",'Scholars Nomination Form'!H65)","v":""},{"$f":"IF(ISBLANK('Scholars Nomination Form'!I65),\"\",'Scholars Nomination Form'!I65)","v":""},{"$f":"IF(ISBLANK('Scholars Nomination Form'!J65),\"\",'Scholars Nomination Form'!J65)","v":""},{"$f":"IF(ISBLANK('Scholars Nomination Form'!K65),\"\",'Scholars Nomination Form'!K65)","v":""},{"$f":"IF(ISBLANK('Scholars Nomination Form'!L65),\"\",'Scholars Nomination Form'!L65)","v":""},{"$f":"IF(ISBLANK('Scholars Nomination Form'!M65),\"\",'Scholars Nomination Form'!M65)","v":""},{"$f":"IF(ISBLANK('Scholars Nomination Form'!N65),\"\",'Scholars Nomination Form'!N65)","v":""},{"$f":"IF(ISBLANK('Scholars Nomination Form'!O65),\"\",'Scholars Nomination Form'!O65)","v":""},{"$f":"IF(ISBLANK('Scholars Nomination Form'!P65),\"\",'Scholars Nomination Form'!P65)","v":""},{"$f":"IF(ISBLANK('Scholars Nomination Form'!Q65),\"\",'Scholars Nomination Form'!Q65)","v":""},{"$f":"IF(ISBLANK('Scholars Nomination Form'!R65),\"\",'Scholars Nomination Form'!R65)","v":""},{"$f":"IF(ISBLANK('Scholars Nomination Form'!S65),\"\",'Scholars Nomination Form'!S65)","v":""},{"$f":"IF(ISBLANK('Scholars Nomination Form'!T65),\"\",'Scholars Nomination Form'!T65)","v":""},{"$f":"IF(ISBLANK('Scholars Nomination Form'!U65),\"\",'Scholars Nomination Form'!U65)","v":""},{"$f":"IF(ISBLANK('Scholars Nomination Form'!V65),\"\",'Scholars Nomination Form'!V65)","v":""},{"$f":"IF(ISBLANK('Scholars Nomination Form'!W65),\"\",'Scholars Nomination Form'!W65)","v":""},{"$f":"IF(ISBLANK('Scholars Nomination Form'!X65),\"\",'Scholars Nomination Form'!X65)","v":""},{"$f":"IF(ISBLANK('Scholars Nomination Form'!Y65),\"\",'Scholars Nomination Form'!Y65)","v":""},{"$f":"IF(ISBLANK('Scholars Nomination Form'!Z65),\"\",'Scholars Nomination Form'!Z65)","v":""},{"$f":"IF(ISBLANK('Scholars Nomination Form'!AA65),\"\",'Scholars Nomination Form'!AA65)","v":""}]
[{"$f":"IF(ISBLANK('Scholars Nomination Form'!$F66),\"\",'Scholars Nomination Form'!$C$11)","v":""},{"$f":"IF(ISBLANK('Scholars Nomination Form'!$F66),\"\",'Scholars Nomination Form'!$C$12)","v":""},{"$f":"IF(ISBLANK('Scholars Nomination Form'!$F66),\"\",'Scholars Nomination Form'!$C$13)","v":""},{"$f":"IF(ISBLANK('Scholars Nomination Form'!$F66),\"\",'Scholars Nomination Form'!$C$14)","v":""},{"$f":"IF(ISBLANK('Scholars Nomination Form'!$F66),\"\",'Scholars Nomination Form'!$C$15)","v":""},{"$f":"IF(ISBLANK('Scholars Nomination Form'!$F66),\"\",'Scholars Nomination Form'!$C$16)","v":""},{"$f":"IF(ISBLANK('Scholars Nomination Form'!B66),\"\",'Scholars Nomination Form'!B66)","v":""},{"$f":"IF(ISBLANK('Scholars Nomination Form'!D66),\"\",'Scholars Nomination Form'!D66)","v":""},{"$f":"IF(ISBLANK('Scholars Nomination Form'!E66),\"\",'Scholars Nomination Form'!E66)","v":""},{"$f":"IF(ISBLANK('Scholars Nomination Form'!F66),\"\",'Scholars Nomination Form'!F66)","v":""},{"$f":"IF(ISBLANK('Scholars Nomination Form'!G66),\"\",'Scholars Nomination Form'!G66)","v":""},{"$f":"IF(ISBLANK('Scholars Nomination Form'!H66),\"\",'Scholars Nomination Form'!H66)","v":""},{"$f":"IF(ISBLANK('Scholars Nomination Form'!I66),\"\",'Scholars Nomination Form'!I66)","v":""},{"$f":"IF(ISBLANK('Scholars Nomination Form'!J66),\"\",'Scholars Nomination Form'!J66)","v":""},{"$f":"IF(ISBLANK('Scholars Nomination Form'!K66),\"\",'Scholars Nomination Form'!K66)","v":""},{"$f":"IF(ISBLANK('Scholars Nomination Form'!L66),\"\",'Scholars Nomination Form'!L66)","v":""},{"$f":"IF(ISBLANK('Scholars Nomination Form'!M66),\"\",'Scholars Nomination Form'!M66)","v":""},{"$f":"IF(ISBLANK('Scholars Nomination Form'!N66),\"\",'Scholars Nomination Form'!N66)","v":""},{"$f":"IF(ISBLANK('Scholars Nomination Form'!O66),\"\",'Scholars Nomination Form'!O66)","v":""},{"$f":"IF(ISBLANK('Scholars Nomination Form'!P66),\"\",'Scholars Nomination Form'!P66)","v":""},{"$f":"IF(ISBLANK('Scholars Nomination Form'!Q66),\"\",'Scholars Nomination Form'!Q66)","v":""},{"$f":"IF(ISBLANK('Scholars Nomination Form'!R66),\"\",'Scholars Nomination Form'!R66)","v":""},{"$f":"IF(ISBLANK('Scholars Nomination Form'!S66),\"\",'Scholars Nomination Form'!S66)","v":""},{"$f":"IF(ISBLANK('Scholars Nomination Form'!T66),\"\",'Scholars Nomination Form'!T66)","v":""},{"$f":"IF(ISBLANK('Scholars Nomination Form'!U66),\"\",'Scholars Nomination Form'!U66)","v":""},{"$f":"IF(ISBLANK('Scholars Nomination Form'!V66),\"\",'Scholars Nomination Form'!V66)","v":""},{"$f":"IF(ISBLANK('Scholars Nomination Form'!W66),\"\",'Scholars Nomination Form'!W66)","v":""},{"$f":"IF(ISBLANK('Scholars Nomination Form'!X66),\"\",'Scholars Nomination Form'!X66)","v":""},{"$f":"IF(ISBLANK('Scholars Nomination Form'!Y66),\"\",'Scholars Nomination Form'!Y66)","v":""},{"$f":"IF(ISBLANK('Scholars Nomination Form'!Z66),\"\",'Scholars Nomination Form'!Z66)","v":""},{"$f":"IF(ISBLANK('Scholars Nomination Form'!AA66),\"\",'Scholars Nomination Form'!AA66)","v":""}]
[{"$f":"IF(ISBLANK('Scholars Nomination Form'!$F67),\"\",'Scholars Nomination Form'!$C$11)","v":""},{"$f":"IF(ISBLANK('Scholars Nomination Form'!$F67),\"\",'Scholars Nomination Form'!$C$12)","v":""},{"$f":"IF(ISBLANK('Scholars Nomination Form'!$F67),\"\",'Scholars Nomination Form'!$C$13)","v":""},{"$f":"IF(ISBLANK('Scholars Nomination Form'!$F67),\"\",'Scholars Nomination Form'!$C$14)","v":""},{"$f":"IF(ISBLANK('Scholars Nomination Form'!$F67),\"\",'Scholars Nomination Form'!$C$15)","v":""},{"$f":"IF(ISBLANK('Scholars Nomination Form'!$F67),\"\",'Scholars Nomination Form'!$C$16)","v":""},{"$f":"IF(ISBLANK('Scholars Nomination Form'!B67),\"\",'Scholars Nomination Form'!B67)","v":""},{"$f":"IF(ISBLANK('Scholars Nomination Form'!D67),\"\",'Scholars Nomination Form'!D67)","v":""},{"$f":"IF(ISBLANK('Scholars Nomination Form'!E67),\"\",'Scholars Nomination Form'!E67)","v":""},{"$f":"IF(ISBLANK('Scholars Nomination Form'!F67),\"\",'Scholars Nomination Form'!F67)","v":""},{"$f":"IF(ISBLANK('Scholars Nomination Form'!G67),\"\",'Scholars Nomination Form'!G67)","v":""},{"$f":"IF(ISBLANK('Scholars Nomination Form'!H67),\"\",'Scholars Nomination Form'!H67)","v":""},{"$f":"IF(ISBLANK('Scholars Nomination Form'!I67),\"\",'Scholars Nomination Form'!I67)","v":""},{"$f":"IF(ISBLANK('Scholars Nomination Form'!J67),\"\",'Scholars Nomination Form'!J67)","v":""},{"$f":"IF(ISBLANK('Scholars Nomination Form'!K67),\"\",'Scholars Nomination Form'!K67)","v":""},{"$f":"IF(ISBLANK('Scholars Nomination Form'!L67),\"\",'Scholars Nomination Form'!L67)","v":""},{"$f":"IF(ISBLANK('Scholars Nomination Form'!M67),\"\",'Scholars Nomination Form'!M67)","v":""},{"$f":"IF(ISBLANK('Scholars Nomination Form'!N67),\"\",'Scholars Nomination Form'!N67)","v":""},{"$f":"IF(ISBLANK('Scholars Nomination Form'!O67),\"\",'Scholars Nomination Form'!O67)","v":""},{"$f":"IF(ISBLANK('Scholars Nomination Form'!P67),\"\",'Scholars Nomination Form'!P67)","v":""},{"$f":"IF(ISBLANK('Scholars Nomination Form'!Q67),\"\",'Scholars Nomination Form'!Q67)","v":""},{"$f":"IF(ISBLANK('Scholars Nomination Form'!R67),\"\",'Scholars Nomination Form'!R67)","v":""},{"$f":"IF(ISBLANK('Scholars Nomination Form'!S67),\"\",'Scholars Nomination Form'!S67)","v":""},{"$f":"IF(ISBLANK('Scholars Nomination Form'!T67),\"\",'Scholars Nomination Form'!T67)","v":""},{"$f":"IF(ISBLANK('Scholars Nomination Form'!U67),\"\",'Scholars Nomination Form'!U67)","v":""},{"$f":"IF(ISBLANK('Scholars Nomination Form'!V67),\"\",'Scholars Nomination Form'!V67)","v":""},{"$f":"IF(ISBLANK('Scholars Nomination Form'!W67),\"\",'Scholars Nomination Form'!W67)","v":""},{"$f":"IF(ISBLANK('Scholars Nomination Form'!X67),\"\",'Scholars Nomination Form'!X67)","v":""},{"$f":"IF(ISBLANK('Scholars Nomination Form'!Y67),\"\",'Scholars Nomination Form'!Y67)","v":""},{"$f":"IF(ISBLANK('Scholars Nomination Form'!Z67),\"\",'Scholars Nomination Form'!Z67)","v":""},{"$f":"IF(ISBLANK('Scholars Nomination Form'!AA67),\"\",'Scholars Nomination Form'!AA67)","v":""}]
[{"$f":"IF(ISBLANK('Scholars Nomination Form'!$F68),\"\",'Scholars Nomination Form'!$C$11)","v":""},{"$f":"IF(ISBLANK('Scholars Nomination Form'!$F68),\"\",'Scholars Nomination Form'!$C$12)","v":""},{"$f":"IF(ISBLANK('Scholars Nomination Form'!$F68),\"\",'Scholars Nomination Form'!$C$13)","v":""},{"$f":"IF(ISBLANK('Scholars Nomination Form'!$F68),\"\",'Scholars Nomination Form'!$C$14)","v":""},{"$f":"IF(ISBLANK('Scholars Nomination Form'!$F68),\"\",'Scholars Nomination Form'!$C$15)","v":""},{"$f":"IF(ISBLANK('Scholars Nomination Form'!$F68),\"\",'Scholars Nomination Form'!$C$16)","v":""},{"$f":"IF(ISBLANK('Scholars Nomination Form'!B68),\"\",'Scholars Nomination Form'!B68)","v":""},{"$f":"IF(ISBLANK('Scholars Nomination Form'!D68),\"\",'Scholars Nomination Form'!D68)","v":""},{"$f":"IF(ISBLANK('Scholars Nomination Form'!E68),\"\",'Scholars Nomination Form'!E68)","v":""},{"$f":"IF(ISBLANK('Scholars Nomination Form'!F68),\"\",'Scholars Nomination Form'!F68)","v":""},{"$f":"IF(ISBLANK('Scholars Nomination Form'!G68),\"\",'Scholars Nomination Form'!G68)","v":""},{"$f":"IF(ISBLANK('Scholars Nomination Form'!H68),\"\",'Scholars Nomination Form'!H68)","v":""},{"$f":"IF(ISBLANK('Scholars Nomination Form'!I68),\"\",'Scholars Nomination Form'!I68)","v":""},{"$f":"IF(ISBLANK('Scholars Nomination Form'!J68),\"\",'Scholars Nomination Form'!J68)","v":""},{"$f":"IF(ISBLANK('Scholars Nomination Form'!K68),\"\",'Scholars Nomination Form'!K68)","v":""},{"$f":"IF(ISBLANK('Scholars Nomination Form'!L68),\"\",'Scholars Nomination Form'!L68)","v":""},{"$f":"IF(ISBLANK('Scholars Nomination Form'!M68),\"\",'Scholars Nomination Form'!M68)","v":""},{"$f":"IF(ISBLANK('Scholars Nomination Form'!N68),\"\",'Scholars Nomination Form'!N68)","v":""},{"$f":"IF(ISBLANK('Scholars Nomination Form'!O68),\"\",'Scholars Nomination Form'!O68)","v":""},{"$f":"IF(ISBLANK('Scholars Nomination Form'!P68),\"\",'Scholars Nomination Form'!P68)","v":""},{"$f":"IF(ISBLANK('Scholars Nomination Form'!Q68),\"\",'Scholars Nomination Form'!Q68)","v":""},{"$f":"IF(ISBLANK('Scholars Nomination Form'!R68),\"\",'Scholars Nomination Form'!R68)","v":""},{"$f":"IF(ISBLANK('Scholars Nomination Form'!S68),\"\",'Scholars Nomination Form'!S68)","v":""},{"$f":"IF(ISBLANK('Scholars Nomination Form'!T68),\"\",'Scholars Nomination Form'!T68)","v":""},{"$f":"IF(ISBLANK('Scholars Nomination Form'!U68),\"\",'Scholars Nomination Form'!U68)","v":""},{"$f":"IF(ISBLANK('Scholars Nomination Form'!V68),\"\",'Scholars Nomination Form'!V68)","v":""},{"$f":"IF(ISBLANK('Scholars Nomination Form'!W68),\"\",'Scholars Nomination Form'!W68)","v":""},{"$f":"IF(ISBLANK('Scholars Nomination Form'!X68),\"\",'Scholars Nomination Form'!X68)","v":""},{"$f":"IF(ISBLANK('Scholars Nomination Form'!Y68),\"\",'Scholars Nomination Form'!Y68)","v":""},{"$f":"IF(ISBLANK('Scholars Nomination Form'!Z68),\"\",'Scholars Nomination Form'!Z68)","v":""},{"$f":"IF(ISBLANK('Scholars Nomination Form'!AA68),\"\",'Scholars Nomination Form'!AA68)","v":""}]
[{"$f":"IF(ISBLANK('Scholars Nomination Form'!$F69),\"\",'Scholars Nomination Form'!$C$11)","v":""},{"$f":"IF(ISBLANK('Scholars Nomination Form'!$F69),\"\",'Scholars Nomination Form'!$C$12)","v":""},{"$f":"IF(ISBLANK('Scholars Nomination Form'!$F69),\"\",'Scholars Nomination Form'!$C$13)","v":""},{"$f":"IF(ISBLANK('Scholars Nomination Form'!$F69),\"\",'Scholars Nomination Form'!$C$14)","v":""},{"$f":"IF(ISBLANK('Scholars Nomination Form'!$F69),\"\",'Scholars Nomination Form'!$C$15)","v":""},{"$f":"IF(ISBLANK('Scholars Nomination Form'!$F69),\"\",'Scholars Nomination Form'!$C$16)","v":""},{"$f":"IF(ISBLANK('Scholars Nomination Form'!B69),\"\",'Scholars Nomination Form'!B69)","v":""},{"$f":"IF(ISBLANK('Scholars Nomination Form'!D69),\"\",'Scholars Nomination Form'!D69)","v":""},{"$f":"IF(ISBLANK('Scholars Nomination Form'!E69),\"\",'Scholars Nomination Form'!E69)","v":""},{"$f":"IF(ISBLANK('Scholars Nomination Form'!F69),\"\",'Scholars Nomination Form'!F69)","v":""},{"$f":"IF(ISBLANK('Scholars Nomination Form'!G69),\"\",'Scholars Nomination Form'!G69)","v":""},{"$f":"IF(ISBLANK('Scholars Nomination Form'!H69),\"\",'Scholars Nomination Form'!H69)","v":""},{"$f":"IF(ISBLANK('Scholars Nomination Form'!I69),\"\",'Scholars Nomination Form'!I69)","v":""},{"$f":"IF(ISBLANK('Scholars Nomination Form'!J69),\"\",'Scholars Nomination Form'!J69)","v":""},{"$f":"IF(ISBLANK('Scholars Nomination Form'!K69),\"\",'Scholars Nomination Form'!K69)","v":""},{"$f":"IF(ISBLANK('Scholars Nomination Form'!L69),\"\",'Scholars Nomination Form'!L69)","v":""},{"$f":"IF(ISBLANK('Scholars Nomination Form'!M69),\"\",'Scholars Nomination Form'!M69)","v":""},{"$f":"IF(ISBLANK('Scholars Nomination Form'!N69),\"\",'Scholars Nomination Form'!N69)","v":""},{"$f":"IF(ISBLANK('Scholars Nomination Form'!O69),\"\",'Scholars Nomination Form'!O69)","v":""},{"$f":"IF(ISBLANK('Scholars Nomination Form'!P69),\"\",'Scholars Nomination Form'!P69)","v":""},{"$f":"IF(ISBLANK('Scholars Nomination Form'!Q69),\"\",'Scholars Nomination Form'!Q69)","v":""},{"$f":"IF(ISBLANK('Scholars Nomination Form'!R69),\"\",'Scholars Nomination Form'!R69)","v":""},{"$f":"IF(ISBLANK('Scholars Nomination Form'!S69),\"\",'Scholars Nomination Form'!S69)","v":""},{"$f":"IF(ISBLANK('Scholars Nomination Form'!T69),\"\",'Scholars Nomination Form'!T69)","v":""},{"$f":"IF(ISBLANK('Scholars Nomination Form'!U69),\"\",'Scholars Nomination Form'!U69)","v":""},{"$f":"IF(ISBLANK('Scholars Nomination Form'!V69),\"\",'Scholars Nomination Form'!V69)","v":""},{"$f":"IF(ISBLANK('Scholars Nomination Form'!W69),\"\",'Scholars Nomination Form'!W69)","v":""},{"$f":"IF(ISBLANK('Scholars Nomination Form'!X69),\"\",'Scholars Nomination Form'!X69)","v":""},{"$f":"IF(ISBLANK('Scholars Nomination Form'!Y69),\"\",'Scholars Nomination Form'!Y69)","v":""},{"$f":"IF(ISBLANK('Scholars Nomination Form'!Z69),\"\",'Scholars Nomination Form'!Z69)","v":""},{"$f":"IF(ISBLANK('Scholars Nomination Form'!AA69),\"\",'Scholars Nomination Form'!AA69)","v":""}]
[{"$f":"IF(ISBLANK('Scholars Nomination Form'!$F70),\"\",'Scholars Nomination Form'!$C$11)","v":""},{"$f":"IF(ISBLANK('Scholars Nomination Form'!$F70),\"\",'Scholars Nomination Form'!$C$12)","v":""},{"$f":"IF(ISBLANK('Scholars Nomination Form'!$F70),\"\",'Scholars Nomination Form'!$C$13)","v":""},{"$f":"IF(ISBLANK('Scholars Nomination Form'!$F70),\"\",'Scholars Nomination Form'!$C$14)","v":""},{"$f":"IF(ISBLANK('Scholars Nomination Form'!$F70),\"\",'Scholars Nomination Form'!$C$15)","v":""},{"$f":"IF(ISBLANK('Scholars Nomination Form'!$F70),\"\",'Scholars Nomination Form'!$C$16)","v":""},{"$f":"IF(ISBLANK('Scholars Nomination Form'!B70),\"\",'Scholars Nomination Form'!B70)","v":""},{"$f":"IF(ISBLANK('Scholars Nomination Form'!D70),\"\",'Scholars Nomination Form'!D70)","v":""},{"$f":"IF(ISBLANK('Scholars Nomination Form'!E70),\"\",'Scholars Nomination Form'!E70)","v":""},{"$f":"IF(ISBLANK('Scholars Nomination Form'!F70),\"\",'Scholars Nomination Form'!F70)","v":""},{"$f":"IF(ISBLANK('Scholars Nomination Form'!G70),\"\",'Scholars Nomination Form'!G70)","v":""},{"$f":"IF(ISBLANK('Scholars Nomination Form'!H70),\"\",'Scholars Nomination Form'!H70)","v":""},{"$f":"IF(ISBLANK('Scholars Nomination Form'!I70),\"\",'Scholars Nomination Form'!I70)","v":""},{"$f":"IF(ISBLANK('Scholars Nomination Form'!J70),\"\",'Scholars Nomination Form'!J70)","v":""},{"$f":"IF(ISBLANK('Scholars Nomination Form'!K70),\"\",'Scholars Nomination Form'!K70)","v":""},{"$f":"IF(ISBLANK('Scholars Nomination Form'!L70),\"\",'Scholars Nomination Form'!L70)","v":""},{"$f":"IF(ISBLANK('Scholars Nomination Form'!M70),\"\",'Scholars Nomination Form'!M70)","v":""},{"$f":"IF(ISBLANK('Scholars Nomination Form'!N70),\"\",'Scholars Nomination Form'!N70)","v":""},{"$f":"IF(ISBLANK('Scholars Nomination Form'!O70),\"\",'Scholars Nomination Form'!O70)","v":""},{"$f":"IF(ISBLANK('Scholars Nomination Form'!P70),\"\",'Scholars Nomination Form'!P70)","v":""},{"$f":"IF(ISBLANK('Scholars Nomination Form'!Q70),\"\",'Scholars Nomination Form'!Q70)","v":""},{"$f":"IF(ISBLANK('Scholars Nomination Form'!R70),\"\",'Scholars Nomination Form'!R70)","v":""},{"$f":"IF(ISBLANK('Scholars Nomination Form'!S70),\"\",'Scholars Nomination Form'!S70)","v":""},{"$f":"IF(ISBLANK('Scholars Nomination Form'!T70),\"\",'Scholars Nomination Form'!T70)","v":""},{"$f":"IF(ISBLANK('Scholars Nomination Form'!U70),\"\",'Scholars Nomination Form'!U70)","v":""},{"$f":"IF(ISBLANK('Scholars Nomination Form'!V70),\"\",'Scholars Nomination Form'!V70)","v":""},{"$f":"IF(ISBLANK('Scholars Nomination Form'!W70),\"\",'Scholars Nomination Form'!W70)","v":""},{"$f":"IF(ISBLANK('Scholars Nomination Form'!X70),\"\",'Scholars Nomination Form'!X70)","v":""},{"$f":"IF(ISBLANK('Scholars Nomination Form'!Y70),\"\",'Scholars Nomination Form'!Y70)","v":""},{"$f":"IF(ISBLANK('Scholars Nomination Form'!Z70),\"\",'Scholars Nomination Form'!Z70)","v":""},{"$f":"IF(ISBLANK('Scholars Nomination Form'!AA70),\"\",'Scholars Nomination Form'!AA70)","v":""}]
[{"$f":"IF(ISBLANK('Scholars Nomination Form'!$F71),\"\",'Scholars Nomination Form'!$C$11)","v":""},{"$f":"IF(ISBLANK('Scholars Nomination Form'!$F71),\"\",'Scholars Nomination Form'!$C$12)","v":""},{"$f":"IF(ISBLANK('Scholars Nomination Form'!$F71),\"\",'Scholars Nomination Form'!$C$13)","v":""},{"$f":"IF(ISBLANK('Scholars Nomination Form'!$F71),\"\",'Scholars Nomination Form'!$C$14)","v":""},{"$f":"IF(ISBLANK('Scholars Nomination Form'!$F71),\"\",'Scholars Nomination Form'!$C$15)","v":""},{"$f":"IF(ISBLANK('Scholars Nomination Form'!$F71),\"\",'Scholars Nomination Form'!$C$16)","v":""},{"$f":"IF(ISBLANK('Scholars Nomination Form'!B71),\"\",'Scholars Nomination Form'!B71)","v":""},{"$f":"IF(ISBLANK('Scholars Nomination Form'!D71),\"\",'Scholars Nomination Form'!D71)","v":""},{"$f":"IF(ISBLANK('Scholars Nomination Form'!E71),\"\",'Scholars Nomination Form'!E71)","v":""},{"$f":"IF(ISBLANK('Scholars Nomination Form'!F71),\"\",'Scholars Nomination Form'!F71)","v":""},{"$f":"IF(ISBLANK('Scholars Nomination Form'!G71),\"\",'Scholars Nomination Form'!G71)","v":""},{"$f":"IF(ISBLANK('Scholars Nomination Form'!H71),\"\",'Scholars Nomination Form'!H71)","v":""},{"$f":"IF(ISBLANK('Scholars Nomination Form'!I71),\"\",'Scholars Nomination Form'!I71)","v":""},{"$f":"IF(ISBLANK('Scholars Nomination Form'!J71),\"\",'Scholars Nomination Form'!J71)","v":""},{"$f":"IF(ISBLANK('Scholars Nomination Form'!K71),\"\",'Scholars Nomination Form'!K71)","v":""},{"$f":"IF(ISBLANK('Scholars Nomination Form'!L71),\"\",'Scholars Nomination Form'!L71)","v":""},{"$f":"IF(ISBLANK('Scholars Nomination Form'!M71),\"\",'Scholars Nomination Form'!M71)","v":""},{"$f":"IF(ISBLANK('Scholars Nomination Form'!N71),\"\",'Scholars Nomination Form'!N71)","v":""},{"$f":"IF(ISBLANK('Scholars Nomination Form'!O71),\"\",'Scholars Nomination Form'!O71)","v":""},{"$f":"IF(ISBLANK('Scholars Nomination Form'!P71),\"\",'Scholars Nomination Form'!P71)","v":""},{"$f":"IF(ISBLANK('Scholars Nomination Form'!Q71),\"\",'Scholars Nomination Form'!Q71)","v":""},{"$f":"IF(ISBLANK('Scholars Nomination Form'!R71),\"\",'Scholars Nomination Form'!R71)","v":""},{"$f":"IF(ISBLANK('Scholars Nomination Form'!S71),\"\",'Scholars Nomination Form'!S71)","v":""},{"$f":"IF(ISBLANK('Scholars Nomination Form'!T71),\"\",'Scholars Nomination Form'!T71)","v":""},{"$f":"IF(ISBLANK('Scholars Nomination Form'!U71),\"\",'Scholars Nomination Form'!U71)","v":""},{"$f":"IF(ISBLANK('Scholars Nomination Form'!V71),\"\",'Scholars Nomination Form'!V71)","v":""},{"$f":"IF(ISBLANK('Scholars Nomination Form'!W71),\"\",'Scholars Nomination Form'!W71)","v":""},{"$f":"IF(ISBLANK('Scholars Nomination Form'!X71),\"\",'Scholars Nomination Form'!X71)","v":""},{"$f":"IF(ISBLANK('Scholars Nomination Form'!Y71),\"\",'Scholars Nomination Form'!Y71)","v":""},{"$f":"IF(ISBLANK('Scholars Nomination Form'!Z71),\"\",'Scholars Nomination Form'!Z71)","v":""},{"$f":"IF(ISBLANK('Scholars Nomination Form'!AA71),\"\",'Scholars Nomination Form'!AA71)","v":""}]
[{"$f":"IF(ISBLANK('Scholars Nomination Form'!$F72),\"\",'Scholars Nomination Form'!$C$11)","v":""},{"$f":"IF(ISBLANK('Scholars Nomination Form'!$F72),\"\",'Scholars Nomination Form'!$C$12)","v":""},{"$f":"IF(ISBLANK('Scholars Nomination Form'!$F72),\"\",'Scholars Nomination Form'!$C$13)","v":""},{"$f":"IF(ISBLANK('Scholars Nomination Form'!$F72),\"\",'Scholars Nomination Form'!$C$14)","v":""},{"$f":"IF(ISBLANK('Scholars Nomination Form'!$F72),\"\",'Scholars Nomination Form'!$C$15)","v":""},{"$f":"IF(ISBLANK('Scholars Nomination Form'!$F72),\"\",'Scholars Nomination Form'!$C$16)","v":""},{"$f":"IF(ISBLANK('Scholars Nomination Form'!B72),\"\",'Scholars Nomination Form'!B72)","v":""},{"$f":"IF(ISBLANK('Scholars Nomination Form'!D72),\"\",'Scholars Nomination Form'!D72)","v":""},{"$f":"IF(ISBLANK('Scholars Nomination Form'!E72),\"\",'Scholars Nomination Form'!E72)","v":""},{"$f":"IF(ISBLANK('Scholars Nomination Form'!F72),\"\",'Scholars Nomination Form'!F72)","v":""},{"$f":"IF(ISBLANK('Scholars Nomination Form'!G72),\"\",'Scholars Nomination Form'!G72)","v":""},{"$f":"IF(ISBLANK('Scholars Nomination Form'!H72),\"\",'Scholars Nomination Form'!H72)","v":""},{"$f":"IF(ISBLANK('Scholars Nomination Form'!I72),\"\",'Scholars Nomination Form'!I72)","v":""},{"$f":"IF(ISBLANK('Scholars Nomination Form'!J72),\"\",'Scholars Nomination Form'!J72)","v":""},{"$f":"IF(ISBLANK('Scholars Nomination Form'!K72),\"\",'Scholars Nomination Form'!K72)","v":""},{"$f":"IF(ISBLANK('Scholars Nomination Form'!L72),\"\",'Scholars Nomination Form'!L72)","v":""},{"$f":"IF(ISBLANK('Scholars Nomination Form'!M72),\"\",'Scholars Nomination Form'!M72)","v":""},{"$f":"IF(ISBLANK('Scholars Nomination Form'!N72),\"\",'Scholars Nomination Form'!N72)","v":""},{"$f":"IF(ISBLANK('Scholars Nomination Form'!O72),\"\",'Scholars Nomination Form'!O72)","v":""},{"$f":"IF(ISBLANK('Scholars Nomination Form'!P72),\"\",'Scholars Nomination Form'!P72)","v":""},{"$f":"IF(ISBLANK('Scholars Nomination Form'!Q72),\"\",'Scholars Nomination Form'!Q72)","v":""},{"$f":"IF(ISBLANK('Scholars Nomination Form'!R72),\"\",'Scholars Nomination Form'!R72)","v":""},{"$f":"IF(ISBLANK('Scholars Nomination Form'!S72),\"\",'Scholars Nomination Form'!S72)","v":""},{"$f":"IF(ISBLANK('Scholars Nomination Form'!T72),\"\",'Scholars Nomination Form'!T72)","v":""},{"$f":"IF(ISBLANK('Scholars Nomination Form'!U72),\"\",'Scholars Nomination Form'!U72)","v":""},{"$f":"IF(ISBLANK('Scholars Nomination Form'!V72),\"\",'Scholars Nomination Form'!V72)","v":""},{"$f":"IF(ISBLANK('Scholars Nomination Form'!W72),\"\",'Scholars Nomination Form'!W72)","v":""},{"$f":"IF(ISBLANK('Scholars Nomination Form'!X72),\"\",'Scholars Nomination Form'!X72)","v":""},{"$f":"IF(ISBLANK('Scholars Nomination Form'!Y72),\"\",'Scholars Nomination Form'!Y72)","v":""},{"$f":"IF(ISBLANK('Scholars Nomination Form'!Z72),\"\",'Scholars Nomination Form'!Z72)","v":""},{"$f":"IF(ISBLANK('Scholars Nomination Form'!AA72),\"\",'Scholars Nomination Form'!AA72)","v":""}]
[{"$f":"IF(ISBLANK('Scholars Nomination Form'!$F73),\"\",'Scholars Nomination Form'!$C$11)","v":""},{"$f":"IF(ISBLANK('Scholars Nomination Form'!$F73),\"\",'Scholars Nomination Form'!$C$12)","v":""},{"$f":"IF(ISBLANK('Scholars Nomination Form'!$F73),\"\",'Scholars Nomination Form'!$C$13)","v":""},{"$f":"IF(ISBLANK('Scholars Nomination Form'!$F73),\"\",'Scholars Nomination Form'!$C$14)","v":""},{"$f":"IF(ISBLANK('Scholars Nomination Form'!$F73),\"\",'Scholars Nomination Form'!$C$15)","v":""},{"$f":"IF(ISBLANK('Scholars Nomination Form'!$F73),\"\",'Scholars Nomination Form'!$C$16)","v":""},{"$f":"IF(ISBLANK('Scholars Nomination Form'!B73),\"\",'Scholars Nomination Form'!B73)","v":""},{"$f":"IF(ISBLANK('Scholars Nomination Form'!D73),\"\",'Scholars Nomination Form'!D73)","v":""},{"$f":"IF(ISBLANK('Scholars Nomination Form'!E73),\"\",'Scholars Nomination Form'!E73)","v":""},{"$f":"IF(ISBLANK('Scholars Nomination Form'!F73),\"\",'Scholars Nomination Form'!F73)","v":""},{"$f":"IF(ISBLANK('Scholars Nomination Form'!G73),\"\",'Scholars Nomination Form'!G73)","v":""},{"$f":"IF(ISBLANK('Scholars Nomination Form'!H73),\"\",'Scholars Nomination Form'!H73)","v":""},{"$f":"IF(ISBLANK('Scholars Nomination Form'!I73),\"\",'Scholars Nomination Form'!I73)","v":""},{"$f":"IF(ISBLANK('Scholars Nomination Form'!J73),\"\",'Scholars Nomination Form'!J73)","v":""},{"$f":"IF(ISBLANK('Scholars Nomination Form'!K73),\"\",'Scholars Nomination Form'!K73)","v":""},{"$f":"IF(ISBLANK('Scholars Nomination Form'!L73),\"\",'Scholars Nomination Form'!L73)","v":""},{"$f":"IF(ISBLANK('Scholars Nomination Form'!M73),\"\",'Scholars Nomination Form'!M73)","v":""},{"$f":"IF(ISBLANK('Scholars Nomination Form'!N73),\"\",'Scholars Nomination Form'!N73)","v":""},{"$f":"IF(ISBLANK('Scholars Nomination Form'!O73),\"\",'Scholars Nomination Form'!O73)","v":""},{"$f":"IF(ISBLANK('Scholars Nomination Form'!P73),\"\",'Scholars Nomination Form'!P73)","v":""},{"$f":"IF(ISBLANK('Scholars Nomination Form'!Q73),\"\",'Scholars Nomination Form'!Q73)","v":""},{"$f":"IF(ISBLANK('Scholars Nomination Form'!R73),\"\",'Scholars Nomination Form'!R73)","v":""},{"$f":"IF(ISBLANK('Scholars Nomination Form'!S73),\"\",'Scholars Nomination Form'!S73)","v":""},{"$f":"IF(ISBLANK('Scholars Nomination Form'!T73),\"\",'Scholars Nomination Form'!T73)","v":""},{"$f":"IF(ISBLANK('Scholars Nomination Form'!U73),\"\",'Scholars Nomination Form'!U73)","v":""},{"$f":"IF(ISBLANK('Scholars Nomination Form'!V73),\"\",'Scholars Nomination Form'!V73)","v":""},{"$f":"IF(ISBLANK('Scholars Nomination Form'!W73),\"\",'Scholars Nomination Form'!W73)","v":""},{"$f":"IF(ISBLANK('Scholars Nomination Form'!X73),\"\",'Scholars Nomination Form'!X73)","v":""},{"$f":"IF(ISBLANK('Scholars Nomination Form'!Y73),\"\",'Scholars Nomination Form'!Y73)","v":""},{"$f":"IF(ISBLANK('Scholars Nomination Form'!Z73),\"\",'Scholars Nomination Form'!Z73)","v":""},{"$f":"IF(ISBLANK('Scholars Nomination Form'!AA73),\"\",'Scholars Nomination Form'!AA73)","v":""}]
[{"$f":"IF(ISBLANK('Scholars Nomination Form'!$F74),\"\",'Scholars Nomination Form'!$C$11)","v":""},{"$f":"IF(ISBLANK('Scholars Nomination Form'!$F74),\"\",'Scholars Nomination Form'!$C$12)","v":""},{"$f":"IF(ISBLANK('Scholars Nomination Form'!$F74),\"\",'Scholars Nomination Form'!$C$13)","v":""},{"$f":"IF(ISBLANK('Scholars Nomination Form'!$F74),\"\",'Scholars Nomination Form'!$C$14)","v":""},{"$f":"IF(ISBLANK('Scholars Nomination Form'!$F74),\"\",'Scholars Nomination Form'!$C$15)","v":""},{"$f":"IF(ISBLANK('Scholars Nomination Form'!$F74),\"\",'Scholars Nomination Form'!$C$16)","v":""},{"$f":"IF(ISBLANK('Scholars Nomination Form'!B74),\"\",'Scholars Nomination Form'!B74)","v":""},{"$f":"IF(ISBLANK('Scholars Nomination Form'!D74),\"\",'Scholars Nomination Form'!D74)","v":""},{"$f":"IF(ISBLANK('Scholars Nomination Form'!E74),\"\",'Scholars Nomination Form'!E74)","v":""},{"$f":"IF(ISBLANK('Scholars Nomination Form'!F74),\"\",'Scholars Nomination Form'!F74)","v":""},{"$f":"IF(ISBLANK('Scholars Nomination Form'!G74),\"\",'Scholars Nomination Form'!G74)","v":""},{"$f":"IF(ISBLANK('Scholars Nomination Form'!H74),\"\",'Scholars Nomination Form'!H74)","v":""},{"$f":"IF(ISBLANK('Scholars Nomination Form'!I74),\"\",'Scholars Nomination Form'!I74)","v":""},{"$f":"IF(ISBLANK('Scholars Nomination Form'!J74),\"\",'Scholars Nomination Form'!J74)","v":""},{"$f":"IF(ISBLANK('Scholars Nomination Form'!K74),\"\",'Scholars Nomination Form'!K74)","v":""},{"$f":"IF(ISBLANK('Scholars Nomination Form'!L74),\"\",'Scholars Nomination Form'!L74)","v":""},{"$f":"IF(ISBLANK('Scholars Nomination Form'!M74),\"\",'Scholars Nomination Form'!M74)","v":""},{"$f":"IF(ISBLANK('Scholars Nomination Form'!N74),\"\",'Scholars Nomination Form'!N74)","v":""},{"$f":"IF(ISBLANK('Scholars Nomination Form'!O74),\"\",'Scholars Nomination Form'!O74)","v":""},{"$f":"IF(ISBLANK('Scholars Nomination Form'!P74),\"\",'Scholars Nomination Form'!P74)","v":""},{"$f":"IF(ISBLANK('Scholars Nomination Form'!Q74),\"\",'Scholars Nomination Form'!Q74)","v":""},{"$f":"IF(ISBLANK('Scholars Nomination Form'!R74),\"\",'Scholars Nomination Form'!R74)","v":""},{"$f":"IF(ISBLANK('Scholars Nomination Form'!S74),\"\",'Scholars Nomination Form'!S74)","v":""},{"$f":"IF(ISBLANK('Scholars Nomination Form'!T74),\"\",'Scholars Nomination Form'!T74)","v":""},{"$f":"IF(ISBLANK('Scholars Nomination Form'!U74),\"\",'Scholars Nomination Form'!U74)","v":""},{"$f":"IF(ISBLANK('Scholars Nomination Form'!V74),\"\",'Scholars Nomination Form'!V74)","v":""},{"$f":"IF(ISBLANK('Scholars Nomination Form'!W74),\"\",'Scholars Nomination Form'!W74)","v":""},{"$f":"IF(ISBLANK('Scholars Nomination Form'!X74),\"\",'Scholars Nomination Form'!X74)","v":""},{"$f":"IF(ISBLANK('Scholars Nomination Form'!Y74),\"\",'Scholars Nomination Form'!Y74)","v":""},{"$f":"IF(ISBLANK('Scholars Nomination Form'!Z74),\"\",'Scholars Nomination Form'!Z74)","v":""},{"$f":"IF(ISBLANK('Scholars Nomination Form'!AA74),\"\",'Scholars Nomination Form'!AA74)","v":""}]
[{"$f":"IF(ISBLANK('Scholars Nomination Form'!$F75),\"\",'Scholars Nomination Form'!$C$11)","v":""},{"$f":"IF(ISBLANK('Scholars Nomination Form'!$F75),\"\",'Scholars Nomination Form'!$C$12)","v":""},{"$f":"IF(ISBLANK('Scholars Nomination Form'!$F75),\"\",'Scholars Nomination Form'!$C$13)","v":""},{"$f":"IF(ISBLANK('Scholars Nomination Form'!$F75),\"\",'Scholars Nomination Form'!$C$14)","v":""},{"$f":"IF(ISBLANK('Scholars Nomination Form'!$F75),\"\",'Scholars Nomination Form'!$C$15)","v":""},{"$f":"IF(ISBLANK('Scholars Nomination Form'!$F75),\"\",'Scholars Nomination Form'!$C$16)","v":""},{"$f":"IF(ISBLANK('Scholars Nomination Form'!B75),\"\",'Scholars Nomination Form'!B75)","v":""},{"$f":"IF(ISBLANK('Scholars Nomination Form'!D75),\"\",'Scholars Nomination Form'!D75)","v":""},{"$f":"IF(ISBLANK('Scholars Nomination Form'!E75),\"\",'Scholars Nomination Form'!E75)","v":""},{"$f":"IF(ISBLANK('Scholars Nomination Form'!F75),\"\",'Scholars Nomination Form'!F75)","v":""},{"$f":"IF(ISBLANK('Scholars Nomination Form'!G75),\"\",'Scholars Nomination Form'!G75)","v":""},{"$f":"IF(ISBLANK('Scholars Nomination Form'!H75),\"\",'Scholars Nomination Form'!H75)","v":""},{"$f":"IF(ISBLANK('Scholars Nomination Form'!I75),\"\",'Scholars Nomination Form'!I75)","v":""},{"$f":"IF(ISBLANK('Scholars Nomination Form'!J75),\"\",'Scholars Nomination Form'!J75)","v":""},{"$f":"IF(ISBLANK('Scholars Nomination Form'!K75),\"\",'Scholars Nomination Form'!K75)","v":""},{"$f":"IF(ISBLANK('Scholars Nomination Form'!L75),\"\",'Scholars Nomination Form'!L75)","v":""},{"$f":"IF(ISBLANK('Scholars Nomination Form'!M75),\"\",'Scholars Nomination Form'!M75)","v":""},{"$f":"IF(ISBLANK('Scholars Nomination Form'!N75),\"\",'Scholars Nomination Form'!N75)","v":""},{"$f":"IF(ISBLANK('Scholars Nomination Form'!O75),\"\",'Scholars Nomination Form'!O75)","v":""},{"$f":"IF(ISBLANK('Scholars Nomination Form'!P75),\"\",'Scholars Nomination Form'!P75)","v":""},{"$f":"IF(ISBLANK('Scholars Nomination Form'!Q75),\"\",'Scholars Nomination Form'!Q75)","v":""},{"$f":"IF(ISBLANK('Scholars Nomination Form'!R75),\"\",'Scholars Nomination Form'!R75)","v":""},{"$f":"IF(ISBLANK('Scholars Nomination Form'!S75),\"\",'Scholars Nomination Form'!S75)","v":""},{"$f":"IF(ISBLANK('Scholars Nomination Form'!T75),\"\",'Scholars Nomination Form'!T75)","v":""},{"$f":"IF(ISBLANK('Scholars Nomination Form'!U75),\"\",'Scholars Nomination Form'!U75)","v":""},{"$f":"IF(ISBLANK('Scholars Nomination Form'!V75),\"\",'Scholars Nomination Form'!V75)","v":""},{"$f":"IF(ISBLANK('Scholars Nomination Form'!W75),\"\",'Scholars Nomination Form'!W75)","v":""},{"$f":"IF(ISBLANK('Scholars Nomination Form'!X75),\"\",'Scholars Nomination Form'!X75)","v":""},{"$f":"IF(ISBLANK('Scholars Nomination Form'!Y75),\"\",'Scholars Nomination Form'!Y75)","v":""},{"$f":"IF(ISBLANK('Scholars Nomination Form'!Z75),\"\",'Scholars Nomination Form'!Z75)","v":""},{"$f":"IF(ISBLANK('Scholars Nomination Form'!AA75),\"\",'Scholars Nomination Form'!AA75)","v":""}]
[{"$f":"IF(ISBLANK('Scholars Nomination Form'!$F76),\"\",'Scholars Nomination Form'!$C$11)","v":""},{"$f":"IF(ISBLANK('Scholars Nomination Form'!$F76),\"\",'Scholars Nomination Form'!$C$12)","v":""},{"$f":"IF(ISBLANK('Scholars Nomination Form'!$F76),\"\",'Scholars Nomination Form'!$C$13)","v":""},{"$f":"IF(ISBLANK('Scholars Nomination Form'!$F76),\"\",'Scholars Nomination Form'!$C$14)","v":""},{"$f":"IF(ISBLANK('Scholars Nomination Form'!$F76),\"\",'Scholars Nomination Form'!$C$15)","v":""},{"$f":"IF(ISBLANK('Scholars Nomination Form'!$F76),\"\",'Scholars Nomination Form'!$C$16)","v":""},{"$f":"IF(ISBLANK('Scholars Nomination Form'!B76),\"\",'Scholars Nomination Form'!B76)","v":""},{"$f":"IF(ISBLANK('Scholars Nomination Form'!D76),\"\",'Scholars Nomination Form'!D76)","v":""},{"$f":"IF(ISBLANK('Scholars Nomination Form'!E76),\"\",'Scholars Nomination Form'!E76)","v":""},{"$f":"IF(ISBLANK('Scholars Nomination Form'!F76),\"\",'Scholars Nomination Form'!F76)","v":""},{"$f":"IF(ISBLANK('Scholars Nomination Form'!G76),\"\",'Scholars Nomination Form'!G76)","v":""},{"$f":"IF(ISBLANK('Scholars Nomination Form'!H76),\"\",'Scholars Nomination Form'!H76)","v":""},{"$f":"IF(ISBLANK('Scholars Nomination Form'!I76),\"\",'Scholars Nomination Form'!I76)","v":""},{"$f":"IF(ISBLANK('Scholars Nomination Form'!J76),\"\",'Scholars Nomination Form'!J76)","v":""},{"$f":"IF(ISBLANK('Scholars Nomination Form'!K76),\"\",'Scholars Nomination Form'!K76)","v":""},{"$f":"IF(ISBLANK('Scholars Nomination Form'!L76),\"\",'Scholars Nomination Form'!L76)","v":""},{"$f":"IF(ISBLANK('Scholars Nomination Form'!M76),\"\",'Scholars Nomination Form'!M76)","v":""},{"$f":"IF(ISBLANK('Scholars Nomination Form'!N76),\"\",'Scholars Nomination Form'!N76)","v":""},{"$f":"IF(ISBLANK('Scholars Nomination Form'!O76),\"\",'Scholars Nomination Form'!O76)","v":""},{"$f":"IF(ISBLANK('Scholars Nomination Form'!P76),\"\",'Scholars Nomination Form'!P76)","v":""},{"$f":"IF(ISBLANK('Scholars Nomination Form'!Q76),\"\",'Scholars Nomination Form'!Q76)","v":""},{"$f":"IF(ISBLANK('Scholars Nomination Form'!R76),\"\",'Scholars Nomination Form'!R76)","v":""},{"$f":"IF(ISBLANK('Scholars Nomination Form'!S76),\"\",'Scholars Nomination Form'!S76)","v":""},{"$f":"IF(ISBLANK('Scholars Nomination Form'!T76),\"\",'Scholars Nomination Form'!T76)","v":""},{"$f":"IF(ISBLANK('Scholars Nomination Form'!U76),\"\",'Scholars Nomination Form'!U76)","v":""},{"$f":"IF(ISBLANK('Scholars Nomination Form'!V76),\"\",'Scholars Nomination Form'!V76)","v":""},{"$f":"IF(ISBLANK('Scholars Nomination Form'!W76),\"\",'Scholars Nomination Form'!W76)","v":""},{"$f":"IF(ISBLANK('Scholars Nomination Form'!X76),\"\",'Scholars Nomination Form'!X76)","v":""},{"$f":"IF(ISBLANK('Scholars Nomination Form'!Y76),\"\",'Scholars Nomination Form'!Y76)","v":""},{"$f":"IF(ISBLANK('Scholars Nomination Form'!Z76),\"\",'Scholars Nomination Form'!Z76)","v":""},{"$f":"IF(ISBLANK('Scholars Nomination Form'!AA76),\"\",'Scholars Nomination Form'!AA76)","v":""}]
[{"$f":"IF(ISBLANK('Scholars Nomination Form'!$F77),\"\",'Scholars Nomination Form'!$C$11)","v":""},{"$f":"IF(ISBLANK('Scholars Nomination Form'!$F77),\"\",'Scholars Nomination Form'!$C$12)","v":""},{"$f":"IF(ISBLANK('Scholars Nomination Form'!$F77),\"\",'Scholars Nomination Form'!$C$13)","v":""},{"$f":"IF(ISBLANK('Scholars Nomination Form'!$F77),\"\",'Scholars Nomination Form'!$C$14)","v":""},{"$f":"IF(ISBLANK('Scholars Nomination Form'!$F77),\"\",'Scholars Nomination Form'!$C$15)","v":""},{"$f":"IF(ISBLANK('Scholars Nomination Form'!$F77),\"\",'Scholars Nomination Form'!$C$16)","v":""},{"$f":"IF(ISBLANK('Scholars Nomination Form'!B77),\"\",'Scholars Nomination Form'!B77)","v":""},{"$f":"IF(ISBLANK('Scholars Nomination Form'!D77),\"\",'Scholars Nomination Form'!D77)","v":""},{"$f":"IF(ISBLANK('Scholars Nomination Form'!E77),\"\",'Scholars Nomination Form'!E77)","v":""},{"$f":"IF(ISBLANK('Scholars Nomination Form'!F77),\"\",'Scholars Nomination Form'!F77)","v":""},{"$f":"IF(ISBLANK('Scholars Nomination Form'!G77),\"\",'Scholars Nomination Form'!G77)","v":""},{"$f":"IF(ISBLANK('Scholars Nomination Form'!H77),\"\",'Scholars Nomination Form'!H77)","v":""},{"$f":"IF(ISBLANK('Scholars Nomination Form'!I77),\"\",'Scholars Nomination Form'!I77)","v":""},{"$f":"IF(ISBLANK('Scholars Nomination Form'!J77),\"\",'Scholars Nomination Form'!J77)","v":""},{"$f":"IF(ISBLANK('Scholars Nomination Form'!K77),\"\",'Scholars Nomination Form'!K77)","v":""},{"$f":"IF(ISBLANK('Scholars Nomination Form'!L77),\"\",'Scholars Nomination Form'!L77)","v":""},{"$f":"IF(ISBLANK('Scholars Nomination Form'!M77),\"\",'Scholars Nomination Form'!M77)","v":""},{"$f":"IF(ISBLANK('Scholars Nomination Form'!N77),\"\",'Scholars Nomination Form'!N77)","v":""},{"$f":"IF(ISBLANK('Scholars Nomination Form'!O77),\"\",'Scholars Nomination Form'!O77)","v":""},{"$f":"IF(ISBLANK('Scholars Nomination Form'!P77),\"\",'Scholars Nomination Form'!P77)","v":""},{"$f":"IF(ISBLANK('Scholars Nomination Form'!Q77),\"\",'Scholars Nomination Form'!Q77)","v":""},{"$f":"IF(ISBLANK('Scholars Nomination Form'!R77),\"\",'Scholars Nomination Form'!R77)","v":""},{"$f":"IF(ISBLANK('Scholars Nomination Form'!S77),\"\",'Scholars Nomination Form'!S77)","v":""},{"$f":"IF(ISBLANK('Scholars Nomination Form'!T77),\"\",'Scholars Nomination Form'!T77)","v":""},{"$f":"IF(ISBLANK('Scholars Nomination Form'!U77),\"\",'Scholars Nomination Form'!U77)","v":""},{"$f":"IF(ISBLANK('Scholars Nomination Form'!V77),\"\",'Scholars Nomination Form'!V77)","v":""},{"$f":"IF(ISBLANK('Scholars Nomination Form'!W77),\"\",'Scholars Nomination Form'!W77)","v":""},{"$f":"IF(ISBLANK('Scholars Nomination Form'!X77),\"\",'Scholars Nomination Form'!X77)","v":""},{"$f":"IF(ISBLANK('Scholars Nomination Form'!Y77),\"\",'Scholars Nomination Form'!Y77)","v":""},{"$f":"IF(ISBLANK('Scholars Nomination Form'!Z77),\"\",'Scholars Nomination Form'!Z77)","v":""},{"$f":"IF(ISBLANK('Scholars Nomination Form'!AA77),\"\",'Scholars Nomination Form'!AA77)","v":""}]
[{"$f":"IF(ISBLANK('Scholars Nomination Form'!$F78),\"\",'Scholars Nomination Form'!$C$11)","v":""},{"$f":"IF(ISBLANK('Scholars Nomination Form'!$F78),\"\",'Scholars Nomination Form'!$C$12)","v":""},{"$f":"IF(ISBLANK('Scholars Nomination Form'!$F78),\"\",'Scholars Nomination Form'!$C$13)","v":""},{"$f":"IF(ISBLANK('Scholars Nomination Form'!$F78),\"\",'Scholars Nomination Form'!$C$14)","v":""},{"$f":"IF(ISBLANK('Scholars Nomination Form'!$F78),\"\",'Scholars Nomination Form'!$C$15)","v":""},{"$f":"IF(ISBLANK('Scholars Nomination Form'!$F78),\"\",'Scholars Nomination Form'!$C$16)","v":""},{"$f":"IF(ISBLANK('Scholars Nomination Form'!B78),\"\",'Scholars Nomination Form'!B78)","v":""},{"$f":"IF(ISBLANK('Scholars Nomination Form'!D78),\"\",'Scholars Nomination Form'!D78)","v":""},{"$f":"IF(ISBLANK('Scholars Nomination Form'!E78),\"\",'Scholars Nomination Form'!E78)","v":""},{"$f":"IF(ISBLANK('Scholars Nomination Form'!F78),\"\",'Scholars Nomination Form'!F78)","v":""},{"$f":"IF(ISBLANK('Scholars Nomination Form'!G78),\"\",'Scholars Nomination Form'!G78)","v":""},{"$f":"IF(ISBLANK('Scholars Nomination Form'!H78),\"\",'Scholars Nomination Form'!H78)","v":""},{"$f":"IF(ISBLANK('Scholars Nomination Form'!I78),\"\",'Scholars Nomination Form'!I78)","v":""},{"$f":"IF(ISBLANK('Scholars Nomination Form'!J78),\"\",'Scholars Nomination Form'!J78)","v":""},{"$f":"IF(ISBLANK('Scholars Nomination Form'!K78),\"\",'Scholars Nomination Form'!K78)","v":""},{"$f":"IF(ISBLANK('Scholars Nomination Form'!L78),\"\",'Scholars Nomination Form'!L78)","v":""},{"$f":"IF(ISBLANK('Scholars Nomination Form'!M78),\"\",'Scholars Nomination Form'!M78)","v":""},{"$f":"IF(ISBLANK('Scholars Nomination Form'!N78),\"\",'Scholars Nomination Form'!N78)","v":""},{"$f":"IF(ISBLANK('Scholars Nomination Form'!O78),\"\",'Scholars Nomination Form'!O78)","v":""},{"$f":"IF(ISBLANK('Scholars Nomination Form'!P78),\"\",'Scholars Nomination Form'!P78)","v":""},{"$f":"IF(ISBLANK('Scholars Nomination Form'!Q78),\"\",'Scholars Nomination Form'!Q78)","v":""},{"$f":"IF(ISBLANK('Scholars Nomination Form'!R78),\"\",'Scholars Nomination Form'!R78)","v":""},{"$f":"IF(ISBLANK('Scholars Nomination Form'!S78),\"\",'Scholars Nomination Form'!S78)","v":""},{"$f":"IF(ISBLANK('Scholars Nomination Form'!T78),\"\",'Scholars Nomination Form'!T78)","v":""},{"$f":"IF(ISBLANK('Scholars Nomination Form'!U78),\"\",'Scholars Nomination Form'!U78)","v":""},{"$f":"IF(ISBLANK('Scholars Nomination Form'!V78),\"\",'Scholars Nomination Form'!V78)","v":""},{"$f":"IF(ISBLANK('Scholars Nomination Form'!W78),\"\",'Scholars Nomination Form'!W78)","v":""},{"$f":"IF(ISBLANK('Scholars Nomination Form'!X78),\"\",'Scholars Nomination Form'!X78)","v":""},{"$f":"IF(ISBLANK('Scholars Nomination Form'!Y78),\"\",'Scholars Nomination Form'!Y78)","v":""},{"$f":"IF(ISBLANK('Scholars Nomination Form'!Z78),\"\",'Scholars Nomination Form'!Z78)","v":""},{"$f":"IF(ISBLANK('Scholars Nomination Form'!AA78),\"\",'Scholars Nomination Form'!AA78)","v":""}]
[{"$f":"IF(ISBLANK('Scholars Nomination Form'!$F79),\"\",'Scholars Nomination Form'!$C$11)","v":""},{"$f":"IF(ISBLANK('Scholars Nomination Form'!$F79),\"\",'Scholars Nomination Form'!$C$12)","v":""},{"$f":"IF(ISBLANK('Scholars Nomination Form'!$F79),\"\",'Scholars Nomination Form'!$C$13)","v":""},{"$f":"IF(ISBLANK('Scholars Nomination Form'!$F79),\"\",'Scholars Nomination Form'!$C$14)","v":""},{"$f":"IF(ISBLANK('Scholars Nomination Form'!$F79),\"\",'Scholars Nomination Form'!$C$15)","v":""},{"$f":"IF(ISBLANK('Scholars Nomination Form'!$F79),\"\",'Scholars Nomination Form'!$C$16)","v":""},{"$f":"IF(ISBLANK('Scholars Nomination Form'!B79),\"\",'Scholars Nomination Form'!B79)","v":""},{"$f":"IF(ISBLANK('Scholars Nomination Form'!D79),\"\",'Scholars Nomination Form'!D79)","v":""},{"$f":"IF(ISBLANK('Scholars Nomination Form'!E79),\"\",'Scholars Nomination Form'!E79)","v":""},{"$f":"IF(ISBLANK('Scholars Nomination Form'!F79),\"\",'Scholars Nomination Form'!F79)","v":""},{"$f":"IF(ISBLANK('Scholars Nomination Form'!G79),\"\",'Scholars Nomination Form'!G79)","v":""},{"$f":"IF(ISBLANK('Scholars Nomination Form'!H79),\"\",'Scholars Nomination Form'!H79)","v":""},{"$f":"IF(ISBLANK('Scholars Nomination Form'!I79),\"\",'Scholars Nomination Form'!I79)","v":""},{"$f":"IF(ISBLANK('Scholars Nomination Form'!J79),\"\",'Scholars Nomination Form'!J79)","v":""},{"$f":"IF(ISBLANK('Scholars Nomination Form'!K79),\"\",'Scholars Nomination Form'!K79)","v":""},{"$f":"IF(ISBLANK('Scholars Nomination Form'!L79),\"\",'Scholars Nomination Form'!L79)","v":""},{"$f":"IF(ISBLANK('Scholars Nomination Form'!M79),\"\",'Scholars Nomination Form'!M79)","v":""},{"$f":"IF(ISBLANK('Scholars Nomination Form'!N79),\"\",'Scholars Nomination Form'!N79)","v":""},{"$f":"IF(ISBLANK('Scholars Nomination Form'!O79),\"\",'Scholars Nomination Form'!O79)","v":""},{"$f":"IF(ISBLANK('Scholars Nomination Form'!P79),\"\",'Scholars Nomination Form'!P79)","v":""},{"$f":"IF(ISBLANK('Scholars Nomination Form'!Q79),\"\",'Scholars Nomination Form'!Q79)","v":""},{"$f":"IF(ISBLANK('Scholars Nomination Form'!R79),\"\",'Scholars Nomination Form'!R79)","v":""},{"$f":"IF(ISBLANK('Scholars Nomination Form'!S79),\"\",'Scholars Nomination Form'!S79)","v":""},{"$f":"IF(ISBLANK('Scholars Nomination Form'!T79),\"\",'Scholars Nomination Form'!T79)","v":""},{"$f":"IF(ISBLANK('Scholars Nomination Form'!U79),\"\",'Scholars Nomination Form'!U79)","v":""},{"$f":"IF(ISBLANK('Scholars Nomination Form'!V79),\"\",'Scholars Nomination Form'!V79)","v":""},{"$f":"IF(ISBLANK('Scholars Nomination Form'!W79),\"\",'Scholars Nomination Form'!W79)","v":""},{"$f":"IF(ISBLANK('Scholars Nomination Form'!X79),\"\",'Scholars Nomination Form'!X79)","v":""},{"$f":"IF(ISBLANK('Scholars Nomination Form'!Y79),\"\",'Scholars Nomination Form'!Y79)","v":""},{"$f":"IF(ISBLANK('Scholars Nomination Form'!Z79),\"\",'Scholars Nomination Form'!Z79)","v":""},{"$f":"IF(ISBLANK('Scholars Nomination Form'!AA79),\"\",'Scholars Nomination Form'!AA79)","v":""}]
[{"$f":"IF(ISBLANK('Scholars Nomination Form'!$F80),\"\",'Scholars Nomination Form'!$C$11)","v":""},{"$f":"IF(ISBLANK('Scholars Nomination Form'!$F80),\"\",'Scholars Nomination Form'!$C$12)","v":""},{"$f":"IF(ISBLANK('Scholars Nomination Form'!$F80),\"\",'Scholars Nomination Form'!$C$13)","v":""},{"$f":"IF(ISBLANK('Scholars Nomination Form'!$F80),\"\",'Scholars Nomination Form'!$C$14)","v":""},{"$f":"IF(ISBLANK('Scholars Nomination Form'!$F80),\"\",'Scholars Nomination Form'!$C$15)","v":""},{"$f":"IF(ISBLANK('Scholars Nomination Form'!$F80),\"\",'Scholars Nomination Form'!$C$16)","v":""},{"$f":"IF(ISBLANK('Scholars Nomination Form'!B80),\"\",'Scholars Nomination Form'!B80)","v":""},{"$f":"IF(ISBLANK('Scholars Nomination Form'!D80),\"\",'Scholars Nomination Form'!D80)","v":""},{"$f":"IF(ISBLANK('Scholars Nomination Form'!E80),\"\",'Scholars Nomination Form'!E80)","v":""},{"$f":"IF(ISBLANK('Scholars Nomination Form'!F80),\"\",'Scholars Nomination Form'!F80)","v":""},{"$f":"IF(ISBLANK('Scholars Nomination Form'!G80),\"\",'Scholars Nomination Form'!G80)","v":""},{"$f":"IF(ISBLANK('Scholars Nomination Form'!H80),\"\",'Scholars Nomination Form'!H80)","v":""},{"$f":"IF(ISBLANK('Scholars Nomination Form'!I80),\"\",'Scholars Nomination Form'!I80)","v":""},{"$f":"IF(ISBLANK('Scholars Nomination Form'!J80),\"\",'Scholars Nomination Form'!J80)","v":""},{"$f":"IF(ISBLANK('Scholars Nomination Form'!K80),\"\",'Scholars Nomination Form'!K80)","v":""},{"$f":"IF(ISBLANK('Scholars Nomination Form'!L80),\"\",'Scholars Nomination Form'!L80)","v":""},{"$f":"IF(ISBLANK('Scholars Nomination Form'!M80),\"\",'Scholars Nomination Form'!M80)","v":""},{"$f":"IF(ISBLANK('Scholars Nomination Form'!N80),\"\",'Scholars Nomination Form'!N80)","v":""},{"$f":"IF(ISBLANK('Scholars Nomination Form'!O80),\"\",'Scholars Nomination Form'!O80)","v":""},{"$f":"IF(ISBLANK('Scholars Nomination Form'!P80),\"\",'Scholars Nomination Form'!P80)","v":""},{"$f":"IF(ISBLANK('Scholars Nomination Form'!Q80),\"\",'Scholars Nomination Form'!Q80)","v":""},{"$f":"IF(ISBLANK('Scholars Nomination Form'!R80),\"\",'Scholars Nomination Form'!R80)","v":""},{"$f":"IF(ISBLANK('Scholars Nomination Form'!S80),\"\",'Scholars Nomination Form'!S80)","v":""},{"$f":"IF(ISBLANK('Scholars Nomination Form'!T80),\"\",'Scholars Nomination Form'!T80)","v":""},{"$f":"IF(ISBLANK('Scholars Nomination Form'!U80),\"\",'Scholars Nomination Form'!U80)","v":""},{"$f":"IF(ISBLANK('Scholars Nomination Form'!V80),\"\",'Scholars Nomination Form'!V80)","v":""},{"$f":"IF(ISBLANK('Scholars Nomination Form'!W80),\"\",'Scholars Nomination Form'!W80)","v":""},{"$f":"IF(ISBLANK('Scholars Nomination Form'!X80),\"\",'Scholars Nomination Form'!X80)","v":""},{"$f":"IF(ISBLANK('Scholars Nomination Form'!Y80),\"\",'Scholars Nomination Form'!Y80)","v":""},{"$f":"IF(ISBLANK('Scholars Nomination Form'!Z80),\"\",'Scholars Nomination Form'!Z80)","v":""},{"$f":"IF(ISBLANK('Scholars Nomination Form'!AA80),\"\",'Scholars Nomination Form'!AA80)","v":""}]
[{"$f":"IF(ISBLANK('Scholars Nomination Form'!$F81),\"\",'Scholars Nomination Form'!$C$11)","v":""},{"$f":"IF(ISBLANK('Scholars Nomination Form'!$F81),\"\",'Scholars Nomination Form'!$C$12)","v":""},{"$f":"IF(ISBLANK('Scholars Nomination Form'!$F81),\"\",'Scholars Nomination Form'!$C$13)","v":""},{"$f":"IF(ISBLANK('Scholars Nomination Form'!$F81),\"\",'Scholars Nomination Form'!$C$14)","v":""},{"$f":"IF(ISBLANK('Scholars Nomination Form'!$F81),\"\",'Scholars Nomination Form'!$C$15)","v":""},{"$f":"IF(ISBLANK('Scholars Nomination Form'!$F81),\"\",'Scholars Nomination Form'!$C$16)","v":""},{"$f":"IF(ISBLANK('Scholars Nomination Form'!B81),\"\",'Scholars Nomination Form'!B81)","v":""},{"$f":"IF(ISBLANK('Scholars Nomination Form'!D81),\"\",'Scholars Nomination Form'!D81)","v":""},{"$f":"IF(ISBLANK('Scholars Nomination Form'!E81),\"\",'Scholars Nomination Form'!E81)","v":""},{"$f":"IF(ISBLANK('Scholars Nomination Form'!F81),\"\",'Scholars Nomination Form'!F81)","v":""},{"$f":"IF(ISBLANK('Scholars Nomination Form'!G81),\"\",'Scholars Nomination Form'!G81)","v":""},{"$f":"IF(ISBLANK('Scholars Nomination Form'!H81),\"\",'Scholars Nomination Form'!H81)","v":""},{"$f":"IF(ISBLANK('Scholars Nomination Form'!I81),\"\",'Scholars Nomination Form'!I81)","v":""},{"$f":"IF(ISBLANK('Scholars Nomination Form'!J81),\"\",'Scholars Nomination Form'!J81)","v":""},{"$f":"IF(ISBLANK('Scholars Nomination Form'!K81),\"\",'Scholars Nomination Form'!K81)","v":""},{"$f":"IF(ISBLANK('Scholars Nomination Form'!L81),\"\",'Scholars Nomination Form'!L81)","v":""},{"$f":"IF(ISBLANK('Scholars Nomination Form'!M81),\"\",'Scholars Nomination Form'!M81)","v":""},{"$f":"IF(ISBLANK('Scholars Nomination Form'!N81),\"\",'Scholars Nomination Form'!N81)","v":""},{"$f":"IF(ISBLANK('Scholars Nomination Form'!O81),\"\",'Scholars Nomination Form'!O81)","v":""},{"$f":"IF(ISBLANK('Scholars Nomination Form'!P81),\"\",'Scholars Nomination Form'!P81)","v":""},{"$f":"IF(ISBLANK('Scholars Nomination Form'!Q81),\"\",'Scholars Nomination Form'!Q81)","v":""},{"$f":"IF(ISBLANK('Scholars Nomination Form'!R81),\"\",'Scholars Nomination Form'!R81)","v":""},{"$f":"IF(ISBLANK('Scholars Nomination Form'!S81),\"\",'Scholars Nomination Form'!S81)","v":""},{"$f":"IF(ISBLANK('Scholars Nomination Form'!T81),\"\",'Scholars Nomination Form'!T81)","v":""},{"$f":"IF(ISBLANK('Scholars Nomination Form'!U81),\"\",'Scholars Nomination Form'!U81)","v":""},{"$f":"IF(ISBLANK('Scholars Nomination Form'!V81),\"\",'Scholars Nomination Form'!V81)","v":""},{"$f":"IF(ISBLANK('Scholars Nomination Form'!W81),\"\",'Scholars Nomination Form'!W81)","v":""},{"$f":"IF(ISBLANK('Scholars Nomination Form'!X81),\"\",'Scholars Nomination Form'!X81)","v":""},{"$f":"IF(ISBLANK('Scholars Nomination Form'!Y81),\"\",'Scholars Nomination Form'!Y81)","v":""},{"$f":"IF(ISBLANK('Scholars Nomination Form'!Z81),\"\",'Scholars Nomination Form'!Z81)","v":""},{"$f":"IF(ISBLANK('Scholars Nomination Form'!AA81),\"\",'Scholars Nomination Form'!AA81)","v":""}]
[{"$f":"IF(ISBLANK('Scholars Nomination Form'!$F82),\"\",'Scholars Nomination Form'!$C$11)","v":""},{"$f":"IF(ISBLANK('Scholars Nomination Form'!$F82),\"\",'Scholars Nomination Form'!$C$12)","v":""},{"$f":"IF(ISBLANK('Scholars Nomination Form'!$F82),\"\",'Scholars Nomination Form'!$C$13)","v":""},{"$f":"IF(ISBLANK('Scholars Nomination Form'!$F82),\"\",'Scholars Nomination Form'!$C$14)","v":""},{"$f":"IF(ISBLANK('Scholars Nomination Form'!$F82),\"\",'Scholars Nomination Form'!$C$15)","v":""},{"$f":"IF(ISBLANK('Scholars Nomination Form'!$F82),\"\",'Scholars Nomination Form'!$C$16)","v":""},{"$f":"IF(ISBLANK('Scholars Nomination Form'!B82),\"\",'Scholars Nomination Form'!B82)","v":""},{"$f":"IF(ISBLANK('Scholars Nomination Form'!D82),\"\",'Scholars Nomination Form'!D82)","v":""},{"$f":"IF(ISBLANK('Scholars Nomination Form'!E82),\"\",'Scholars Nomination Form'!E82)","v":""},{"$f":"IF(ISBLANK('Scholars Nomination Form'!F82),\"\",'Scholars Nomination Form'!F82)","v":""},{"$f":"IF(ISBLANK('Scholars Nomination Form'!G82),\"\",'Scholars Nomination Form'!G82)","v":""},{"$f":"IF(ISBLANK('Scholars Nomination Form'!H82),\"\",'Scholars Nomination Form'!H82)","v":""},{"$f":"IF(ISBLANK('Scholars Nomination Form'!I82),\"\",'Scholars Nomination Form'!I82)","v":""},{"$f":"IF(ISBLANK('Scholars Nomination Form'!J82),\"\",'Scholars Nomination Form'!J82)","v":""},{"$f":"IF(ISBLANK('Scholars Nomination Form'!K82),\"\",'Scholars Nomination Form'!K82)","v":""},{"$f":"IF(ISBLANK('Scholars Nomination Form'!L82),\"\",'Scholars Nomination Form'!L82)","v":""},{"$f":"IF(ISBLANK('Scholars Nomination Form'!M82),\"\",'Scholars Nomination Form'!M82)","v":""},{"$f":"IF(ISBLANK('Scholars Nomination Form'!N82),\"\",'Scholars Nomination Form'!N82)","v":""},{"$f":"IF(ISBLANK('Scholars Nomination Form'!O82),\"\",'Scholars Nomination Form'!O82)","v":""},{"$f":"IF(ISBLANK('Scholars Nomination Form'!P82),\"\",'Scholars Nomination Form'!P82)","v":""},{"$f":"IF(ISBLANK('Scholars Nomination Form'!Q82),\"\",'Scholars Nomination Form'!Q82)","v":""},{"$f":"IF(ISBLANK('Scholars Nomination Form'!R82),\"\",'Scholars Nomination Form'!R82)","v":""},{"$f":"IF(ISBLANK('Scholars Nomination Form'!S82),\"\",'Scholars Nomination Form'!S82)","v":""},{"$f":"IF(ISBLANK('Scholars Nomination Form'!T82),\"\",'Scholars Nomination Form'!T82)","v":""},{"$f":"IF(ISBLANK('Scholars Nomination Form'!U82),\"\",'Scholars Nomination Form'!U82)","v":""},{"$f":"IF(ISBLANK('Scholars Nomination Form'!V82),\"\",'Scholars Nomination Form'!V82)","v":""},{"$f":"IF(ISBLANK('Scholars Nomination Form'!W82),\"\",'Scholars Nomination Form'!W82)","v":""},{"$f":"IF(ISBLANK('Scholars Nomination Form'!X82),\"\",'Scholars Nomination Form'!X82)","v":""},{"$f":"IF(ISBLANK('Scholars Nomination Form'!Y82),\"\",'Scholars Nomination Form'!Y82)","v":""},{"$f":"IF(ISBLANK('Scholars Nomination Form'!Z82),\"\",'Scholars Nomination Form'!Z82)","v":""},{"$f":"IF(ISBLANK('Scholars Nomination Form'!AA82),\"\",'Scholars Nomination Form'!AA82)","v":""}]
[{"$f":"IF(ISBLANK('Scholars Nomination Form'!$F83),\"\",'Scholars Nomination Form'!$C$11)","v":""},{"$f":"IF(ISBLANK('Scholars Nomination Form'!$F83),\"\",'Scholars Nomination Form'!$C$12)","v":""},{"$f":"IF(ISBLANK('Scholars Nomination Form'!$F83),\"\",'Scholars Nomination Form'!$C$13)","v":""},{"$f":"IF(ISBLANK('Scholars Nomination Form'!$F83),\"\",'Scholars Nomination Form'!$C$14)","v":""},{"$f":"IF(ISBLANK('Scholars Nomination Form'!$F83),\"\",'Scholars Nomination Form'!$C$15)","v":""},{"$f":"IF(ISBLANK('Scholars Nomination Form'!$F83),\"\",'Scholars Nomination Form'!$C$16)","v":""},{"$f":"IF(ISBLANK('Scholars Nomination Form'!B83),\"\",'Scholars Nomination Form'!B83)","v":""},{"$f":"IF(ISBLANK('Scholars Nomination Form'!D83),\"\",'Scholars Nomination Form'!D83)","v":""},{"$f":"IF(ISBLANK('Scholars Nomination Form'!E83),\"\",'Scholars Nomination Form'!E83)","v":""},{"$f":"IF(ISBLANK('Scholars Nomination Form'!F83),\"\",'Scholars Nomination Form'!F83)","v":""},{"$f":"IF(ISBLANK('Scholars Nomination Form'!G83),\"\",'Scholars Nomination Form'!G83)","v":""},{"$f":"IF(ISBLANK('Scholars Nomination Form'!H83),\"\",'Scholars Nomination Form'!H83)","v":""},{"$f":"IF(ISBLANK('Scholars Nomination Form'!I83),\"\",'Scholars Nomination Form'!I83)","v":""},{"$f":"IF(ISBLANK('Scholars Nomination Form'!J83),\"\",'Scholars Nomination Form'!J83)","v":""},{"$f":"IF(ISBLANK('Scholars Nomination Form'!K83),\"\",'Scholars Nomination Form'!K83)","v":""},{"$f":"IF(ISBLANK('Scholars Nomination Form'!L83),\"\",'Scholars Nomination Form'!L83)","v":""},{"$f":"IF(ISBLANK('Scholars Nomination Form'!M83),\"\",'Scholars Nomination Form'!M83)","v":""},{"$f":"IF(ISBLANK('Scholars Nomination Form'!N83),\"\",'Scholars Nomination Form'!N83)","v":""},{"$f":"IF(ISBLANK('Scholars Nomination Form'!O83),\"\",'Scholars Nomination Form'!O83)","v":""},{"$f":"IF(ISBLANK('Scholars Nomination Form'!P83),\"\",'Scholars Nomination Form'!P83)","v":""},{"$f":"IF(ISBLANK('Scholars Nomination Form'!Q83),\"\",'Scholars Nomination Form'!Q83)","v":""},{"$f":"IF(ISBLANK('Scholars Nomination Form'!R83),\"\",'Scholars Nomination Form'!R83)","v":""},{"$f":"IF(ISBLANK('Scholars Nomination Form'!S83),\"\",'Scholars Nomination Form'!S83)","v":""},{"$f":"IF(ISBLANK('Scholars Nomination Form'!T83),\"\",'Scholars Nomination Form'!T83)","v":""},{"$f":"IF(ISBLANK('Scholars Nomination Form'!U83),\"\",'Scholars Nomination Form'!U83)","v":""},{"$f":"IF(ISBLANK('Scholars Nomination Form'!V83),\"\",'Scholars Nomination Form'!V83)","v":""},{"$f":"IF(ISBLANK('Scholars Nomination Form'!W83),\"\",'Scholars Nomination Form'!W83)","v":""},{"$f":"IF(ISBLANK('Scholars Nomination Form'!X83),\"\",'Scholars Nomination Form'!X83)","v":""},{"$f":"IF(ISBLANK('Scholars Nomination Form'!Y83),\"\",'Scholars Nomination Form'!Y83)","v":""},{"$f":"IF(ISBLANK('Scholars Nomination Form'!Z83),\"\",'Scholars Nomination Form'!Z83)","v":""},{"$f":"IF(ISBLANK('Scholars Nomination Form'!AA83),\"\",'Scholars Nomination Form'!AA83)","v":""}]
[{"$f":"IF(ISBLANK('Scholars Nomination Form'!$F84),\"\",'Scholars Nomination Form'!$C$11)","v":""},{"$f":"IF(ISBLANK('Scholars Nomination Form'!$F84),\"\",'Scholars Nomination Form'!$C$12)","v":""},{"$f":"IF(ISBLANK('Scholars Nomination Form'!$F84),\"\",'Scholars Nomination Form'!$C$13)","v":""},{"$f":"IF(ISBLANK('Scholars Nomination Form'!$F84),\"\",'Scholars Nomination Form'!$C$14)","v":""},{"$f":"IF(ISBLANK('Scholars Nomination Form'!$F84),\"\",'Scholars Nomination Form'!$C$15)","v":""},{"$f":"IF(ISBLANK('Scholars Nomination Form'!$F84),\"\",'Scholars Nomination Form'!$C$16)","v":""},{"$f":"IF(ISBLANK('Scholars Nomination Form'!B84),\"\",'Scholars Nomination Form'!B84)","v":""},{"$f":"IF(ISBLANK('Scholars Nomination Form'!D84),\"\",'Scholars Nomination Form'!D84)","v":""},{"$f":"IF(ISBLANK('Scholars Nomination Form'!E84),\"\",'Scholars Nomination Form'!E84)","v":""},{"$f":"IF(ISBLANK('Scholars Nomination Form'!F84),\"\",'Scholars Nomination Form'!F84)","v":""},{"$f":"IF(ISBLANK('Scholars Nomination Form'!G84),\"\",'Scholars Nomination Form'!G84)","v":""},{"$f":"IF(ISBLANK('Scholars Nomination Form'!H84),\"\",'Scholars Nomination Form'!H84)","v":""},{"$f":"IF(ISBLANK('Scholars Nomination Form'!I84),\"\",'Scholars Nomination Form'!I84)","v":""},{"$f":"IF(ISBLANK('Scholars Nomination Form'!J84),\"\",'Scholars Nomination Form'!J84)","v":""},{"$f":"IF(ISBLANK('Scholars Nomination Form'!K84),\"\",'Scholars Nomination Form'!K84)","v":""},{"$f":"IF(ISBLANK('Scholars Nomination Form'!L84),\"\",'Scholars Nomination Form'!L84)","v":""},{"$f":"IF(ISBLANK('Scholars Nomination Form'!M84),\"\",'Scholars Nomination Form'!M84)","v":""},{"$f":"IF(ISBLANK('Scholars Nomination Form'!N84),\"\",'Scholars Nomination Form'!N84)","v":""},{"$f":"IF(ISBLANK('Scholars Nomination Form'!O84),\"\",'Scholars Nomination Form'!O84)","v":""},{"$f":"IF(ISBLANK('Scholars Nomination Form'!P84),\"\",'Scholars Nomination Form'!P84)","v":""},{"$f":"IF(ISBLANK('Scholars Nomination Form'!Q84),\"\",'Scholars Nomination Form'!Q84)","v":""},{"$f":"IF(ISBLANK('Scholars Nomination Form'!R84),\"\",'Scholars Nomination Form'!R84)","v":""},{"$f":"IF(ISBLANK('Scholars Nomination Form'!S84),\"\",'Scholars Nomination Form'!S84)","v":""},{"$f":"IF(ISBLANK('Scholars Nomination Form'!T84),\"\",'Scholars Nomination Form'!T84)","v":""},{"$f":"IF(ISBLANK('Scholars Nomination Form'!U84),\"\",'Scholars Nomination Form'!U84)","v":""},{"$f":"IF(ISBLANK('Scholars Nomination Form'!V84),\"\",'Scholars Nomination Form'!V84)","v":""},{"$f":"IF(ISBLANK('Scholars Nomination Form'!W84),\"\",'Scholars Nomination Form'!W84)","v":""},{"$f":"IF(ISBLANK('Scholars Nomination Form'!X84),\"\",'Scholars Nomination Form'!X84)","v":""},{"$f":"IF(ISBLANK('Scholars Nomination Form'!Y84),\"\",'Scholars Nomination Form'!Y84)","v":""},{"$f":"IF(ISBLANK('Scholars Nomination Form'!Z84),\"\",'Scholars Nomination Form'!Z84)","v":""},{"$f":"IF(ISBLANK('Scholars Nomination Form'!AA84),\"\",'Scholars Nomination Form'!AA84)","v":""}]
[{"$f":"IF(ISBLANK('Scholars Nomination Form'!$F85),\"\",'Scholars Nomination Form'!$C$11)","v":""},{"$f":"IF(ISBLANK('Scholars Nomination Form'!$F85),\"\",'Scholars Nomination Form'!$C$12)","v":""},{"$f":"IF(ISBLANK('Scholars Nomination Form'!$F85),\"\",'Scholars Nomination Form'!$C$13)","v":""},{"$f":"IF(ISBLANK('Scholars Nomination Form'!$F85),\"\",'Scholars Nomination Form'!$C$14)","v":""},{"$f":"IF(ISBLANK('Scholars Nomination Form'!$F85),\"\",'Scholars Nomination Form'!$C$15)","v":""},{"$f":"IF(ISBLANK('Scholars Nomination Form'!$F85),\"\",'Scholars Nomination Form'!$C$16)","v":""},{"$f":"IF(ISBLANK('Scholars Nomination Form'!B85),\"\",'Scholars Nomination Form'!B85)","v":""},{"$f":"IF(ISBLANK('Scholars Nomination Form'!D85),\"\",'Scholars Nomination Form'!D85)","v":""},{"$f":"IF(ISBLANK('Scholars Nomination Form'!E85),\"\",'Scholars Nomination Form'!E85)","v":""},{"$f":"IF(ISBLANK('Scholars Nomination Form'!F85),\"\",'Scholars Nomination Form'!F85)","v":""},{"$f":"IF(ISBLANK('Scholars Nomination Form'!G85),\"\",'Scholars Nomination Form'!G85)","v":""},{"$f":"IF(ISBLANK('Scholars Nomination Form'!H85),\"\",'Scholars Nomination Form'!H85)","v":""},{"$f":"IF(ISBLANK('Scholars Nomination Form'!I85),\"\",'Scholars Nomination Form'!I85)","v":""},{"$f":"IF(ISBLANK('Scholars Nomination Form'!J85),\"\",'Scholars Nomination Form'!J85)","v":""},{"$f":"IF(ISBLANK('Scholars Nomination Form'!K85),\"\",'Scholars Nomination Form'!K85)","v":""},{"$f":"IF(ISBLANK('Scholars Nomination Form'!L85),\"\",'Scholars Nomination Form'!L85)","v":""},{"$f":"IF(ISBLANK('Scholars Nomination Form'!M85),\"\",'Scholars Nomination Form'!M85)","v":""},{"$f":"IF(ISBLANK('Scholars Nomination Form'!N85),\"\",'Scholars Nomination Form'!N85)","v":""},{"$f":"IF(ISBLANK('Scholars Nomination Form'!O85),\"\",'Scholars Nomination Form'!O85)","v":""},{"$f":"IF(ISBLANK('Scholars Nomination Form'!P85),\"\",'Scholars Nomination Form'!P85)","v":""},{"$f":"IF(ISBLANK('Scholars Nomination Form'!Q85),\"\",'Scholars Nomination Form'!Q85)","v":""},{"$f":"IF(ISBLANK('Scholars Nomination Form'!R85),\"\",'Scholars Nomination Form'!R85)","v":""},{"$f":"IF(ISBLANK('Scholars Nomination Form'!S85),\"\",'Scholars Nomination Form'!S85)","v":""},{"$f":"IF(ISBLANK('Scholars Nomination Form'!T85),\"\",'Scholars Nomination Form'!T85)","v":""},{"$f":"IF(ISBLANK('Scholars Nomination Form'!U85),\"\",'Scholars Nomination Form'!U85)","v":""},{"$f":"IF(ISBLANK('Scholars Nomination Form'!V85),\"\",'Scholars Nomination Form'!V85)","v":""},{"$f":"IF(ISBLANK('Scholars Nomination Form'!W85),\"\",'Scholars Nomination Form'!W85)","v":""},{"$f":"IF(ISBLANK('Scholars Nomination Form'!X85),\"\",'Scholars Nomination Form'!X85)","v":""},{"$f":"IF(ISBLANK('Scholars Nomination Form'!Y85),\"\",'Scholars Nomination Form'!Y85)","v":""},{"$f":"IF(ISBLANK('Scholars Nomination Form'!Z85),\"\",'Scholars Nomination Form'!Z85)","v":""},{"$f":"IF(ISBLANK('Scholars Nomination Form'!AA85),\"\",'Scholars Nomination Form'!AA85)","v":""}]
[{"$f":"IF(ISBLANK('Scholars Nomination Form'!$F86),\"\",'Scholars Nomination Form'!$C$11)","v":""},{"$f":"IF(ISBLANK('Scholars Nomination Form'!$F86),\"\",'Scholars Nomination Form'!$C$12)","v":""},{"$f":"IF(ISBLANK('Scholars Nomination Form'!$F86),\"\",'Scholars Nomination Form'!$C$13)","v":""},{"$f":"IF(ISBLANK('Scholars Nomination Form'!$F86),\"\",'Scholars Nomination Form'!$C$14)","v":""},{"$f":"IF(ISBLANK('Scholars Nomination Form'!$F86),\"\",'Scholars Nomination Form'!$C$15)","v":""},{"$f":"IF(ISBLANK('Scholars Nomination Form'!$F86),\"\",'Scholars Nomination Form'!$C$16)","v":""},{"$f":"IF(ISBLANK('Scholars Nomination Form'!B86),\"\",'Scholars Nomination Form'!B86)","v":""},{"$f":"IF(ISBLANK('Scholars Nomination Form'!D86),\"\",'Scholars Nomination Form'!D86)","v":""},{"$f":"IF(ISBLANK('Scholars Nomination Form'!E86),\"\",'Scholars Nomination Form'!E86)","v":""},{"$f":"IF(ISBLANK('Scholars Nomination Form'!F86),\"\",'Scholars Nomination Form'!F86)","v":""},{"$f":"IF(ISBLANK('Scholars Nomination Form'!G86),\"\",'Scholars Nomination Form'!G86)","v":""},{"$f":"IF(ISBLANK('Scholars Nomination Form'!H86),\"\",'Scholars Nomination Form'!H86)","v":""},{"$f":"IF(ISBLANK('Scholars Nomination Form'!I86),\"\",'Scholars Nomination Form'!I86)","v":""},{"$f":"IF(ISBLANK('Scholars Nomination Form'!J86),\"\",'Scholars Nomination Form'!J86)","v":""},{"$f":"IF(ISBLANK('Scholars Nomination Form'!K86),\"\",'Scholars Nomination Form'!K86)","v":""},{"$f":"IF(ISBLANK('Scholars Nomination Form'!L86),\"\",'Scholars Nomination Form'!L86)","v":""},{"$f":"IF(ISBLANK('Scholars Nomination Form'!M86),\"\",'Scholars Nomination Form'!M86)","v":""},{"$f":"IF(ISBLANK('Scholars Nomination Form'!N86),\"\",'Scholars Nomination Form'!N86)","v":""},{"$f":"IF(ISBLANK('Scholars Nomination Form'!O86),\"\",'Scholars Nomination Form'!O86)","v":""},{"$f":"IF(ISBLANK('Scholars Nomination Form'!P86),\"\",'Scholars Nomination Form'!P86)","v":""},{"$f":"IF(ISBLANK('Scholars Nomination Form'!Q86),\"\",'Scholars Nomination Form'!Q86)","v":""},{"$f":"IF(ISBLANK('Scholars Nomination Form'!R86),\"\",'Scholars Nomination Form'!R86)","v":""},{"$f":"IF(ISBLANK('Scholars Nomination Form'!S86),\"\",'Scholars Nomination Form'!S86)","v":""},{"$f":"IF(ISBLANK('Scholars Nomination Form'!T86),\"\",'Scholars Nomination Form'!T86)","v":""},{"$f":"IF(ISBLANK('Scholars Nomination Form'!U86),\"\",'Scholars Nomination Form'!U86)","v":""},{"$f":"IF(ISBLANK('Scholars Nomination Form'!V86),\"\",'Scholars Nomination Form'!V86)","v":""},{"$f":"IF(ISBLANK('Scholars Nomination Form'!W86),\"\",'Scholars Nomination Form'!W86)","v":""},{"$f":"IF(ISBLANK('Scholars Nomination Form'!X86),\"\",'Scholars Nomination Form'!X86)","v":""},{"$f":"IF(ISBLANK('Scholars Nomination Form'!Y86),\"\",'Scholars Nomination Form'!Y86)","v":""},{"$f":"IF(ISBLANK('Scholars Nomination Form'!Z86),\"\",'Scholars Nomination Form'!Z86)","v":""},{"$f":"IF(ISBLANK('Scholars Nomination Form'!AA86),\"\",'Scholars Nomination Form'!AA86)","v":""}]
[{"$f":"IF(ISBLANK('Scholars Nomination Form'!$F87),\"\",'Scholars Nomination Form'!$C$11)","v":""},{"$f":"IF(ISBLANK('Scholars Nomination Form'!$F87),\"\",'Scholars Nomination Form'!$C$12)","v":""},{"$f":"IF(ISBLANK('Scholars Nomination Form'!$F87),\"\",'Scholars Nomination Form'!$C$13)","v":""},{"$f":"IF(ISBLANK('Scholars Nomination Form'!$F87),\"\",'Scholars Nomination Form'!$C$14)","v":""},{"$f":"IF(ISBLANK('Scholars Nomination Form'!$F87),\"\",'Scholars Nomination Form'!$C$15)","v":""},{"$f":"IF(ISBLANK('Scholars Nomination Form'!$F87),\"\",'Scholars Nomination Form'!$C$16)","v":""},{"$f":"IF(ISBLANK('Scholars Nomination Form'!B87),\"\",'Scholars Nomination Form'!B87)","v":""},{"$f":"IF(ISBLANK('Scholars Nomination Form'!D87),\"\",'Scholars Nomination Form'!D87)","v":""},{"$f":"IF(ISBLANK('Scholars Nomination Form'!E87),\"\",'Scholars Nomination Form'!E87)","v":""},{"$f":"IF(ISBLANK('Scholars Nomination Form'!F87),\"\",'Scholars Nomination Form'!F87)","v":""},{"$f":"IF(ISBLANK('Scholars Nomination Form'!G87),\"\",'Scholars Nomination Form'!G87)","v":""},{"$f":"IF(ISBLANK('Scholars Nomination Form'!H87),\"\",'Scholars Nomination Form'!H87)","v":""},{"$f":"IF(ISBLANK('Scholars Nomination Form'!I87),\"\",'Scholars Nomination Form'!I87)","v":""},{"$f":"IF(ISBLANK('Scholars Nomination Form'!J87),\"\",'Scholars Nomination Form'!J87)","v":""},{"$f":"IF(ISBLANK('Scholars Nomination Form'!K87),\"\",'Scholars Nomination Form'!K87)","v":""},{"$f":"IF(ISBLANK('Scholars Nomination Form'!L87),\"\",'Scholars Nomination Form'!L87)","v":""},{"$f":"IF(ISBLANK('Scholars Nomination Form'!M87),\"\",'Scholars Nomination Form'!M87)","v":""},{"$f":"IF(ISBLANK('Scholars Nomination Form'!N87),\"\",'Scholars Nomination Form'!N87)","v":""},{"$f":"IF(ISBLANK('Scholars Nomination Form'!O87),\"\",'Scholars Nomination Form'!O87)","v":""},{"$f":"IF(ISBLANK('Scholars Nomination Form'!P87),\"\",'Scholars Nomination Form'!P87)","v":""},{"$f":"IF(ISBLANK('Scholars Nomination Form'!Q87),\"\",'Scholars Nomination Form'!Q87)","v":""},{"$f":"IF(ISBLANK('Scholars Nomination Form'!R87),\"\",'Scholars Nomination Form'!R87)","v":""},{"$f":"IF(ISBLANK('Scholars Nomination Form'!S87),\"\",'Scholars Nomination Form'!S87)","v":""},{"$f":"IF(ISBLANK('Scholars Nomination Form'!T87),\"\",'Scholars Nomination Form'!T87)","v":""},{"$f":"IF(ISBLANK('Scholars Nomination Form'!U87),\"\",'Scholars Nomination Form'!U87)","v":""},{"$f":"IF(ISBLANK('Scholars Nomination Form'!V87),\"\",'Scholars Nomination Form'!V87)","v":""},{"$f":"IF(ISBLANK('Scholars Nomination Form'!W87),\"\",'Scholars Nomination Form'!W87)","v":""},{"$f":"IF(ISBLANK('Scholars Nomination Form'!X87),\"\",'Scholars Nomination Form'!X87)","v":""},{"$f":"IF(ISBLANK('Scholars Nomination Form'!Y87),\"\",'Scholars Nomination Form'!Y87)","v":""},{"$f":"IF(ISBLANK('Scholars Nomination Form'!Z87),\"\",'Scholars Nomination Form'!Z87)","v":""},{"$f":"IF(ISBLANK('Scholars Nomination Form'!AA87),\"\",'Scholars Nomination Form'!AA87)","v":""}]
[{"$f":"IF(ISBLANK('Scholars Nomination Form'!$F88),\"\",'Scholars Nomination Form'!$C$11)","v":""},{"$f":"IF(ISBLANK('Scholars Nomination Form'!$F88),\"\",'Scholars Nomination Form'!$C$12)","v":""},{"$f":"IF(ISBLANK('Scholars Nomination Form'!$F88),\"\",'Scholars Nomination Form'!$C$13)","v":""},{"$f":"IF(ISBLANK('Scholars Nomination Form'!$F88),\"\",'Scholars Nomination Form'!$C$14)","v":""},{"$f":"IF(ISBLANK('Scholars Nomination Form'!$F88),\"\",'Scholars Nomination Form'!$C$15)","v":""},{"$f":"IF(ISBLANK('Scholars Nomination Form'!$F88),\"\",'Scholars Nomination Form'!$C$16)","v":""},{"$f":"IF(ISBLANK('Scholars Nomination Form'!B88),\"\",'Scholars Nomination Form'!B88)","v":""},{"$f":"IF(ISBLANK('Scholars Nomination Form'!D88),\"\",'Scholars Nomination Form'!D88)","v":""},{"$f":"IF(ISBLANK('Scholars Nomination Form'!E88),\"\",'Scholars Nomination Form'!E88)","v":""},{"$f":"IF(ISBLANK('Scholars Nomination Form'!F88),\"\",'Scholars Nomination Form'!F88)","v":""},{"$f":"IF(ISBLANK('Scholars Nomination Form'!G88),\"\",'Scholars Nomination Form'!G88)","v":""},{"$f":"IF(ISBLANK('Scholars Nomination Form'!H88),\"\",'Scholars Nomination Form'!H88)","v":""},{"$f":"IF(ISBLANK('Scholars Nomination Form'!I88),\"\",'Scholars Nomination Form'!I88)","v":""},{"$f":"IF(ISBLANK('Scholars Nomination Form'!J88),\"\",'Scholars Nomination Form'!J88)","v":""},{"$f":"IF(ISBLANK('Scholars Nomination Form'!K88),\"\",'Scholars Nomination Form'!K88)","v":""},{"$f":"IF(ISBLANK('Scholars Nomination Form'!L88),\"\",'Scholars Nomination Form'!L88)","v":""},{"$f":"IF(ISBLANK('Scholars Nomination Form'!M88),\"\",'Scholars Nomination Form'!M88)","v":""},{"$f":"IF(ISBLANK('Scholars Nomination Form'!N88),\"\",'Scholars Nomination Form'!N88)","v":""},{"$f":"IF(ISBLANK('Scholars Nomination Form'!O88),\"\",'Scholars Nomination Form'!O88)","v":""},{"$f":"IF(ISBLANK('Scholars Nomination Form'!P88),\"\",'Scholars Nomination Form'!P88)","v":""},{"$f":"IF(ISBLANK('Scholars Nomination Form'!Q88),\"\",'Scholars Nomination Form'!Q88)","v":""},{"$f":"IF(ISBLANK('Scholars Nomination Form'!R88),\"\",'Scholars Nomination Form'!R88)","v":""},{"$f":"IF(ISBLANK('Scholars Nomination Form'!S88),\"\",'Scholars Nomination Form'!S88)","v":""},{"$f":"IF(ISBLANK('Scholars Nomination Form'!T88),\"\",'Scholars Nomination Form'!T88)","v":""},{"$f":"IF(ISBLANK('Scholars Nomination Form'!U88),\"\",'Scholars Nomination Form'!U88)","v":""},{"$f":"IF(ISBLANK('Scholars Nomination Form'!V88),\"\",'Scholars Nomination Form'!V88)","v":""},{"$f":"IF(ISBLANK('Scholars Nomination Form'!W88),\"\",'Scholars Nomination Form'!W88)","v":""},{"$f":"IF(ISBLANK('Scholars Nomination Form'!X88),\"\",'Scholars Nomination Form'!X88)","v":""},{"$f":"IF(ISBLANK('Scholars Nomination Form'!Y88),\"\",'Scholars Nomination Form'!Y88)","v":""},{"$f":"IF(ISBLANK('Scholars Nomination Form'!Z88),\"\",'Scholars Nomination Form'!Z88)","v":""},{"$f":"IF(ISBLANK('Scholars Nomination Form'!AA88),\"\",'Scholars Nomination Form'!AA88)","v":""}]
[{"$f":"IF(ISBLANK('Scholars Nomination Form'!$F89),\"\",'Scholars Nomination Form'!$C$11)","v":""},{"$f":"IF(ISBLANK('Scholars Nomination Form'!$F89),\"\",'Scholars Nomination Form'!$C$12)","v":""},{"$f":"IF(ISBLANK('Scholars Nomination Form'!$F89),\"\",'Scholars Nomination Form'!$C$13)","v":""},{"$f":"IF(ISBLANK('Scholars Nomination Form'!$F89),\"\",'Scholars Nomination Form'!$C$14)","v":""},{"$f":"IF(ISBLANK('Scholars Nomination Form'!$F89),\"\",'Scholars Nomination Form'!$C$15)","v":""},{"$f":"IF(ISBLANK('Scholars Nomination Form'!$F89),\"\",'Scholars Nomination Form'!$C$16)","v":""},{"$f":"IF(ISBLANK('Scholars Nomination Form'!B89),\"\",'Scholars Nomination Form'!B89)","v":""},{"$f":"IF(ISBLANK('Scholars Nomination Form'!D89),\"\",'Scholars Nomination Form'!D89)","v":""},{"$f":"IF(ISBLANK('Scholars Nomination Form'!E89),\"\",'Scholars Nomination Form'!E89)","v":""},{"$f":"IF(ISBLANK('Scholars Nomination Form'!F89),\"\",'Scholars Nomination Form'!F89)","v":""},{"$f":"IF(ISBLANK('Scholars Nomination Form'!G89),\"\",'Scholars Nomination Form'!G89)","v":""},{"$f":"IF(ISBLANK('Scholars Nomination Form'!H89),\"\",'Scholars Nomination Form'!H89)","v":""},{"$f":"IF(ISBLANK('Scholars Nomination Form'!I89),\"\",'Scholars Nomination Form'!I89)","v":""},{"$f":"IF(ISBLANK('Scholars Nomination Form'!J89),\"\",'Scholars Nomination Form'!J89)","v":""},{"$f":"IF(ISBLANK('Scholars Nomination Form'!K89),\"\",'Scholars Nomination Form'!K89)","v":""},{"$f":"IF(ISBLANK('Scholars Nomination Form'!L89),\"\",'Scholars Nomination Form'!L89)","v":""},{"$f":"IF(ISBLANK('Scholars Nomination Form'!M89),\"\",'Scholars Nomination Form'!M89)","v":""},{"$f":"IF(ISBLANK('Scholars Nomination Form'!N89),\"\",'Scholars Nomination Form'!N89)","v":""},{"$f":"IF(ISBLANK('Scholars Nomination Form'!O89),\"\",'Scholars Nomination Form'!O89)","v":""},{"$f":"IF(ISBLANK('Scholars Nomination Form'!P89),\"\",'Scholars Nomination Form'!P89)","v":""},{"$f":"IF(ISBLANK('Scholars Nomination Form'!Q89),\"\",'Scholars Nomination Form'!Q89)","v":""},{"$f":"IF(ISBLANK('Scholars Nomination Form'!R89),\"\",'Scholars Nomination Form'!R89)","v":""},{"$f":"IF(ISBLANK('Scholars Nomination Form'!S89),\"\",'Scholars Nomination Form'!S89)","v":""},{"$f":"IF(ISBLANK('Scholars Nomination Form'!T89),\"\",'Scholars Nomination Form'!T89)","v":""},{"$f":"IF(ISBLANK('Scholars Nomination Form'!U89),\"\",'Scholars Nomination Form'!U89)","v":""},{"$f":"IF(ISBLANK('Scholars Nomination Form'!V89),\"\",'Scholars Nomination Form'!V89)","v":""},{"$f":"IF(ISBLANK('Scholars Nomination Form'!W89),\"\",'Scholars Nomination Form'!W89)","v":""},{"$f":"IF(ISBLANK('Scholars Nomination Form'!X89),\"\",'Scholars Nomination Form'!X89)","v":""},{"$f":"IF(ISBLANK('Scholars Nomination Form'!Y89),\"\",'Scholars Nomination Form'!Y89)","v":""},{"$f":"IF(ISBLANK('Scholars Nomination Form'!Z89),\"\",'Scholars Nomination Form'!Z89)","v":""},{"$f":"IF(ISBLANK('Scholars Nomination Form'!AA89),\"\",'Scholars Nomination Form'!AA89)","v":""}]
[{"$f":"IF(ISBLANK('Scholars Nomination Form'!$F90),\"\",'Scholars Nomination Form'!$C$11)","v":""},{"$f":"IF(ISBLANK('Scholars Nomination Form'!$F90),\"\",'Scholars Nomination Form'!$C$12)","v":""},{"$f":"IF(ISBLANK('Scholars Nomination Form'!$F90),\"\",'Scholars Nomination Form'!$C$13)","v":""},{"$f":"IF(ISBLANK('Scholars Nomination Form'!$F90),\"\",'Scholars Nomination Form'!$C$14)","v":""},{"$f":"IF(ISBLANK('Scholars Nomination Form'!$F90),\"\",'Scholars Nomination Form'!$C$15)","v":""},{"$f":"IF(ISBLANK('Scholars Nomination Form'!$F90),\"\",'Scholars Nomination Form'!$C$16)","v":""},{"$f":"IF(ISBLANK('Scholars Nomination Form'!B90),\"\",'Scholars Nomination Form'!B90)","v":""},{"$f":"IF(ISBLANK('Scholars Nomination Form'!D90),\"\",'Scholars Nomination Form'!D90)","v":""},{"$f":"IF(ISBLANK('Scholars Nomination Form'!E90),\"\",'Scholars Nomination Form'!E90)","v":""},{"$f":"IF(ISBLANK('Scholars Nomination Form'!F90),\"\",'Scholars Nomination Form'!F90)","v":""},{"$f":"IF(ISBLANK('Scholars Nomination Form'!G90),\"\",'Scholars Nomination Form'!G90)","v":""},{"$f":"IF(ISBLANK('Scholars Nomination Form'!H90),\"\",'Scholars Nomination Form'!H90)","v":""},{"$f":"IF(ISBLANK('Scholars Nomination Form'!I90),\"\",'Scholars Nomination Form'!I90)","v":""},{"$f":"IF(ISBLANK('Scholars Nomination Form'!J90),\"\",'Scholars Nomination Form'!J90)","v":""},{"$f":"IF(ISBLANK('Scholars Nomination Form'!K90),\"\",'Scholars Nomination Form'!K90)","v":""},{"$f":"IF(ISBLANK('Scholars Nomination Form'!L90),\"\",'Scholars Nomination Form'!L90)","v":""},{"$f":"IF(ISBLANK('Scholars Nomination Form'!M90),\"\",'Scholars Nomination Form'!M90)","v":""},{"$f":"IF(ISBLANK('Scholars Nomination Form'!N90),\"\",'Scholars Nomination Form'!N90)","v":""},{"$f":"IF(ISBLANK('Scholars Nomination Form'!O90),\"\",'Scholars Nomination Form'!O90)","v":""},{"$f":"IF(ISBLANK('Scholars Nomination Form'!P90),\"\",'Scholars Nomination Form'!P90)","v":""},{"$f":"IF(ISBLANK('Scholars Nomination Form'!Q90),\"\",'Scholars Nomination Form'!Q90)","v":""},{"$f":"IF(ISBLANK('Scholars Nomination Form'!R90),\"\",'Scholars Nomination Form'!R90)","v":""},{"$f":"IF(ISBLANK('Scholars Nomination Form'!S90),\"\",'Scholars Nomination Form'!S90)","v":""},{"$f":"IF(ISBLANK('Scholars Nomination Form'!T90),\"\",'Scholars Nomination Form'!T90)","v":""},{"$f":"IF(ISBLANK('Scholars Nomination Form'!U90),\"\",'Scholars Nomination Form'!U90)","v":""},{"$f":"IF(ISBLANK('Scholars Nomination Form'!V90),\"\",'Scholars Nomination Form'!V90)","v":""},{"$f":"IF(ISBLANK('Scholars Nomination Form'!W90),\"\",'Scholars Nomination Form'!W90)","v":""},{"$f":"IF(ISBLANK('Scholars Nomination Form'!X90),\"\",'Scholars Nomination Form'!X90)","v":""},{"$f":"IF(ISBLANK('Scholars Nomination Form'!Y90),\"\",'Scholars Nomination Form'!Y90)","v":""},{"$f":"IF(ISBLANK('Scholars Nomination Form'!Z90),\"\",'Scholars Nomination Form'!Z90)","v":""},{"$f":"IF(ISBLANK('Scholars Nomination Form'!AA90),\"\",'Scholars Nomination Form'!AA90)","v":""}]
[{"$f":"IF(ISBLANK('Scholars Nomination Form'!$F91),\"\",'Scholars Nomination Form'!$C$11)","v":""},{"$f":"IF(ISBLANK('Scholars Nomination Form'!$F91),\"\",'Scholars Nomination Form'!$C$12)","v":""},{"$f":"IF(ISBLANK('Scholars Nomination Form'!$F91),\"\",'Scholars Nomination Form'!$C$13)","v":""},{"$f":"IF(ISBLANK('Scholars Nomination Form'!$F91),\"\",'Scholars Nomination Form'!$C$14)","v":""},{"$f":"IF(ISBLANK('Scholars Nomination Form'!$F91),\"\",'Scholars Nomination Form'!$C$15)","v":""},{"$f":"IF(ISBLANK('Scholars Nomination Form'!$F91),\"\",'Scholars Nomination Form'!$C$16)","v":""},{"$f":"IF(ISBLANK('Scholars Nomination Form'!B91),\"\",'Scholars Nomination Form'!B91)","v":""},{"$f":"IF(ISBLANK('Scholars Nomination Form'!D91),\"\",'Scholars Nomination Form'!D91)","v":""},{"$f":"IF(ISBLANK('Scholars Nomination Form'!E91),\"\",'Scholars Nomination Form'!E91)","v":""},{"$f":"IF(ISBLANK('Scholars Nomination Form'!F91),\"\",'Scholars Nomination Form'!F91)","v":""},{"$f":"IF(ISBLANK('Scholars Nomination Form'!G91),\"\",'Scholars Nomination Form'!G91)","v":""},{"$f":"IF(ISBLANK('Scholars Nomination Form'!H91),\"\",'Scholars Nomination Form'!H91)","v":""},{"$f":"IF(ISBLANK('Scholars Nomination Form'!I91),\"\",'Scholars Nomination Form'!I91)","v":""},{"$f":"IF(ISBLANK('Scholars Nomination Form'!J91),\"\",'Scholars Nomination Form'!J91)","v":""},{"$f":"IF(ISBLANK('Scholars Nomination Form'!K91),\"\",'Scholars Nomination Form'!K91)","v":""},{"$f":"IF(ISBLANK('Scholars Nomination Form'!L91),\"\",'Scholars Nomination Form'!L91)","v":""},{"$f":"IF(ISBLANK('Scholars Nomination Form'!M91),\"\",'Scholars Nomination Form'!M91)","v":""},{"$f":"IF(ISBLANK('Scholars Nomination Form'!N91),\"\",'Scholars Nomination Form'!N91)","v":""},{"$f":"IF(ISBLANK('Scholars Nomination Form'!O91),\"\",'Scholars Nomination Form'!O91)","v":""},{"$f":"IF(ISBLANK('Scholars Nomination Form'!P91),\"\",'Scholars Nomination Form'!P91)","v":""},{"$f":"IF(ISBLANK('Scholars Nomination Form'!Q91),\"\",'Scholars Nomination Form'!Q91)","v":""},{"$f":"IF(ISBLANK('Scholars Nomination Form'!R91),\"\",'Scholars Nomination Form'!R91)","v":""},{"$f":"IF(ISBLANK('Scholars Nomination Form'!S91),\"\",'Scholars Nomination Form'!S91)","v":""},{"$f":"IF(ISBLANK('Scholars Nomination Form'!T91),\"\",'Scholars Nomination Form'!T91)","v":""},{"$f":"IF(ISBLANK('Scholars Nomination Form'!U91),\"\",'Scholars Nomination Form'!U91)","v":""},{"$f":"IF(ISBLANK('Scholars Nomination Form'!V91),\"\",'Scholars Nomination Form'!V91)","v":""},{"$f":"IF(ISBLANK('Scholars Nomination Form'!W91),\"\",'Scholars Nomination Form'!W91)","v":""},{"$f":"IF(ISBLANK('Scholars Nomination Form'!X91),\"\",'Scholars Nomination Form'!X91)","v":""},{"$f":"IF(ISBLANK('Scholars Nomination Form'!Y91),\"\",'Scholars Nomination Form'!Y91)","v":""},{"$f":"IF(ISBLANK('Scholars Nomination Form'!Z91),\"\",'Scholars Nomination Form'!Z91)","v":""},{"$f":"IF(ISBLANK('Scholars Nomination Form'!AA91),\"\",'Scholars Nomination Form'!AA91)","v":""}]
[{"$f":"IF(ISBLANK('Scholars Nomination Form'!$F92),\"\",'Scholars Nomination Form'!$C$11)","v":""},{"$f":"IF(ISBLANK('Scholars Nomination Form'!$F92),\"\",'Scholars Nomination Form'!$C$12)","v":""},{"$f":"IF(ISBLANK('Scholars Nomination Form'!$F92),\"\",'Scholars Nomination Form'!$C$13)","v":""},{"$f":"IF(ISBLANK('Scholars Nomination Form'!$F92),\"\",'Scholars Nomination Form'!$C$14)","v":""},{"$f":"IF(ISBLANK('Scholars Nomination Form'!$F92),\"\",'Scholars Nomination Form'!$C$15)","v":""},{"$f":"IF(ISBLANK('Scholars Nomination Form'!$F92),\"\",'Scholars Nomination Form'!$C$16)","v":""},{"$f":"IF(ISBLANK('Scholars Nomination Form'!B92),\"\",'Scholars Nomination Form'!B92)","v":""},{"$f":"IF(ISBLANK('Scholars Nomination Form'!D92),\"\",'Scholars Nomination Form'!D92)","v":""},{"$f":"IF(ISBLANK('Scholars Nomination Form'!E92),\"\",'Scholars Nomination Form'!E92)","v":""},{"$f":"IF(ISBLANK('Scholars Nomination Form'!F92),\"\",'Scholars Nomination Form'!F92)","v":""},{"$f":"IF(ISBLANK('Scholars Nomination Form'!G92),\"\",'Scholars Nomination Form'!G92)","v":""},{"$f":"IF(ISBLANK('Scholars Nomination Form'!H92),\"\",'Scholars Nomination Form'!H92)","v":""},{"$f":"IF(ISBLANK('Scholars Nomination Form'!I92),\"\",'Scholars Nomination Form'!I92)","v":""},{"$f":"IF(ISBLANK('Scholars Nomination Form'!J92),\"\",'Scholars Nomination Form'!J92)","v":""},{"$f":"IF(ISBLANK('Scholars Nomination Form'!K92),\"\",'Scholars Nomination Form'!K92)","v":""},{"$f":"IF(ISBLANK('Scholars Nomination Form'!L92),\"\",'Scholars Nomination Form'!L92)","v":""},{"$f":"IF(ISBLANK('Scholars Nomination Form'!M92),\"\",'Scholars Nomination Form'!M92)","v":""},{"$f":"IF(ISBLANK('Scholars Nomination Form'!N92),\"\",'Scholars Nomination Form'!N92)","v":""},{"$f":"IF(ISBLANK('Scholars Nomination Form'!O92),\"\",'Scholars Nomination Form'!O92)","v":""},{"$f":"IF(ISBLANK('Scholars Nomination Form'!P92),\"\",'Scholars Nomination Form'!P92)","v":""},{"$f":"IF(ISBLANK('Scholars Nomination Form'!Q92),\"\",'Scholars Nomination Form'!Q92)","v":""},{"$f":"IF(ISBLANK('Scholars Nomination Form'!R92),\"\",'Scholars Nomination Form'!R92)","v":""},{"$f":"IF(ISBLANK('Scholars Nomination Form'!S92),\"\",'Scholars Nomination Form'!S92)","v":""},{"$f":"IF(ISBLANK('Scholars Nomination Form'!T92),\"\",'Scholars Nomination Form'!T92)","v":""},{"$f":"IF(ISBLANK('Scholars Nomination Form'!U92),\"\",'Scholars Nomination Form'!U92)","v":""},{"$f":"IF(ISBLANK('Scholars Nomination Form'!V92),\"\",'Scholars Nomination Form'!V92)","v":""},{"$f":"IF(ISBLANK('Scholars Nomination Form'!W92),\"\",'Scholars Nomination Form'!W92)","v":""},{"$f":"IF(ISBLANK('Scholars Nomination Form'!X92),\"\",'Scholars Nomination Form'!X92)","v":""},{"$f":"IF(ISBLANK('Scholars Nomination Form'!Y92),\"\",'Scholars Nomination Form'!Y92)","v":""},{"$f":"IF(ISBLANK('Scholars Nomination Form'!Z92),\"\",'Scholars Nomination Form'!Z92)","v":""},{"$f":"IF(ISBLANK('Scholars Nomination Form'!AA92),\"\",'Scholars Nomination Form'!AA92)","v":""}]
[{"$f":"IF(ISBLANK('Scholars Nomination Form'!$F93),\"\",'Scholars Nomination Form'!$C$11)","v":""},{"$f":"IF(ISBLANK('Scholars Nomination Form'!$F93),\"\",'Scholars Nomination Form'!$C$12)","v":""},{"$f":"IF(ISBLANK('Scholars Nomination Form'!$F93),\"\",'Scholars Nomination Form'!$C$13)","v":""},{"$f":"IF(ISBLANK('Scholars Nomination Form'!$F93),\"\",'Scholars Nomination Form'!$C$14)","v":""},{"$f":"IF(ISBLANK('Scholars Nomination Form'!$F93),\"\",'Scholars Nomination Form'!$C$15)","v":""},{"$f":"IF(ISBLANK('Scholars Nomination Form'!$F93),\"\",'Scholars Nomination Form'!$C$16)","v":""},{"$f":"IF(ISBLANK('Scholars Nomination Form'!B93),\"\",'Scholars Nomination Form'!B93)","v":""},{"$f":"IF(ISBLANK('Scholars Nomination Form'!D93),\"\",'Scholars Nomination Form'!D93)","v":""},{"$f":"IF(ISBLANK('Scholars Nomination Form'!E93),\"\",'Scholars Nomination Form'!E93)","v":""},{"$f":"IF(ISBLANK('Scholars Nomination Form'!F93),\"\",'Scholars Nomination Form'!F93)","v":""},{"$f":"IF(ISBLANK('Scholars Nomination Form'!G93),\"\",'Scholars Nomination Form'!G93)","v":""},{"$f":"IF(ISBLANK('Scholars Nomination Form'!H93),\"\",'Scholars Nomination Form'!H93)","v":""},{"$f":"IF(ISBLANK('Scholars Nomination Form'!I93),\"\",'Scholars Nomination Form'!I93)","v":""},{"$f":"IF(ISBLANK('Scholars Nomination Form'!J93),\"\",'Scholars Nomination Form'!J93)","v":""},{"$f":"IF(ISBLANK('Scholars Nomination Form'!K93),\"\",'Scholars Nomination Form'!K93)","v":""},{"$f":"IF(ISBLANK('Scholars Nomination Form'!L93),\"\",'Scholars Nomination Form'!L93)","v":""},{"$f":"IF(ISBLANK('Scholars Nomination Form'!M93),\"\",'Scholars Nomination Form'!M93)","v":""},{"$f":"IF(ISBLANK('Scholars Nomination Form'!N93),\"\",'Scholars Nomination Form'!N93)","v":""},{"$f":"IF(ISBLANK('Scholars Nomination Form'!O93),\"\",'Scholars Nomination Form'!O93)","v":""},{"$f":"IF(ISBLANK('Scholars Nomination Form'!P93),\"\",'Scholars Nomination Form'!P93)","v":""},{"$f":"IF(ISBLANK('Scholars Nomination Form'!Q93),\"\",'Scholars Nomination Form'!Q93)","v":""},{"$f":"IF(ISBLANK('Scholars Nomination Form'!R93),\"\",'Scholars Nomination Form'!R93)","v":""},{"$f":"IF(ISBLANK('Scholars Nomination Form'!S93),\"\",'Scholars Nomination Form'!S93)","v":""},{"$f":"IF(ISBLANK('Scholars Nomination Form'!T93),\"\",'Scholars Nomination Form'!T93)","v":""},{"$f":"IF(ISBLANK('Scholars Nomination Form'!U93),\"\",'Scholars Nomination Form'!U93)","v":""},{"$f":"IF(ISBLANK('Scholars Nomination Form'!V93),\"\",'Scholars Nomination Form'!V93)","v":""},{"$f":"IF(ISBLANK('Scholars Nomination Form'!W93),\"\",'Scholars Nomination Form'!W93)","v":""},{"$f":"IF(ISBLANK('Scholars Nomination Form'!X93),\"\",'Scholars Nomination Form'!X93)","v":""},{"$f":"IF(ISBLANK('Scholars Nomination Form'!Y93),\"\",'Scholars Nomination Form'!Y93)","v":""},{"$f":"IF(ISBLANK('Scholars Nomination Form'!Z93),\"\",'Scholars Nomination Form'!Z93)","v":""},{"$f":"IF(ISBLANK('Scholars Nomination Form'!AA93),\"\",'Scholars Nomination Form'!AA93)","v":""}]
[{"$f":"IF(ISBLANK('Scholars Nomination Form'!$F94),\"\",'Scholars Nomination Form'!$C$11)","v":""},{"$f":"IF(ISBLANK('Scholars Nomination Form'!$F94),\"\",'Scholars Nomination Form'!$C$12)","v":""},{"$f":"IF(ISBLANK('Scholars Nomination Form'!$F94),\"\",'Scholars Nomination Form'!$C$13)","v":""},{"$f":"IF(ISBLANK('Scholars Nomination Form'!$F94),\"\",'Scholars Nomination Form'!$C$14)","v":""},{"$f":"IF(ISBLANK('Scholars Nomination Form'!$F94),\"\",'Scholars Nomination Form'!$C$15)","v":""},{"$f":"IF(ISBLANK('Scholars Nomination Form'!$F94),\"\",'Scholars Nomination Form'!$C$16)","v":""},{"$f":"IF(ISBLANK('Scholars Nomination Form'!B94),\"\",'Scholars Nomination Form'!B94)","v":""},{"$f":"IF(ISBLANK('Scholars Nomination Form'!D94),\"\",'Scholars Nomination Form'!D94)","v":""},{"$f":"IF(ISBLANK('Scholars Nomination Form'!E94),\"\",'Scholars Nomination Form'!E94)","v":""},{"$f":"IF(ISBLANK('Scholars Nomination Form'!F94),\"\",'Scholars Nomination Form'!F94)","v":""},{"$f":"IF(ISBLANK('Scholars Nomination Form'!G94),\"\",'Scholars Nomination Form'!G94)","v":""},{"$f":"IF(ISBLANK('Scholars Nomination Form'!H94),\"\",'Scholars Nomination Form'!H94)","v":""},{"$f":"IF(ISBLANK('Scholars Nomination Form'!I94),\"\",'Scholars Nomination Form'!I94)","v":""},{"$f":"IF(ISBLANK('Scholars Nomination Form'!J94),\"\",'Scholars Nomination Form'!J94)","v":""},{"$f":"IF(ISBLANK('Scholars Nomination Form'!K94),\"\",'Scholars Nomination Form'!K94)","v":""},{"$f":"IF(ISBLANK('Scholars Nomination Form'!L94),\"\",'Scholars Nomination Form'!L94)","v":""},{"$f":"IF(ISBLANK('Scholars Nomination Form'!M94),\"\",'Scholars Nomination Form'!M94)","v":""},{"$f":"IF(ISBLANK('Scholars Nomination Form'!N94),\"\",'Scholars Nomination Form'!N94)","v":""},{"$f":"IF(ISBLANK('Scholars Nomination Form'!O94),\"\",'Scholars Nomination Form'!O94)","v":""},{"$f":"IF(ISBLANK('Scholars Nomination Form'!P94),\"\",'Scholars Nomination Form'!P94)","v":""},{"$f":"IF(ISBLANK('Scholars Nomination Form'!Q94),\"\",'Scholars Nomination Form'!Q94)","v":""},{"$f":"IF(ISBLANK('Scholars Nomination Form'!R94),\"\",'Scholars Nomination Form'!R94)","v":""},{"$f":"IF(ISBLANK('Scholars Nomination Form'!S94),\"\",'Scholars Nomination Form'!S94)","v":""},{"$f":"IF(ISBLANK('Scholars Nomination Form'!T94),\"\",'Scholars Nomination Form'!T94)","v":""},{"$f":"IF(ISBLANK('Scholars Nomination Form'!U94),\"\",'Scholars Nomination Form'!U94)","v":""},{"$f":"IF(ISBLANK('Scholars Nomination Form'!V94),\"\",'Scholars Nomination Form'!V94)","v":""},{"$f":"IF(ISBLANK('Scholars Nomination Form'!W94),\"\",'Scholars Nomination Form'!W94)","v":""},{"$f":"IF(ISBLANK('Scholars Nomination Form'!X94),\"\",'Scholars Nomination Form'!X94)","v":""},{"$f":"IF(ISBLANK('Scholars Nomination Form'!Y94),\"\",'Scholars Nomination Form'!Y94)","v":""},{"$f":"IF(ISBLANK('Scholars Nomination Form'!Z94),\"\",'Scholars Nomination Form'!Z94)","v":""},{"$f":"IF(ISBLANK('Scholars Nomination Form'!AA94),\"\",'Scholars Nomination Form'!AA94)","v":""}]
[{"$f":"IF(ISBLANK('Scholars Nomination Form'!$F95),\"\",'Scholars Nomination Form'!$C$11)","v":""},{"$f":"IF(ISBLANK('Scholars Nomination Form'!$F95),\"\",'Scholars Nomination Form'!$C$12)","v":""},{"$f":"IF(ISBLANK('Scholars Nomination Form'!$F95),\"\",'Scholars Nomination Form'!$C$13)","v":""},{"$f":"IF(ISBLANK('Scholars Nomination Form'!$F95),\"\",'Scholars Nomination Form'!$C$14)","v":""},{"$f":"IF(ISBLANK('Scholars Nomination Form'!$F95),\"\",'Scholars Nomination Form'!$C$15)","v":""},{"$f":"IF(ISBLANK('Scholars Nomination Form'!$F95),\"\",'Scholars Nomination Form'!$C$16)","v":""},{"$f":"IF(ISBLANK('Scholars Nomination Form'!B95),\"\",'Scholars Nomination Form'!B95)","v":""},{"$f":"IF(ISBLANK('Scholars Nomination Form'!D95),\"\",'Scholars Nomination Form'!D95)","v":""},{"$f":"IF(ISBLANK('Scholars Nomination Form'!E95),\"\",'Scholars Nomination Form'!E95)","v":""},{"$f":"IF(ISBLANK('Scholars Nomination Form'!F95),\"\",'Scholars Nomination Form'!F95)","v":""},{"$f":"IF(ISBLANK('Scholars Nomination Form'!G95),\"\",'Scholars Nomination Form'!G95)","v":""},{"$f":"IF(ISBLANK('Scholars Nomination Form'!H95),\"\",'Scholars Nomination Form'!H95)","v":""},{"$f":"IF(ISBLANK('Scholars Nomination Form'!I95),\"\",'Scholars Nomination Form'!I95)","v":""},{"$f":"IF(ISBLANK('Scholars Nomination Form'!J95),\"\",'Scholars Nomination Form'!J95)","v":""},{"$f":"IF(ISBLANK('Scholars Nomination Form'!K95),\"\",'Scholars Nomination Form'!K95)","v":""},{"$f":"IF(ISBLANK('Scholars Nomination Form'!L95),\"\",'Scholars Nomination Form'!L95)","v":""},{"$f":"IF(ISBLANK('Scholars Nomination Form'!M95),\"\",'Scholars Nomination Form'!M95)","v":""},{"$f":"IF(ISBLANK('Scholars Nomination Form'!N95),\"\",'Scholars Nomination Form'!N95)","v":""},{"$f":"IF(ISBLANK('Scholars Nomination Form'!O95),\"\",'Scholars Nomination Form'!O95)","v":""},{"$f":"IF(ISBLANK('Scholars Nomination Form'!P95),\"\",'Scholars Nomination Form'!P95)","v":""},{"$f":"IF(ISBLANK('Scholars Nomination Form'!Q95),\"\",'Scholars Nomination Form'!Q95)","v":""},{"$f":"IF(ISBLANK('Scholars Nomination Form'!R95),\"\",'Scholars Nomination Form'!R95)","v":""},{"$f":"IF(ISBLANK('Scholars Nomination Form'!S95),\"\",'Scholars Nomination Form'!S95)","v":""},{"$f":"IF(ISBLANK('Scholars Nomination Form'!T95),\"\",'Scholars Nomination Form'!T95)","v":""},{"$f":"IF(ISBLANK('Scholars Nomination Form'!U95),\"\",'Scholars Nomination Form'!U95)","v":""},{"$f":"IF(ISBLANK('Scholars Nomination Form'!V95),\"\",'Scholars Nomination Form'!V95)","v":""},{"$f":"IF(ISBLANK('Scholars Nomination Form'!W95),\"\",'Scholars Nomination Form'!W95)","v":""},{"$f":"IF(ISBLANK('Scholars Nomination Form'!X95),\"\",'Scholars Nomination Form'!X95)","v":""},{"$f":"IF(ISBLANK('Scholars Nomination Form'!Y95),\"\",'Scholars Nomination Form'!Y95)","v":""},{"$f":"IF(ISBLANK('Scholars Nomination Form'!Z95),\"\",'Scholars Nomination Form'!Z95)","v":""},{"$f":"IF(ISBLANK('Scholars Nomination Form'!AA95),\"\",'Scholars Nomination Form'!AA95)","v":""}]
[{"$f":"IF(ISBLANK('Scholars Nomination Form'!$F96),\"\",'Scholars Nomination Form'!$C$11)","v":""},{"$f":"IF(ISBLANK('Scholars Nomination Form'!$F96),\"\",'Scholars Nomination Form'!$C$12)","v":""},{"$f":"IF(ISBLANK('Scholars Nomination Form'!$F96),\"\",'Scholars Nomination Form'!$C$13)","v":""},{"$f":"IF(ISBLANK('Scholars Nomination Form'!$F96),\"\",'Scholars Nomination Form'!$C$14)","v":""},{"$f":"IF(ISBLANK('Scholars Nomination Form'!$F96),\"\",'Scholars Nomination Form'!$C$15)","v":""},{"$f":"IF(ISBLANK('Scholars Nomination Form'!$F96),\"\",'Scholars Nomination Form'!$C$16)","v":""},{"$f":"IF(ISBLANK('Scholars Nomination Form'!B96),\"\",'Scholars Nomination Form'!B96)","v":""},{"$f":"IF(ISBLANK('Scholars Nomination Form'!D96),\"\",'Scholars Nomination Form'!D96)","v":""},{"$f":"IF(ISBLANK('Scholars Nomination Form'!E96),\"\",'Scholars Nomination Form'!E96)","v":""},{"$f":"IF(ISBLANK('Scholars Nomination Form'!F96),\"\",'Scholars Nomination Form'!F96)","v":""},{"$f":"IF(ISBLANK('Scholars Nomination Form'!G96),\"\",'Scholars Nomination Form'!G96)","v":""},{"$f":"IF(ISBLANK('Scholars Nomination Form'!H96),\"\",'Scholars Nomination Form'!H96)","v":""},{"$f":"IF(ISBLANK('Scholars Nomination Form'!I96),\"\",'Scholars Nomination Form'!I96)","v":""},{"$f":"IF(ISBLANK('Scholars Nomination Form'!J96),\"\",'Scholars Nomination Form'!J96)","v":""},{"$f":"IF(ISBLANK('Scholars Nomination Form'!K96),\"\",'Scholars Nomination Form'!K96)","v":""},{"$f":"IF(ISBLANK('Scholars Nomination Form'!L96),\"\",'Scholars Nomination Form'!L96)","v":""},{"$f":"IF(ISBLANK('Scholars Nomination Form'!M96),\"\",'Scholars Nomination Form'!M96)","v":""},{"$f":"IF(ISBLANK('Scholars Nomination Form'!N96),\"\",'Scholars Nomination Form'!N96)","v":""},{"$f":"IF(ISBLANK('Scholars Nomination Form'!O96),\"\",'Scholars Nomination Form'!O96)","v":""},{"$f":"IF(ISBLANK('Scholars Nomination Form'!P96),\"\",'Scholars Nomination Form'!P96)","v":""},{"$f":"IF(ISBLANK('Scholars Nomination Form'!Q96),\"\",'Scholars Nomination Form'!Q96)","v":""},{"$f":"IF(ISBLANK('Scholars Nomination Form'!R96),\"\",'Scholars Nomination Form'!R96)","v":""},{"$f":"IF(ISBLANK('Scholars Nomination Form'!S96),\"\",'Scholars Nomination Form'!S96)","v":""},{"$f":"IF(ISBLANK('Scholars Nomination Form'!T96),\"\",'Scholars Nomination Form'!T96)","v":""},{"$f":"IF(ISBLANK('Scholars Nomination Form'!U96),\"\",'Scholars Nomination Form'!U96)","v":""},{"$f":"IF(ISBLANK('Scholars Nomination Form'!V96),\"\",'Scholars Nomination Form'!V96)","v":""},{"$f":"IF(ISBLANK('Scholars Nomination Form'!W96),\"\",'Scholars Nomination Form'!W96)","v":""},{"$f":"IF(ISBLANK('Scholars Nomination Form'!X96),\"\",'Scholars Nomination Form'!X96)","v":""},{"$f":"IF(ISBLANK('Scholars Nomination Form'!Y96),\"\",'Scholars Nomination Form'!Y96)","v":""},{"$f":"IF(ISBLANK('Scholars Nomination Form'!Z96),\"\",'Scholars Nomination Form'!Z96)","v":""},{"$f":"IF(ISBLANK('Scholars Nomination Form'!AA96),\"\",'Scholars Nomination Form'!AA96)","v":""}]
[{"$f":"IF(ISBLANK('Scholars Nomination Form'!$F97),\"\",'Scholars Nomination Form'!$C$11)","v":""},{"$f":"IF(ISBLANK('Scholars Nomination Form'!$F97),\"\",'Scholars Nomination Form'!$C$12)","v":""},{"$f":"IF(ISBLANK('Scholars Nomination Form'!$F97),\"\",'Scholars Nomination Form'!$C$13)","v":""},{"$f":"IF(ISBLANK('Scholars Nomination Form'!$F97),\"\",'Scholars Nomination Form'!$C$14)","v":""},{"$f":"IF(ISBLANK('Scholars Nomination Form'!$F97),\"\",'Scholars Nomination Form'!$C$15)","v":""},{"$f":"IF(ISBLANK('Scholars Nomination Form'!$F97),\"\",'Scholars Nomination Form'!$C$16)","v":""},{"$f":"IF(ISBLANK('Scholars Nomination Form'!B97),\"\",'Scholars Nomination Form'!B97)","v":""},{"$f":"IF(ISBLANK('Scholars Nomination Form'!D97),\"\",'Scholars Nomination Form'!D97)","v":""},{"$f":"IF(ISBLANK('Scholars Nomination Form'!E97),\"\",'Scholars Nomination Form'!E97)","v":""},{"$f":"IF(ISBLANK('Scholars Nomination Form'!F97),\"\",'Scholars Nomination Form'!F97)","v":""},{"$f":"IF(ISBLANK('Scholars Nomination Form'!G97),\"\",'Scholars Nomination Form'!G97)","v":""},{"$f":"IF(ISBLANK('Scholars Nomination Form'!H97),\"\",'Scholars Nomination Form'!H97)","v":""},{"$f":"IF(ISBLANK('Scholars Nomination Form'!I97),\"\",'Scholars Nomination Form'!I97)","v":""},{"$f":"IF(ISBLANK('Scholars Nomination Form'!J97),\"\",'Scholars Nomination Form'!J97)","v":""},{"$f":"IF(ISBLANK('Scholars Nomination Form'!K97),\"\",'Scholars Nomination Form'!K97)","v":""},{"$f":"IF(ISBLANK('Scholars Nomination Form'!L97),\"\",'Scholars Nomination Form'!L97)","v":""},{"$f":"IF(ISBLANK('Scholars Nomination Form'!M97),\"\",'Scholars Nomination Form'!M97)","v":""},{"$f":"IF(ISBLANK('Scholars Nomination Form'!N97),\"\",'Scholars Nomination Form'!N97)","v":""},{"$f":"IF(ISBLANK('Scholars Nomination Form'!O97),\"\",'Scholars Nomination Form'!O97)","v":""},{"$f":"IF(ISBLANK('Scholars Nomination Form'!P97),\"\",'Scholars Nomination Form'!P97)","v":""},{"$f":"IF(ISBLANK('Scholars Nomination Form'!Q97),\"\",'Scholars Nomination Form'!Q97)","v":""},{"$f":"IF(ISBLANK('Scholars Nomination Form'!R97),\"\",'Scholars Nomination Form'!R97)","v":""},{"$f":"IF(ISBLANK('Scholars Nomination Form'!S97),\"\",'Scholars Nomination Form'!S97)","v":""},{"$f":"IF(ISBLANK('Scholars Nomination Form'!T97),\"\",'Scholars Nomination Form'!T97)","v":""},{"$f":"IF(ISBLANK('Scholars Nomination Form'!U97),\"\",'Scholars Nomination Form'!U97)","v":""},{"$f":"IF(ISBLANK('Scholars Nomination Form'!V97),\"\",'Scholars Nomination Form'!V97)","v":""},{"$f":"IF(ISBLANK('Scholars Nomination Form'!W97),\"\",'Scholars Nomination Form'!W97)","v":""},{"$f":"IF(ISBLANK('Scholars Nomination Form'!X97),\"\",'Scholars Nomination Form'!X97)","v":""},{"$f":"IF(ISBLANK('Scholars Nomination Form'!Y97),\"\",'Scholars Nomination Form'!Y97)","v":""},{"$f":"IF(ISBLANK('Scholars Nomination Form'!Z97),\"\",'Scholars Nomination Form'!Z97)","v":""},{"$f":"IF(ISBLANK('Scholars Nomination Form'!AA97),\"\",'Scholars Nomination Form'!AA97)","v":""}]
[{"$f":"IF(ISBLANK('Scholars Nomination Form'!$F98),\"\",'Scholars Nomination Form'!$C$11)","v":""},{"$f":"IF(ISBLANK('Scholars Nomination Form'!$F98),\"\",'Scholars Nomination Form'!$C$12)","v":""},{"$f":"IF(ISBLANK('Scholars Nomination Form'!$F98),\"\",'Scholars Nomination Form'!$C$13)","v":""},{"$f":"IF(ISBLANK('Scholars Nomination Form'!$F98),\"\",'Scholars Nomination Form'!$C$14)","v":""},{"$f":"IF(ISBLANK('Scholars Nomination Form'!$F98),\"\",'Scholars Nomination Form'!$C$15)","v":""},{"$f":"IF(ISBLANK('Scholars Nomination Form'!$F98),\"\",'Scholars Nomination Form'!$C$16)","v":""},{"$f":"IF(ISBLANK('Scholars Nomination Form'!B98),\"\",'Scholars Nomination Form'!B98)","v":""},{"$f":"IF(ISBLANK('Scholars Nomination Form'!D98),\"\",'Scholars Nomination Form'!D98)","v":""},{"$f":"IF(ISBLANK('Scholars Nomination Form'!E98),\"\",'Scholars Nomination Form'!E98)","v":""},{"$f":"IF(ISBLANK('Scholars Nomination Form'!F98),\"\",'Scholars Nomination Form'!F98)","v":""},{"$f":"IF(ISBLANK('Scholars Nomination Form'!G98),\"\",'Scholars Nomination Form'!G98)","v":""},{"$f":"IF(ISBLANK('Scholars Nomination Form'!H98),\"\",'Scholars Nomination Form'!H98)","v":""},{"$f":"IF(ISBLANK('Scholars Nomination Form'!I98),\"\",'Scholars Nomination Form'!I98)","v":""},{"$f":"IF(ISBLANK('Scholars Nomination Form'!J98),\"\",'Scholars Nomination Form'!J98)","v":""},{"$f":"IF(ISBLANK('Scholars Nomination Form'!K98),\"\",'Scholars Nomination Form'!K98)","v":""},{"$f":"IF(ISBLANK('Scholars Nomination Form'!L98),\"\",'Scholars Nomination Form'!L98)","v":""},{"$f":"IF(ISBLANK('Scholars Nomination Form'!M98),\"\",'Scholars Nomination Form'!M98)","v":""},{"$f":"IF(ISBLANK('Scholars Nomination Form'!N98),\"\",'Scholars Nomination Form'!N98)","v":""},{"$f":"IF(ISBLANK('Scholars Nomination Form'!O98),\"\",'Scholars Nomination Form'!O98)","v":""},{"$f":"IF(ISBLANK('Scholars Nomination Form'!P98),\"\",'Scholars Nomination Form'!P98)","v":""},{"$f":"IF(ISBLANK('Scholars Nomination Form'!Q98),\"\",'Scholars Nomination Form'!Q98)","v":""},{"$f":"IF(ISBLANK('Scholars Nomination Form'!R98),\"\",'Scholars Nomination Form'!R98)","v":""},{"$f":"IF(ISBLANK('Scholars Nomination Form'!S98),\"\",'Scholars Nomination Form'!S98)","v":""},{"$f":"IF(ISBLANK('Scholars Nomination Form'!T98),\"\",'Scholars Nomination Form'!T98)","v":""},{"$f":"IF(ISBLANK('Scholars Nomination Form'!U98),\"\",'Scholars Nomination Form'!U98)","v":""},{"$f":"IF(ISBLANK('Scholars Nomination Form'!V98),\"\",'Scholars Nomination Form'!V98)","v":""},{"$f":"IF(ISBLANK('Scholars Nomination Form'!W98),\"\",'Scholars Nomination Form'!W98)","v":""},{"$f":"IF(ISBLANK('Scholars Nomination Form'!X98),\"\",'Scholars Nomination Form'!X98)","v":""},{"$f":"IF(ISBLANK('Scholars Nomination Form'!Y98),\"\",'Scholars Nomination Form'!Y98)","v":""},{"$f":"IF(ISBLANK('Scholars Nomination Form'!Z98),\"\",'Scholars Nomination Form'!Z98)","v":""},{"$f":"IF(ISBLANK('Scholars Nomination Form'!AA98),\"\",'Scholars Nomination Form'!AA98)","v":""}]
[{"$f":"IF(ISBLANK('Scholars Nomination Form'!$F99),\"\",'Scholars Nomination Form'!$C$11)","v":""},{"$f":"IF(ISBLANK('Scholars Nomination Form'!$F99),\"\",'Scholars Nomination Form'!$C$12)","v":""},{"$f":"IF(ISBLANK('Scholars Nomination Form'!$F99),\"\",'Scholars Nomination Form'!$C$13)","v":""},{"$f":"IF(ISBLANK('Scholars Nomination Form'!$F99),\"\",'Scholars Nomination Form'!$C$14)","v":""},{"$f":"IF(ISBLANK('Scholars Nomination Form'!$F99),\"\",'Scholars Nomination Form'!$C$15)","v":""},{"$f":"IF(ISBLANK('Scholars Nomination Form'!$F99),\"\",'Scholars Nomination Form'!$C$16)","v":""},{"$f":"IF(ISBLANK('Scholars Nomination Form'!B99),\"\",'Scholars Nomination Form'!B99)","v":""},{"$f":"IF(ISBLANK('Scholars Nomination Form'!D99),\"\",'Scholars Nomination Form'!D99)","v":""},{"$f":"IF(ISBLANK('Scholars Nomination Form'!E99),\"\",'Scholars Nomination Form'!E99)","v":""},{"$f":"IF(ISBLANK('Scholars Nomination Form'!F99),\"\",'Scholars Nomination Form'!F99)","v":""},{"$f":"IF(ISBLANK('Scholars Nomination Form'!G99),\"\",'Scholars Nomination Form'!G99)","v":""},{"$f":"IF(ISBLANK('Scholars Nomination Form'!H99),\"\",'Scholars Nomination Form'!H99)","v":""},{"$f":"IF(ISBLANK('Scholars Nomination Form'!I99),\"\",'Scholars Nomination Form'!I99)","v":""},{"$f":"IF(ISBLANK('Scholars Nomination Form'!J99),\"\",'Scholars Nomination Form'!J99)","v":""},{"$f":"IF(ISBLANK('Scholars Nomination Form'!K99),\"\",'Scholars Nomination Form'!K99)","v":""},{"$f":"IF(ISBLANK('Scholars Nomination Form'!L99),\"\",'Scholars Nomination Form'!L99)","v":""},{"$f":"IF(ISBLANK('Scholars Nomination Form'!M99),\"\",'Scholars Nomination Form'!M99)","v":""},{"$f":"IF(ISBLANK('Scholars Nomination Form'!N99),\"\",'Scholars Nomination Form'!N99)","v":""},{"$f":"IF(ISBLANK('Scholars Nomination Form'!O99),\"\",'Scholars Nomination Form'!O99)","v":""},{"$f":"IF(ISBLANK('Scholars Nomination Form'!P99),\"\",'Scholars Nomination Form'!P99)","v":""},{"$f":"IF(ISBLANK('Scholars Nomination Form'!Q99),\"\",'Scholars Nomination Form'!Q99)","v":""},{"$f":"IF(ISBLANK('Scholars Nomination Form'!R99),\"\",'Scholars Nomination Form'!R99)","v":""},{"$f":"IF(ISBLANK('Scholars Nomination Form'!S99),\"\",'Scholars Nomination Form'!S99)","v":""},{"$f":"IF(ISBLANK('Scholars Nomination Form'!T99),\"\",'Scholars Nomination Form'!T99)","v":""},{"$f":"IF(ISBLANK('Scholars Nomination Form'!U99),\"\",'Scholars Nomination Form'!U99)","v":""},{"$f":"IF(ISBLANK('Scholars Nomination Form'!V99),\"\",'Scholars Nomination Form'!V99)","v":""},{"$f":"IF(ISBLANK('Scholars Nomination Form'!W99),\"\",'Scholars Nomination Form'!W99)","v":""},{"$f":"IF(ISBLANK('Scholars Nomination Form'!X99),\"\",'Scholars Nomination Form'!X99)","v":""},{"$f":"IF(ISBLANK('Scholars Nomination Form'!Y99),\"\",'Scholars Nomination Form'!Y99)","v":""},{"$f":"IF(ISBLANK('Scholars Nomination Form'!Z99),\"\",'Scholars Nomination Form'!Z99)","v":""},{"$f":"IF(ISBLANK('Scholars Nomination Form'!AA99),\"\",'Scholars Nomination Form'!AA99)","v":""}]
[{"$f":"IF(ISBLANK('Scholars Nomination Form'!$F100),\"\",'Scholars Nomination Form'!$C$11)","v":""},{"$f":"IF(ISBLANK('Scholars Nomination Form'!$F100),\"\",'Scholars Nomination Form'!$C$12)","v":""},{"$f":"IF(ISBLANK('Scholars Nomination Form'!$F100),\"\",'Scholars Nomination Form'!$C$13)","v":""},{"$f":"IF(ISBLANK('Scholars Nomination Form'!$F100),\"\",'Scholars Nomination Form'!$C$14)","v":""},{"$f":"IF(ISBLANK('Scholars Nomination Form'!$F100),\"\",'Scholars Nomination Form'!$C$15)","v":""},{"$f":"IF(ISBLANK('Scholars Nomination Form'!$F100),\"\",'Scholars Nomination Form'!$C$16)","v":""},{"$f":"IF(ISBLANK('Scholars Nomination Form'!B100),\"\",'Scholars Nomination Form'!B100)","v":""},{"$f":"IF(ISBLANK('Scholars Nomination Form'!D100),\"\",'Scholars Nomination Form'!D100)","v":""},{"$f":"IF(ISBLANK('Scholars Nomination Form'!E100),\"\",'Scholars Nomination Form'!E100)","v":""},{"$f":"IF(ISBLANK('Scholars Nomination Form'!F100),\"\",'Scholars Nomination Form'!F100)","v":""},{"$f":"IF(ISBLANK('Scholars Nomination Form'!G100),\"\",'Scholars Nomination Form'!G100)","v":""},{"$f":"IF(ISBLANK('Scholars Nomination Form'!H100),\"\",'Scholars Nomination Form'!H100)","v":""},{"$f":"IF(ISBLANK('Scholars Nomination Form'!I100),\"\",'Scholars Nomination Form'!I100)","v":""},{"$f":"IF(ISBLANK('Scholars Nomination Form'!J100),\"\",'Scholars Nomination Form'!J100)","v":""},{"$f":"IF(ISBLANK('Scholars Nomination Form'!K100),\"\",'Scholars Nomination Form'!K100)","v":""},{"$f":"IF(ISBLANK('Scholars Nomination Form'!L100),\"\",'Scholars Nomination Form'!L100)","v":""},{"$f":"IF(ISBLANK('Scholars Nomination Form'!M100),\"\",'Scholars Nomination Form'!M100)","v":""},{"$f":"IF(ISBLANK('Scholars Nomination Form'!N100),\"\",'Scholars Nomination Form'!N100)","v":""},{"$f":"IF(ISBLANK('Scholars Nomination Form'!O100),\"\",'Scholars Nomination Form'!O100)","v":""},{"$f":"IF(ISBLANK('Scholars Nomination Form'!P100),\"\",'Scholars Nomination Form'!P100)","v":""},{"$f":"IF(ISBLANK('Scholars Nomination Form'!Q100),\"\",'Scholars Nomination Form'!Q100)","v":""},{"$f":"IF(ISBLANK('Scholars Nomination Form'!R100),\"\",'Scholars Nomination Form'!R100)","v":""},{"$f":"IF(ISBLANK('Scholars Nomination Form'!S100),\"\",'Scholars Nomination Form'!S100)","v":""},{"$f":"IF(ISBLANK('Scholars Nomination Form'!T100),\"\",'Scholars Nomination Form'!T100)","v":""},{"$f":"IF(ISBLANK('Scholars Nomination Form'!U100),\"\",'Scholars Nomination Form'!U100)","v":""},{"$f":"IF(ISBLANK('Scholars Nomination Form'!V100),\"\",'Scholars Nomination Form'!V100)","v":""},{"$f":"IF(ISBLANK('Scholars Nomination Form'!W100),\"\",'Scholars Nomination Form'!W100)","v":""},{"$f":"IF(ISBLANK('Scholars Nomination Form'!X100),\"\",'Scholars Nomination Form'!X100)","v":""},{"$f":"IF(ISBLANK('Scholars Nomination Form'!Y100),\"\",'Scholars Nomination Form'!Y100)","v":""},{"$f":"IF(ISBLANK('Scholars Nomination Form'!Z100),\"\",'Scholars Nomination Form'!Z100)","v":""},{"$f":"IF(ISBLANK('Scholars Nomination Form'!AA100),\"\",'Scholars Nomination Form'!AA100)","v":""}]
[{"$f":"IF(ISBLANK('Scholars Nomination Form'!$F101),\"\",'Scholars Nomination Form'!$C$11)","v":""},{"$f":"IF(ISBLANK('Scholars Nomination Form'!$F101),\"\",'Scholars Nomination Form'!$C$12)","v":""},{"$f":"IF(ISBLANK('Scholars Nomination Form'!$F101),\"\",'Scholars Nomination Form'!$C$13)","v":""},{"$f":"IF(ISBLANK('Scholars Nomination Form'!$F101),\"\",'Scholars Nomination Form'!$C$14)","v":""},{"$f":"IF(ISBLANK('Scholars Nomination Form'!$F101),\"\",'Scholars Nomination Form'!$C$15)","v":""},{"$f":"IF(ISBLANK('Scholars Nomination Form'!$F101),\"\",'Scholars Nomination Form'!$C$16)","v":""},{"$f":"IF(ISBLANK('Scholars Nomination Form'!B101),\"\",'Scholars Nomination Form'!B101)","v":""},{"$f":"IF(ISBLANK('Scholars Nomination Form'!D101),\"\",'Scholars Nomination Form'!D101)","v":""},{"$f":"IF(ISBLANK('Scholars Nomination Form'!E101),\"\",'Scholars Nomination Form'!E101)","v":""},{"$f":"IF(ISBLANK('Scholars Nomination Form'!F101),\"\",'Scholars Nomination Form'!F101)","v":""},{"$f":"IF(ISBLANK('Scholars Nomination Form'!G101),\"\",'Scholars Nomination Form'!G101)","v":""},{"$f":"IF(ISBLANK('Scholars Nomination Form'!H101),\"\",'Scholars Nomination Form'!H101)","v":""},{"$f":"IF(ISBLANK('Scholars Nomination Form'!I101),\"\",'Scholars Nomination Form'!I101)","v":""},{"$f":"IF(ISBLANK('Scholars Nomination Form'!J101),\"\",'Scholars Nomination Form'!J101)","v":""},{"$f":"IF(ISBLANK('Scholars Nomination Form'!K101),\"\",'Scholars Nomination Form'!K101)","v":""},{"$f":"IF(ISBLANK('Scholars Nomination Form'!L101),\"\",'Scholars Nomination Form'!L101)","v":""},{"$f":"IF(ISBLANK('Scholars Nomination Form'!M101),\"\",'Scholars Nomination Form'!M101)","v":""},{"$f":"IF(ISBLANK('Scholars Nomination Form'!N101),\"\",'Scholars Nomination Form'!N101)","v":""},{"$f":"IF(ISBLANK('Scholars Nomination Form'!O101),\"\",'Scholars Nomination Form'!O101)","v":""},{"$f":"IF(ISBLANK('Scholars Nomination Form'!P101),\"\",'Scholars Nomination Form'!P101)","v":""},{"$f":"IF(ISBLANK('Scholars Nomination Form'!Q101),\"\",'Scholars Nomination Form'!Q101)","v":""},{"$f":"IF(ISBLANK('Scholars Nomination Form'!R101),\"\",'Scholars Nomination Form'!R101)","v":""},{"$f":"IF(ISBLANK('Scholars Nomination Form'!S101),\"\",'Scholars Nomination Form'!S101)","v":""},{"$f":"IF(ISBLANK('Scholars Nomination Form'!T101),\"\",'Scholars Nomination Form'!T101)","v":""},{"$f":"IF(ISBLANK('Scholars Nomination Form'!U101),\"\",'Scholars Nomination Form'!U101)","v":""},{"$f":"IF(ISBLANK('Scholars Nomination Form'!V101),\"\",'Scholars Nomination Form'!V101)","v":""},{"$f":"IF(ISBLANK('Scholars Nomination Form'!W101),\"\",'Scholars Nomination Form'!W101)","v":""},{"$f":"IF(ISBLANK('Scholars Nomination Form'!X101),\"\",'Scholars Nomination Form'!X101)","v":""},{"$f":"IF(ISBLANK('Scholars Nomination Form'!Y101),\"\",'Scholars Nomination Form'!Y101)","v":""},{"$f":"IF(ISBLANK('Scholars Nomination Form'!Z101),\"\",'Scholars Nomination Form'!Z101)","v":""},{"$f":"IF(ISBLANK('Scholars Nomination Form'!AA101),\"\",'Scholars Nomination Form'!AA101)","v":""}]
[{"$f":"IF(ISBLANK('Scholars Nomination Form'!$F102),\"\",'Scholars Nomination Form'!$C$11)","v":""},{"$f":"IF(ISBLANK('Scholars Nomination Form'!$F102),\"\",'Scholars Nomination Form'!$C$12)","v":""},{"$f":"IF(ISBLANK('Scholars Nomination Form'!$F102),\"\",'Scholars Nomination Form'!$C$13)","v":""},{"$f":"IF(ISBLANK('Scholars Nomination Form'!$F102),\"\",'Scholars Nomination Form'!$C$14)","v":""},{"$f":"IF(ISBLANK('Scholars Nomination Form'!$F102),\"\",'Scholars Nomination Form'!$C$15)","v":""},{"$f":"IF(ISBLANK('Scholars Nomination Form'!$F102),\"\",'Scholars Nomination Form'!$C$16)","v":""},{"$f":"IF(ISBLANK('Scholars Nomination Form'!B102),\"\",'Scholars Nomination Form'!B102)","v":""},{"$f":"IF(ISBLANK('Scholars Nomination Form'!D102),\"\",'Scholars Nomination Form'!D102)","v":""},{"$f":"IF(ISBLANK('Scholars Nomination Form'!E102),\"\",'Scholars Nomination Form'!E102)","v":""},{"$f":"IF(ISBLANK('Scholars Nomination Form'!F102),\"\",'Scholars Nomination Form'!F102)","v":""},{"$f":"IF(ISBLANK('Scholars Nomination Form'!G102),\"\",'Scholars Nomination Form'!G102)","v":""},{"$f":"IF(ISBLANK('Scholars Nomination Form'!H102),\"\",'Scholars Nomination Form'!H102)","v":""},{"$f":"IF(ISBLANK('Scholars Nomination Form'!I102),\"\",'Scholars Nomination Form'!I102)","v":""},{"$f":"IF(ISBLANK('Scholars Nomination Form'!J102),\"\",'Scholars Nomination Form'!J102)","v":""},{"$f":"IF(ISBLANK('Scholars Nomination Form'!K102),\"\",'Scholars Nomination Form'!K102)","v":""},{"$f":"IF(ISBLANK('Scholars Nomination Form'!L102),\"\",'Scholars Nomination Form'!L102)","v":""},{"$f":"IF(ISBLANK('Scholars Nomination Form'!M102),\"\",'Scholars Nomination Form'!M102)","v":""},{"$f":"IF(ISBLANK('Scholars Nomination Form'!N102),\"\",'Scholars Nomination Form'!N102)","v":""},{"$f":"IF(ISBLANK('Scholars Nomination Form'!O102),\"\",'Scholars Nomination Form'!O102)","v":""},{"$f":"IF(ISBLANK('Scholars Nomination Form'!P102),\"\",'Scholars Nomination Form'!P102)","v":""},{"$f":"IF(ISBLANK('Scholars Nomination Form'!Q102),\"\",'Scholars Nomination Form'!Q102)","v":""},{"$f":"IF(ISBLANK('Scholars Nomination Form'!R102),\"\",'Scholars Nomination Form'!R102)","v":""},{"$f":"IF(ISBLANK('Scholars Nomination Form'!S102),\"\",'Scholars Nomination Form'!S102)","v":""},{"$f":"IF(ISBLANK('Scholars Nomination Form'!T102),\"\",'Scholars Nomination Form'!T102)","v":""},{"$f":"IF(ISBLANK('Scholars Nomination Form'!U102),\"\",'Scholars Nomination Form'!U102)","v":""},{"$f":"IF(ISBLANK('Scholars Nomination Form'!V102),\"\",'Scholars Nomination Form'!V102)","v":""},{"$f":"IF(ISBLANK('Scholars Nomination Form'!W102),\"\",'Scholars Nomination Form'!W102)","v":""},{"$f":"IF(ISBLANK('Scholars Nomination Form'!X102),\"\",'Scholars Nomination Form'!X102)","v":""},{"$f":"IF(ISBLANK('Scholars Nomination Form'!Y102),\"\",'Scholars Nomination Form'!Y102)","v":""},{"$f":"IF(ISBLANK('Scholars Nomination Form'!Z102),\"\",'Scholars Nomination Form'!Z102)","v":""},{"$f":"IF(ISBLANK('Scholars Nomination Form'!AA102),\"\",'Scholars Nomination Form'!AA102)","v":""}]
[{"$f":"IF(ISBLANK('Scholars Nomination Form'!$F103),\"\",'Scholars Nomination Form'!$C$11)","v":""},{"$f":"IF(ISBLANK('Scholars Nomination Form'!$F103),\"\",'Scholars Nomination Form'!$C$12)","v":""},{"$f":"IF(ISBLANK('Scholars Nomination Form'!$F103),\"\",'Scholars Nomination Form'!$C$13)","v":""},{"$f":"IF(ISBLANK('Scholars Nomination Form'!$F103),\"\",'Scholars Nomination Form'!$C$14)","v":""},{"$f":"IF(ISBLANK('Scholars Nomination Form'!$F103),\"\",'Scholars Nomination Form'!$C$15)","v":""},{"$f":"IF(ISBLANK('Scholars Nomination Form'!$F103),\"\",'Scholars Nomination Form'!$C$16)","v":""},{"$f":"IF(ISBLANK('Scholars Nomination Form'!B103),\"\",'Scholars Nomination Form'!B103)","v":""},{"$f":"IF(ISBLANK('Scholars Nomination Form'!D103),\"\",'Scholars Nomination Form'!D103)","v":""},{"$f":"IF(ISBLANK('Scholars Nomination Form'!E103),\"\",'Scholars Nomination Form'!E103)","v":""},{"$f":"IF(ISBLANK('Scholars Nomination Form'!F103),\"\",'Scholars Nomination Form'!F103)","v":""},{"$f":"IF(ISBLANK('Scholars Nomination Form'!G103),\"\",'Scholars Nomination Form'!G103)","v":""},{"$f":"IF(ISBLANK('Scholars Nomination Form'!H103),\"\",'Scholars Nomination Form'!H103)","v":""},{"$f":"IF(ISBLANK('Scholars Nomination Form'!I103),\"\",'Scholars Nomination Form'!I103)","v":""},{"$f":"IF(ISBLANK('Scholars Nomination Form'!J103),\"\",'Scholars Nomination Form'!J103)","v":""},{"$f":"IF(ISBLANK('Scholars Nomination Form'!K103),\"\",'Scholars Nomination Form'!K103)","v":""},{"$f":"IF(ISBLANK('Scholars Nomination Form'!L103),\"\",'Scholars Nomination Form'!L103)","v":""},{"$f":"IF(ISBLANK('Scholars Nomination Form'!M103),\"\",'Scholars Nomination Form'!M103)","v":""},{"$f":"IF(ISBLANK('Scholars Nomination Form'!N103),\"\",'Scholars Nomination Form'!N103)","v":""},{"$f":"IF(ISBLANK('Scholars Nomination Form'!O103),\"\",'Scholars Nomination Form'!O103)","v":""},{"$f":"IF(ISBLANK('Scholars Nomination Form'!P103),\"\",'Scholars Nomination Form'!P103)","v":""},{"$f":"IF(ISBLANK('Scholars Nomination Form'!Q103),\"\",'Scholars Nomination Form'!Q103)","v":""},{"$f":"IF(ISBLANK('Scholars Nomination Form'!R103),\"\",'Scholars Nomination Form'!R103)","v":""},{"$f":"IF(ISBLANK('Scholars Nomination Form'!S103),\"\",'Scholars Nomination Form'!S103)","v":""},{"$f":"IF(ISBLANK('Scholars Nomination Form'!T103),\"\",'Scholars Nomination Form'!T103)","v":""},{"$f":"IF(ISBLANK('Scholars Nomination Form'!U103),\"\",'Scholars Nomination Form'!U103)","v":""},{"$f":"IF(ISBLANK('Scholars Nomination Form'!V103),\"\",'Scholars Nomination Form'!V103)","v":""},{"$f":"IF(ISBLANK('Scholars Nomination Form'!W103),\"\",'Scholars Nomination Form'!W103)","v":""},{"$f":"IF(ISBLANK('Scholars Nomination Form'!X103),\"\",'Scholars Nomination Form'!X103)","v":""},{"$f":"IF(ISBLANK('Scholars Nomination Form'!Y103),\"\",'Scholars Nomination Form'!Y103)","v":""},{"$f":"IF(ISBLANK('Scholars Nomination Form'!Z103),\"\",'Scholars Nomination Form'!Z103)","v":""},{"$f":"IF(ISBLANK('Scholars Nomination Form'!AA103),\"\",'Scholars Nomination Form'!AA103)","v":""}]
[{"$f":"IF(ISBLANK('Scholars Nomination Form'!$F104),\"\",'Scholars Nomination Form'!$C$11)","v":""},{"$f":"IF(ISBLANK('Scholars Nomination Form'!$F104),\"\",'Scholars Nomination Form'!$C$12)","v":""},{"$f":"IF(ISBLANK('Scholars Nomination Form'!$F104),\"\",'Scholars Nomination Form'!$C$13)","v":""},{"$f":"IF(ISBLANK('Scholars Nomination Form'!$F104),\"\",'Scholars Nomination Form'!$C$14)","v":""},{"$f":"IF(ISBLANK('Scholars Nomination Form'!$F104),\"\",'Scholars Nomination Form'!$C$15)","v":""},{"$f":"IF(ISBLANK('Scholars Nomination Form'!$F104),\"\",'Scholars Nomination Form'!$C$16)","v":""},{"$f":"IF(ISBLANK('Scholars Nomination Form'!B104),\"\",'Scholars Nomination Form'!B104)","v":""},{"$f":"IF(ISBLANK('Scholars Nomination Form'!D104),\"\",'Scholars Nomination Form'!D104)","v":""},{"$f":"IF(ISBLANK('Scholars Nomination Form'!E104),\"\",'Scholars Nomination Form'!E104)","v":""},{"$f":"IF(ISBLANK('Scholars Nomination Form'!F104),\"\",'Scholars Nomination Form'!F104)","v":""},{"$f":"IF(ISBLANK('Scholars Nomination Form'!G104),\"\",'Scholars Nomination Form'!G104)","v":""},{"$f":"IF(ISBLANK('Scholars Nomination Form'!H104),\"\",'Scholars Nomination Form'!H104)","v":""},{"$f":"IF(ISBLANK('Scholars Nomination Form'!I104),\"\",'Scholars Nomination Form'!I104)","v":""},{"$f":"IF(ISBLANK('Scholars Nomination Form'!J104),\"\",'Scholars Nomination Form'!J104)","v":""},{"$f":"IF(ISBLANK('Scholars Nomination Form'!K104),\"\",'Scholars Nomination Form'!K104)","v":""},{"$f":"IF(ISBLANK('Scholars Nomination Form'!L104),\"\",'Scholars Nomination Form'!L104)","v":""},{"$f":"IF(ISBLANK('Scholars Nomination Form'!M104),\"\",'Scholars Nomination Form'!M104)","v":""},{"$f":"IF(ISBLANK('Scholars Nomination Form'!N104),\"\",'Scholars Nomination Form'!N104)","v":""},{"$f":"IF(ISBLANK('Scholars Nomination Form'!O104),\"\",'Scholars Nomination Form'!O104)","v":""},{"$f":"IF(ISBLANK('Scholars Nomination Form'!P104),\"\",'Scholars Nomination Form'!P104)","v":""},{"$f":"IF(ISBLANK('Scholars Nomination Form'!Q104),\"\",'Scholars Nomination Form'!Q104)","v":""},{"$f":"IF(ISBLANK('Scholars Nomination Form'!R104),\"\",'Scholars Nomination Form'!R104)","v":""},{"$f":"IF(ISBLANK('Scholars Nomination Form'!S104),\"\",'Scholars Nomination Form'!S104)","v":""},{"$f":"IF(ISBLANK('Scholars Nomination Form'!T104),\"\",'Scholars Nomination Form'!T104)","v":""},{"$f":"IF(ISBLANK('Scholars Nomination Form'!U104),\"\",'Scholars Nomination Form'!U104)","v":""},{"$f":"IF(ISBLANK('Scholars Nomination Form'!V104),\"\",'Scholars Nomination Form'!V104)","v":""},{"$f":"IF(ISBLANK('Scholars Nomination Form'!W104),\"\",'Scholars Nomination Form'!W104)","v":""},{"$f":"IF(ISBLANK('Scholars Nomination Form'!X104),\"\",'Scholars Nomination Form'!X104)","v":""},{"$f":"IF(ISBLANK('Scholars Nomination Form'!Y104),\"\",'Scholars Nomination Form'!Y104)","v":""},{"$f":"IF(ISBLANK('Scholars Nomination Form'!Z104),\"\",'Scholars Nomination Form'!Z104)","v":""},{"$f":"IF(ISBLANK('Scholars Nomination Form'!AA104),\"\",'Scholars Nomination Form'!AA104)","v":""}]
[{"$f":"IF(ISBLANK('Scholars Nomination Form'!$F105),\"\",'Scholars Nomination Form'!$C$11)","v":""},{"$f":"IF(ISBLANK('Scholars Nomination Form'!$F105),\"\",'Scholars Nomination Form'!$C$12)","v":""},{"$f":"IF(ISBLANK('Scholars Nomination Form'!$F105),\"\",'Scholars Nomination Form'!$C$13)","v":""},{"$f":"IF(ISBLANK('Scholars Nomination Form'!$F105),\"\",'Scholars Nomination Form'!$C$14)","v":""},{"$f":"IF(ISBLANK('Scholars Nomination Form'!$F105),\"\",'Scholars Nomination Form'!$C$15)","v":""},{"$f":"IF(ISBLANK('Scholars Nomination Form'!$F105),\"\",'Scholars Nomination Form'!$C$16)","v":""},{"$f":"IF(ISBLANK('Scholars Nomination Form'!B105),\"\",'Scholars Nomination Form'!B105)","v":""},{"$f":"IF(ISBLANK('Scholars Nomination Form'!D105),\"\",'Scholars Nomination Form'!D105)","v":""},{"$f":"IF(ISBLANK('Scholars Nomination Form'!E105),\"\",'Scholars Nomination Form'!E105)","v":""},{"$f":"IF(ISBLANK('Scholars Nomination Form'!F105),\"\",'Scholars Nomination Form'!F105)","v":""},{"$f":"IF(ISBLANK('Scholars Nomination Form'!G105),\"\",'Scholars Nomination Form'!G105)","v":""},{"$f":"IF(ISBLANK('Scholars Nomination Form'!H105),\"\",'Scholars Nomination Form'!H105)","v":""},{"$f":"IF(ISBLANK('Scholars Nomination Form'!I105),\"\",'Scholars Nomination Form'!I105)","v":""},{"$f":"IF(ISBLANK('Scholars Nomination Form'!J105),\"\",'Scholars Nomination Form'!J105)","v":""},{"$f":"IF(ISBLANK('Scholars Nomination Form'!K105),\"\",'Scholars Nomination Form'!K105)","v":""},{"$f":"IF(ISBLANK('Scholars Nomination Form'!L105),\"\",'Scholars Nomination Form'!L105)","v":""},{"$f":"IF(ISBLANK('Scholars Nomination Form'!M105),\"\",'Scholars Nomination Form'!M105)","v":""},{"$f":"IF(ISBLANK('Scholars Nomination Form'!N105),\"\",'Scholars Nomination Form'!N105)","v":""},{"$f":"IF(ISBLANK('Scholars Nomination Form'!O105),\"\",'Scholars Nomination Form'!O105)","v":""},{"$f":"IF(ISBLANK('Scholars Nomination Form'!P105),\"\",'Scholars Nomination Form'!P105)","v":""},{"$f":"IF(ISBLANK('Scholars Nomination Form'!Q105),\"\",'Scholars Nomination Form'!Q105)","v":""},{"$f":"IF(ISBLANK('Scholars Nomination Form'!R105),\"\",'Scholars Nomination Form'!R105)","v":""},{"$f":"IF(ISBLANK('Scholars Nomination Form'!S105),\"\",'Scholars Nomination Form'!S105)","v":""},{"$f":"IF(ISBLANK('Scholars Nomination Form'!T105),\"\",'Scholars Nomination Form'!T105)","v":""},{"$f":"IF(ISBLANK('Scholars Nomination Form'!U105),\"\",'Scholars Nomination Form'!U105)","v":""},{"$f":"IF(ISBLANK('Scholars Nomination Form'!V105),\"\",'Scholars Nomination Form'!V105)","v":""},{"$f":"IF(ISBLANK('Scholars Nomination Form'!W105),\"\",'Scholars Nomination Form'!W105)","v":""},{"$f":"IF(ISBLANK('Scholars Nomination Form'!X105),\"\",'Scholars Nomination Form'!X105)","v":""},{"$f":"IF(ISBLANK('Scholars Nomination Form'!Y105),\"\",'Scholars Nomination Form'!Y105)","v":""},{"$f":"IF(ISBLANK('Scholars Nomination Form'!Z105),\"\",'Scholars Nomination Form'!Z105)","v":""},{"$f":"IF(ISBLANK('Scholars Nomination Form'!AA105),\"\",'Scholars Nomination Form'!AA105)","v":""}]
[{"$f":"IF(ISBLANK('Scholars Nomination Form'!$F106),\"\",'Scholars Nomination Form'!$C$11)","v":""},{"$f":"IF(ISBLANK('Scholars Nomination Form'!$F106),\"\",'Scholars Nomination Form'!$C$12)","v":""},{"$f":"IF(ISBLANK('Scholars Nomination Form'!$F106),\"\",'Scholars Nomination Form'!$C$13)","v":""},{"$f":"IF(ISBLANK('Scholars Nomination Form'!$F106),\"\",'Scholars Nomination Form'!$C$14)","v":""},{"$f":"IF(ISBLANK('Scholars Nomination Form'!$F106),\"\",'Scholars Nomination Form'!$C$15)","v":""},{"$f":"IF(ISBLANK('Scholars Nomination Form'!$F106),\"\",'Scholars Nomination Form'!$C$16)","v":""},{"$f":"IF(ISBLANK('Scholars Nomination Form'!B106),\"\",'Scholars Nomination Form'!B106)","v":""},{"$f":"IF(ISBLANK('Scholars Nomination Form'!D106),\"\",'Scholars Nomination Form'!D106)","v":""},{"$f":"IF(ISBLANK('Scholars Nomination Form'!E106),\"\",'Scholars Nomination Form'!E106)","v":""},{"$f":"IF(ISBLANK('Scholars Nomination Form'!F106),\"\",'Scholars Nomination Form'!F106)","v":""},{"$f":"IF(ISBLANK('Scholars Nomination Form'!G106),\"\",'Scholars Nomination Form'!G106)","v":""},{"$f":"IF(ISBLANK('Scholars Nomination Form'!H106),\"\",'Scholars Nomination Form'!H106)","v":""},{"$f":"IF(ISBLANK('Scholars Nomination Form'!I106),\"\",'Scholars Nomination Form'!I106)","v":""},{"$f":"IF(ISBLANK('Scholars Nomination Form'!J106),\"\",'Scholars Nomination Form'!J106)","v":""},{"$f":"IF(ISBLANK('Scholars Nomination Form'!K106),\"\",'Scholars Nomination Form'!K106)","v":""},{"$f":"IF(ISBLANK('Scholars Nomination Form'!L106),\"\",'Scholars Nomination Form'!L106)","v":""},{"$f":"IF(ISBLANK('Scholars Nomination Form'!M106),\"\",'Scholars Nomination Form'!M106)","v":""},{"$f":"IF(ISBLANK('Scholars Nomination Form'!N106),\"\",'Scholars Nomination Form'!N106)","v":""},{"$f":"IF(ISBLANK('Scholars Nomination Form'!O106),\"\",'Scholars Nomination Form'!O106)","v":""},{"$f":"IF(ISBLANK('Scholars Nomination Form'!P106),\"\",'Scholars Nomination Form'!P106)","v":""},{"$f":"IF(ISBLANK('Scholars Nomination Form'!Q106),\"\",'Scholars Nomination Form'!Q106)","v":""},{"$f":"IF(ISBLANK('Scholars Nomination Form'!R106),\"\",'Scholars Nomination Form'!R106)","v":""},{"$f":"IF(ISBLANK('Scholars Nomination Form'!S106),\"\",'Scholars Nomination Form'!S106)","v":""},{"$f":"IF(ISBLANK('Scholars Nomination Form'!T106),\"\",'Scholars Nomination Form'!T106)","v":""},{"$f":"IF(ISBLANK('Scholars Nomination Form'!U106),\"\",'Scholars Nomination Form'!U106)","v":""},{"$f":"IF(ISBLANK('Scholars Nomination Form'!V106),\"\",'Scholars Nomination Form'!V106)","v":""},{"$f":"IF(ISBLANK('Scholars Nomination Form'!W106),\"\",'Scholars Nomination Form'!W106)","v":""},{"$f":"IF(ISBLANK('Scholars Nomination Form'!X106),\"\",'Scholars Nomination Form'!X106)","v":""},{"$f":"IF(ISBLANK('Scholars Nomination Form'!Y106),\"\",'Scholars Nomination Form'!Y106)","v":""},{"$f":"IF(ISBLANK('Scholars Nomination Form'!Z106),\"\",'Scholars Nomination Form'!Z106)","v":""},{"$f":"IF(ISBLANK('Scholars Nomination Form'!AA106),\"\",'Scholars Nomination Form'!AA106)","v":""}]
[{"$f":"IF(ISBLANK('Scholars Nomination Form'!$F107),\"\",'Scholars Nomination Form'!$C$11)","v":""},{"$f":"IF(ISBLANK('Scholars Nomination Form'!$F107),\"\",'Scholars Nomination Form'!$C$12)","v":""},{"$f":"IF(ISBLANK('Scholars Nomination Form'!$F107),\"\",'Scholars Nomination Form'!$C$13)","v":""},{"$f":"IF(ISBLANK('Scholars Nomination Form'!$F107),\"\",'Scholars Nomination Form'!$C$14)","v":""},{"$f":"IF(ISBLANK('Scholars Nomination Form'!$F107),\"\",'Scholars Nomination Form'!$C$15)","v":""},{"$f":"IF(ISBLANK('Scholars Nomination Form'!$F107),\"\",'Scholars Nomination Form'!$C$16)","v":""},{"$f":"IF(ISBLANK('Scholars Nomination Form'!B107),\"\",'Scholars Nomination Form'!B107)","v":""},{"$f":"IF(ISBLANK('Scholars Nomination Form'!D107),\"\",'Scholars Nomination Form'!D107)","v":""},{"$f":"IF(ISBLANK('Scholars Nomination Form'!E107),\"\",'Scholars Nomination Form'!E107)","v":""},{"$f":"IF(ISBLANK('Scholars Nomination Form'!F107),\"\",'Scholars Nomination Form'!F107)","v":""},{"$f":"IF(ISBLANK('Scholars Nomination Form'!G107),\"\",'Scholars Nomination Form'!G107)","v":""},{"$f":"IF(ISBLANK('Scholars Nomination Form'!H107),\"\",'Scholars Nomination Form'!H107)","v":""},{"$f":"IF(ISBLANK('Scholars Nomination Form'!I107),\"\",'Scholars Nomination Form'!I107)","v":""},{"$f":"IF(ISBLANK('Scholars Nomination Form'!J107),\"\",'Scholars Nomination Form'!J107)","v":""},{"$f":"IF(ISBLANK('Scholars Nomination Form'!K107),\"\",'Scholars Nomination Form'!K107)","v":""},{"$f":"IF(ISBLANK('Scholars Nomination Form'!L107),\"\",'Scholars Nomination Form'!L107)","v":""},{"$f":"IF(ISBLANK('Scholars Nomination Form'!M107),\"\",'Scholars Nomination Form'!M107)","v":""},{"$f":"IF(ISBLANK('Scholars Nomination Form'!N107),\"\",'Scholars Nomination Form'!N107)","v":""},{"$f":"IF(ISBLANK('Scholars Nomination Form'!O107),\"\",'Scholars Nomination Form'!O107)","v":""},{"$f":"IF(ISBLANK('Scholars Nomination Form'!P107),\"\",'Scholars Nomination Form'!P107)","v":""},{"$f":"IF(ISBLANK('Scholars Nomination Form'!Q107),\"\",'Scholars Nomination Form'!Q107)","v":""},{"$f":"IF(ISBLANK('Scholars Nomination Form'!R107),\"\",'Scholars Nomination Form'!R107)","v":""},{"$f":"IF(ISBLANK('Scholars Nomination Form'!S107),\"\",'Scholars Nomination Form'!S107)","v":""},{"$f":"IF(ISBLANK('Scholars Nomination Form'!T107),\"\",'Scholars Nomination Form'!T107)","v":""},{"$f":"IF(ISBLANK('Scholars Nomination Form'!U107),\"\",'Scholars Nomination Form'!U107)","v":""},{"$f":"IF(ISBLANK('Scholars Nomination Form'!V107),\"\",'Scholars Nomination Form'!V107)","v":""},{"$f":"IF(ISBLANK('Scholars Nomination Form'!W107),\"\",'Scholars Nomination Form'!W107)","v":""},{"$f":"IF(ISBLANK('Scholars Nomination Form'!X107),\"\",'Scholars Nomination Form'!X107)","v":""},{"$f":"IF(ISBLANK('Scholars Nomination Form'!Y107),\"\",'Scholars Nomination Form'!Y107)","v":""},{"$f":"IF(ISBLANK('Scholars Nomination Form'!Z107),\"\",'Scholars Nomination Form'!Z107)","v":""},{"$f":"IF(ISBLANK('Scholars Nomination Form'!AA107),\"\",'Scholars Nomination Form'!AA107)","v":""}]
[{"$f":"IF(ISBLANK('Scholars Nomination Form'!$F108),\"\",'Scholars Nomination Form'!$C$11)","v":""},{"$f":"IF(ISBLANK('Scholars Nomination Form'!$F108),\"\",'Scholars Nomination Form'!$C$12)","v":""},{"$f":"IF(ISBLANK('Scholars Nomination Form'!$F108),\"\",'Scholars Nomination Form'!$C$13)","v":""},{"$f":"IF(ISBLANK('Scholars Nomination Form'!$F108),\"\",'Scholars Nomination Form'!$C$14)","v":""},{"$f":"IF(ISBLANK('Scholars Nomination Form'!$F108),\"\",'Scholars Nomination Form'!$C$15)","v":""},{"$f":"IF(ISBLANK('Scholars Nomination Form'!$F108),\"\",'Scholars Nomination Form'!$C$16)","v":""},{"$f":"IF(ISBLANK('Scholars Nomination Form'!B108),\"\",'Scholars Nomination Form'!B108)","v":""},{"$f":"IF(ISBLANK('Scholars Nomination Form'!D108),\"\",'Scholars Nomination Form'!D108)","v":""},{"$f":"IF(ISBLANK('Scholars Nomination Form'!E108),\"\",'Scholars Nomination Form'!E108)","v":""},{"$f":"IF(ISBLANK('Scholars Nomination Form'!F108),\"\",'Scholars Nomination Form'!F108)","v":""},{"$f":"IF(ISBLANK('Scholars Nomination Form'!G108),\"\",'Scholars Nomination Form'!G108)","v":""},{"$f":"IF(ISBLANK('Scholars Nomination Form'!H108),\"\",'Scholars Nomination Form'!H108)","v":""},{"$f":"IF(ISBLANK('Scholars Nomination Form'!I108),\"\",'Scholars Nomination Form'!I108)","v":""},{"$f":"IF(ISBLANK('Scholars Nomination Form'!J108),\"\",'Scholars Nomination Form'!J108)","v":""},{"$f":"IF(ISBLANK('Scholars Nomination Form'!K108),\"\",'Scholars Nomination Form'!K108)","v":""},{"$f":"IF(ISBLANK('Scholars Nomination Form'!L108),\"\",'Scholars Nomination Form'!L108)","v":""},{"$f":"IF(ISBLANK('Scholars Nomination Form'!M108),\"\",'Scholars Nomination Form'!M108)","v":""},{"$f":"IF(ISBLANK('Scholars Nomination Form'!N108),\"\",'Scholars Nomination Form'!N108)","v":""},{"$f":"IF(ISBLANK('Scholars Nomination Form'!O108),\"\",'Scholars Nomination Form'!O108)","v":""},{"$f":"IF(ISBLANK('Scholars Nomination Form'!P108),\"\",'Scholars Nomination Form'!P108)","v":""},{"$f":"IF(ISBLANK('Scholars Nomination Form'!Q108),\"\",'Scholars Nomination Form'!Q108)","v":""},{"$f":"IF(ISBLANK('Scholars Nomination Form'!R108),\"\",'Scholars Nomination Form'!R108)","v":""},{"$f":"IF(ISBLANK('Scholars Nomination Form'!S108),\"\",'Scholars Nomination Form'!S108)","v":""},{"$f":"IF(ISBLANK('Scholars Nomination Form'!T108),\"\",'Scholars Nomination Form'!T108)","v":""},{"$f":"IF(ISBLANK('Scholars Nomination Form'!U108),\"\",'Scholars Nomination Form'!U108)","v":""},{"$f":"IF(ISBLANK('Scholars Nomination Form'!V108),\"\",'Scholars Nomination Form'!V108)","v":""},{"$f":"IF(ISBLANK('Scholars Nomination Form'!W108),\"\",'Scholars Nomination Form'!W108)","v":""},{"$f":"IF(ISBLANK('Scholars Nomination Form'!X108),\"\",'Scholars Nomination Form'!X108)","v":""},{"$f":"IF(ISBLANK('Scholars Nomination Form'!Y108),\"\",'Scholars Nomination Form'!Y108)","v":""},{"$f":"IF(ISBLANK('Scholars Nomination Form'!Z108),\"\",'Scholars Nomination Form'!Z108)","v":""},{"$f":"IF(ISBLANK('Scholars Nomination Form'!AA108),\"\",'Scholars Nomination Form'!AA108)","v":""}]
[{"$f":"IF(ISBLANK('Scholars Nomination Form'!$F109),\"\",'Scholars Nomination Form'!$C$11)","v":""},{"$f":"IF(ISBLANK('Scholars Nomination Form'!$F109),\"\",'Scholars Nomination Form'!$C$12)","v":""},{"$f":"IF(ISBLANK('Scholars Nomination Form'!$F109),\"\",'Scholars Nomination Form'!$C$13)","v":""},{"$f":"IF(ISBLANK('Scholars Nomination Form'!$F109),\"\",'Scholars Nomination Form'!$C$14)","v":""},{"$f":"IF(ISBLANK('Scholars Nomination Form'!$F109),\"\",'Scholars Nomination Form'!$C$15)","v":""},{"$f":"IF(ISBLANK('Scholars Nomination Form'!$F109),\"\",'Scholars Nomination Form'!$C$16)","v":""},{"$f":"IF(ISBLANK('Scholars Nomination Form'!B109),\"\",'Scholars Nomination Form'!B109)","v":""},{"$f":"IF(ISBLANK('Scholars Nomination Form'!D109),\"\",'Scholars Nomination Form'!D109)","v":""},{"$f":"IF(ISBLANK('Scholars Nomination Form'!E109),\"\",'Scholars Nomination Form'!E109)","v":""},{"$f":"IF(ISBLANK('Scholars Nomination Form'!F109),\"\",'Scholars Nomination Form'!F109)","v":""},{"$f":"IF(ISBLANK('Scholars Nomination Form'!G109),\"\",'Scholars Nomination Form'!G109)","v":""},{"$f":"IF(ISBLANK('Scholars Nomination Form'!H109),\"\",'Scholars Nomination Form'!H109)","v":""},{"$f":"IF(ISBLANK('Scholars Nomination Form'!I109),\"\",'Scholars Nomination Form'!I109)","v":""},{"$f":"IF(ISBLANK('Scholars Nomination Form'!J109),\"\",'Scholars Nomination Form'!J109)","v":""},{"$f":"IF(ISBLANK('Scholars Nomination Form'!K109),\"\",'Scholars Nomination Form'!K109)","v":""},{"$f":"IF(ISBLANK('Scholars Nomination Form'!L109),\"\",'Scholars Nomination Form'!L109)","v":""},{"$f":"IF(ISBLANK('Scholars Nomination Form'!M109),\"\",'Scholars Nomination Form'!M109)","v":""},{"$f":"IF(ISBLANK('Scholars Nomination Form'!N109),\"\",'Scholars Nomination Form'!N109)","v":""},{"$f":"IF(ISBLANK('Scholars Nomination Form'!O109),\"\",'Scholars Nomination Form'!O109)","v":""},{"$f":"IF(ISBLANK('Scholars Nomination Form'!P109),\"\",'Scholars Nomination Form'!P109)","v":""},{"$f":"IF(ISBLANK('Scholars Nomination Form'!Q109),\"\",'Scholars Nomination Form'!Q109)","v":""},{"$f":"IF(ISBLANK('Scholars Nomination Form'!R109),\"\",'Scholars Nomination Form'!R109)","v":""},{"$f":"IF(ISBLANK('Scholars Nomination Form'!S109),\"\",'Scholars Nomination Form'!S109)","v":""},{"$f":"IF(ISBLANK('Scholars Nomination Form'!T109),\"\",'Scholars Nomination Form'!T109)","v":""},{"$f":"IF(ISBLANK('Scholars Nomination Form'!U109),\"\",'Scholars Nomination Form'!U109)","v":""},{"$f":"IF(ISBLANK('Scholars Nomination Form'!V109),\"\",'Scholars Nomination Form'!V109)","v":""},{"$f":"IF(ISBLANK('Scholars Nomination Form'!W109),\"\",'Scholars Nomination Form'!W109)","v":""},{"$f":"IF(ISBLANK('Scholars Nomination Form'!X109),\"\",'Scholars Nomination Form'!X109)","v":""},{"$f":"IF(ISBLANK('Scholars Nomination Form'!Y109),\"\",'Scholars Nomination Form'!Y109)","v":""},{"$f":"IF(ISBLANK('Scholars Nomination Form'!Z109),\"\",'Scholars Nomination Form'!Z109)","v":""},{"$f":"IF(ISBLANK('Scholars Nomination Form'!AA109),\"\",'Scholars Nomination Form'!AA109)","v":""}]
[{"$f":"IF(ISBLANK('Scholars Nomination Form'!$F110),\"\",'Scholars Nomination Form'!$C$11)","v":""},{"$f":"IF(ISBLANK('Scholars Nomination Form'!$F110),\"\",'Scholars Nomination Form'!$C$12)","v":""},{"$f":"IF(ISBLANK('Scholars Nomination Form'!$F110),\"\",'Scholars Nomination Form'!$C$13)","v":""},{"$f":"IF(ISBLANK('Scholars Nomination Form'!$F110),\"\",'Scholars Nomination Form'!$C$14)","v":""},{"$f":"IF(ISBLANK('Scholars Nomination Form'!$F110),\"\",'Scholars Nomination Form'!$C$15)","v":""},{"$f":"IF(ISBLANK('Scholars Nomination Form'!$F110),\"\",'Scholars Nomination Form'!$C$16)","v":""},{"$f":"IF(ISBLANK('Scholars Nomination Form'!B110),\"\",'Scholars Nomination Form'!B110)","v":""},{"$f":"IF(ISBLANK('Scholars Nomination Form'!D110),\"\",'Scholars Nomination Form'!D110)","v":""},{"$f":"IF(ISBLANK('Scholars Nomination Form'!E110),\"\",'Scholars Nomination Form'!E110)","v":""},{"$f":"IF(ISBLANK('Scholars Nomination Form'!F110),\"\",'Scholars Nomination Form'!F110)","v":""},{"$f":"IF(ISBLANK('Scholars Nomination Form'!G110),\"\",'Scholars Nomination Form'!G110)","v":""},{"$f":"IF(ISBLANK('Scholars Nomination Form'!H110),\"\",'Scholars Nomination Form'!H110)","v":""},{"$f":"IF(ISBLANK('Scholars Nomination Form'!I110),\"\",'Scholars Nomination Form'!I110)","v":""},{"$f":"IF(ISBLANK('Scholars Nomination Form'!J110),\"\",'Scholars Nomination Form'!J110)","v":""},{"$f":"IF(ISBLANK('Scholars Nomination Form'!K110),\"\",'Scholars Nomination Form'!K110)","v":""},{"$f":"IF(ISBLANK('Scholars Nomination Form'!L110),\"\",'Scholars Nomination Form'!L110)","v":""},{"$f":"IF(ISBLANK('Scholars Nomination Form'!M110),\"\",'Scholars Nomination Form'!M110)","v":""},{"$f":"IF(ISBLANK('Scholars Nomination Form'!N110),\"\",'Scholars Nomination Form'!N110)","v":""},{"$f":"IF(ISBLANK('Scholars Nomination Form'!O110),\"\",'Scholars Nomination Form'!O110)","v":""},{"$f":"IF(ISBLANK('Scholars Nomination Form'!P110),\"\",'Scholars Nomination Form'!P110)","v":""},{"$f":"IF(ISBLANK('Scholars Nomination Form'!Q110),\"\",'Scholars Nomination Form'!Q110)","v":""},{"$f":"IF(ISBLANK('Scholars Nomination Form'!R110),\"\",'Scholars Nomination Form'!R110)","v":""},{"$f":"IF(ISBLANK('Scholars Nomination Form'!S110),\"\",'Scholars Nomination Form'!S110)","v":""},{"$f":"IF(ISBLANK('Scholars Nomination Form'!T110),\"\",'Scholars Nomination Form'!T110)","v":""},{"$f":"IF(ISBLANK('Scholars Nomination Form'!U110),\"\",'Scholars Nomination Form'!U110)","v":""},{"$f":"IF(ISBLANK('Scholars Nomination Form'!V110),\"\",'Scholars Nomination Form'!V110)","v":""},{"$f":"IF(ISBLANK('Scholars Nomination Form'!W110),\"\",'Scholars Nomination Form'!W110)","v":""},{"$f":"IF(ISBLANK('Scholars Nomination Form'!X110),\"\",'Scholars Nomination Form'!X110)","v":""},{"$f":"IF(ISBLANK('Scholars Nomination Form'!Y110),\"\",'Scholars Nomination Form'!Y110)","v":""},{"$f":"IF(ISBLANK('Scholars Nomination Form'!Z110),\"\",'Scholars Nomination Form'!Z110)","v":""},{"$f":"IF(ISBLANK('Scholars Nomination Form'!AA110),\"\",'Scholars Nomination Form'!AA110)","v":""}]
[{"$f":"IF(ISBLANK('Scholars Nomination Form'!$F111),\"\",'Scholars Nomination Form'!$C$11)","v":""},{"$f":"IF(ISBLANK('Scholars Nomination Form'!$F111),\"\",'Scholars Nomination Form'!$C$12)","v":""},{"$f":"IF(ISBLANK('Scholars Nomination Form'!$F111),\"\",'Scholars Nomination Form'!$C$13)","v":""},{"$f":"IF(ISBLANK('Scholars Nomination Form'!$F111),\"\",'Scholars Nomination Form'!$C$14)","v":""},{"$f":"IF(ISBLANK('Scholars Nomination Form'!$F111),\"\",'Scholars Nomination Form'!$C$15)","v":""},{"$f":"IF(ISBLANK('Scholars Nomination Form'!$F111),\"\",'Scholars Nomination Form'!$C$16)","v":""},{"$f":"IF(ISBLANK('Scholars Nomination Form'!B111),\"\",'Scholars Nomination Form'!B111)","v":""},{"$f":"IF(ISBLANK('Scholars Nomination Form'!D111),\"\",'Scholars Nomination Form'!D111)","v":""},{"$f":"IF(ISBLANK('Scholars Nomination Form'!E111),\"\",'Scholars Nomination Form'!E111)","v":""},{"$f":"IF(ISBLANK('Scholars Nomination Form'!F111),\"\",'Scholars Nomination Form'!F111)","v":""},{"$f":"IF(ISBLANK('Scholars Nomination Form'!G111),\"\",'Scholars Nomination Form'!G111)","v":""},{"$f":"IF(ISBLANK('Scholars Nomination Form'!H111),\"\",'Scholars Nomination Form'!H111)","v":""},{"$f":"IF(ISBLANK('Scholars Nomination Form'!I111),\"\",'Scholars Nomination Form'!I111)","v":""},{"$f":"IF(ISBLANK('Scholars Nomination Form'!J111),\"\",'Scholars Nomination Form'!J111)","v":""},{"$f":"IF(ISBLANK('Scholars Nomination Form'!K111),\"\",'Scholars Nomination Form'!K111)","v":""},{"$f":"IF(ISBLANK('Scholars Nomination Form'!L111),\"\",'Scholars Nomination Form'!L111)","v":""},{"$f":"IF(ISBLANK('Scholars Nomination Form'!M111),\"\",'Scholars Nomination Form'!M111)","v":""},{"$f":"IF(ISBLANK('Scholars Nomination Form'!N111),\"\",'Scholars Nomination Form'!N111)","v":""},{"$f":"IF(ISBLANK('Scholars Nomination Form'!O111),\"\",'Scholars Nomination Form'!O111)","v":""},{"$f":"IF(ISBLANK('Scholars Nomination Form'!P111),\"\",'Scholars Nomination Form'!P111)","v":""},{"$f":"IF(ISBLANK('Scholars Nomination Form'!Q111),\"\",'Scholars Nomination Form'!Q111)","v":""},{"$f":"IF(ISBLANK('Scholars Nomination Form'!R111),\"\",'Scholars Nomination Form'!R111)","v":""},{"$f":"IF(ISBLANK('Scholars Nomination Form'!S111),\"\",'Scholars Nomination Form'!S111)","v":""},{"$f":"IF(ISBLANK('Scholars Nomination Form'!T111),\"\",'Scholars Nomination Form'!T111)","v":""},{"$f":"IF(ISBLANK('Scholars Nomination Form'!U111),\"\",'Scholars Nomination Form'!U111)","v":""},{"$f":"IF(ISBLANK('Scholars Nomination Form'!V111),\"\",'Scholars Nomination Form'!V111)","v":""},{"$f":"IF(ISBLANK('Scholars Nomination Form'!W111),\"\",'Scholars Nomination Form'!W111)","v":""},{"$f":"IF(ISBLANK('Scholars Nomination Form'!X111),\"\",'Scholars Nomination Form'!X111)","v":""},{"$f":"IF(ISBLANK('Scholars Nomination Form'!Y111),\"\",'Scholars Nomination Form'!Y111)","v":""},{"$f":"IF(ISBLANK('Scholars Nomination Form'!Z111),\"\",'Scholars Nomination Form'!Z111)","v":""},{"$f":"IF(ISBLANK('Scholars Nomination Form'!AA111),\"\",'Scholars Nomination Form'!AA111)","v":""}]
[{"$f":"IF(ISBLANK('Scholars Nomination Form'!$F112),\"\",'Scholars Nomination Form'!$C$11)","v":""},{"$f":"IF(ISBLANK('Scholars Nomination Form'!$F112),\"\",'Scholars Nomination Form'!$C$12)","v":""},{"$f":"IF(ISBLANK('Scholars Nomination Form'!$F112),\"\",'Scholars Nomination Form'!$C$13)","v":""},{"$f":"IF(ISBLANK('Scholars Nomination Form'!$F112),\"\",'Scholars Nomination Form'!$C$14)","v":""},{"$f":"IF(ISBLANK('Scholars Nomination Form'!$F112),\"\",'Scholars Nomination Form'!$C$15)","v":""},{"$f":"IF(ISBLANK('Scholars Nomination Form'!$F112),\"\",'Scholars Nomination Form'!$C$16)","v":""},{"$f":"IF(ISBLANK('Scholars Nomination Form'!B112),\"\",'Scholars Nomination Form'!B112)","v":""},{"$f":"IF(ISBLANK('Scholars Nomination Form'!D112),\"\",'Scholars Nomination Form'!D112)","v":""},{"$f":"IF(ISBLANK('Scholars Nomination Form'!E112),\"\",'Scholars Nomination Form'!E112)","v":""},{"$f":"IF(ISBLANK('Scholars Nomination Form'!F112),\"\",'Scholars Nomination Form'!F112)","v":""},{"$f":"IF(ISBLANK('Scholars Nomination Form'!G112),\"\",'Scholars Nomination Form'!G112)","v":""},{"$f":"IF(ISBLANK('Scholars Nomination Form'!H112),\"\",'Scholars Nomination Form'!H112)","v":""},{"$f":"IF(ISBLANK('Scholars Nomination Form'!I112),\"\",'Scholars Nomination Form'!I112)","v":""},{"$f":"IF(ISBLANK('Scholars Nomination Form'!J112),\"\",'Scholars Nomination Form'!J112)","v":""},{"$f":"IF(ISBLANK('Scholars Nomination Form'!K112),\"\",'Scholars Nomination Form'!K112)","v":""},{"$f":"IF(ISBLANK('Scholars Nomination Form'!L112),\"\",'Scholars Nomination Form'!L112)","v":""},{"$f":"IF(ISBLANK('Scholars Nomination Form'!M112),\"\",'Scholars Nomination Form'!M112)","v":""},{"$f":"IF(ISBLANK('Scholars Nomination Form'!N112),\"\",'Scholars Nomination Form'!N112)","v":""},{"$f":"IF(ISBLANK('Scholars Nomination Form'!O112),\"\",'Scholars Nomination Form'!O112)","v":""},{"$f":"IF(ISBLANK('Scholars Nomination Form'!P112),\"\",'Scholars Nomination Form'!P112)","v":""},{"$f":"IF(ISBLANK('Scholars Nomination Form'!Q112),\"\",'Scholars Nomination Form'!Q112)","v":""},{"$f":"IF(ISBLANK('Scholars Nomination Form'!R112),\"\",'Scholars Nomination Form'!R112)","v":""},{"$f":"IF(ISBLANK('Scholars Nomination Form'!S112),\"\",'Scholars Nomination Form'!S112)","v":""},{"$f":"IF(ISBLANK('Scholars Nomination Form'!T112),\"\",'Scholars Nomination Form'!T112)","v":""},{"$f":"IF(ISBLANK('Scholars Nomination Form'!U112),\"\",'Scholars Nomination Form'!U112)","v":""},{"$f":"IF(ISBLANK('Scholars Nomination Form'!V112),\"\",'Scholars Nomination Form'!V112)","v":""},{"$f":"IF(ISBLANK('Scholars Nomination Form'!W112),\"\",'Scholars Nomination Form'!W112)","v":""},{"$f":"IF(ISBLANK('Scholars Nomination Form'!X112),\"\",'Scholars Nomination Form'!X112)","v":""},{"$f":"IF(ISBLANK('Scholars Nomination Form'!Y112),\"\",'Scholars Nomination Form'!Y112)","v":""},{"$f":"IF(ISBLANK('Scholars Nomination Form'!Z112),\"\",'Scholars Nomination Form'!Z112)","v":""},{"$f":"IF(ISBLANK('Scholars Nomination Form'!AA112),\"\",'Scholars Nomination Form'!AA112)","v":""}]
[{"$f":"IF(ISBLANK('Scholars Nomination Form'!$F113),\"\",'Scholars Nomination Form'!$C$11)","v":""},{"$f":"IF(ISBLANK('Scholars Nomination Form'!$F113),\"\",'Scholars Nomination Form'!$C$12)","v":""},{"$f":"IF(ISBLANK('Scholars Nomination Form'!$F113),\"\",'Scholars Nomination Form'!$C$13)","v":""},{"$f":"IF(ISBLANK('Scholars Nomination Form'!$F113),\"\",'Scholars Nomination Form'!$C$14)","v":""},{"$f":"IF(ISBLANK('Scholars Nomination Form'!$F113),\"\",'Scholars Nomination Form'!$C$15)","v":""},{"$f":"IF(ISBLANK('Scholars Nomination Form'!$F113),\"\",'Scholars Nomination Form'!$C$16)","v":""},{"$f":"IF(ISBLANK('Scholars Nomination Form'!B113),\"\",'Scholars Nomination Form'!B113)","v":""},{"$f":"IF(ISBLANK('Scholars Nomination Form'!D113),\"\",'Scholars Nomination Form'!D113)","v":""},{"$f":"IF(ISBLANK('Scholars Nomination Form'!E113),\"\",'Scholars Nomination Form'!E113)","v":""},{"$f":"IF(ISBLANK('Scholars Nomination Form'!F113),\"\",'Scholars Nomination Form'!F113)","v":""},{"$f":"IF(ISBLANK('Scholars Nomination Form'!G113),\"\",'Scholars Nomination Form'!G113)","v":""},{"$f":"IF(ISBLANK('Scholars Nomination Form'!H113),\"\",'Scholars Nomination Form'!H113)","v":""},{"$f":"IF(ISBLANK('Scholars Nomination Form'!I113),\"\",'Scholars Nomination Form'!I113)","v":""},{"$f":"IF(ISBLANK('Scholars Nomination Form'!J113),\"\",'Scholars Nomination Form'!J113)","v":""},{"$f":"IF(ISBLANK('Scholars Nomination Form'!K113),\"\",'Scholars Nomination Form'!K113)","v":""},{"$f":"IF(ISBLANK('Scholars Nomination Form'!L113),\"\",'Scholars Nomination Form'!L113)","v":""},{"$f":"IF(ISBLANK('Scholars Nomination Form'!M113),\"\",'Scholars Nomination Form'!M113)","v":""},{"$f":"IF(ISBLANK('Scholars Nomination Form'!N113),\"\",'Scholars Nomination Form'!N113)","v":""},{"$f":"IF(ISBLANK('Scholars Nomination Form'!O113),\"\",'Scholars Nomination Form'!O113)","v":""},{"$f":"IF(ISBLANK('Scholars Nomination Form'!P113),\"\",'Scholars Nomination Form'!P113)","v":""},{"$f":"IF(ISBLANK('Scholars Nomination Form'!Q113),\"\",'Scholars Nomination Form'!Q113)","v":""},{"$f":"IF(ISBLANK('Scholars Nomination Form'!R113),\"\",'Scholars Nomination Form'!R113)","v":""},{"$f":"IF(ISBLANK('Scholars Nomination Form'!S113),\"\",'Scholars Nomination Form'!S113)","v":""},{"$f":"IF(ISBLANK('Scholars Nomination Form'!T113),\"\",'Scholars Nomination Form'!T113)","v":""},{"$f":"IF(ISBLANK('Scholars Nomination Form'!U113),\"\",'Scholars Nomination Form'!U113)","v":""},{"$f":"IF(ISBLANK('Scholars Nomination Form'!V113),\"\",'Scholars Nomination Form'!V113)","v":""},{"$f":"IF(ISBLANK('Scholars Nomination Form'!W113),\"\",'Scholars Nomination Form'!W113)","v":""},{"$f":"IF(ISBLANK('Scholars Nomination Form'!X113),\"\",'Scholars Nomination Form'!X113)","v":""},{"$f":"IF(ISBLANK('Scholars Nomination Form'!Y113),\"\",'Scholars Nomination Form'!Y113)","v":""},{"$f":"IF(ISBLANK('Scholars Nomination Form'!Z113),\"\",'Scholars Nomination Form'!Z113)","v":""},{"$f":"IF(ISBLANK('Scholars Nomination Form'!AA113),\"\",'Scholars Nomination Form'!AA113)","v":""}]
[{"$f":"IF(ISBLANK('Scholars Nomination Form'!$F114),\"\",'Scholars Nomination Form'!$C$11)","v":""},{"$f":"IF(ISBLANK('Scholars Nomination Form'!$F114),\"\",'Scholars Nomination Form'!$C$12)","v":""},{"$f":"IF(ISBLANK('Scholars Nomination Form'!$F114),\"\",'Scholars Nomination Form'!$C$13)","v":""},{"$f":"IF(ISBLANK('Scholars Nomination Form'!$F114),\"\",'Scholars Nomination Form'!$C$14)","v":""},{"$f":"IF(ISBLANK('Scholars Nomination Form'!$F114),\"\",'Scholars Nomination Form'!$C$15)","v":""},{"$f":"IF(ISBLANK('Scholars Nomination Form'!$F114),\"\",'Scholars Nomination Form'!$C$16)","v":""},{"$f":"IF(ISBLANK('Scholars Nomination Form'!B114),\"\",'Scholars Nomination Form'!B114)","v":""},{"$f":"IF(ISBLANK('Scholars Nomination Form'!D114),\"\",'Scholars Nomination Form'!D114)","v":""},{"$f":"IF(ISBLANK('Scholars Nomination Form'!E114),\"\",'Scholars Nomination Form'!E114)","v":""},{"$f":"IF(ISBLANK('Scholars Nomination Form'!F114),\"\",'Scholars Nomination Form'!F114)","v":""},{"$f":"IF(ISBLANK('Scholars Nomination Form'!G114),\"\",'Scholars Nomination Form'!G114)","v":""},{"$f":"IF(ISBLANK('Scholars Nomination Form'!H114),\"\",'Scholars Nomination Form'!H114)","v":""},{"$f":"IF(ISBLANK('Scholars Nomination Form'!I114),\"\",'Scholars Nomination Form'!I114)","v":""},{"$f":"IF(ISBLANK('Scholars Nomination Form'!J114),\"\",'Scholars Nomination Form'!J114)","v":""},{"$f":"IF(ISBLANK('Scholars Nomination Form'!K114),\"\",'Scholars Nomination Form'!K114)","v":""},{"$f":"IF(ISBLANK('Scholars Nomination Form'!L114),\"\",'Scholars Nomination Form'!L114)","v":""},{"$f":"IF(ISBLANK('Scholars Nomination Form'!M114),\"\",'Scholars Nomination Form'!M114)","v":""},{"$f":"IF(ISBLANK('Scholars Nomination Form'!N114),\"\",'Scholars Nomination Form'!N114)","v":""},{"$f":"IF(ISBLANK('Scholars Nomination Form'!O114),\"\",'Scholars Nomination Form'!O114)","v":""},{"$f":"IF(ISBLANK('Scholars Nomination Form'!P114),\"\",'Scholars Nomination Form'!P114)","v":""},{"$f":"IF(ISBLANK('Scholars Nomination Form'!Q114),\"\",'Scholars Nomination Form'!Q114)","v":""},{"$f":"IF(ISBLANK('Scholars Nomination Form'!R114),\"\",'Scholars Nomination Form'!R114)","v":""},{"$f":"IF(ISBLANK('Scholars Nomination Form'!S114),\"\",'Scholars Nomination Form'!S114)","v":""},{"$f":"IF(ISBLANK('Scholars Nomination Form'!T114),\"\",'Scholars Nomination Form'!T114)","v":""},{"$f":"IF(ISBLANK('Scholars Nomination Form'!U114),\"\",'Scholars Nomination Form'!U114)","v":""},{"$f":"IF(ISBLANK('Scholars Nomination Form'!V114),\"\",'Scholars Nomination Form'!V114)","v":""},{"$f":"IF(ISBLANK('Scholars Nomination Form'!W114),\"\",'Scholars Nomination Form'!W114)","v":""},{"$f":"IF(ISBLANK('Scholars Nomination Form'!X114),\"\",'Scholars Nomination Form'!X114)","v":""},{"$f":"IF(ISBLANK('Scholars Nomination Form'!Y114),\"\",'Scholars Nomination Form'!Y114)","v":""},{"$f":"IF(ISBLANK('Scholars Nomination Form'!Z114),\"\",'Scholars Nomination Form'!Z114)","v":""},{"$f":"IF(ISBLANK('Scholars Nomination Form'!AA114),\"\",'Scholars Nomination Form'!AA114)","v":""}]
[{"$f":"IF(ISBLANK('Scholars Nomination Form'!$F115),\"\",'Scholars Nomination Form'!$C$11)","v":""},{"$f":"IF(ISBLANK('Scholars Nomination Form'!$F115),\"\",'Scholars Nomination Form'!$C$12)","v":""},{"$f":"IF(ISBLANK('Scholars Nomination Form'!$F115),\"\",'Scholars Nomination Form'!$C$13)","v":""},{"$f":"IF(ISBLANK('Scholars Nomination Form'!$F115),\"\",'Scholars Nomination Form'!$C$14)","v":""},{"$f":"IF(ISBLANK('Scholars Nomination Form'!$F115),\"\",'Scholars Nomination Form'!$C$15)","v":""},{"$f":"IF(ISBLANK('Scholars Nomination Form'!$F115),\"\",'Scholars Nomination Form'!$C$16)","v":""},{"$f":"IF(ISBLANK('Scholars Nomination Form'!B115),\"\",'Scholars Nomination Form'!B115)","v":""},{"$f":"IF(ISBLANK('Scholars Nomination Form'!D115),\"\",'Scholars Nomination Form'!D115)","v":""},{"$f":"IF(ISBLANK('Scholars Nomination Form'!E115),\"\",'Scholars Nomination Form'!E115)","v":""},{"$f":"IF(ISBLANK('Scholars Nomination Form'!F115),\"\",'Scholars Nomination Form'!F115)","v":""},{"$f":"IF(ISBLANK('Scholars Nomination Form'!G115),\"\",'Scholars Nomination Form'!G115)","v":""},{"$f":"IF(ISBLANK('Scholars Nomination Form'!H115),\"\",'Scholars Nomination Form'!H115)","v":""},{"$f":"IF(ISBLANK('Scholars Nomination Form'!I115),\"\",'Scholars Nomination Form'!I115)","v":""},{"$f":"IF(ISBLANK('Scholars Nomination Form'!J115),\"\",'Scholars Nomination Form'!J115)","v":""},{"$f":"IF(ISBLANK('Scholars Nomination Form'!K115),\"\",'Scholars Nomination Form'!K115)","v":""},{"$f":"IF(ISBLANK('Scholars Nomination Form'!L115),\"\",'Scholars Nomination Form'!L115)","v":""},{"$f":"IF(ISBLANK('Scholars Nomination Form'!M115),\"\",'Scholars Nomination Form'!M115)","v":""},{"$f":"IF(ISBLANK('Scholars Nomination Form'!N115),\"\",'Scholars Nomination Form'!N115)","v":""},{"$f":"IF(ISBLANK('Scholars Nomination Form'!O115),\"\",'Scholars Nomination Form'!O115)","v":""},{"$f":"IF(ISBLANK('Scholars Nomination Form'!P115),\"\",'Scholars Nomination Form'!P115)","v":""},{"$f":"IF(ISBLANK('Scholars Nomination Form'!Q115),\"\",'Scholars Nomination Form'!Q115)","v":""},{"$f":"IF(ISBLANK('Scholars Nomination Form'!R115),\"\",'Scholars Nomination Form'!R115)","v":""},{"$f":"IF(ISBLANK('Scholars Nomination Form'!S115),\"\",'Scholars Nomination Form'!S115)","v":""},{"$f":"IF(ISBLANK('Scholars Nomination Form'!T115),\"\",'Scholars Nomination Form'!T115)","v":""},{"$f":"IF(ISBLANK('Scholars Nomination Form'!U115),\"\",'Scholars Nomination Form'!U115)","v":""},{"$f":"IF(ISBLANK('Scholars Nomination Form'!V115),\"\",'Scholars Nomination Form'!V115)","v":""},{"$f":"IF(ISBLANK('Scholars Nomination Form'!W115),\"\",'Scholars Nomination Form'!W115)","v":""},{"$f":"IF(ISBLANK('Scholars Nomination Form'!X115),\"\",'Scholars Nomination Form'!X115)","v":""},{"$f":"IF(ISBLANK('Scholars Nomination Form'!Y115),\"\",'Scholars Nomination Form'!Y115)","v":""},{"$f":"IF(ISBLANK('Scholars Nomination Form'!Z115),\"\",'Scholars Nomination Form'!Z115)","v":""},{"$f":"IF(ISBLANK('Scholars Nomination Form'!AA115),\"\",'Scholars Nomination Form'!AA115)","v":""}]
[{"$f":"IF(ISBLANK('Scholars Nomination Form'!$F116),\"\",'Scholars Nomination Form'!$C$11)","v":""},{"$f":"IF(ISBLANK('Scholars Nomination Form'!$F116),\"\",'Scholars Nomination Form'!$C$12)","v":""},{"$f":"IF(ISBLANK('Scholars Nomination Form'!$F116),\"\",'Scholars Nomination Form'!$C$13)","v":""},{"$f":"IF(ISBLANK('Scholars Nomination Form'!$F116),\"\",'Scholars Nomination Form'!$C$14)","v":""},{"$f":"IF(ISBLANK('Scholars Nomination Form'!$F116),\"\",'Scholars Nomination Form'!$C$15)","v":""},{"$f":"IF(ISBLANK('Scholars Nomination Form'!$F116),\"\",'Scholars Nomination Form'!$C$16)","v":""},{"$f":"IF(ISBLANK('Scholars Nomination Form'!B116),\"\",'Scholars Nomination Form'!B116)","v":""},{"$f":"IF(ISBLANK('Scholars Nomination Form'!D116),\"\",'Scholars Nomination Form'!D116)","v":""},{"$f":"IF(ISBLANK('Scholars Nomination Form'!E116),\"\",'Scholars Nomination Form'!E116)","v":""},{"$f":"IF(ISBLANK('Scholars Nomination Form'!F116),\"\",'Scholars Nomination Form'!F116)","v":""},{"$f":"IF(ISBLANK('Scholars Nomination Form'!G116),\"\",'Scholars Nomination Form'!G116)","v":""},{"$f":"IF(ISBLANK('Scholars Nomination Form'!H116),\"\",'Scholars Nomination Form'!H116)","v":""},{"$f":"IF(ISBLANK('Scholars Nomination Form'!I116),\"\",'Scholars Nomination Form'!I116)","v":""},{"$f":"IF(ISBLANK('Scholars Nomination Form'!J116),\"\",'Scholars Nomination Form'!J116)","v":""},{"$f":"IF(ISBLANK('Scholars Nomination Form'!K116),\"\",'Scholars Nomination Form'!K116)","v":""},{"$f":"IF(ISBLANK('Scholars Nomination Form'!L116),\"\",'Scholars Nomination Form'!L116)","v":""},{"$f":"IF(ISBLANK('Scholars Nomination Form'!M116),\"\",'Scholars Nomination Form'!M116)","v":""},{"$f":"IF(ISBLANK('Scholars Nomination Form'!N116),\"\",'Scholars Nomination Form'!N116)","v":""},{"$f":"IF(ISBLANK('Scholars Nomination Form'!O116),\"\",'Scholars Nomination Form'!O116)","v":""},{"$f":"IF(ISBLANK('Scholars Nomination Form'!P116),\"\",'Scholars Nomination Form'!P116)","v":""},{"$f":"IF(ISBLANK('Scholars Nomination Form'!Q116),\"\",'Scholars Nomination Form'!Q116)","v":""},{"$f":"IF(ISBLANK('Scholars Nomination Form'!R116),\"\",'Scholars Nomination Form'!R116)","v":""},{"$f":"IF(ISBLANK('Scholars Nomination Form'!S116),\"\",'Scholars Nomination Form'!S116)","v":""},{"$f":"IF(ISBLANK('Scholars Nomination Form'!T116),\"\",'Scholars Nomination Form'!T116)","v":""},{"$f":"IF(ISBLANK('Scholars Nomination Form'!U116),\"\",'Scholars Nomination Form'!U116)","v":""},{"$f":"IF(ISBLANK('Scholars Nomination Form'!V116),\"\",'Scholars Nomination Form'!V116)","v":""},{"$f":"IF(ISBLANK('Scholars Nomination Form'!W116),\"\",'Scholars Nomination Form'!W116)","v":""},{"$f":"IF(ISBLANK('Scholars Nomination Form'!X116),\"\",'Scholars Nomination Form'!X116)","v":""},{"$f":"IF(ISBLANK('Scholars Nomination Form'!Y116),\"\",'Scholars Nomination Form'!Y116)","v":""},{"$f":"IF(ISBLANK('Scholars Nomination Form'!Z116),\"\",'Scholars Nomination Form'!Z116)","v":""},{"$f":"IF(ISBLANK('Scholars Nomination Form'!AA116),\"\",'Scholars Nomination Form'!AA116)","v":""}]
[{"$f":"IF(ISBLANK('Scholars Nomination Form'!$F117),\"\",'Scholars Nomination Form'!$C$11)","v":""},{"$f":"IF(ISBLANK('Scholars Nomination Form'!$F117),\"\",'Scholars Nomination Form'!$C$12)","v":""},{"$f":"IF(ISBLANK('Scholars Nomination Form'!$F117),\"\",'Scholars Nomination Form'!$C$13)","v":""},{"$f":"IF(ISBLANK('Scholars Nomination Form'!$F117),\"\",'Scholars Nomination Form'!$C$14)","v":""},{"$f":"IF(ISBLANK('Scholars Nomination Form'!$F117),\"\",'Scholars Nomination Form'!$C$15)","v":""},{"$f":"IF(ISBLANK('Scholars Nomination Form'!$F117),\"\",'Scholars Nomination Form'!$C$16)","v":""},{"$f":"IF(ISBLANK('Scholars Nomination Form'!B117),\"\",'Scholars Nomination Form'!B117)","v":""},{"$f":"IF(ISBLANK('Scholars Nomination Form'!D117),\"\",'Scholars Nomination Form'!D117)","v":""},{"$f":"IF(ISBLANK('Scholars Nomination Form'!E117),\"\",'Scholars Nomination Form'!E117)","v":""},{"$f":"IF(ISBLANK('Scholars Nomination Form'!F117),\"\",'Scholars Nomination Form'!F117)","v":""},{"$f":"IF(ISBLANK('Scholars Nomination Form'!G117),\"\",'Scholars Nomination Form'!G117)","v":""},{"$f":"IF(ISBLANK('Scholars Nomination Form'!H117),\"\",'Scholars Nomination Form'!H117)","v":""},{"$f":"IF(ISBLANK('Scholars Nomination Form'!I117),\"\",'Scholars Nomination Form'!I117)","v":""},{"$f":"IF(ISBLANK('Scholars Nomination Form'!J117),\"\",'Scholars Nomination Form'!J117)","v":""},{"$f":"IF(ISBLANK('Scholars Nomination Form'!K117),\"\",'Scholars Nomination Form'!K117)","v":""},{"$f":"IF(ISBLANK('Scholars Nomination Form'!L117),\"\",'Scholars Nomination Form'!L117)","v":""},{"$f":"IF(ISBLANK('Scholars Nomination Form'!M117),\"\",'Scholars Nomination Form'!M117)","v":""},{"$f":"IF(ISBLANK('Scholars Nomination Form'!N117),\"\",'Scholars Nomination Form'!N117)","v":""},{"$f":"IF(ISBLANK('Scholars Nomination Form'!O117),\"\",'Scholars Nomination Form'!O117)","v":""},{"$f":"IF(ISBLANK('Scholars Nomination Form'!P117),\"\",'Scholars Nomination Form'!P117)","v":""},{"$f":"IF(ISBLANK('Scholars Nomination Form'!Q117),\"\",'Scholars Nomination Form'!Q117)","v":""},{"$f":"IF(ISBLANK('Scholars Nomination Form'!R117),\"\",'Scholars Nomination Form'!R117)","v":""},{"$f":"IF(ISBLANK('Scholars Nomination Form'!S117),\"\",'Scholars Nomination Form'!S117)","v":""},{"$f":"IF(ISBLANK('Scholars Nomination Form'!T117),\"\",'Scholars Nomination Form'!T117)","v":""},{"$f":"IF(ISBLANK('Scholars Nomination Form'!U117),\"\",'Scholars Nomination Form'!U117)","v":""},{"$f":"IF(ISBLANK('Scholars Nomination Form'!V117),\"\",'Scholars Nomination Form'!V117)","v":""},{"$f":"IF(ISBLANK('Scholars Nomination Form'!W117),\"\",'Scholars Nomination Form'!W117)","v":""},{"$f":"IF(ISBLANK('Scholars Nomination Form'!X117),\"\",'Scholars Nomination Form'!X117)","v":""},{"$f":"IF(ISBLANK('Scholars Nomination Form'!Y117),\"\",'Scholars Nomination Form'!Y117)","v":""},{"$f":"IF(ISBLANK('Scholars Nomination Form'!Z117),\"\",'Scholars Nomination Form'!Z117)","v":""},{"$f":"IF(ISBLANK('Scholars Nomination Form'!AA117),\"\",'Scholars Nomination Form'!AA117)","v":""}]
[{"$f":"IF(ISBLANK('Scholars Nomination Form'!$F118),\"\",'Scholars Nomination Form'!$C$11)","v":""},{"$f":"IF(ISBLANK('Scholars Nomination Form'!$F118),\"\",'Scholars Nomination Form'!$C$12)","v":""},{"$f":"IF(ISBLANK('Scholars Nomination Form'!$F118),\"\",'Scholars Nomination Form'!$C$13)","v":""},{"$f":"IF(ISBLANK('Scholars Nomination Form'!$F118),\"\",'Scholars Nomination Form'!$C$14)","v":""},{"$f":"IF(ISBLANK('Scholars Nomination Form'!$F118),\"\",'Scholars Nomination Form'!$C$15)","v":""},{"$f":"IF(ISBLANK('Scholars Nomination Form'!$F118),\"\",'Scholars Nomination Form'!$C$16)","v":""},{"$f":"IF(ISBLANK('Scholars Nomination Form'!B118),\"\",'Scholars Nomination Form'!B118)","v":""},{"$f":"IF(ISBLANK('Scholars Nomination Form'!D118),\"\",'Scholars Nomination Form'!D118)","v":""},{"$f":"IF(ISBLANK('Scholars Nomination Form'!E118),\"\",'Scholars Nomination Form'!E118)","v":""},{"$f":"IF(ISBLANK('Scholars Nomination Form'!F118),\"\",'Scholars Nomination Form'!F118)","v":""},{"$f":"IF(ISBLANK('Scholars Nomination Form'!G118),\"\",'Scholars Nomination Form'!G118)","v":""},{"$f":"IF(ISBLANK('Scholars Nomination Form'!H118),\"\",'Scholars Nomination Form'!H118)","v":""},{"$f":"IF(ISBLANK('Scholars Nomination Form'!I118),\"\",'Scholars Nomination Form'!I118)","v":""},{"$f":"IF(ISBLANK('Scholars Nomination Form'!J118),\"\",'Scholars Nomination Form'!J118)","v":""},{"$f":"IF(ISBLANK('Scholars Nomination Form'!K118),\"\",'Scholars Nomination Form'!K118)","v":""},{"$f":"IF(ISBLANK('Scholars Nomination Form'!L118),\"\",'Scholars Nomination Form'!L118)","v":""},{"$f":"IF(ISBLANK('Scholars Nomination Form'!M118),\"\",'Scholars Nomination Form'!M118)","v":""},{"$f":"IF(ISBLANK('Scholars Nomination Form'!N118),\"\",'Scholars Nomination Form'!N118)","v":""},{"$f":"IF(ISBLANK('Scholars Nomination Form'!O118),\"\",'Scholars Nomination Form'!O118)","v":""},{"$f":"IF(ISBLANK('Scholars Nomination Form'!P118),\"\",'Scholars Nomination Form'!P118)","v":""},{"$f":"IF(ISBLANK('Scholars Nomination Form'!Q118),\"\",'Scholars Nomination Form'!Q118)","v":""},{"$f":"IF(ISBLANK('Scholars Nomination Form'!R118),\"\",'Scholars Nomination Form'!R118)","v":""},{"$f":"IF(ISBLANK('Scholars Nomination Form'!S118),\"\",'Scholars Nomination Form'!S118)","v":""},{"$f":"IF(ISBLANK('Scholars Nomination Form'!T118),\"\",'Scholars Nomination Form'!T118)","v":""},{"$f":"IF(ISBLANK('Scholars Nomination Form'!U118),\"\",'Scholars Nomination Form'!U118)","v":""},{"$f":"IF(ISBLANK('Scholars Nomination Form'!V118),\"\",'Scholars Nomination Form'!V118)","v":""},{"$f":"IF(ISBLANK('Scholars Nomination Form'!W118),\"\",'Scholars Nomination Form'!W118)","v":""},{"$f":"IF(ISBLANK('Scholars Nomination Form'!X118),\"\",'Scholars Nomination Form'!X118)","v":""},{"$f":"IF(ISBLANK('Scholars Nomination Form'!Y118),\"\",'Scholars Nomination Form'!Y118)","v":""},{"$f":"IF(ISBLANK('Scholars Nomination Form'!Z118),\"\",'Scholars Nomination Form'!Z118)","v":""},{"$f":"IF(ISBLANK('Scholars Nomination Form'!AA118),\"\",'Scholars Nomination Form'!AA118)","v":""}]
[{"$f":"IF(ISBLANK('Scholars Nomination Form'!$F119),\"\",'Scholars Nomination Form'!$C$11)","v":""},{"$f":"IF(ISBLANK('Scholars Nomination Form'!$F119),\"\",'Scholars Nomination Form'!$C$12)","v":""},{"$f":"IF(ISBLANK('Scholars Nomination Form'!$F119),\"\",'Scholars Nomination Form'!$C$13)","v":""},{"$f":"IF(ISBLANK('Scholars Nomination Form'!$F119),\"\",'Scholars Nomination Form'!$C$14)","v":""},{"$f":"IF(ISBLANK('Scholars Nomination Form'!$F119),\"\",'Scholars Nomination Form'!$C$15)","v":""},{"$f":"IF(ISBLANK('Scholars Nomination Form'!$F119),\"\",'Scholars Nomination Form'!$C$16)","v":""},{"$f":"IF(ISBLANK('Scholars Nomination Form'!B119),\"\",'Scholars Nomination Form'!B119)","v":""},{"$f":"IF(ISBLANK('Scholars Nomination Form'!D119),\"\",'Scholars Nomination Form'!D119)","v":""},{"$f":"IF(ISBLANK('Scholars Nomination Form'!E119),\"\",'Scholars Nomination Form'!E119)","v":""},{"$f":"IF(ISBLANK('Scholars Nomination Form'!F119),\"\",'Scholars Nomination Form'!F119)","v":""},{"$f":"IF(ISBLANK('Scholars Nomination Form'!G119),\"\",'Scholars Nomination Form'!G119)","v":""},{"$f":"IF(ISBLANK('Scholars Nomination Form'!H119),\"\",'Scholars Nomination Form'!H119)","v":""},{"$f":"IF(ISBLANK('Scholars Nomination Form'!I119),\"\",'Scholars Nomination Form'!I119)","v":""},{"$f":"IF(ISBLANK('Scholars Nomination Form'!J119),\"\",'Scholars Nomination Form'!J119)","v":""},{"$f":"IF(ISBLANK('Scholars Nomination Form'!K119),\"\",'Scholars Nomination Form'!K119)","v":""},{"$f":"IF(ISBLANK('Scholars Nomination Form'!L119),\"\",'Scholars Nomination Form'!L119)","v":""},{"$f":"IF(ISBLANK('Scholars Nomination Form'!M119),\"\",'Scholars Nomination Form'!M119)","v":""},{"$f":"IF(ISBLANK('Scholars Nomination Form'!N119),\"\",'Scholars Nomination Form'!N119)","v":""},{"$f":"IF(ISBLANK('Scholars Nomination Form'!O119),\"\",'Scholars Nomination Form'!O119)","v":""},{"$f":"IF(ISBLANK('Scholars Nomination Form'!P119),\"\",'Scholars Nomination Form'!P119)","v":""},{"$f":"IF(ISBLANK('Scholars Nomination Form'!Q119),\"\",'Scholars Nomination Form'!Q119)","v":""},{"$f":"IF(ISBLANK('Scholars Nomination Form'!R119),\"\",'Scholars Nomination Form'!R119)","v":""},{"$f":"IF(ISBLANK('Scholars Nomination Form'!S119),\"\",'Scholars Nomination Form'!S119)","v":""},{"$f":"IF(ISBLANK('Scholars Nomination Form'!T119),\"\",'Scholars Nomination Form'!T119)","v":""},{"$f":"IF(ISBLANK('Scholars Nomination Form'!U119),\"\",'Scholars Nomination Form'!U119)","v":""},{"$f":"IF(ISBLANK('Scholars Nomination Form'!V119),\"\",'Scholars Nomination Form'!V119)","v":""},{"$f":"IF(ISBLANK('Scholars Nomination Form'!W119),\"\",'Scholars Nomination Form'!W119)","v":""},{"$f":"IF(ISBLANK('Scholars Nomination Form'!X119),\"\",'Scholars Nomination Form'!X119)","v":""},{"$f":"IF(ISBLANK('Scholars Nomination Form'!Y119),\"\",'Scholars Nomination Form'!Y119)","v":""},{"$f":"IF(ISBLANK('Scholars Nomination Form'!Z119),\"\",'Scholars Nomination Form'!Z119)","v":""},{"$f":"IF(ISBLANK('Scholars Nomination Form'!AA119),\"\",'Scholars Nomination Form'!AA119)","v":""}]
[{"$f":"IF(ISBLANK('Scholars Nomination Form'!$F120),\"\",'Scholars Nomination Form'!$C$11)","v":""},{"$f":"IF(ISBLANK('Scholars Nomination Form'!$F120),\"\",'Scholars Nomination Form'!$C$12)","v":""},{"$f":"IF(ISBLANK('Scholars Nomination Form'!$F120),\"\",'Scholars Nomination Form'!$C$13)","v":""},{"$f":"IF(ISBLANK('Scholars Nomination Form'!$F120),\"\",'Scholars Nomination Form'!$C$14)","v":""},{"$f":"IF(ISBLANK('Scholars Nomination Form'!$F120),\"\",'Scholars Nomination Form'!$C$15)","v":""},{"$f":"IF(ISBLANK('Scholars Nomination Form'!$F120),\"\",'Scholars Nomination Form'!$C$16)","v":""},{"$f":"IF(ISBLANK('Scholars Nomination Form'!B120),\"\",'Scholars Nomination Form'!B120)","v":""},{"$f":"IF(ISBLANK('Scholars Nomination Form'!D120),\"\",'Scholars Nomination Form'!D120)","v":""},{"$f":"IF(ISBLANK('Scholars Nomination Form'!E120),\"\",'Scholars Nomination Form'!E120)","v":""},{"$f":"IF(ISBLANK('Scholars Nomination Form'!F120),\"\",'Scholars Nomination Form'!F120)","v":""},{"$f":"IF(ISBLANK('Scholars Nomination Form'!G120),\"\",'Scholars Nomination Form'!G120)","v":""},{"$f":"IF(ISBLANK('Scholars Nomination Form'!H120),\"\",'Scholars Nomination Form'!H120)","v":""},{"$f":"IF(ISBLANK('Scholars Nomination Form'!I120),\"\",'Scholars Nomination Form'!I120)","v":""},{"$f":"IF(ISBLANK('Scholars Nomination Form'!J120),\"\",'Scholars Nomination Form'!J120)","v":""},{"$f":"IF(ISBLANK('Scholars Nomination Form'!K120),\"\",'Scholars Nomination Form'!K120)","v":""},{"$f":"IF(ISBLANK('Scholars Nomination Form'!L120),\"\",'Scholars Nomination Form'!L120)","v":""},{"$f":"IF(ISBLANK('Scholars Nomination Form'!M120),\"\",'Scholars Nomination Form'!M120)","v":""},{"$f":"IF(ISBLANK('Scholars Nomination Form'!N120),\"\",'Scholars Nomination Form'!N120)","v":""},{"$f":"IF(ISBLANK('Scholars Nomination Form'!O120),\"\",'Scholars Nomination Form'!O120)","v":""},{"$f":"IF(ISBLANK('Scholars Nomination Form'!P120),\"\",'Scholars Nomination Form'!P120)","v":""},{"$f":"IF(ISBLANK('Scholars Nomination Form'!Q120),\"\",'Scholars Nomination Form'!Q120)","v":""},{"$f":"IF(ISBLANK('Scholars Nomination Form'!R120),\"\",'Scholars Nomination Form'!R120)","v":""},{"$f":"IF(ISBLANK('Scholars Nomination Form'!S120),\"\",'Scholars Nomination Form'!S120)","v":""},{"$f":"IF(ISBLANK('Scholars Nomination Form'!T120),\"\",'Scholars Nomination Form'!T120)","v":""},{"$f":"IF(ISBLANK('Scholars Nomination Form'!U120),\"\",'Scholars Nomination Form'!U120)","v":""},{"$f":"IF(ISBLANK('Scholars Nomination Form'!V120),\"\",'Scholars Nomination Form'!V120)","v":""},{"$f":"IF(ISBLANK('Scholars Nomination Form'!W120),\"\",'Scholars Nomination Form'!W120)","v":""},{"$f":"IF(ISBLANK('Scholars Nomination Form'!X120),\"\",'Scholars Nomination Form'!X120)","v":""},{"$f":"IF(ISBLANK('Scholars Nomination Form'!Y120),\"\",'Scholars Nomination Form'!Y120)","v":""},{"$f":"IF(ISBLANK('Scholars Nomination Form'!Z120),\"\",'Scholars Nomination Form'!Z120)","v":""},{"$f":"IF(ISBLANK('Scholars Nomination Form'!AA120),\"\",'Scholars Nomination Form'!AA120)","v":""}]
[{"$f":"IF(ISBLANK('Scholars Nomination Form'!$F121),\"\",'Scholars Nomination Form'!$C$11)","v":""},{"$f":"IF(ISBLANK('Scholars Nomination Form'!$F121),\"\",'Scholars Nomination Form'!$C$12)","v":""},{"$f":"IF(ISBLANK('Scholars Nomination Form'!$F121),\"\",'Scholars Nomination Form'!$C$13)","v":""},{"$f":"IF(ISBLANK('Scholars Nomination Form'!$F121),\"\",'Scholars Nomination Form'!$C$14)","v":""},{"$f":"IF(ISBLANK('Scholars Nomination Form'!$F121),\"\",'Scholars Nomination Form'!$C$15)","v":""},{"$f":"IF(ISBLANK('Scholars Nomination Form'!$F121),\"\",'Scholars Nomination Form'!$C$16)","v":""},{"$f":"IF(ISBLANK('Scholars Nomination Form'!B121),\"\",'Scholars Nomination Form'!B121)","v":""},{"$f":"IF(ISBLANK('Scholars Nomination Form'!D121),\"\",'Scholars Nomination Form'!D121)","v":""},{"$f":"IF(ISBLANK('Scholars Nomination Form'!E121),\"\",'Scholars Nomination Form'!E121)","v":""},{"$f":"IF(ISBLANK('Scholars Nomination Form'!F121),\"\",'Scholars Nomination Form'!F121)","v":""},{"$f":"IF(ISBLANK('Scholars Nomination Form'!G121),\"\",'Scholars Nomination Form'!G121)","v":""},{"$f":"IF(ISBLANK('Scholars Nomination Form'!H121),\"\",'Scholars Nomination Form'!H121)","v":""},{"$f":"IF(ISBLANK('Scholars Nomination Form'!I121),\"\",'Scholars Nomination Form'!I121)","v":""},{"$f":"IF(ISBLANK('Scholars Nomination Form'!J121),\"\",'Scholars Nomination Form'!J121)","v":""},{"$f":"IF(ISBLANK('Scholars Nomination Form'!K121),\"\",'Scholars Nomination Form'!K121)","v":""},{"$f":"IF(ISBLANK('Scholars Nomination Form'!L121),\"\",'Scholars Nomination Form'!L121)","v":""},{"$f":"IF(ISBLANK('Scholars Nomination Form'!M121),\"\",'Scholars Nomination Form'!M121)","v":""},{"$f":"IF(ISBLANK('Scholars Nomination Form'!N121),\"\",'Scholars Nomination Form'!N121)","v":""},{"$f":"IF(ISBLANK('Scholars Nomination Form'!O121),\"\",'Scholars Nomination Form'!O121)","v":""},{"$f":"IF(ISBLANK('Scholars Nomination Form'!P121),\"\",'Scholars Nomination Form'!P121)","v":""},{"$f":"IF(ISBLANK('Scholars Nomination Form'!Q121),\"\",'Scholars Nomination Form'!Q121)","v":""},{"$f":"IF(ISBLANK('Scholars Nomination Form'!R121),\"\",'Scholars Nomination Form'!R121)","v":""},{"$f":"IF(ISBLANK('Scholars Nomination Form'!S121),\"\",'Scholars Nomination Form'!S121)","v":""},{"$f":"IF(ISBLANK('Scholars Nomination Form'!T121),\"\",'Scholars Nomination Form'!T121)","v":""},{"$f":"IF(ISBLANK('Scholars Nomination Form'!U121),\"\",'Scholars Nomination Form'!U121)","v":""},{"$f":"IF(ISBLANK('Scholars Nomination Form'!V121),\"\",'Scholars Nomination Form'!V121)","v":""},{"$f":"IF(ISBLANK('Scholars Nomination Form'!W121),\"\",'Scholars Nomination Form'!W121)","v":""},{"$f":"IF(ISBLANK('Scholars Nomination Form'!X121),\"\",'Scholars Nomination Form'!X121)","v":""},{"$f":"IF(ISBLANK('Scholars Nomination Form'!Y121),\"\",'Scholars Nomination Form'!Y121)","v":""},{"$f":"IF(ISBLANK('Scholars Nomination Form'!Z121),\"\",'Scholars Nomination Form'!Z121)","v":""},{"$f":"IF(ISBLANK('Scholars Nomination Form'!AA121),\"\",'Scholars Nomination Form'!AA121)","v":""}]
[{"$f":"IF(ISBLANK('Scholars Nomination Form'!$F122),\"\",'Scholars Nomination Form'!$C$11)","v":""},{"$f":"IF(ISBLANK('Scholars Nomination Form'!$F122),\"\",'Scholars Nomination Form'!$C$12)","v":""},{"$f":"IF(ISBLANK('Scholars Nomination Form'!$F122),\"\",'Scholars Nomination Form'!$C$13)","v":""},{"$f":"IF(ISBLANK('Scholars Nomination Form'!$F122),\"\",'Scholars Nomination Form'!$C$14)","v":""},{"$f":"IF(ISBLANK('Scholars Nomination Form'!$F122),\"\",'Scholars Nomination Form'!$C$15)","v":""},{"$f":"IF(ISBLANK('Scholars Nomination Form'!$F122),\"\",'Scholars Nomination Form'!$C$16)","v":""},{"$f":"IF(ISBLANK('Scholars Nomination Form'!B122),\"\",'Scholars Nomination Form'!B122)","v":""},{"$f":"IF(ISBLANK('Scholars Nomination Form'!D122),\"\",'Scholars Nomination Form'!D122)","v":""},{"$f":"IF(ISBLANK('Scholars Nomination Form'!E122),\"\",'Scholars Nomination Form'!E122)","v":""},{"$f":"IF(ISBLANK('Scholars Nomination Form'!F122),\"\",'Scholars Nomination Form'!F122)","v":""},{"$f":"IF(ISBLANK('Scholars Nomination Form'!G122),\"\",'Scholars Nomination Form'!G122)","v":""},{"$f":"IF(ISBLANK('Scholars Nomination Form'!H122),\"\",'Scholars Nomination Form'!H122)","v":""},{"$f":"IF(ISBLANK('Scholars Nomination Form'!I122),\"\",'Scholars Nomination Form'!I122)","v":""},{"$f":"IF(ISBLANK('Scholars Nomination Form'!J122),\"\",'Scholars Nomination Form'!J122)","v":""},{"$f":"IF(ISBLANK('Scholars Nomination Form'!K122),\"\",'Scholars Nomination Form'!K122)","v":""},{"$f":"IF(ISBLANK('Scholars Nomination Form'!L122),\"\",'Scholars Nomination Form'!L122)","v":""},{"$f":"IF(ISBLANK('Scholars Nomination Form'!M122),\"\",'Scholars Nomination Form'!M122)","v":""},{"$f":"IF(ISBLANK('Scholars Nomination Form'!N122),\"\",'Scholars Nomination Form'!N122)","v":""},{"$f":"IF(ISBLANK('Scholars Nomination Form'!O122),\"\",'Scholars Nomination Form'!O122)","v":""},{"$f":"IF(ISBLANK('Scholars Nomination Form'!P122),\"\",'Scholars Nomination Form'!P122)","v":""},{"$f":"IF(ISBLANK('Scholars Nomination Form'!Q122),\"\",'Scholars Nomination Form'!Q122)","v":""},{"$f":"IF(ISBLANK('Scholars Nomination Form'!R122),\"\",'Scholars Nomination Form'!R122)","v":""},{"$f":"IF(ISBLANK('Scholars Nomination Form'!S122),\"\",'Scholars Nomination Form'!S122)","v":""},{"$f":"IF(ISBLANK('Scholars Nomination Form'!T122),\"\",'Scholars Nomination Form'!T122)","v":""},{"$f":"IF(ISBLANK('Scholars Nomination Form'!U122),\"\",'Scholars Nomination Form'!U122)","v":""},{"$f":"IF(ISBLANK('Scholars Nomination Form'!V122),\"\",'Scholars Nomination Form'!V122)","v":""},{"$f":"IF(ISBLANK('Scholars Nomination Form'!W122),\"\",'Scholars Nomination Form'!W122)","v":""},{"$f":"IF(ISBLANK('Scholars Nomination Form'!X122),\"\",'Scholars Nomination Form'!X122)","v":""},{"$f":"IF(ISBLANK('Scholars Nomination Form'!Y122),\"\",'Scholars Nomination Form'!Y122)","v":""},{"$f":"IF(ISBLANK('Scholars Nomination Form'!Z122),\"\",'Scholars Nomination Form'!Z122)","v":""},{"$f":"IF(ISBLANK('Scholars Nomination Form'!AA122),\"\",'Scholars Nomination Form'!AA122)","v":""}]
[{"$f":"IF(ISBLANK('Scholars Nomination Form'!$F123),\"\",'Scholars Nomination Form'!$C$11)","v":""},{"$f":"IF(ISBLANK('Scholars Nomination Form'!$F123),\"\",'Scholars Nomination Form'!$C$12)","v":""},{"$f":"IF(ISBLANK('Scholars Nomination Form'!$F123),\"\",'Scholars Nomination Form'!$C$13)","v":""},{"$f":"IF(ISBLANK('Scholars Nomination Form'!$F123),\"\",'Scholars Nomination Form'!$C$14)","v":""},{"$f":"IF(ISBLANK('Scholars Nomination Form'!$F123),\"\",'Scholars Nomination Form'!$C$15)","v":""},{"$f":"IF(ISBLANK('Scholars Nomination Form'!$F123),\"\",'Scholars Nomination Form'!$C$16)","v":""},{"$f":"IF(ISBLANK('Scholars Nomination Form'!B123),\"\",'Scholars Nomination Form'!B123)","v":""},{"$f":"IF(ISBLANK('Scholars Nomination Form'!D123),\"\",'Scholars Nomination Form'!D123)","v":""},{"$f":"IF(ISBLANK('Scholars Nomination Form'!E123),\"\",'Scholars Nomination Form'!E123)","v":""},{"$f":"IF(ISBLANK('Scholars Nomination Form'!F123),\"\",'Scholars Nomination Form'!F123)","v":""},{"$f":"IF(ISBLANK('Scholars Nomination Form'!G123),\"\",'Scholars Nomination Form'!G123)","v":""},{"$f":"IF(ISBLANK('Scholars Nomination Form'!H123),\"\",'Scholars Nomination Form'!H123)","v":""},{"$f":"IF(ISBLANK('Scholars Nomination Form'!I123),\"\",'Scholars Nomination Form'!I123)","v":""},{"$f":"IF(ISBLANK('Scholars Nomination Form'!J123),\"\",'Scholars Nomination Form'!J123)","v":""},{"$f":"IF(ISBLANK('Scholars Nomination Form'!K123),\"\",'Scholars Nomination Form'!K123)","v":""},{"$f":"IF(ISBLANK('Scholars Nomination Form'!L123),\"\",'Scholars Nomination Form'!L123)","v":""},{"$f":"IF(ISBLANK('Scholars Nomination Form'!M123),\"\",'Scholars Nomination Form'!M123)","v":""},{"$f":"IF(ISBLANK('Scholars Nomination Form'!N123),\"\",'Scholars Nomination Form'!N123)","v":""},{"$f":"IF(ISBLANK('Scholars Nomination Form'!O123),\"\",'Scholars Nomination Form'!O123)","v":""},{"$f":"IF(ISBLANK('Scholars Nomination Form'!P123),\"\",'Scholars Nomination Form'!P123)","v":""},{"$f":"IF(ISBLANK('Scholars Nomination Form'!Q123),\"\",'Scholars Nomination Form'!Q123)","v":""},{"$f":"IF(ISBLANK('Scholars Nomination Form'!R123),\"\",'Scholars Nomination Form'!R123)","v":""},{"$f":"IF(ISBLANK('Scholars Nomination Form'!S123),\"\",'Scholars Nomination Form'!S123)","v":""},{"$f":"IF(ISBLANK('Scholars Nomination Form'!T123),\"\",'Scholars Nomination Form'!T123)","v":""},{"$f":"IF(ISBLANK('Scholars Nomination Form'!U123),\"\",'Scholars Nomination Form'!U123)","v":""},{"$f":"IF(ISBLANK('Scholars Nomination Form'!V123),\"\",'Scholars Nomination Form'!V123)","v":""},{"$f":"IF(ISBLANK('Scholars Nomination Form'!W123),\"\",'Scholars Nomination Form'!W123)","v":""},{"$f":"IF(ISBLANK('Scholars Nomination Form'!X123),\"\",'Scholars Nomination Form'!X123)","v":""},{"$f":"IF(ISBLANK('Scholars Nomination Form'!Y123),\"\",'Scholars Nomination Form'!Y123)","v":""},{"$f":"IF(ISBLANK('Scholars Nomination Form'!Z123),\"\",'Scholars Nomination Form'!Z123)","v":""},{"$f":"IF(ISBLANK('Scholars Nomination Form'!AA123),\"\",'Scholars Nomination Form'!AA123)","v":""}]
[{"$f":"IF(ISBLANK('Scholars Nomination Form'!$F124),\"\",'Scholars Nomination Form'!$C$11)","v":""},{"$f":"IF(ISBLANK('Scholars Nomination Form'!$F124),\"\",'Scholars Nomination Form'!$C$12)","v":""},{"$f":"IF(ISBLANK('Scholars Nomination Form'!$F124),\"\",'Scholars Nomination Form'!$C$13)","v":""},{"$f":"IF(ISBLANK('Scholars Nomination Form'!$F124),\"\",'Scholars Nomination Form'!$C$14)","v":""},{"$f":"IF(ISBLANK('Scholars Nomination Form'!$F124),\"\",'Scholars Nomination Form'!$C$15)","v":""},{"$f":"IF(ISBLANK('Scholars Nomination Form'!$F124),\"\",'Scholars Nomination Form'!$C$16)","v":""},{"$f":"IF(ISBLANK('Scholars Nomination Form'!B124),\"\",'Scholars Nomination Form'!B124)","v":""},{"$f":"IF(ISBLANK('Scholars Nomination Form'!D124),\"\",'Scholars Nomination Form'!D124)","v":""},{"$f":"IF(ISBLANK('Scholars Nomination Form'!E124),\"\",'Scholars Nomination Form'!E124)","v":""},{"$f":"IF(ISBLANK('Scholars Nomination Form'!F124),\"\",'Scholars Nomination Form'!F124)","v":""},{"$f":"IF(ISBLANK('Scholars Nomination Form'!G124),\"\",'Scholars Nomination Form'!G124)","v":""},{"$f":"IF(ISBLANK('Scholars Nomination Form'!H124),\"\",'Scholars Nomination Form'!H124)","v":""},{"$f":"IF(ISBLANK('Scholars Nomination Form'!I124),\"\",'Scholars Nomination Form'!I124)","v":""},{"$f":"IF(ISBLANK('Scholars Nomination Form'!J124),\"\",'Scholars Nomination Form'!J124)","v":""},{"$f":"IF(ISBLANK('Scholars Nomination Form'!K124),\"\",'Scholars Nomination Form'!K124)","v":""},{"$f":"IF(ISBLANK('Scholars Nomination Form'!L124),\"\",'Scholars Nomination Form'!L124)","v":""},{"$f":"IF(ISBLANK('Scholars Nomination Form'!M124),\"\",'Scholars Nomination Form'!M124)","v":""},{"$f":"IF(ISBLANK('Scholars Nomination Form'!N124),\"\",'Scholars Nomination Form'!N124)","v":""},{"$f":"IF(ISBLANK('Scholars Nomination Form'!O124),\"\",'Scholars Nomination Form'!O124)","v":""},{"$f":"IF(ISBLANK('Scholars Nomination Form'!P124),\"\",'Scholars Nomination Form'!P124)","v":""},{"$f":"IF(ISBLANK('Scholars Nomination Form'!Q124),\"\",'Scholars Nomination Form'!Q124)","v":""},{"$f":"IF(ISBLANK('Scholars Nomination Form'!R124),\"\",'Scholars Nomination Form'!R124)","v":""},{"$f":"IF(ISBLANK('Scholars Nomination Form'!S124),\"\",'Scholars Nomination Form'!S124)","v":""},{"$f":"IF(ISBLANK('Scholars Nomination Form'!T124),\"\",'Scholars Nomination Form'!T124)","v":""},{"$f":"IF(ISBLANK('Scholars Nomination Form'!U124),\"\",'Scholars Nomination Form'!U124)","v":""},{"$f":"IF(ISBLANK('Scholars Nomination Form'!V124),\"\",'Scholars Nomination Form'!V124)","v":""},{"$f":"IF(ISBLANK('Scholars Nomination Form'!W124),\"\",'Scholars Nomination Form'!W124)","v":""},{"$f":"IF(ISBLANK('Scholars Nomination Form'!X124),\"\",'Scholars Nomination Form'!X124)","v":""},{"$f":"IF(ISBLANK('Scholars Nomination Form'!Y124),\"\",'Scholars Nomination Form'!Y124)","v":""},{"$f":"IF(ISBLANK('Scholars Nomination Form'!Z124),\"\",'Scholars Nomination Form'!Z124)","v":""},{"$f":"IF(ISBLANK('Scholars Nomination Form'!AA124),\"\",'Scholars Nomination Form'!AA124)","v":""}]
[{"$f":"IF(ISBLANK('Scholars Nomination Form'!$F125),\"\",'Scholars Nomination Form'!$C$11)","v":""},{"$f":"IF(ISBLANK('Scholars Nomination Form'!$F125),\"\",'Scholars Nomination Form'!$C$12)","v":""},{"$f":"IF(ISBLANK('Scholars Nomination Form'!$F125),\"\",'Scholars Nomination Form'!$C$13)","v":""},{"$f":"IF(ISBLANK('Scholars Nomination Form'!$F125),\"\",'Scholars Nomination Form'!$C$14)","v":""},{"$f":"IF(ISBLANK('Scholars Nomination Form'!$F125),\"\",'Scholars Nomination Form'!$C$15)","v":""},{"$f":"IF(ISBLANK('Scholars Nomination Form'!$F125),\"\",'Scholars Nomination Form'!$C$16)","v":""},{"$f":"IF(ISBLANK('Scholars Nomination Form'!B125),\"\",'Scholars Nomination Form'!B125)","v":""},{"$f":"IF(ISBLANK('Scholars Nomination Form'!D125),\"\",'Scholars Nomination Form'!D125)","v":""},{"$f":"IF(ISBLANK('Scholars Nomination Form'!E125),\"\",'Scholars Nomination Form'!E125)","v":""},{"$f":"IF(ISBLANK('Scholars Nomination Form'!F125),\"\",'Scholars Nomination Form'!F125)","v":""},{"$f":"IF(ISBLANK('Scholars Nomination Form'!G125),\"\",'Scholars Nomination Form'!G125)","v":""},{"$f":"IF(ISBLANK('Scholars Nomination Form'!H125),\"\",'Scholars Nomination Form'!H125)","v":""},{"$f":"IF(ISBLANK('Scholars Nomination Form'!I125),\"\",'Scholars Nomination Form'!I125)","v":""},{"$f":"IF(ISBLANK('Scholars Nomination Form'!J125),\"\",'Scholars Nomination Form'!J125)","v":""},{"$f":"IF(ISBLANK('Scholars Nomination Form'!K125),\"\",'Scholars Nomination Form'!K125)","v":""},{"$f":"IF(ISBLANK('Scholars Nomination Form'!L125),\"\",'Scholars Nomination Form'!L125)","v":""},{"$f":"IF(ISBLANK('Scholars Nomination Form'!M125),\"\",'Scholars Nomination Form'!M125)","v":""},{"$f":"IF(ISBLANK('Scholars Nomination Form'!N125),\"\",'Scholars Nomination Form'!N125)","v":""},{"$f":"IF(ISBLANK('Scholars Nomination Form'!O125),\"\",'Scholars Nomination Form'!O125)","v":""},{"$f":"IF(ISBLANK('Scholars Nomination Form'!P125),\"\",'Scholars Nomination Form'!P125)","v":""},{"$f":"IF(ISBLANK('Scholars Nomination Form'!Q125),\"\",'Scholars Nomination Form'!Q125)","v":""},{"$f":"IF(ISBLANK('Scholars Nomination Form'!R125),\"\",'Scholars Nomination Form'!R125)","v":""},{"$f":"IF(ISBLANK('Scholars Nomination Form'!S125),\"\",'Scholars Nomination Form'!S125)","v":""},{"$f":"IF(ISBLANK('Scholars Nomination Form'!T125),\"\",'Scholars Nomination Form'!T125)","v":""},{"$f":"IF(ISBLANK('Scholars Nomination Form'!U125),\"\",'Scholars Nomination Form'!U125)","v":""},{"$f":"IF(ISBLANK('Scholars Nomination Form'!V125),\"\",'Scholars Nomination Form'!V125)","v":""},{"$f":"IF(ISBLANK('Scholars Nomination Form'!W125),\"\",'Scholars Nomination Form'!W125)","v":""},{"$f":"IF(ISBLANK('Scholars Nomination Form'!X125),\"\",'Scholars Nomination Form'!X125)","v":""},{"$f":"IF(ISBLANK('Scholars Nomination Form'!Y125),\"\",'Scholars Nomination Form'!Y125)","v":""},{"$f":"IF(ISBLANK('Scholars Nomination Form'!Z125),\"\",'Scholars Nomination Form'!Z125)","v":""},{"$f":"IF(ISBLANK('Scholars Nomination Form'!AA125),\"\",'Scholars Nomination Form'!AA125)","v":""}]
[{"$f":"IF(ISBLANK('Scholars Nomination Form'!$F126),\"\",'Scholars Nomination Form'!$C$11)","v":""},{"$f":"IF(ISBLANK('Scholars Nomination Form'!$F126),\"\",'Scholars Nomination Form'!$C$12)","v":""},{"$f":"IF(ISBLANK('Scholars Nomination Form'!$F126),\"\",'Scholars Nomination Form'!$C$13)","v":""},{"$f":"IF(ISBLANK('Scholars Nomination Form'!$F126),\"\",'Scholars Nomination Form'!$C$14)","v":""},{"$f":"IF(ISBLANK('Scholars Nomination Form'!$F126),\"\",'Scholars Nomination Form'!$C$15)","v":""},{"$f":"IF(ISBLANK('Scholars Nomination Form'!$F126),\"\",'Scholars Nomination Form'!$C$16)","v":""},{"$f":"IF(ISBLANK('Scholars Nomination Form'!B126),\"\",'Scholars Nomination Form'!B126)","v":""},{"$f":"IF(ISBLANK('Scholars Nomination Form'!D126),\"\",'Scholars Nomination Form'!D126)","v":""},{"$f":"IF(ISBLANK('Scholars Nomination Form'!E126),\"\",'Scholars Nomination Form'!E126)","v":""},{"$f":"IF(ISBLANK('Scholars Nomination Form'!F126),\"\",'Scholars Nomination Form'!F126)","v":""},{"$f":"IF(ISBLANK('Scholars Nomination Form'!G126),\"\",'Scholars Nomination Form'!G126)","v":""},{"$f":"IF(ISBLANK('Scholars Nomination Form'!H126),\"\",'Scholars Nomination Form'!H126)","v":""},{"$f":"IF(ISBLANK('Scholars Nomination Form'!I126),\"\",'Scholars Nomination Form'!I126)","v":""},{"$f":"IF(ISBLANK('Scholars Nomination Form'!J126),\"\",'Scholars Nomination Form'!J126)","v":""},{"$f":"IF(ISBLANK('Scholars Nomination Form'!K126),\"\",'Scholars Nomination Form'!K126)","v":""},{"$f":"IF(ISBLANK('Scholars Nomination Form'!L126),\"\",'Scholars Nomination Form'!L126)","v":""},{"$f":"IF(ISBLANK('Scholars Nomination Form'!M126),\"\",'Scholars Nomination Form'!M126)","v":""},{"$f":"IF(ISBLANK('Scholars Nomination Form'!N126),\"\",'Scholars Nomination Form'!N126)","v":""},{"$f":"IF(ISBLANK('Scholars Nomination Form'!O126),\"\",'Scholars Nomination Form'!O126)","v":""},{"$f":"IF(ISBLANK('Scholars Nomination Form'!P126),\"\",'Scholars Nomination Form'!P126)","v":""},{"$f":"IF(ISBLANK('Scholars Nomination Form'!Q126),\"\",'Scholars Nomination Form'!Q126)","v":""},{"$f":"IF(ISBLANK('Scholars Nomination Form'!R126),\"\",'Scholars Nomination Form'!R126)","v":""},{"$f":"IF(ISBLANK('Scholars Nomination Form'!S126),\"\",'Scholars Nomination Form'!S126)","v":""},{"$f":"IF(ISBLANK('Scholars Nomination Form'!T126),\"\",'Scholars Nomination Form'!T126)","v":""},{"$f":"IF(ISBLANK('Scholars Nomination Form'!U126),\"\",'Scholars Nomination Form'!U126)","v":""},{"$f":"IF(ISBLANK('Scholars Nomination Form'!V126),\"\",'Scholars Nomination Form'!V126)","v":""},{"$f":"IF(ISBLANK('Scholars Nomination Form'!W126),\"\",'Scholars Nomination Form'!W126)","v":""},{"$f":"IF(ISBLANK('Scholars Nomination Form'!X126),\"\",'Scholars Nomination Form'!X126)","v":""},{"$f":"IF(ISBLANK('Scholars Nomination Form'!Y126),\"\",'Scholars Nomination Form'!Y126)","v":""},{"$f":"IF(ISBLANK('Scholars Nomination Form'!Z126),\"\",'Scholars Nomination Form'!Z126)","v":""},{"$f":"IF(ISBLANK('Scholars Nomination Form'!AA126),\"\",'Scholars Nomination Form'!AA126)","v":""}]
[{"$f":"IF(ISBLANK('Scholars Nomination Form'!$F127),\"\",'Scholars Nomination Form'!$C$11)","v":""},{"$f":"IF(ISBLANK('Scholars Nomination Form'!$F127),\"\",'Scholars Nomination Form'!$C$12)","v":""},{"$f":"IF(ISBLANK('Scholars Nomination Form'!$F127),\"\",'Scholars Nomination Form'!$C$13)","v":""},{"$f":"IF(ISBLANK('Scholars Nomination Form'!$F127),\"\",'Scholars Nomination Form'!$C$14)","v":""},{"$f":"IF(ISBLANK('Scholars Nomination Form'!$F127),\"\",'Scholars Nomination Form'!$C$15)","v":""},{"$f":"IF(ISBLANK('Scholars Nomination Form'!$F127),\"\",'Scholars Nomination Form'!$C$16)","v":""},{"$f":"IF(ISBLANK('Scholars Nomination Form'!B127),\"\",'Scholars Nomination Form'!B127)","v":""},{"$f":"IF(ISBLANK('Scholars Nomination Form'!D127),\"\",'Scholars Nomination Form'!D127)","v":""},{"$f":"IF(ISBLANK('Scholars Nomination Form'!E127),\"\",'Scholars Nomination Form'!E127)","v":""},{"$f":"IF(ISBLANK('Scholars Nomination Form'!F127),\"\",'Scholars Nomination Form'!F127)","v":""},{"$f":"IF(ISBLANK('Scholars Nomination Form'!G127),\"\",'Scholars Nomination Form'!G127)","v":""},{"$f":"IF(ISBLANK('Scholars Nomination Form'!H127),\"\",'Scholars Nomination Form'!H127)","v":""},{"$f":"IF(ISBLANK('Scholars Nomination Form'!I127),\"\",'Scholars Nomination Form'!I127)","v":""},{"$f":"IF(ISBLANK('Scholars Nomination Form'!J127),\"\",'Scholars Nomination Form'!J127)","v":""},{"$f":"IF(ISBLANK('Scholars Nomination Form'!K127),\"\",'Scholars Nomination Form'!K127)","v":""},{"$f":"IF(ISBLANK('Scholars Nomination Form'!L127),\"\",'Scholars Nomination Form'!L127)","v":""},{"$f":"IF(ISBLANK('Scholars Nomination Form'!M127),\"\",'Scholars Nomination Form'!M127)","v":""},{"$f":"IF(ISBLANK('Scholars Nomination Form'!N127),\"\",'Scholars Nomination Form'!N127)","v":""},{"$f":"IF(ISBLANK('Scholars Nomination Form'!O127),\"\",'Scholars Nomination Form'!O127)","v":""},{"$f":"IF(ISBLANK('Scholars Nomination Form'!P127),\"\",'Scholars Nomination Form'!P127)","v":""},{"$f":"IF(ISBLANK('Scholars Nomination Form'!Q127),\"\",'Scholars Nomination Form'!Q127)","v":""},{"$f":"IF(ISBLANK('Scholars Nomination Form'!R127),\"\",'Scholars Nomination Form'!R127)","v":""},{"$f":"IF(ISBLANK('Scholars Nomination Form'!S127),\"\",'Scholars Nomination Form'!S127)","v":""},{"$f":"IF(ISBLANK('Scholars Nomination Form'!T127),\"\",'Scholars Nomination Form'!T127)","v":""},{"$f":"IF(ISBLANK('Scholars Nomination Form'!U127),\"\",'Scholars Nomination Form'!U127)","v":""},{"$f":"IF(ISBLANK('Scholars Nomination Form'!V127),\"\",'Scholars Nomination Form'!V127)","v":""},{"$f":"IF(ISBLANK('Scholars Nomination Form'!W127),\"\",'Scholars Nomination Form'!W127)","v":""},{"$f":"IF(ISBLANK('Scholars Nomination Form'!X127),\"\",'Scholars Nomination Form'!X127)","v":""},{"$f":"IF(ISBLANK('Scholars Nomination Form'!Y127),\"\",'Scholars Nomination Form'!Y127)","v":""},{"$f":"IF(ISBLANK('Scholars Nomination Form'!Z127),\"\",'Scholars Nomination Form'!Z127)","v":""},{"$f":"IF(ISBLANK('Scholars Nomination Form'!AA127),\"\",'Scholars Nomination Form'!AA127)","v":""}]
[{"$f":"IF(ISBLANK('Scholars Nomination Form'!$F128),\"\",'Scholars Nomination Form'!$C$11)","v":""},{"$f":"IF(ISBLANK('Scholars Nomination Form'!$F128),\"\",'Scholars Nomination Form'!$C$12)","v":""},{"$f":"IF(ISBLANK('Scholars Nomination Form'!$F128),\"\",'Scholars Nomination Form'!$C$13)","v":""},{"$f":"IF(ISBLANK('Scholars Nomination Form'!$F128),\"\",'Scholars Nomination Form'!$C$14)","v":""},{"$f":"IF(ISBLANK('Scholars Nomination Form'!$F128),\"\",'Scholars Nomination Form'!$C$15)","v":""},{"$f":"IF(ISBLANK('Scholars Nomination Form'!$F128),\"\",'Scholars Nomination Form'!$C$16)","v":""},{"$f":"IF(ISBLANK('Scholars Nomination Form'!B128),\"\",'Scholars Nomination Form'!B128)","v":""},{"$f":"IF(ISBLANK('Scholars Nomination Form'!D128),\"\",'Scholars Nomination Form'!D128)","v":""},{"$f":"IF(ISBLANK('Scholars Nomination Form'!E128),\"\",'Scholars Nomination Form'!E128)","v":""},{"$f":"IF(ISBLANK('Scholars Nomination Form'!F128),\"\",'Scholars Nomination Form'!F128)","v":""},{"$f":"IF(ISBLANK('Scholars Nomination Form'!G128),\"\",'Scholars Nomination Form'!G128)","v":""},{"$f":"IF(ISBLANK('Scholars Nomination Form'!H128),\"\",'Scholars Nomination Form'!H128)","v":""},{"$f":"IF(ISBLANK('Scholars Nomination Form'!I128),\"\",'Scholars Nomination Form'!I128)","v":""},{"$f":"IF(ISBLANK('Scholars Nomination Form'!J128),\"\",'Scholars Nomination Form'!J128)","v":""},{"$f":"IF(ISBLANK('Scholars Nomination Form'!K128),\"\",'Scholars Nomination Form'!K128)","v":""},{"$f":"IF(ISBLANK('Scholars Nomination Form'!L128),\"\",'Scholars Nomination Form'!L128)","v":""},{"$f":"IF(ISBLANK('Scholars Nomination Form'!M128),\"\",'Scholars Nomination Form'!M128)","v":""},{"$f":"IF(ISBLANK('Scholars Nomination Form'!N128),\"\",'Scholars Nomination Form'!N128)","v":""},{"$f":"IF(ISBLANK('Scholars Nomination Form'!O128),\"\",'Scholars Nomination Form'!O128)","v":""},{"$f":"IF(ISBLANK('Scholars Nomination Form'!P128),\"\",'Scholars Nomination Form'!P128)","v":""},{"$f":"IF(ISBLANK('Scholars Nomination Form'!Q128),\"\",'Scholars Nomination Form'!Q128)","v":""},{"$f":"IF(ISBLANK('Scholars Nomination Form'!R128),\"\",'Scholars Nomination Form'!R128)","v":""},{"$f":"IF(ISBLANK('Scholars Nomination Form'!S128),\"\",'Scholars Nomination Form'!S128)","v":""},{"$f":"IF(ISBLANK('Scholars Nomination Form'!T128),\"\",'Scholars Nomination Form'!T128)","v":""},{"$f":"IF(ISBLANK('Scholars Nomination Form'!U128),\"\",'Scholars Nomination Form'!U128)","v":""},{"$f":"IF(ISBLANK('Scholars Nomination Form'!V128),\"\",'Scholars Nomination Form'!V128)","v":""},{"$f":"IF(ISBLANK('Scholars Nomination Form'!W128),\"\",'Scholars Nomination Form'!W128)","v":""},{"$f":"IF(ISBLANK('Scholars Nomination Form'!X128),\"\",'Scholars Nomination Form'!X128)","v":""},{"$f":"IF(ISBLANK('Scholars Nomination Form'!Y128),\"\",'Scholars Nomination Form'!Y128)","v":""},{"$f":"IF(ISBLANK('Scholars Nomination Form'!Z128),\"\",'Scholars Nomination Form'!Z128)","v":""},{"$f":"IF(ISBLANK('Scholars Nomination Form'!AA128),\"\",'Scholars Nomination Form'!AA128)","v":""}]
[{"$f":"IF(ISBLANK('Scholars Nomination Form'!$F129),\"\",'Scholars Nomination Form'!$C$11)","v":""},{"$f":"IF(ISBLANK('Scholars Nomination Form'!$F129),\"\",'Scholars Nomination Form'!$C$12)","v":""},{"$f":"IF(ISBLANK('Scholars Nomination Form'!$F129),\"\",'Scholars Nomination Form'!$C$13)","v":""},{"$f":"IF(ISBLANK('Scholars Nomination Form'!$F129),\"\",'Scholars Nomination Form'!$C$14)","v":""},{"$f":"IF(ISBLANK('Scholars Nomination Form'!$F129),\"\",'Scholars Nomination Form'!$C$15)","v":""},{"$f":"IF(ISBLANK('Scholars Nomination Form'!$F129),\"\",'Scholars Nomination Form'!$C$16)","v":""},{"$f":"IF(ISBLANK('Scholars Nomination Form'!B129),\"\",'Scholars Nomination Form'!B129)","v":""},{"$f":"IF(ISBLANK('Scholars Nomination Form'!D129),\"\",'Scholars Nomination Form'!D129)","v":""},{"$f":"IF(ISBLANK('Scholars Nomination Form'!E129),\"\",'Scholars Nomination Form'!E129)","v":""},{"$f":"IF(ISBLANK('Scholars Nomination Form'!F129),\"\",'Scholars Nomination Form'!F129)","v":""},{"$f":"IF(ISBLANK('Scholars Nomination Form'!G129),\"\",'Scholars Nomination Form'!G129)","v":""},{"$f":"IF(ISBLANK('Scholars Nomination Form'!H129),\"\",'Scholars Nomination Form'!H129)","v":""},{"$f":"IF(ISBLANK('Scholars Nomination Form'!I129),\"\",'Scholars Nomination Form'!I129)","v":""},{"$f":"IF(ISBLANK('Scholars Nomination Form'!J129),\"\",'Scholars Nomination Form'!J129)","v":""},{"$f":"IF(ISBLANK('Scholars Nomination Form'!K129),\"\",'Scholars Nomination Form'!K129)","v":""},{"$f":"IF(ISBLANK('Scholars Nomination Form'!L129),\"\",'Scholars Nomination Form'!L129)","v":""},{"$f":"IF(ISBLANK('Scholars Nomination Form'!M129),\"\",'Scholars Nomination Form'!M129)","v":""},{"$f":"IF(ISBLANK('Scholars Nomination Form'!N129),\"\",'Scholars Nomination Form'!N129)","v":""},{"$f":"IF(ISBLANK('Scholars Nomination Form'!O129),\"\",'Scholars Nomination Form'!O129)","v":""},{"$f":"IF(ISBLANK('Scholars Nomination Form'!P129),\"\",'Scholars Nomination Form'!P129)","v":""},{"$f":"IF(ISBLANK('Scholars Nomination Form'!Q129),\"\",'Scholars Nomination Form'!Q129)","v":""},{"$f":"IF(ISBLANK('Scholars Nomination Form'!R129),\"\",'Scholars Nomination Form'!R129)","v":""},{"$f":"IF(ISBLANK('Scholars Nomination Form'!S129),\"\",'Scholars Nomination Form'!S129)","v":""},{"$f":"IF(ISBLANK('Scholars Nomination Form'!T129),\"\",'Scholars Nomination Form'!T129)","v":""},{"$f":"IF(ISBLANK('Scholars Nomination Form'!U129),\"\",'Scholars Nomination Form'!U129)","v":""},{"$f":"IF(ISBLANK('Scholars Nomination Form'!V129),\"\",'Scholars Nomination Form'!V129)","v":""},{"$f":"IF(ISBLANK('Scholars Nomination Form'!W129),\"\",'Scholars Nomination Form'!W129)","v":""},{"$f":"IF(ISBLANK('Scholars Nomination Form'!X129),\"\",'Scholars Nomination Form'!X129)","v":""},{"$f":"IF(ISBLANK('Scholars Nomination Form'!Y129),\"\",'Scholars Nomination Form'!Y129)","v":""},{"$f":"IF(ISBLANK('Scholars Nomination Form'!Z129),\"\",'Scholars Nomination Form'!Z129)","v":""},{"$f":"IF(ISBLANK('Scholars Nomination Form'!AA129),\"\",'Scholars Nomination Form'!AA129)","v":""}]
[{"$f":"IF(ISBLANK('Scholars Nomination Form'!$F130),\"\",'Scholars Nomination Form'!$C$11)","v":""},{"$f":"IF(ISBLANK('Scholars Nomination Form'!$F130),\"\",'Scholars Nomination Form'!$C$12)","v":""},{"$f":"IF(ISBLANK('Scholars Nomination Form'!$F130),\"\",'Scholars Nomination Form'!$C$13)","v":""},{"$f":"IF(ISBLANK('Scholars Nomination Form'!$F130),\"\",'Scholars Nomination Form'!$C$14)","v":""},{"$f":"IF(ISBLANK('Scholars Nomination Form'!$F130),\"\",'Scholars Nomination Form'!$C$15)","v":""},{"$f":"IF(ISBLANK('Scholars Nomination Form'!$F130),\"\",'Scholars Nomination Form'!$C$16)","v":""},{"$f":"IF(ISBLANK('Scholars Nomination Form'!B130),\"\",'Scholars Nomination Form'!B130)","v":""},{"$f":"IF(ISBLANK('Scholars Nomination Form'!D130),\"\",'Scholars Nomination Form'!D130)","v":""},{"$f":"IF(ISBLANK('Scholars Nomination Form'!E130),\"\",'Scholars Nomination Form'!E130)","v":""},{"$f":"IF(ISBLANK('Scholars Nomination Form'!F130),\"\",'Scholars Nomination Form'!F130)","v":""},{"$f":"IF(ISBLANK('Scholars Nomination Form'!G130),\"\",'Scholars Nomination Form'!G130)","v":""},{"$f":"IF(ISBLANK('Scholars Nomination Form'!H130),\"\",'Scholars Nomination Form'!H130)","v":""},{"$f":"IF(ISBLANK('Scholars Nomination Form'!I130),\"\",'Scholars Nomination Form'!I130)","v":""},{"$f":"IF(ISBLANK('Scholars Nomination Form'!J130),\"\",'Scholars Nomination Form'!J130)","v":""},{"$f":"IF(ISBLANK('Scholars Nomination Form'!K130),\"\",'Scholars Nomination Form'!K130)","v":""},{"$f":"IF(ISBLANK('Scholars Nomination Form'!L130),\"\",'Scholars Nomination Form'!L130)","v":""},{"$f":"IF(ISBLANK('Scholars Nomination Form'!M130),\"\",'Scholars Nomination Form'!M130)","v":""},{"$f":"IF(ISBLANK('Scholars Nomination Form'!N130),\"\",'Scholars Nomination Form'!N130)","v":""},{"$f":"IF(ISBLANK('Scholars Nomination Form'!O130),\"\",'Scholars Nomination Form'!O130)","v":""},{"$f":"IF(ISBLANK('Scholars Nomination Form'!P130),\"\",'Scholars Nomination Form'!P130)","v":""},{"$f":"IF(ISBLANK('Scholars Nomination Form'!Q130),\"\",'Scholars Nomination Form'!Q130)","v":""},{"$f":"IF(ISBLANK('Scholars Nomination Form'!R130),\"\",'Scholars Nomination Form'!R130)","v":""},{"$f":"IF(ISBLANK('Scholars Nomination Form'!S130),\"\",'Scholars Nomination Form'!S130)","v":""},{"$f":"IF(ISBLANK('Scholars Nomination Form'!T130),\"\",'Scholars Nomination Form'!T130)","v":""},{"$f":"IF(ISBLANK('Scholars Nomination Form'!U130),\"\",'Scholars Nomination Form'!U130)","v":""},{"$f":"IF(ISBLANK('Scholars Nomination Form'!V130),\"\",'Scholars Nomination Form'!V130)","v":""},{"$f":"IF(ISBLANK('Scholars Nomination Form'!W130),\"\",'Scholars Nomination Form'!W130)","v":""},{"$f":"IF(ISBLANK('Scholars Nomination Form'!X130),\"\",'Scholars Nomination Form'!X130)","v":""},{"$f":"IF(ISBLANK('Scholars Nomination Form'!Y130),\"\",'Scholars Nomination Form'!Y130)","v":""},{"$f":"IF(ISBLANK('Scholars Nomination Form'!Z130),\"\",'Scholars Nomination Form'!Z130)","v":""},{"$f":"IF(ISBLANK('Scholars Nomination Form'!AA130),\"\",'Scholars Nomination Form'!AA130)","v":""}]
[{"$f":"IF(ISBLANK('Scholars Nomination Form'!$F131),\"\",'Scholars Nomination Form'!$C$11)","v":""},{"$f":"IF(ISBLANK('Scholars Nomination Form'!$F131),\"\",'Scholars Nomination Form'!$C$12)","v":""},{"$f":"IF(ISBLANK('Scholars Nomination Form'!$F131),\"\",'Scholars Nomination Form'!$C$13)","v":""},{"$f":"IF(ISBLANK('Scholars Nomination Form'!$F131),\"\",'Scholars Nomination Form'!$C$14)","v":""},{"$f":"IF(ISBLANK('Scholars Nomination Form'!$F131),\"\",'Scholars Nomination Form'!$C$15)","v":""},{"$f":"IF(ISBLANK('Scholars Nomination Form'!$F131),\"\",'Scholars Nomination Form'!$C$16)","v":""},{"$f":"IF(ISBLANK('Scholars Nomination Form'!B131),\"\",'Scholars Nomination Form'!B131)","v":""},{"$f":"IF(ISBLANK('Scholars Nomination Form'!D131),\"\",'Scholars Nomination Form'!D131)","v":""},{"$f":"IF(ISBLANK('Scholars Nomination Form'!E131),\"\",'Scholars Nomination Form'!E131)","v":""},{"$f":"IF(ISBLANK('Scholars Nomination Form'!F131),\"\",'Scholars Nomination Form'!F131)","v":""},{"$f":"IF(ISBLANK('Scholars Nomination Form'!G131),\"\",'Scholars Nomination Form'!G131)","v":""},{"$f":"IF(ISBLANK('Scholars Nomination Form'!H131),\"\",'Scholars Nomination Form'!H131)","v":""},{"$f":"IF(ISBLANK('Scholars Nomination Form'!I131),\"\",'Scholars Nomination Form'!I131)","v":""},{"$f":"IF(ISBLANK('Scholars Nomination Form'!J131),\"\",'Scholars Nomination Form'!J131)","v":""},{"$f":"IF(ISBLANK('Scholars Nomination Form'!K131),\"\",'Scholars Nomination Form'!K131)","v":""},{"$f":"IF(ISBLANK('Scholars Nomination Form'!L131),\"\",'Scholars Nomination Form'!L131)","v":""},{"$f":"IF(ISBLANK('Scholars Nomination Form'!M131),\"\",'Scholars Nomination Form'!M131)","v":""},{"$f":"IF(ISBLANK('Scholars Nomination Form'!N131),\"\",'Scholars Nomination Form'!N131)","v":""},{"$f":"IF(ISBLANK('Scholars Nomination Form'!O131),\"\",'Scholars Nomination Form'!O131)","v":""},{"$f":"IF(ISBLANK('Scholars Nomination Form'!P131),\"\",'Scholars Nomination Form'!P131)","v":""},{"$f":"IF(ISBLANK('Scholars Nomination Form'!Q131),\"\",'Scholars Nomination Form'!Q131)","v":""},{"$f":"IF(ISBLANK('Scholars Nomination Form'!R131),\"\",'Scholars Nomination Form'!R131)","v":""},{"$f":"IF(ISBLANK('Scholars Nomination Form'!S131),\"\",'Scholars Nomination Form'!S131)","v":""},{"$f":"IF(ISBLANK('Scholars Nomination Form'!T131),\"\",'Scholars Nomination Form'!T131)","v":""},{"$f":"IF(ISBLANK('Scholars Nomination Form'!U131),\"\",'Scholars Nomination Form'!U131)","v":""},{"$f":"IF(ISBLANK('Scholars Nomination Form'!V131),\"\",'Scholars Nomination Form'!V131)","v":""},{"$f":"IF(ISBLANK('Scholars Nomination Form'!W131),\"\",'Scholars Nomination Form'!W131)","v":""},{"$f":"IF(ISBLANK('Scholars Nomination Form'!X131),\"\",'Scholars Nomination Form'!X131)","v":""},{"$f":"IF(ISBLANK('Scholars Nomination Form'!Y131),\"\",'Scholars Nomination Form'!Y131)","v":""},{"$f":"IF(ISBLANK('Scholars Nomination Form'!Z131),\"\",'Scholars Nomination Form'!Z131)","v":""},{"$f":"IF(ISBLANK('Scholars Nomination Form'!AA131),\"\",'Scholars Nomination Form'!AA131)","v":""}]
[{"$f":"IF(ISBLANK('Scholars Nomination Form'!$F132),\"\",'Scholars Nomination Form'!$C$11)","v":""},{"$f":"IF(ISBLANK('Scholars Nomination Form'!$F132),\"\",'Scholars Nomination Form'!$C$12)","v":""},{"$f":"IF(ISBLANK('Scholars Nomination Form'!$F132),\"\",'Scholars Nomination Form'!$C$13)","v":""},{"$f":"IF(ISBLANK('Scholars Nomination Form'!$F132),\"\",'Scholars Nomination Form'!$C$14)","v":""},{"$f":"IF(ISBLANK('Scholars Nomination Form'!$F132),\"\",'Scholars Nomination Form'!$C$15)","v":""},{"$f":"IF(ISBLANK('Scholars Nomination Form'!$F132),\"\",'Scholars Nomination Form'!$C$16)","v":""},{"$f":"IF(ISBLANK('Scholars Nomination Form'!B132),\"\",'Scholars Nomination Form'!B132)","v":""},{"$f":"IF(ISBLANK('Scholars Nomination Form'!D132),\"\",'Scholars Nomination Form'!D132)","v":""},{"$f":"IF(ISBLANK('Scholars Nomination Form'!E132),\"\",'Scholars Nomination Form'!E132)","v":""},{"$f":"IF(ISBLANK('Scholars Nomination Form'!F132),\"\",'Scholars Nomination Form'!F132)","v":""},{"$f":"IF(ISBLANK('Scholars Nomination Form'!G132),\"\",'Scholars Nomination Form'!G132)","v":""},{"$f":"IF(ISBLANK('Scholars Nomination Form'!H132),\"\",'Scholars Nomination Form'!H132)","v":""},{"$f":"IF(ISBLANK('Scholars Nomination Form'!I132),\"\",'Scholars Nomination Form'!I132)","v":""},{"$f":"IF(ISBLANK('Scholars Nomination Form'!J132),\"\",'Scholars Nomination Form'!J132)","v":""},{"$f":"IF(ISBLANK('Scholars Nomination Form'!K132),\"\",'Scholars Nomination Form'!K132)","v":""},{"$f":"IF(ISBLANK('Scholars Nomination Form'!L132),\"\",'Scholars Nomination Form'!L132)","v":""},{"$f":"IF(ISBLANK('Scholars Nomination Form'!M132),\"\",'Scholars Nomination Form'!M132)","v":""},{"$f":"IF(ISBLANK('Scholars Nomination Form'!N132),\"\",'Scholars Nomination Form'!N132)","v":""},{"$f":"IF(ISBLANK('Scholars Nomination Form'!O132),\"\",'Scholars Nomination Form'!O132)","v":""},{"$f":"IF(ISBLANK('Scholars Nomination Form'!P132),\"\",'Scholars Nomination Form'!P132)","v":""},{"$f":"IF(ISBLANK('Scholars Nomination Form'!Q132),\"\",'Scholars Nomination Form'!Q132)","v":""},{"$f":"IF(ISBLANK('Scholars Nomination Form'!R132),\"\",'Scholars Nomination Form'!R132)","v":""},{"$f":"IF(ISBLANK('Scholars Nomination Form'!S132),\"\",'Scholars Nomination Form'!S132)","v":""},{"$f":"IF(ISBLANK('Scholars Nomination Form'!T132),\"\",'Scholars Nomination Form'!T132)","v":""},{"$f":"IF(ISBLANK('Scholars Nomination Form'!U132),\"\",'Scholars Nomination Form'!U132)","v":""},{"$f":"IF(ISBLANK('Scholars Nomination Form'!V132),\"\",'Scholars Nomination Form'!V132)","v":""},{"$f":"IF(ISBLANK('Scholars Nomination Form'!W132),\"\",'Scholars Nomination Form'!W132)","v":""},{"$f":"IF(ISBLANK('Scholars Nomination Form'!X132),\"\",'Scholars Nomination Form'!X132)","v":""},{"$f":"IF(ISBLANK('Scholars Nomination Form'!Y132),\"\",'Scholars Nomination Form'!Y132)","v":""},{"$f":"IF(ISBLANK('Scholars Nomination Form'!Z132),\"\",'Scholars Nomination Form'!Z132)","v":""},{"$f":"IF(ISBLANK('Scholars Nomination Form'!AA132),\"\",'Scholars Nomination Form'!AA132)","v":""}]
[{"$f":"IF(ISBLANK('Scholars Nomination Form'!$F133),\"\",'Scholars Nomination Form'!$C$11)","v":""},{"$f":"IF(ISBLANK('Scholars Nomination Form'!$F133),\"\",'Scholars Nomination Form'!$C$12)","v":""},{"$f":"IF(ISBLANK('Scholars Nomination Form'!$F133),\"\",'Scholars Nomination Form'!$C$13)","v":""},{"$f":"IF(ISBLANK('Scholars Nomination Form'!$F133),\"\",'Scholars Nomination Form'!$C$14)","v":""},{"$f":"IF(ISBLANK('Scholars Nomination Form'!$F133),\"\",'Scholars Nomination Form'!$C$15)","v":""},{"$f":"IF(ISBLANK('Scholars Nomination Form'!$F133),\"\",'Scholars Nomination Form'!$C$16)","v":""},{"$f":"IF(ISBLANK('Scholars Nomination Form'!B133),\"\",'Scholars Nomination Form'!B133)","v":""},{"$f":"IF(ISBLANK('Scholars Nomination Form'!D133),\"\",'Scholars Nomination Form'!D133)","v":""},{"$f":"IF(ISBLANK('Scholars Nomination Form'!E133),\"\",'Scholars Nomination Form'!E133)","v":""},{"$f":"IF(ISBLANK('Scholars Nomination Form'!F133),\"\",'Scholars Nomination Form'!F133)","v":""},{"$f":"IF(ISBLANK('Scholars Nomination Form'!G133),\"\",'Scholars Nomination Form'!G133)","v":""},{"$f":"IF(ISBLANK('Scholars Nomination Form'!H133),\"\",'Scholars Nomination Form'!H133)","v":""},{"$f":"IF(ISBLANK('Scholars Nomination Form'!I133),\"\",'Scholars Nomination Form'!I133)","v":""},{"$f":"IF(ISBLANK('Scholars Nomination Form'!J133),\"\",'Scholars Nomination Form'!J133)","v":""},{"$f":"IF(ISBLANK('Scholars Nomination Form'!K133),\"\",'Scholars Nomination Form'!K133)","v":""},{"$f":"IF(ISBLANK('Scholars Nomination Form'!L133),\"\",'Scholars Nomination Form'!L133)","v":""},{"$f":"IF(ISBLANK('Scholars Nomination Form'!M133),\"\",'Scholars Nomination Form'!M133)","v":""},{"$f":"IF(ISBLANK('Scholars Nomination Form'!N133),\"\",'Scholars Nomination Form'!N133)","v":""},{"$f":"IF(ISBLANK('Scholars Nomination Form'!O133),\"\",'Scholars Nomination Form'!O133)","v":""},{"$f":"IF(ISBLANK('Scholars Nomination Form'!P133),\"\",'Scholars Nomination Form'!P133)","v":""},{"$f":"IF(ISBLANK('Scholars Nomination Form'!Q133),\"\",'Scholars Nomination Form'!Q133)","v":""},{"$f":"IF(ISBLANK('Scholars Nomination Form'!R133),\"\",'Scholars Nomination Form'!R133)","v":""},{"$f":"IF(ISBLANK('Scholars Nomination Form'!S133),\"\",'Scholars Nomination Form'!S133)","v":""},{"$f":"IF(ISBLANK('Scholars Nomination Form'!T133),\"\",'Scholars Nomination Form'!T133)","v":""},{"$f":"IF(ISBLANK('Scholars Nomination Form'!U133),\"\",'Scholars Nomination Form'!U133)","v":""},{"$f":"IF(ISBLANK('Scholars Nomination Form'!V133),\"\",'Scholars Nomination Form'!V133)","v":""},{"$f":"IF(ISBLANK('Scholars Nomination Form'!W133),\"\",'Scholars Nomination Form'!W133)","v":""},{"$f":"IF(ISBLANK('Scholars Nomination Form'!X133),\"\",'Scholars Nomination Form'!X133)","v":""},{"$f":"IF(ISBLANK('Scholars Nomination Form'!Y133),\"\",'Scholars Nomination Form'!Y133)","v":""},{"$f":"IF(ISBLANK('Scholars Nomination Form'!Z133),\"\",'Scholars Nomination Form'!Z133)","v":""},{"$f":"IF(ISBLANK('Scholars Nomination Form'!AA133),\"\",'Scholars Nomination Form'!AA133)","v":""}]
[{"$f":"IF(ISBLANK('Scholars Nomination Form'!$F134),\"\",'Scholars Nomination Form'!$C$11)","v":""},{"$f":"IF(ISBLANK('Scholars Nomination Form'!$F134),\"\",'Scholars Nomination Form'!$C$12)","v":""},{"$f":"IF(ISBLANK('Scholars Nomination Form'!$F134),\"\",'Scholars Nomination Form'!$C$13)","v":""},{"$f":"IF(ISBLANK('Scholars Nomination Form'!$F134),\"\",'Scholars Nomination Form'!$C$14)","v":""},{"$f":"IF(ISBLANK('Scholars Nomination Form'!$F134),\"\",'Scholars Nomination Form'!$C$15)","v":""},{"$f":"IF(ISBLANK('Scholars Nomination Form'!$F134),\"\",'Scholars Nomination Form'!$C$16)","v":""},{"$f":"IF(ISBLANK('Scholars Nomination Form'!B134),\"\",'Scholars Nomination Form'!B134)","v":""},{"$f":"IF(ISBLANK('Scholars Nomination Form'!D134),\"\",'Scholars Nomination Form'!D134)","v":""},{"$f":"IF(ISBLANK('Scholars Nomination Form'!E134),\"\",'Scholars Nomination Form'!E134)","v":""},{"$f":"IF(ISBLANK('Scholars Nomination Form'!F134),\"\",'Scholars Nomination Form'!F134)","v":""},{"$f":"IF(ISBLANK('Scholars Nomination Form'!G134),\"\",'Scholars Nomination Form'!G134)","v":""},{"$f":"IF(ISBLANK('Scholars Nomination Form'!H134),\"\",'Scholars Nomination Form'!H134)","v":""},{"$f":"IF(ISBLANK('Scholars Nomination Form'!I134),\"\",'Scholars Nomination Form'!I134)","v":""},{"$f":"IF(ISBLANK('Scholars Nomination Form'!J134),\"\",'Scholars Nomination Form'!J134)","v":""},{"$f":"IF(ISBLANK('Scholars Nomination Form'!K134),\"\",'Scholars Nomination Form'!K134)","v":""},{"$f":"IF(ISBLANK('Scholars Nomination Form'!L134),\"\",'Scholars Nomination Form'!L134)","v":""},{"$f":"IF(ISBLANK('Scholars Nomination Form'!M134),\"\",'Scholars Nomination Form'!M134)","v":""},{"$f":"IF(ISBLANK('Scholars Nomination Form'!N134),\"\",'Scholars Nomination Form'!N134)","v":""},{"$f":"IF(ISBLANK('Scholars Nomination Form'!O134),\"\",'Scholars Nomination Form'!O134)","v":""},{"$f":"IF(ISBLANK('Scholars Nomination Form'!P134),\"\",'Scholars Nomination Form'!P134)","v":""},{"$f":"IF(ISBLANK('Scholars Nomination Form'!Q134),\"\",'Scholars Nomination Form'!Q134)","v":""},{"$f":"IF(ISBLANK('Scholars Nomination Form'!R134),\"\",'Scholars Nomination Form'!R134)","v":""},{"$f":"IF(ISBLANK('Scholars Nomination Form'!S134),\"\",'Scholars Nomination Form'!S134)","v":""},{"$f":"IF(ISBLANK('Scholars Nomination Form'!T134),\"\",'Scholars Nomination Form'!T134)","v":""},{"$f":"IF(ISBLANK('Scholars Nomination Form'!U134),\"\",'Scholars Nomination Form'!U134)","v":""},{"$f":"IF(ISBLANK('Scholars Nomination Form'!V134),\"\",'Scholars Nomination Form'!V134)","v":""},{"$f":"IF(ISBLANK('Scholars Nomination Form'!W134),\"\",'Scholars Nomination Form'!W134)","v":""},{"$f":"IF(ISBLANK('Scholars Nomination Form'!X134),\"\",'Scholars Nomination Form'!X134)","v":""},{"$f":"IF(ISBLANK('Scholars Nomination Form'!Y134),\"\",'Scholars Nomination Form'!Y134)","v":""},{"$f":"IF(ISBLANK('Scholars Nomination Form'!Z134),\"\",'Scholars Nomination Form'!Z134)","v":""},{"$f":"IF(ISBLANK('Scholars Nomination Form'!AA134),\"\",'Scholars Nomination Form'!AA134)","v":""}]
[{"$f":"IF(ISBLANK('Scholars Nomination Form'!$F135),\"\",'Scholars Nomination Form'!$C$11)","v":""},{"$f":"IF(ISBLANK('Scholars Nomination Form'!$F135),\"\",'Scholars Nomination Form'!$C$12)","v":""},{"$f":"IF(ISBLANK('Scholars Nomination Form'!$F135),\"\",'Scholars Nomination Form'!$C$13)","v":""},{"$f":"IF(ISBLANK('Scholars Nomination Form'!$F135),\"\",'Scholars Nomination Form'!$C$14)","v":""},{"$f":"IF(ISBLANK('Scholars Nomination Form'!$F135),\"\",'Scholars Nomination Form'!$C$15)","v":""},{"$f":"IF(ISBLANK('Scholars Nomination Form'!$F135),\"\",'Scholars Nomination Form'!$C$16)","v":""},{"$f":"IF(ISBLANK('Scholars Nomination Form'!B135),\"\",'Scholars Nomination Form'!B135)","v":""},{"$f":"IF(ISBLANK('Scholars Nomination Form'!D135),\"\",'Scholars Nomination Form'!D135)","v":""},{"$f":"IF(ISBLANK('Scholars Nomination Form'!E135),\"\",'Scholars Nomination Form'!E135)","v":""},{"$f":"IF(ISBLANK('Scholars Nomination Form'!F135),\"\",'Scholars Nomination Form'!F135)","v":""},{"$f":"IF(ISBLANK('Scholars Nomination Form'!G135),\"\",'Scholars Nomination Form'!G135)","v":""},{"$f":"IF(ISBLANK('Scholars Nomination Form'!H135),\"\",'Scholars Nomination Form'!H135)","v":""},{"$f":"IF(ISBLANK('Scholars Nomination Form'!I135),\"\",'Scholars Nomination Form'!I135)","v":""},{"$f":"IF(ISBLANK('Scholars Nomination Form'!J135),\"\",'Scholars Nomination Form'!J135)","v":""},{"$f":"IF(ISBLANK('Scholars Nomination Form'!K135),\"\",'Scholars Nomination Form'!K135)","v":""},{"$f":"IF(ISBLANK('Scholars Nomination Form'!L135),\"\",'Scholars Nomination Form'!L135)","v":""},{"$f":"IF(ISBLANK('Scholars Nomination Form'!M135),\"\",'Scholars Nomination Form'!M135)","v":""},{"$f":"IF(ISBLANK('Scholars Nomination Form'!N135),\"\",'Scholars Nomination Form'!N135)","v":""},{"$f":"IF(ISBLANK('Scholars Nomination Form'!O135),\"\",'Scholars Nomination Form'!O135)","v":""},{"$f":"IF(ISBLANK('Scholars Nomination Form'!P135),\"\",'Scholars Nomination Form'!P135)","v":""},{"$f":"IF(ISBLANK('Scholars Nomination Form'!Q135),\"\",'Scholars Nomination Form'!Q135)","v":""},{"$f":"IF(ISBLANK('Scholars Nomination Form'!R135),\"\",'Scholars Nomination Form'!R135)","v":""},{"$f":"IF(ISBLANK('Scholars Nomination Form'!S135),\"\",'Scholars Nomination Form'!S135)","v":""},{"$f":"IF(ISBLANK('Scholars Nomination Form'!T135),\"\",'Scholars Nomination Form'!T135)","v":""},{"$f":"IF(ISBLANK('Scholars Nomination Form'!U135),\"\",'Scholars Nomination Form'!U135)","v":""},{"$f":"IF(ISBLANK('Scholars Nomination Form'!V135),\"\",'Scholars Nomination Form'!V135)","v":""},{"$f":"IF(ISBLANK('Scholars Nomination Form'!W135),\"\",'Scholars Nomination Form'!W135)","v":""},{"$f":"IF(ISBLANK('Scholars Nomination Form'!X135),\"\",'Scholars Nomination Form'!X135)","v":""},{"$f":"IF(ISBLANK('Scholars Nomination Form'!Y135),\"\",'Scholars Nomination Form'!Y135)","v":""},{"$f":"IF(ISBLANK('Scholars Nomination Form'!Z135),\"\",'Scholars Nomination Form'!Z135)","v":""},{"$f":"IF(ISBLANK('Scholars Nomination Form'!AA135),\"\",'Scholars Nomination Form'!AA135)","v":""}]
[{"$f":"IF(ISBLANK('Scholars Nomination Form'!$F136),\"\",'Scholars Nomination Form'!$C$11)","v":""},{"$f":"IF(ISBLANK('Scholars Nomination Form'!$F136),\"\",'Scholars Nomination Form'!$C$12)","v":""},{"$f":"IF(ISBLANK('Scholars Nomination Form'!$F136),\"\",'Scholars Nomination Form'!$C$13)","v":""},{"$f":"IF(ISBLANK('Scholars Nomination Form'!$F136),\"\",'Scholars Nomination Form'!$C$14)","v":""},{"$f":"IF(ISBLANK('Scholars Nomination Form'!$F136),\"\",'Scholars Nomination Form'!$C$15)","v":""},{"$f":"IF(ISBLANK('Scholars Nomination Form'!$F136),\"\",'Scholars Nomination Form'!$C$16)","v":""},{"$f":"IF(ISBLANK('Scholars Nomination Form'!B136),\"\",'Scholars Nomination Form'!B136)","v":""},{"$f":"IF(ISBLANK('Scholars Nomination Form'!D136),\"\",'Scholars Nomination Form'!D136)","v":""},{"$f":"IF(ISBLANK('Scholars Nomination Form'!E136),\"\",'Scholars Nomination Form'!E136)","v":""},{"$f":"IF(ISBLANK('Scholars Nomination Form'!F136),\"\",'Scholars Nomination Form'!F136)","v":""},{"$f":"IF(ISBLANK('Scholars Nomination Form'!G136),\"\",'Scholars Nomination Form'!G136)","v":""},{"$f":"IF(ISBLANK('Scholars Nomination Form'!H136),\"\",'Scholars Nomination Form'!H136)","v":""},{"$f":"IF(ISBLANK('Scholars Nomination Form'!I136),\"\",'Scholars Nomination Form'!I136)","v":""},{"$f":"IF(ISBLANK('Scholars Nomination Form'!J136),\"\",'Scholars Nomination Form'!J136)","v":""},{"$f":"IF(ISBLANK('Scholars Nomination Form'!K136),\"\",'Scholars Nomination Form'!K136)","v":""},{"$f":"IF(ISBLANK('Scholars Nomination Form'!L136),\"\",'Scholars Nomination Form'!L136)","v":""},{"$f":"IF(ISBLANK('Scholars Nomination Form'!M136),\"\",'Scholars Nomination Form'!M136)","v":""},{"$f":"IF(ISBLANK('Scholars Nomination Form'!N136),\"\",'Scholars Nomination Form'!N136)","v":""},{"$f":"IF(ISBLANK('Scholars Nomination Form'!O136),\"\",'Scholars Nomination Form'!O136)","v":""},{"$f":"IF(ISBLANK('Scholars Nomination Form'!P136),\"\",'Scholars Nomination Form'!P136)","v":""},{"$f":"IF(ISBLANK('Scholars Nomination Form'!Q136),\"\",'Scholars Nomination Form'!Q136)","v":""},{"$f":"IF(ISBLANK('Scholars Nomination Form'!R136),\"\",'Scholars Nomination Form'!R136)","v":""},{"$f":"IF(ISBLANK('Scholars Nomination Form'!S136),\"\",'Scholars Nomination Form'!S136)","v":""},{"$f":"IF(ISBLANK('Scholars Nomination Form'!T136),\"\",'Scholars Nomination Form'!T136)","v":""},{"$f":"IF(ISBLANK('Scholars Nomination Form'!U136),\"\",'Scholars Nomination Form'!U136)","v":""},{"$f":"IF(ISBLANK('Scholars Nomination Form'!V136),\"\",'Scholars Nomination Form'!V136)","v":""},{"$f":"IF(ISBLANK('Scholars Nomination Form'!W136),\"\",'Scholars Nomination Form'!W136)","v":""},{"$f":"IF(ISBLANK('Scholars Nomination Form'!X136),\"\",'Scholars Nomination Form'!X136)","v":""},{"$f":"IF(ISBLANK('Scholars Nomination Form'!Y136),\"\",'Scholars Nomination Form'!Y136)","v":""},{"$f":"IF(ISBLANK('Scholars Nomination Form'!Z136),\"\",'Scholars Nomination Form'!Z136)","v":""},{"$f":"IF(ISBLANK('Scholars Nomination Form'!AA136),\"\",'Scholars Nomination Form'!AA136)","v":""}]
[{"$f":"IF(ISBLANK('Scholars Nomination Form'!$F137),\"\",'Scholars Nomination Form'!$C$11)","v":""},{"$f":"IF(ISBLANK('Scholars Nomination Form'!$F137),\"\",'Scholars Nomination Form'!$C$12)","v":""},{"$f":"IF(ISBLANK('Scholars Nomination Form'!$F137),\"\",'Scholars Nomination Form'!$C$13)","v":""},{"$f":"IF(ISBLANK('Scholars Nomination Form'!$F137),\"\",'Scholars Nomination Form'!$C$14)","v":""},{"$f":"IF(ISBLANK('Scholars Nomination Form'!$F137),\"\",'Scholars Nomination Form'!$C$15)","v":""},{"$f":"IF(ISBLANK('Scholars Nomination Form'!$F137),\"\",'Scholars Nomination Form'!$C$16)","v":""},{"$f":"IF(ISBLANK('Scholars Nomination Form'!B137),\"\",'Scholars Nomination Form'!B137)","v":""},{"$f":"IF(ISBLANK('Scholars Nomination Form'!D137),\"\",'Scholars Nomination Form'!D137)","v":""},{"$f":"IF(ISBLANK('Scholars Nomination Form'!E137),\"\",'Scholars Nomination Form'!E137)","v":""},{"$f":"IF(ISBLANK('Scholars Nomination Form'!F137),\"\",'Scholars Nomination Form'!F137)","v":""},{"$f":"IF(ISBLANK('Scholars Nomination Form'!G137),\"\",'Scholars Nomination Form'!G137)","v":""},{"$f":"IF(ISBLANK('Scholars Nomination Form'!H137),\"\",'Scholars Nomination Form'!H137)","v":""},{"$f":"IF(ISBLANK('Scholars Nomination Form'!I137),\"\",'Scholars Nomination Form'!I137)","v":""},{"$f":"IF(ISBLANK('Scholars Nomination Form'!J137),\"\",'Scholars Nomination Form'!J137)","v":""},{"$f":"IF(ISBLANK('Scholars Nomination Form'!K137),\"\",'Scholars Nomination Form'!K137)","v":""},{"$f":"IF(ISBLANK('Scholars Nomination Form'!L137),\"\",'Scholars Nomination Form'!L137)","v":""},{"$f":"IF(ISBLANK('Scholars Nomination Form'!M137),\"\",'Scholars Nomination Form'!M137)","v":""},{"$f":"IF(ISBLANK('Scholars Nomination Form'!N137),\"\",'Scholars Nomination Form'!N137)","v":""},{"$f":"IF(ISBLANK('Scholars Nomination Form'!O137),\"\",'Scholars Nomination Form'!O137)","v":""},{"$f":"IF(ISBLANK('Scholars Nomination Form'!P137),\"\",'Scholars Nomination Form'!P137)","v":""},{"$f":"IF(ISBLANK('Scholars Nomination Form'!Q137),\"\",'Scholars Nomination Form'!Q137)","v":""},{"$f":"IF(ISBLANK('Scholars Nomination Form'!R137),\"\",'Scholars Nomination Form'!R137)","v":""},{"$f":"IF(ISBLANK('Scholars Nomination Form'!S137),\"\",'Scholars Nomination Form'!S137)","v":""},{"$f":"IF(ISBLANK('Scholars Nomination Form'!T137),\"\",'Scholars Nomination Form'!T137)","v":""},{"$f":"IF(ISBLANK('Scholars Nomination Form'!U137),\"\",'Scholars Nomination Form'!U137)","v":""},{"$f":"IF(ISBLANK('Scholars Nomination Form'!V137),\"\",'Scholars Nomination Form'!V137)","v":""},{"$f":"IF(ISBLANK('Scholars Nomination Form'!W137),\"\",'Scholars Nomination Form'!W137)","v":""},{"$f":"IF(ISBLANK('Scholars Nomination Form'!X137),\"\",'Scholars Nomination Form'!X137)","v":""},{"$f":"IF(ISBLANK('Scholars Nomination Form'!Y137),\"\",'Scholars Nomination Form'!Y137)","v":""},{"$f":"IF(ISBLANK('Scholars Nomination Form'!Z137),\"\",'Scholars Nomination Form'!Z137)","v":""},{"$f":"IF(ISBLANK('Scholars Nomination Form'!AA137),\"\",'Scholars Nomination Form'!AA137)","v":""}]
[{"$f":"IF(ISBLANK('Scholars Nomination Form'!$F138),\"\",'Scholars Nomination Form'!$C$11)","v":""},{"$f":"IF(ISBLANK('Scholars Nomination Form'!$F138),\"\",'Scholars Nomination Form'!$C$12)","v":""},{"$f":"IF(ISBLANK('Scholars Nomination Form'!$F138),\"\",'Scholars Nomination Form'!$C$13)","v":""},{"$f":"IF(ISBLANK('Scholars Nomination Form'!$F138),\"\",'Scholars Nomination Form'!$C$14)","v":""},{"$f":"IF(ISBLANK('Scholars Nomination Form'!$F138),\"\",'Scholars Nomination Form'!$C$15)","v":""},{"$f":"IF(ISBLANK('Scholars Nomination Form'!$F138),\"\",'Scholars Nomination Form'!$C$16)","v":""},{"$f":"IF(ISBLANK('Scholars Nomination Form'!B138),\"\",'Scholars Nomination Form'!B138)","v":""},{"$f":"IF(ISBLANK('Scholars Nomination Form'!D138),\"\",'Scholars Nomination Form'!D138)","v":""},{"$f":"IF(ISBLANK('Scholars Nomination Form'!E138),\"\",'Scholars Nomination Form'!E138)","v":""},{"$f":"IF(ISBLANK('Scholars Nomination Form'!F138),\"\",'Scholars Nomination Form'!F138)","v":""},{"$f":"IF(ISBLANK('Scholars Nomination Form'!G138),\"\",'Scholars Nomination Form'!G138)","v":""},{"$f":"IF(ISBLANK('Scholars Nomination Form'!H138),\"\",'Scholars Nomination Form'!H138)","v":""},{"$f":"IF(ISBLANK('Scholars Nomination Form'!I138),\"\",'Scholars Nomination Form'!I138)","v":""},{"$f":"IF(ISBLANK('Scholars Nomination Form'!J138),\"\",'Scholars Nomination Form'!J138)","v":""},{"$f":"IF(ISBLANK('Scholars Nomination Form'!K138),\"\",'Scholars Nomination Form'!K138)","v":""},{"$f":"IF(ISBLANK('Scholars Nomination Form'!L138),\"\",'Scholars Nomination Form'!L138)","v":""},{"$f":"IF(ISBLANK('Scholars Nomination Form'!M138),\"\",'Scholars Nomination Form'!M138)","v":""},{"$f":"IF(ISBLANK('Scholars Nomination Form'!N138),\"\",'Scholars Nomination Form'!N138)","v":""},{"$f":"IF(ISBLANK('Scholars Nomination Form'!O138),\"\",'Scholars Nomination Form'!O138)","v":""},{"$f":"IF(ISBLANK('Scholars Nomination Form'!P138),\"\",'Scholars Nomination Form'!P138)","v":""},{"$f":"IF(ISBLANK('Scholars Nomination Form'!Q138),\"\",'Scholars Nomination Form'!Q138)","v":""},{"$f":"IF(ISBLANK('Scholars Nomination Form'!R138),\"\",'Scholars Nomination Form'!R138)","v":""},{"$f":"IF(ISBLANK('Scholars Nomination Form'!S138),\"\",'Scholars Nomination Form'!S138)","v":""},{"$f":"IF(ISBLANK('Scholars Nomination Form'!T138),\"\",'Scholars Nomination Form'!T138)","v":""},{"$f":"IF(ISBLANK('Scholars Nomination Form'!U138),\"\",'Scholars Nomination Form'!U138)","v":""},{"$f":"IF(ISBLANK('Scholars Nomination Form'!V138),\"\",'Scholars Nomination Form'!V138)","v":""},{"$f":"IF(ISBLANK('Scholars Nomination Form'!W138),\"\",'Scholars Nomination Form'!W138)","v":""},{"$f":"IF(ISBLANK('Scholars Nomination Form'!X138),\"\",'Scholars Nomination Form'!X138)","v":""},{"$f":"IF(ISBLANK('Scholars Nomination Form'!Y138),\"\",'Scholars Nomination Form'!Y138)","v":""},{"$f":"IF(ISBLANK('Scholars Nomination Form'!Z138),\"\",'Scholars Nomination Form'!Z138)","v":""},{"$f":"IF(ISBLANK('Scholars Nomination Form'!AA138),\"\",'Scholars Nomination Form'!AA138)","v":""}]
[{"$f":"IF(ISBLANK('Scholars Nomination Form'!$F139),\"\",'Scholars Nomination Form'!$C$11)","v":""},{"$f":"IF(ISBLANK('Scholars Nomination Form'!$F139),\"\",'Scholars Nomination Form'!$C$12)","v":""},{"$f":"IF(ISBLANK('Scholars Nomination Form'!$F139),\"\",'Scholars Nomination Form'!$C$13)","v":""},{"$f":"IF(ISBLANK('Scholars Nomination Form'!$F139),\"\",'Scholars Nomination Form'!$C$14)","v":""},{"$f":"IF(ISBLANK('Scholars Nomination Form'!$F139),\"\",'Scholars Nomination Form'!$C$15)","v":""},{"$f":"IF(ISBLANK('Scholars Nomination Form'!$F139),\"\",'Scholars Nomination Form'!$C$16)","v":""},{"$f":"IF(ISBLANK('Scholars Nomination Form'!B139),\"\",'Scholars Nomination Form'!B139)","v":""},{"$f":"IF(ISBLANK('Scholars Nomination Form'!D139),\"\",'Scholars Nomination Form'!D139)","v":""},{"$f":"IF(ISBLANK('Scholars Nomination Form'!E139),\"\",'Scholars Nomination Form'!E139)","v":""},{"$f":"IF(ISBLANK('Scholars Nomination Form'!F139),\"\",'Scholars Nomination Form'!F139)","v":""},{"$f":"IF(ISBLANK('Scholars Nomination Form'!G139),\"\",'Scholars Nomination Form'!G139)","v":""},{"$f":"IF(ISBLANK('Scholars Nomination Form'!H139),\"\",'Scholars Nomination Form'!H139)","v":""},{"$f":"IF(ISBLANK('Scholars Nomination Form'!I139),\"\",'Scholars Nomination Form'!I139)","v":""},{"$f":"IF(ISBLANK('Scholars Nomination Form'!J139),\"\",'Scholars Nomination Form'!J139)","v":""},{"$f":"IF(ISBLANK('Scholars Nomination Form'!K139),\"\",'Scholars Nomination Form'!K139)","v":""},{"$f":"IF(ISBLANK('Scholars Nomination Form'!L139),\"\",'Scholars Nomination Form'!L139)","v":""},{"$f":"IF(ISBLANK('Scholars Nomination Form'!M139),\"\",'Scholars Nomination Form'!M139)","v":""},{"$f":"IF(ISBLANK('Scholars Nomination Form'!N139),\"\",'Scholars Nomination Form'!N139)","v":""},{"$f":"IF(ISBLANK('Scholars Nomination Form'!O139),\"\",'Scholars Nomination Form'!O139)","v":""},{"$f":"IF(ISBLANK('Scholars Nomination Form'!P139),\"\",'Scholars Nomination Form'!P139)","v":""},{"$f":"IF(ISBLANK('Scholars Nomination Form'!Q139),\"\",'Scholars Nomination Form'!Q139)","v":""},{"$f":"IF(ISBLANK('Scholars Nomination Form'!R139),\"\",'Scholars Nomination Form'!R139)","v":""},{"$f":"IF(ISBLANK('Scholars Nomination Form'!S139),\"\",'Scholars Nomination Form'!S139)","v":""},{"$f":"IF(ISBLANK('Scholars Nomination Form'!T139),\"\",'Scholars Nomination Form'!T139)","v":""},{"$f":"IF(ISBLANK('Scholars Nomination Form'!U139),\"\",'Scholars Nomination Form'!U139)","v":""},{"$f":"IF(ISBLANK('Scholars Nomination Form'!V139),\"\",'Scholars Nomination Form'!V139)","v":""},{"$f":"IF(ISBLANK('Scholars Nomination Form'!W139),\"\",'Scholars Nomination Form'!W139)","v":""},{"$f":"IF(ISBLANK('Scholars Nomination Form'!X139),\"\",'Scholars Nomination Form'!X139)","v":""},{"$f":"IF(ISBLANK('Scholars Nomination Form'!Y139),\"\",'Scholars Nomination Form'!Y139)","v":""},{"$f":"IF(ISBLANK('Scholars Nomination Form'!Z139),\"\",'Scholars Nomination Form'!Z139)","v":""},{"$f":"IF(ISBLANK('Scholars Nomination Form'!AA139),\"\",'Scholars Nomination Form'!AA139)","v":""}]
[{"$f":"IF(ISBLANK('Scholars Nomination Form'!$F140),\"\",'Scholars Nomination Form'!$C$11)","v":""},{"$f":"IF(ISBLANK('Scholars Nomination Form'!$F140),\"\",'Scholars Nomination Form'!$C$12)","v":""},{"$f":"IF(ISBLANK('Scholars Nomination Form'!$F140),\"\",'Scholars Nomination Form'!$C$13)","v":""},{"$f":"IF(ISBLANK('Scholars Nomination Form'!$F140),\"\",'Scholars Nomination Form'!$C$14)","v":""},{"$f":"IF(ISBLANK('Scholars Nomination Form'!$F140),\"\",'Scholars Nomination Form'!$C$15)","v":""},{"$f":"IF(ISBLANK('Scholars Nomination Form'!$F140),\"\",'Scholars Nomination Form'!$C$16)","v":""},{"$f":"IF(ISBLANK('Scholars Nomination Form'!B140),\"\",'Scholars Nomination Form'!B140)","v":""},{"$f":"IF(ISBLANK('Scholars Nomination Form'!D140),\"\",'Scholars Nomination Form'!D140)","v":""},{"$f":"IF(ISBLANK('Scholars Nomination Form'!E140),\"\",'Scholars Nomination Form'!E140)","v":""},{"$f":"IF(ISBLANK('Scholars Nomination Form'!F140),\"\",'Scholars Nomination Form'!F140)","v":""},{"$f":"IF(ISBLANK('Scholars Nomination Form'!G140),\"\",'Scholars Nomination Form'!G140)","v":""},{"$f":"IF(ISBLANK('Scholars Nomination Form'!H140),\"\",'Scholars Nomination Form'!H140)","v":""},{"$f":"IF(ISBLANK('Scholars Nomination Form'!I140),\"\",'Scholars Nomination Form'!I140)","v":""},{"$f":"IF(ISBLANK('Scholars Nomination Form'!J140),\"\",'Scholars Nomination Form'!J140)","v":""},{"$f":"IF(ISBLANK('Scholars Nomination Form'!K140),\"\",'Scholars Nomination Form'!K140)","v":""},{"$f":"IF(ISBLANK('Scholars Nomination Form'!L140),\"\",'Scholars Nomination Form'!L140)","v":""},{"$f":"IF(ISBLANK('Scholars Nomination Form'!M140),\"\",'Scholars Nomination Form'!M140)","v":""},{"$f":"IF(ISBLANK('Scholars Nomination Form'!N140),\"\",'Scholars Nomination Form'!N140)","v":""},{"$f":"IF(ISBLANK('Scholars Nomination Form'!O140),\"\",'Scholars Nomination Form'!O140)","v":""},{"$f":"IF(ISBLANK('Scholars Nomination Form'!P140),\"\",'Scholars Nomination Form'!P140)","v":""},{"$f":"IF(ISBLANK('Scholars Nomination Form'!Q140),\"\",'Scholars Nomination Form'!Q140)","v":""},{"$f":"IF(ISBLANK('Scholars Nomination Form'!R140),\"\",'Scholars Nomination Form'!R140)","v":""},{"$f":"IF(ISBLANK('Scholars Nomination Form'!S140),\"\",'Scholars Nomination Form'!S140)","v":""},{"$f":"IF(ISBLANK('Scholars Nomination Form'!T140),\"\",'Scholars Nomination Form'!T140)","v":""},{"$f":"IF(ISBLANK('Scholars Nomination Form'!U140),\"\",'Scholars Nomination Form'!U140)","v":""},{"$f":"IF(ISBLANK('Scholars Nomination Form'!V140),\"\",'Scholars Nomination Form'!V140)","v":""},{"$f":"IF(ISBLANK('Scholars Nomination Form'!W140),\"\",'Scholars Nomination Form'!W140)","v":""},{"$f":"IF(ISBLANK('Scholars Nomination Form'!X140),\"\",'Scholars Nomination Form'!X140)","v":""},{"$f":"IF(ISBLANK('Scholars Nomination Form'!Y140),\"\",'Scholars Nomination Form'!Y140)","v":""},{"$f":"IF(ISBLANK('Scholars Nomination Form'!Z140),\"\",'Scholars Nomination Form'!Z140)","v":""},{"$f":"IF(ISBLANK('Scholars Nomination Form'!AA140),\"\",'Scholars Nomination Form'!AA140)","v":""}]
[{"$f":"IF(ISBLANK('Scholars Nomination Form'!$F141),\"\",'Scholars Nomination Form'!$C$11)","v":""},{"$f":"IF(ISBLANK('Scholars Nomination Form'!$F141),\"\",'Scholars Nomination Form'!$C$12)","v":""},{"$f":"IF(ISBLANK('Scholars Nomination Form'!$F141),\"\",'Scholars Nomination Form'!$C$13)","v":""},{"$f":"IF(ISBLANK('Scholars Nomination Form'!$F141),\"\",'Scholars Nomination Form'!$C$14)","v":""},{"$f":"IF(ISBLANK('Scholars Nomination Form'!$F141),\"\",'Scholars Nomination Form'!$C$15)","v":""},{"$f":"IF(ISBLANK('Scholars Nomination Form'!$F141),\"\",'Scholars Nomination Form'!$C$16)","v":""},{"$f":"IF(ISBLANK('Scholars Nomination Form'!B141),\"\",'Scholars Nomination Form'!B141)","v":""},{"$f":"IF(ISBLANK('Scholars Nomination Form'!D141),\"\",'Scholars Nomination Form'!D141)","v":""},{"$f":"IF(ISBLANK('Scholars Nomination Form'!E141),\"\",'Scholars Nomination Form'!E141)","v":""},{"$f":"IF(ISBLANK('Scholars Nomination Form'!F141),\"\",'Scholars Nomination Form'!F141)","v":""},{"$f":"IF(ISBLANK('Scholars Nomination Form'!G141),\"\",'Scholars Nomination Form'!G141)","v":""},{"$f":"IF(ISBLANK('Scholars Nomination Form'!H141),\"\",'Scholars Nomination Form'!H141)","v":""},{"$f":"IF(ISBLANK('Scholars Nomination Form'!I141),\"\",'Scholars Nomination Form'!I141)","v":""},{"$f":"IF(ISBLANK('Scholars Nomination Form'!J141),\"\",'Scholars Nomination Form'!J141)","v":""},{"$f":"IF(ISBLANK('Scholars Nomination Form'!K141),\"\",'Scholars Nomination Form'!K141)","v":""},{"$f":"IF(ISBLANK('Scholars Nomination Form'!L141),\"\",'Scholars Nomination Form'!L141)","v":""},{"$f":"IF(ISBLANK('Scholars Nomination Form'!M141),\"\",'Scholars Nomination Form'!M141)","v":""},{"$f":"IF(ISBLANK('Scholars Nomination Form'!N141),\"\",'Scholars Nomination Form'!N141)","v":""},{"$f":"IF(ISBLANK('Scholars Nomination Form'!O141),\"\",'Scholars Nomination Form'!O141)","v":""},{"$f":"IF(ISBLANK('Scholars Nomination Form'!P141),\"\",'Scholars Nomination Form'!P141)","v":""},{"$f":"IF(ISBLANK('Scholars Nomination Form'!Q141),\"\",'Scholars Nomination Form'!Q141)","v":""},{"$f":"IF(ISBLANK('Scholars Nomination Form'!R141),\"\",'Scholars Nomination Form'!R141)","v":""},{"$f":"IF(ISBLANK('Scholars Nomination Form'!S141),\"\",'Scholars Nomination Form'!S141)","v":""},{"$f":"IF(ISBLANK('Scholars Nomination Form'!T141),\"\",'Scholars Nomination Form'!T141)","v":""},{"$f":"IF(ISBLANK('Scholars Nomination Form'!U141),\"\",'Scholars Nomination Form'!U141)","v":""},{"$f":"IF(ISBLANK('Scholars Nomination Form'!V141),\"\",'Scholars Nomination Form'!V141)","v":""},{"$f":"IF(ISBLANK('Scholars Nomination Form'!W141),\"\",'Scholars Nomination Form'!W141)","v":""},{"$f":"IF(ISBLANK('Scholars Nomination Form'!X141),\"\",'Scholars Nomination Form'!X141)","v":""},{"$f":"IF(ISBLANK('Scholars Nomination Form'!Y141),\"\",'Scholars Nomination Form'!Y141)","v":""},{"$f":"IF(ISBLANK('Scholars Nomination Form'!Z141),\"\",'Scholars Nomination Form'!Z141)","v":""},{"$f":"IF(ISBLANK('Scholars Nomination Form'!AA141),\"\",'Scholars Nomination Form'!AA141)","v":""}]
[{"$f":"IF(ISBLANK('Scholars Nomination Form'!$F142),\"\",'Scholars Nomination Form'!$C$11)","v":""},{"$f":"IF(ISBLANK('Scholars Nomination Form'!$F142),\"\",'Scholars Nomination Form'!$C$12)","v":""},{"$f":"IF(ISBLANK('Scholars Nomination Form'!$F142),\"\",'Scholars Nomination Form'!$C$13)","v":""},{"$f":"IF(ISBLANK('Scholars Nomination Form'!$F142),\"\",'Scholars Nomination Form'!$C$14)","v":""},{"$f":"IF(ISBLANK('Scholars Nomination Form'!$F142),\"\",'Scholars Nomination Form'!$C$15)","v":""},{"$f":"IF(ISBLANK('Scholars Nomination Form'!$F142),\"\",'Scholars Nomination Form'!$C$16)","v":""},{"$f":"IF(ISBLANK('Scholars Nomination Form'!B142),\"\",'Scholars Nomination Form'!B142)","v":""},{"$f":"IF(ISBLANK('Scholars Nomination Form'!D142),\"\",'Scholars Nomination Form'!D142)","v":""},{"$f":"IF(ISBLANK('Scholars Nomination Form'!E142),\"\",'Scholars Nomination Form'!E142)","v":""},{"$f":"IF(ISBLANK('Scholars Nomination Form'!F142),\"\",'Scholars Nomination Form'!F142)","v":""},{"$f":"IF(ISBLANK('Scholars Nomination Form'!G142),\"\",'Scholars Nomination Form'!G142)","v":""},{"$f":"IF(ISBLANK('Scholars Nomination Form'!H142),\"\",'Scholars Nomination Form'!H142)","v":""},{"$f":"IF(ISBLANK('Scholars Nomination Form'!I142),\"\",'Scholars Nomination Form'!I142)","v":""},{"$f":"IF(ISBLANK('Scholars Nomination Form'!J142),\"\",'Scholars Nomination Form'!J142)","v":""},{"$f":"IF(ISBLANK('Scholars Nomination Form'!K142),\"\",'Scholars Nomination Form'!K142)","v":""},{"$f":"IF(ISBLANK('Scholars Nomination Form'!L142),\"\",'Scholars Nomination Form'!L142)","v":""},{"$f":"IF(ISBLANK('Scholars Nomination Form'!M142),\"\",'Scholars Nomination Form'!M142)","v":""},{"$f":"IF(ISBLANK('Scholars Nomination Form'!N142),\"\",'Scholars Nomination Form'!N142)","v":""},{"$f":"IF(ISBLANK('Scholars Nomination Form'!O142),\"\",'Scholars Nomination Form'!O142)","v":""},{"$f":"IF(ISBLANK('Scholars Nomination Form'!P142),\"\",'Scholars Nomination Form'!P142)","v":""},{"$f":"IF(ISBLANK('Scholars Nomination Form'!Q142),\"\",'Scholars Nomination Form'!Q142)","v":""},{"$f":"IF(ISBLANK('Scholars Nomination Form'!R142),\"\",'Scholars Nomination Form'!R142)","v":""},{"$f":"IF(ISBLANK('Scholars Nomination Form'!S142),\"\",'Scholars Nomination Form'!S142)","v":""},{"$f":"IF(ISBLANK('Scholars Nomination Form'!T142),\"\",'Scholars Nomination Form'!T142)","v":""},{"$f":"IF(ISBLANK('Scholars Nomination Form'!U142),\"\",'Scholars Nomination Form'!U142)","v":""},{"$f":"IF(ISBLANK('Scholars Nomination Form'!V142),\"\",'Scholars Nomination Form'!V142)","v":""},{"$f":"IF(ISBLANK('Scholars Nomination Form'!W142),\"\",'Scholars Nomination Form'!W142)","v":""},{"$f":"IF(ISBLANK('Scholars Nomination Form'!X142),\"\",'Scholars Nomination Form'!X142)","v":""},{"$f":"IF(ISBLANK('Scholars Nomination Form'!Y142),\"\",'Scholars Nomination Form'!Y142)","v":""},{"$f":"IF(ISBLANK('Scholars Nomination Form'!Z142),\"\",'Scholars Nomination Form'!Z142)","v":""},{"$f":"IF(ISBLANK('Scholars Nomination Form'!AA142),\"\",'Scholars Nomination Form'!AA142)","v":""}]
[{"$f":"IF(ISBLANK('Scholars Nomination Form'!$F143),\"\",'Scholars Nomination Form'!$C$11)","v":""},{"$f":"IF(ISBLANK('Scholars Nomination Form'!$F143),\"\",'Scholars Nomination Form'!$C$12)","v":""},{"$f":"IF(ISBLANK('Scholars Nomination Form'!$F143),\"\",'Scholars Nomination Form'!$C$13)","v":""},{"$f":"IF(ISBLANK('Scholars Nomination Form'!$F143),\"\",'Scholars Nomination Form'!$C$14)","v":""},{"$f":"IF(ISBLANK('Scholars Nomination Form'!$F143),\"\",'Scholars Nomination Form'!$C$15)","v":""},{"$f":"IF(ISBLANK('Scholars Nomination Form'!$F143),\"\",'Scholars Nomination Form'!$C$16)","v":""},{"$f":"IF(ISBLANK('Scholars Nomination Form'!B143),\"\",'Scholars Nomination Form'!B143)","v":""},{"$f":"IF(ISBLANK('Scholars Nomination Form'!D143),\"\",'Scholars Nomination Form'!D143)","v":""},{"$f":"IF(ISBLANK('Scholars Nomination Form'!E143),\"\",'Scholars Nomination Form'!E143)","v":""},{"$f":"IF(ISBLANK('Scholars Nomination Form'!F143),\"\",'Scholars Nomination Form'!F143)","v":""},{"$f":"IF(ISBLANK('Scholars Nomination Form'!G143),\"\",'Scholars Nomination Form'!G143)","v":""},{"$f":"IF(ISBLANK('Scholars Nomination Form'!H143),\"\",'Scholars Nomination Form'!H143)","v":""},{"$f":"IF(ISBLANK('Scholars Nomination Form'!I143),\"\",'Scholars Nomination Form'!I143)","v":""},{"$f":"IF(ISBLANK('Scholars Nomination Form'!J143),\"\",'Scholars Nomination Form'!J143)","v":""},{"$f":"IF(ISBLANK('Scholars Nomination Form'!K143),\"\",'Scholars Nomination Form'!K143)","v":""},{"$f":"IF(ISBLANK('Scholars Nomination Form'!L143),\"\",'Scholars Nomination Form'!L143)","v":""},{"$f":"IF(ISBLANK('Scholars Nomination Form'!M143),\"\",'Scholars Nomination Form'!M143)","v":""},{"$f":"IF(ISBLANK('Scholars Nomination Form'!N143),\"\",'Scholars Nomination Form'!N143)","v":""},{"$f":"IF(ISBLANK('Scholars Nomination Form'!O143),\"\",'Scholars Nomination Form'!O143)","v":""},{"$f":"IF(ISBLANK('Scholars Nomination Form'!P143),\"\",'Scholars Nomination Form'!P143)","v":""},{"$f":"IF(ISBLANK('Scholars Nomination Form'!Q143),\"\",'Scholars Nomination Form'!Q143)","v":""},{"$f":"IF(ISBLANK('Scholars Nomination Form'!R143),\"\",'Scholars Nomination Form'!R143)","v":""},{"$f":"IF(ISBLANK('Scholars Nomination Form'!S143),\"\",'Scholars Nomination Form'!S143)","v":""},{"$f":"IF(ISBLANK('Scholars Nomination Form'!T143),\"\",'Scholars Nomination Form'!T143)","v":""},{"$f":"IF(ISBLANK('Scholars Nomination Form'!U143),\"\",'Scholars Nomination Form'!U143)","v":""},{"$f":"IF(ISBLANK('Scholars Nomination Form'!V143),\"\",'Scholars Nomination Form'!V143)","v":""},{"$f":"IF(ISBLANK('Scholars Nomination Form'!W143),\"\",'Scholars Nomination Form'!W143)","v":""},{"$f":"IF(ISBLANK('Scholars Nomination Form'!X143),\"\",'Scholars Nomination Form'!X143)","v":""},{"$f":"IF(ISBLANK('Scholars Nomination Form'!Y143),\"\",'Scholars Nomination Form'!Y143)","v":""},{"$f":"IF(ISBLANK('Scholars Nomination Form'!Z143),\"\",'Scholars Nomination Form'!Z143)","v":""},{"$f":"IF(ISBLANK('Scholars Nomination Form'!AA143),\"\",'Scholars Nomination Form'!AA143)","v":""}]
[{"$f":"IF(ISBLANK('Scholars Nomination Form'!$F144),\"\",'Scholars Nomination Form'!$C$11)","v":""},{"$f":"IF(ISBLANK('Scholars Nomination Form'!$F144),\"\",'Scholars Nomination Form'!$C$12)","v":""},{"$f":"IF(ISBLANK('Scholars Nomination Form'!$F144),\"\",'Scholars Nomination Form'!$C$13)","v":""},{"$f":"IF(ISBLANK('Scholars Nomination Form'!$F144),\"\",'Scholars Nomination Form'!$C$14)","v":""},{"$f":"IF(ISBLANK('Scholars Nomination Form'!$F144),\"\",'Scholars Nomination Form'!$C$15)","v":""},{"$f":"IF(ISBLANK('Scholars Nomination Form'!$F144),\"\",'Scholars Nomination Form'!$C$16)","v":""},{"$f":"IF(ISBLANK('Scholars Nomination Form'!B144),\"\",'Scholars Nomination Form'!B144)","v":""},{"$f":"IF(ISBLANK('Scholars Nomination Form'!D144),\"\",'Scholars Nomination Form'!D144)","v":""},{"$f":"IF(ISBLANK('Scholars Nomination Form'!E144),\"\",'Scholars Nomination Form'!E144)","v":""},{"$f":"IF(ISBLANK('Scholars Nomination Form'!F144),\"\",'Scholars Nomination Form'!F144)","v":""},{"$f":"IF(ISBLANK('Scholars Nomination Form'!G144),\"\",'Scholars Nomination Form'!G144)","v":""},{"$f":"IF(ISBLANK('Scholars Nomination Form'!H144),\"\",'Scholars Nomination Form'!H144)","v":""},{"$f":"IF(ISBLANK('Scholars Nomination Form'!I144),\"\",'Scholars Nomination Form'!I144)","v":""},{"$f":"IF(ISBLANK('Scholars Nomination Form'!J144),\"\",'Scholars Nomination Form'!J144)","v":""},{"$f":"IF(ISBLANK('Scholars Nomination Form'!K144),\"\",'Scholars Nomination Form'!K144)","v":""},{"$f":"IF(ISBLANK('Scholars Nomination Form'!L144),\"\",'Scholars Nomination Form'!L144)","v":""},{"$f":"IF(ISBLANK('Scholars Nomination Form'!M144),\"\",'Scholars Nomination Form'!M144)","v":""},{"$f":"IF(ISBLANK('Scholars Nomination Form'!N144),\"\",'Scholars Nomination Form'!N144)","v":""},{"$f":"IF(ISBLANK('Scholars Nomination Form'!O144),\"\",'Scholars Nomination Form'!O144)","v":""},{"$f":"IF(ISBLANK('Scholars Nomination Form'!P144),\"\",'Scholars Nomination Form'!P144)","v":""},{"$f":"IF(ISBLANK('Scholars Nomination Form'!Q144),\"\",'Scholars Nomination Form'!Q144)","v":""},{"$f":"IF(ISBLANK('Scholars Nomination Form'!R144),\"\",'Scholars Nomination Form'!R144)","v":""},{"$f":"IF(ISBLANK('Scholars Nomination Form'!S144),\"\",'Scholars Nomination Form'!S144)","v":""},{"$f":"IF(ISBLANK('Scholars Nomination Form'!T144),\"\",'Scholars Nomination Form'!T144)","v":""},{"$f":"IF(ISBLANK('Scholars Nomination Form'!U144),\"\",'Scholars Nomination Form'!U144)","v":""},{"$f":"IF(ISBLANK('Scholars Nomination Form'!V144),\"\",'Scholars Nomination Form'!V144)","v":""},{"$f":"IF(ISBLANK('Scholars Nomination Form'!W144),\"\",'Scholars Nomination Form'!W144)","v":""},{"$f":"IF(ISBLANK('Scholars Nomination Form'!X144),\"\",'Scholars Nomination Form'!X144)","v":""},{"$f":"IF(ISBLANK('Scholars Nomination Form'!Y144),\"\",'Scholars Nomination Form'!Y144)","v":""},{"$f":"IF(ISBLANK('Scholars Nomination Form'!Z144),\"\",'Scholars Nomination Form'!Z144)","v":""},{"$f":"IF(ISBLANK('Scholars Nomination Form'!AA144),\"\",'Scholars Nomination Form'!AA144)","v":""}]
[{"$f":"IF(ISBLANK('Scholars Nomination Form'!$F145),\"\",'Scholars Nomination Form'!$C$11)","v":""},{"$f":"IF(ISBLANK('Scholars Nomination Form'!$F145),\"\",'Scholars Nomination Form'!$C$12)","v":""},{"$f":"IF(ISBLANK('Scholars Nomination Form'!$F145),\"\",'Scholars Nomination Form'!$C$13)","v":""},{"$f":"IF(ISBLANK('Scholars Nomination Form'!$F145),\"\",'Scholars Nomination Form'!$C$14)","v":""},{"$f":"IF(ISBLANK('Scholars Nomination Form'!$F145),\"\",'Scholars Nomination Form'!$C$15)","v":""},{"$f":"IF(ISBLANK('Scholars Nomination Form'!$F145),\"\",'Scholars Nomination Form'!$C$16)","v":""},{"$f":"IF(ISBLANK('Scholars Nomination Form'!B145),\"\",'Scholars Nomination Form'!B145)","v":""},{"$f":"IF(ISBLANK('Scholars Nomination Form'!D145),\"\",'Scholars Nomination Form'!D145)","v":""},{"$f":"IF(ISBLANK('Scholars Nomination Form'!E145),\"\",'Scholars Nomination Form'!E145)","v":""},{"$f":"IF(ISBLANK('Scholars Nomination Form'!F145),\"\",'Scholars Nomination Form'!F145)","v":""},{"$f":"IF(ISBLANK('Scholars Nomination Form'!G145),\"\",'Scholars Nomination Form'!G145)","v":""},{"$f":"IF(ISBLANK('Scholars Nomination Form'!H145),\"\",'Scholars Nomination Form'!H145)","v":""},{"$f":"IF(ISBLANK('Scholars Nomination Form'!I145),\"\",'Scholars Nomination Form'!I145)","v":""},{"$f":"IF(ISBLANK('Scholars Nomination Form'!J145),\"\",'Scholars Nomination Form'!J145)","v":""},{"$f":"IF(ISBLANK('Scholars Nomination Form'!K145),\"\",'Scholars Nomination Form'!K145)","v":""},{"$f":"IF(ISBLANK('Scholars Nomination Form'!L145),\"\",'Scholars Nomination Form'!L145)","v":""},{"$f":"IF(ISBLANK('Scholars Nomination Form'!M145),\"\",'Scholars Nomination Form'!M145)","v":""},{"$f":"IF(ISBLANK('Scholars Nomination Form'!N145),\"\",'Scholars Nomination Form'!N145)","v":""},{"$f":"IF(ISBLANK('Scholars Nomination Form'!O145),\"\",'Scholars Nomination Form'!O145)","v":""},{"$f":"IF(ISBLANK('Scholars Nomination Form'!P145),\"\",'Scholars Nomination Form'!P145)","v":""},{"$f":"IF(ISBLANK('Scholars Nomination Form'!Q145),\"\",'Scholars Nomination Form'!Q145)","v":""},{"$f":"IF(ISBLANK('Scholars Nomination Form'!R145),\"\",'Scholars Nomination Form'!R145)","v":""},{"$f":"IF(ISBLANK('Scholars Nomination Form'!S145),\"\",'Scholars Nomination Form'!S145)","v":""},{"$f":"IF(ISBLANK('Scholars Nomination Form'!T145),\"\",'Scholars Nomination Form'!T145)","v":""},{"$f":"IF(ISBLANK('Scholars Nomination Form'!U145),\"\",'Scholars Nomination Form'!U145)","v":""},{"$f":"IF(ISBLANK('Scholars Nomination Form'!V145),\"\",'Scholars Nomination Form'!V145)","v":""},{"$f":"IF(ISBLANK('Scholars Nomination Form'!W145),\"\",'Scholars Nomination Form'!W145)","v":""},{"$f":"IF(ISBLANK('Scholars Nomination Form'!X145),\"\",'Scholars Nomination Form'!X145)","v":""},{"$f":"IF(ISBLANK('Scholars Nomination Form'!Y145),\"\",'Scholars Nomination Form'!Y145)","v":""},{"$f":"IF(ISBLANK('Scholars Nomination Form'!Z145),\"\",'Scholars Nomination Form'!Z145)","v":""},{"$f":"IF(ISBLANK('Scholars Nomination Form'!AA145),\"\",'Scholars Nomination Form'!AA145)","v":""}]
[{"$f":"IF(ISBLANK('Scholars Nomination Form'!$F146),\"\",'Scholars Nomination Form'!$C$11)","v":""},{"$f":"IF(ISBLANK('Scholars Nomination Form'!$F146),\"\",'Scholars Nomination Form'!$C$12)","v":""},{"$f":"IF(ISBLANK('Scholars Nomination Form'!$F146),\"\",'Scholars Nomination Form'!$C$13)","v":""},{"$f":"IF(ISBLANK('Scholars Nomination Form'!$F146),\"\",'Scholars Nomination Form'!$C$14)","v":""},{"$f":"IF(ISBLANK('Scholars Nomination Form'!$F146),\"\",'Scholars Nomination Form'!$C$15)","v":""},{"$f":"IF(ISBLANK('Scholars Nomination Form'!$F146),\"\",'Scholars Nomination Form'!$C$16)","v":""},{"$f":"IF(ISBLANK('Scholars Nomination Form'!B146),\"\",'Scholars Nomination Form'!B146)","v":""},{"$f":"IF(ISBLANK('Scholars Nomination Form'!D146),\"\",'Scholars Nomination Form'!D146)","v":""},{"$f":"IF(ISBLANK('Scholars Nomination Form'!E146),\"\",'Scholars Nomination Form'!E146)","v":""},{"$f":"IF(ISBLANK('Scholars Nomination Form'!F146),\"\",'Scholars Nomination Form'!F146)","v":""},{"$f":"IF(ISBLANK('Scholars Nomination Form'!G146),\"\",'Scholars Nomination Form'!G146)","v":""},{"$f":"IF(ISBLANK('Scholars Nomination Form'!H146),\"\",'Scholars Nomination Form'!H146)","v":""},{"$f":"IF(ISBLANK('Scholars Nomination Form'!I146),\"\",'Scholars Nomination Form'!I146)","v":""},{"$f":"IF(ISBLANK('Scholars Nomination Form'!J146),\"\",'Scholars Nomination Form'!J146)","v":""},{"$f":"IF(ISBLANK('Scholars Nomination Form'!K146),\"\",'Scholars Nomination Form'!K146)","v":""},{"$f":"IF(ISBLANK('Scholars Nomination Form'!L146),\"\",'Scholars Nomination Form'!L146)","v":""},{"$f":"IF(ISBLANK('Scholars Nomination Form'!M146),\"\",'Scholars Nomination Form'!M146)","v":""},{"$f":"IF(ISBLANK('Scholars Nomination Form'!N146),\"\",'Scholars Nomination Form'!N146)","v":""},{"$f":"IF(ISBLANK('Scholars Nomination Form'!O146),\"\",'Scholars Nomination Form'!O146)","v":""},{"$f":"IF(ISBLANK('Scholars Nomination Form'!P146),\"\",'Scholars Nomination Form'!P146)","v":""},{"$f":"IF(ISBLANK('Scholars Nomination Form'!Q146),\"\",'Scholars Nomination Form'!Q146)","v":""},{"$f":"IF(ISBLANK('Scholars Nomination Form'!R146),\"\",'Scholars Nomination Form'!R146)","v":""},{"$f":"IF(ISBLANK('Scholars Nomination Form'!S146),\"\",'Scholars Nomination Form'!S146)","v":""},{"$f":"IF(ISBLANK('Scholars Nomination Form'!T146),\"\",'Scholars Nomination Form'!T146)","v":""},{"$f":"IF(ISBLANK('Scholars Nomination Form'!U146),\"\",'Scholars Nomination Form'!U146)","v":""},{"$f":"IF(ISBLANK('Scholars Nomination Form'!V146),\"\",'Scholars Nomination Form'!V146)","v":""},{"$f":"IF(ISBLANK('Scholars Nomination Form'!W146),\"\",'Scholars Nomination Form'!W146)","v":""},{"$f":"IF(ISBLANK('Scholars Nomination Form'!X146),\"\",'Scholars Nomination Form'!X146)","v":""},{"$f":"IF(ISBLANK('Scholars Nomination Form'!Y146),\"\",'Scholars Nomination Form'!Y146)","v":""},{"$f":"IF(ISBLANK('Scholars Nomination Form'!Z146),\"\",'Scholars Nomination Form'!Z146)","v":""},{"$f":"IF(ISBLANK('Scholars Nomination Form'!AA146),\"\",'Scholars Nomination Form'!AA146)","v":""}]
[{"$f":"IF(ISBLANK('Scholars Nomination Form'!$F147),\"\",'Scholars Nomination Form'!$C$11)","v":""},{"$f":"IF(ISBLANK('Scholars Nomination Form'!$F147),\"\",'Scholars Nomination Form'!$C$12)","v":""},{"$f":"IF(ISBLANK('Scholars Nomination Form'!$F147),\"\",'Scholars Nomination Form'!$C$13)","v":""},{"$f":"IF(ISBLANK('Scholars Nomination Form'!$F147),\"\",'Scholars Nomination Form'!$C$14)","v":""},{"$f":"IF(ISBLANK('Scholars Nomination Form'!$F147),\"\",'Scholars Nomination Form'!$C$15)","v":""},{"$f":"IF(ISBLANK('Scholars Nomination Form'!$F147),\"\",'Scholars Nomination Form'!$C$16)","v":""},{"$f":"IF(ISBLANK('Scholars Nomination Form'!B147),\"\",'Scholars Nomination Form'!B147)","v":""},{"$f":"IF(ISBLANK('Scholars Nomination Form'!D147),\"\",'Scholars Nomination Form'!D147)","v":""},{"$f":"IF(ISBLANK('Scholars Nomination Form'!E147),\"\",'Scholars Nomination Form'!E147)","v":""},{"$f":"IF(ISBLANK('Scholars Nomination Form'!F147),\"\",'Scholars Nomination Form'!F147)","v":""},{"$f":"IF(ISBLANK('Scholars Nomination Form'!G147),\"\",'Scholars Nomination Form'!G147)","v":""},{"$f":"IF(ISBLANK('Scholars Nomination Form'!H147),\"\",'Scholars Nomination Form'!H147)","v":""},{"$f":"IF(ISBLANK('Scholars Nomination Form'!I147),\"\",'Scholars Nomination Form'!I147)","v":""},{"$f":"IF(ISBLANK('Scholars Nomination Form'!J147),\"\",'Scholars Nomination Form'!J147)","v":""},{"$f":"IF(ISBLANK('Scholars Nomination Form'!K147),\"\",'Scholars Nomination Form'!K147)","v":""},{"$f":"IF(ISBLANK('Scholars Nomination Form'!L147),\"\",'Scholars Nomination Form'!L147)","v":""},{"$f":"IF(ISBLANK('Scholars Nomination Form'!M147),\"\",'Scholars Nomination Form'!M147)","v":""},{"$f":"IF(ISBLANK('Scholars Nomination Form'!N147),\"\",'Scholars Nomination Form'!N147)","v":""},{"$f":"IF(ISBLANK('Scholars Nomination Form'!O147),\"\",'Scholars Nomination Form'!O147)","v":""},{"$f":"IF(ISBLANK('Scholars Nomination Form'!P147),\"\",'Scholars Nomination Form'!P147)","v":""},{"$f":"IF(ISBLANK('Scholars Nomination Form'!Q147),\"\",'Scholars Nomination Form'!Q147)","v":""},{"$f":"IF(ISBLANK('Scholars Nomination Form'!R147),\"\",'Scholars Nomination Form'!R147)","v":""},{"$f":"IF(ISBLANK('Scholars Nomination Form'!S147),\"\",'Scholars Nomination Form'!S147)","v":""},{"$f":"IF(ISBLANK('Scholars Nomination Form'!T147),\"\",'Scholars Nomination Form'!T147)","v":""},{"$f":"IF(ISBLANK('Scholars Nomination Form'!U147),\"\",'Scholars Nomination Form'!U147)","v":""},{"$f":"IF(ISBLANK('Scholars Nomination Form'!V147),\"\",'Scholars Nomination Form'!V147)","v":""},{"$f":"IF(ISBLANK('Scholars Nomination Form'!W147),\"\",'Scholars Nomination Form'!W147)","v":""},{"$f":"IF(ISBLANK('Scholars Nomination Form'!X147),\"\",'Scholars Nomination Form'!X147)","v":""},{"$f":"IF(ISBLANK('Scholars Nomination Form'!Y147),\"\",'Scholars Nomination Form'!Y147)","v":""},{"$f":"IF(ISBLANK('Scholars Nomination Form'!Z147),\"\",'Scholars Nomination Form'!Z147)","v":""},{"$f":"IF(ISBLANK('Scholars Nomination Form'!AA147),\"\",'Scholars Nomination Form'!AA147)","v":""}]
[{"$f":"IF(ISBLANK('Scholars Nomination Form'!$F148),\"\",'Scholars Nomination Form'!$C$11)","v":""},{"$f":"IF(ISBLANK('Scholars Nomination Form'!$F148),\"\",'Scholars Nomination Form'!$C$12)","v":""},{"$f":"IF(ISBLANK('Scholars Nomination Form'!$F148),\"\",'Scholars Nomination Form'!$C$13)","v":""},{"$f":"IF(ISBLANK('Scholars Nomination Form'!$F148),\"\",'Scholars Nomination Form'!$C$14)","v":""},{"$f":"IF(ISBLANK('Scholars Nomination Form'!$F148),\"\",'Scholars Nomination Form'!$C$15)","v":""},{"$f":"IF(ISBLANK('Scholars Nomination Form'!$F148),\"\",'Scholars Nomination Form'!$C$16)","v":""},{"$f":"IF(ISBLANK('Scholars Nomination Form'!B148),\"\",'Scholars Nomination Form'!B148)","v":""},{"$f":"IF(ISBLANK('Scholars Nomination Form'!D148),\"\",'Scholars Nomination Form'!D148)","v":""},{"$f":"IF(ISBLANK('Scholars Nomination Form'!E148),\"\",'Scholars Nomination Form'!E148)","v":""},{"$f":"IF(ISBLANK('Scholars Nomination Form'!F148),\"\",'Scholars Nomination Form'!F148)","v":""},{"$f":"IF(ISBLANK('Scholars Nomination Form'!G148),\"\",'Scholars Nomination Form'!G148)","v":""},{"$f":"IF(ISBLANK('Scholars Nomination Form'!H148),\"\",'Scholars Nomination Form'!H148)","v":""},{"$f":"IF(ISBLANK('Scholars Nomination Form'!I148),\"\",'Scholars Nomination Form'!I148)","v":""},{"$f":"IF(ISBLANK('Scholars Nomination Form'!J148),\"\",'Scholars Nomination Form'!J148)","v":""},{"$f":"IF(ISBLANK('Scholars Nomination Form'!K148),\"\",'Scholars Nomination Form'!K148)","v":""},{"$f":"IF(ISBLANK('Scholars Nomination Form'!L148),\"\",'Scholars Nomination Form'!L148)","v":""},{"$f":"IF(ISBLANK('Scholars Nomination Form'!M148),\"\",'Scholars Nomination Form'!M148)","v":""},{"$f":"IF(ISBLANK('Scholars Nomination Form'!N148),\"\",'Scholars Nomination Form'!N148)","v":""},{"$f":"IF(ISBLANK('Scholars Nomination Form'!O148),\"\",'Scholars Nomination Form'!O148)","v":""},{"$f":"IF(ISBLANK('Scholars Nomination Form'!P148),\"\",'Scholars Nomination Form'!P148)","v":""},{"$f":"IF(ISBLANK('Scholars Nomination Form'!Q148),\"\",'Scholars Nomination Form'!Q148)","v":""},{"$f":"IF(ISBLANK('Scholars Nomination Form'!R148),\"\",'Scholars Nomination Form'!R148)","v":""},{"$f":"IF(ISBLANK('Scholars Nomination Form'!S148),\"\",'Scholars Nomination Form'!S148)","v":""},{"$f":"IF(ISBLANK('Scholars Nomination Form'!T148),\"\",'Scholars Nomination Form'!T148)","v":""},{"$f":"IF(ISBLANK('Scholars Nomination Form'!U148),\"\",'Scholars Nomination Form'!U148)","v":""},{"$f":"IF(ISBLANK('Scholars Nomination Form'!V148),\"\",'Scholars Nomination Form'!V148)","v":""},{"$f":"IF(ISBLANK('Scholars Nomination Form'!W148),\"\",'Scholars Nomination Form'!W148)","v":""},{"$f":"IF(ISBLANK('Scholars Nomination Form'!X148),\"\",'Scholars Nomination Form'!X148)","v":""},{"$f":"IF(ISBLANK('Scholars Nomination Form'!Y148),\"\",'Scholars Nomination Form'!Y148)","v":""},{"$f":"IF(ISBLANK('Scholars Nomination Form'!Z148),\"\",'Scholars Nomination Form'!Z148)","v":""},{"$f":"IF(ISBLANK('Scholars Nomination Form'!AA148),\"\",'Scholars Nomination Form'!AA148)","v":""}]
[{"$f":"IF(ISBLANK('Scholars Nomination Form'!$F149),\"\",'Scholars Nomination Form'!$C$11)","v":""},{"$f":"IF(ISBLANK('Scholars Nomination Form'!$F149),\"\",'Scholars Nomination Form'!$C$12)","v":""},{"$f":"IF(ISBLANK('Scholars Nomination Form'!$F149),\"\",'Scholars Nomination Form'!$C$13)","v":""},{"$f":"IF(ISBLANK('Scholars Nomination Form'!$F149),\"\",'Scholars Nomination Form'!$C$14)","v":""},{"$f":"IF(ISBLANK('Scholars Nomination Form'!$F149),\"\",'Scholars Nomination Form'!$C$15)","v":""},{"$f":"IF(ISBLANK('Scholars Nomination Form'!$F149),\"\",'Scholars Nomination Form'!$C$16)","v":""},{"$f":"IF(ISBLANK('Scholars Nomination Form'!B149),\"\",'Scholars Nomination Form'!B149)","v":""},{"$f":"IF(ISBLANK('Scholars Nomination Form'!D149),\"\",'Scholars Nomination Form'!D149)","v":""},{"$f":"IF(ISBLANK('Scholars Nomination Form'!E149),\"\",'Scholars Nomination Form'!E149)","v":""},{"$f":"IF(ISBLANK('Scholars Nomination Form'!F149),\"\",'Scholars Nomination Form'!F149)","v":""},{"$f":"IF(ISBLANK('Scholars Nomination Form'!G149),\"\",'Scholars Nomination Form'!G149)","v":""},{"$f":"IF(ISBLANK('Scholars Nomination Form'!H149),\"\",'Scholars Nomination Form'!H149)","v":""},{"$f":"IF(ISBLANK('Scholars Nomination Form'!I149),\"\",'Scholars Nomination Form'!I149)","v":""},{"$f":"IF(ISBLANK('Scholars Nomination Form'!J149),\"\",'Scholars Nomination Form'!J149)","v":""},{"$f":"IF(ISBLANK('Scholars Nomination Form'!K149),\"\",'Scholars Nomination Form'!K149)","v":""},{"$f":"IF(ISBLANK('Scholars Nomination Form'!L149),\"\",'Scholars Nomination Form'!L149)","v":""},{"$f":"IF(ISBLANK('Scholars Nomination Form'!M149),\"\",'Scholars Nomination Form'!M149)","v":""},{"$f":"IF(ISBLANK('Scholars Nomination Form'!N149),\"\",'Scholars Nomination Form'!N149)","v":""},{"$f":"IF(ISBLANK('Scholars Nomination Form'!O149),\"\",'Scholars Nomination Form'!O149)","v":""},{"$f":"IF(ISBLANK('Scholars Nomination Form'!P149),\"\",'Scholars Nomination Form'!P149)","v":""},{"$f":"IF(ISBLANK('Scholars Nomination Form'!Q149),\"\",'Scholars Nomination Form'!Q149)","v":""},{"$f":"IF(ISBLANK('Scholars Nomination Form'!R149),\"\",'Scholars Nomination Form'!R149)","v":""},{"$f":"IF(ISBLANK('Scholars Nomination Form'!S149),\"\",'Scholars Nomination Form'!S149)","v":""},{"$f":"IF(ISBLANK('Scholars Nomination Form'!T149),\"\",'Scholars Nomination Form'!T149)","v":""},{"$f":"IF(ISBLANK('Scholars Nomination Form'!U149),\"\",'Scholars Nomination Form'!U149)","v":""},{"$f":"IF(ISBLANK('Scholars Nomination Form'!V149),\"\",'Scholars Nomination Form'!V149)","v":""},{"$f":"IF(ISBLANK('Scholars Nomination Form'!W149),\"\",'Scholars Nomination Form'!W149)","v":""},{"$f":"IF(ISBLANK('Scholars Nomination Form'!X149),\"\",'Scholars Nomination Form'!X149)","v":""},{"$f":"IF(ISBLANK('Scholars Nomination Form'!Y149),\"\",'Scholars Nomination Form'!Y149)","v":""},{"$f":"IF(ISBLANK('Scholars Nomination Form'!Z149),\"\",'Scholars Nomination Form'!Z149)","v":""},{"$f":"IF(ISBLANK('Scholars Nomination Form'!AA149),\"\",'Scholars Nomination Form'!AA149)","v":""}]
[{"$f":"IF(ISBLANK('Scholars Nomination Form'!$F150),\"\",'Scholars Nomination Form'!$C$11)","v":""},{"$f":"IF(ISBLANK('Scholars Nomination Form'!$F150),\"\",'Scholars Nomination Form'!$C$12)","v":""},{"$f":"IF(ISBLANK('Scholars Nomination Form'!$F150),\"\",'Scholars Nomination Form'!$C$13)","v":""},{"$f":"IF(ISBLANK('Scholars Nomination Form'!$F150),\"\",'Scholars Nomination Form'!$C$14)","v":""},{"$f":"IF(ISBLANK('Scholars Nomination Form'!$F150),\"\",'Scholars Nomination Form'!$C$15)","v":""},{"$f":"IF(ISBLANK('Scholars Nomination Form'!$F150),\"\",'Scholars Nomination Form'!$C$16)","v":""},{"$f":"IF(ISBLANK('Scholars Nomination Form'!B150),\"\",'Scholars Nomination Form'!B150)","v":""},{"$f":"IF(ISBLANK('Scholars Nomination Form'!D150),\"\",'Scholars Nomination Form'!D150)","v":""},{"$f":"IF(ISBLANK('Scholars Nomination Form'!E150),\"\",'Scholars Nomination Form'!E150)","v":""},{"$f":"IF(ISBLANK('Scholars Nomination Form'!F150),\"\",'Scholars Nomination Form'!F150)","v":""},{"$f":"IF(ISBLANK('Scholars Nomination Form'!G150),\"\",'Scholars Nomination Form'!G150)","v":""},{"$f":"IF(ISBLANK('Scholars Nomination Form'!H150),\"\",'Scholars Nomination Form'!H150)","v":""},{"$f":"IF(ISBLANK('Scholars Nomination Form'!I150),\"\",'Scholars Nomination Form'!I150)","v":""},{"$f":"IF(ISBLANK('Scholars Nomination Form'!J150),\"\",'Scholars Nomination Form'!J150)","v":""},{"$f":"IF(ISBLANK('Scholars Nomination Form'!K150),\"\",'Scholars Nomination Form'!K150)","v":""},{"$f":"IF(ISBLANK('Scholars Nomination Form'!L150),\"\",'Scholars Nomination Form'!L150)","v":""},{"$f":"IF(ISBLANK('Scholars Nomination Form'!M150),\"\",'Scholars Nomination Form'!M150)","v":""},{"$f":"IF(ISBLANK('Scholars Nomination Form'!N150),\"\",'Scholars Nomination Form'!N150)","v":""},{"$f":"IF(ISBLANK('Scholars Nomination Form'!O150),\"\",'Scholars Nomination Form'!O150)","v":""},{"$f":"IF(ISBLANK('Scholars Nomination Form'!P150),\"\",'Scholars Nomination Form'!P150)","v":""},{"$f":"IF(ISBLANK('Scholars Nomination Form'!Q150),\"\",'Scholars Nomination Form'!Q150)","v":""},{"$f":"IF(ISBLANK('Scholars Nomination Form'!R150),\"\",'Scholars Nomination Form'!R150)","v":""},{"$f":"IF(ISBLANK('Scholars Nomination Form'!S150),\"\",'Scholars Nomination Form'!S150)","v":""},{"$f":"IF(ISBLANK('Scholars Nomination Form'!T150),\"\",'Scholars Nomination Form'!T150)","v":""},{"$f":"IF(ISBLANK('Scholars Nomination Form'!U150),\"\",'Scholars Nomination Form'!U150)","v":""},{"$f":"IF(ISBLANK('Scholars Nomination Form'!V150),\"\",'Scholars Nomination Form'!V150)","v":""},{"$f":"IF(ISBLANK('Scholars Nomination Form'!W150),\"\",'Scholars Nomination Form'!W150)","v":""},{"$f":"IF(ISBLANK('Scholars Nomination Form'!X150),\"\",'Scholars Nomination Form'!X150)","v":""},{"$f":"IF(ISBLANK('Scholars Nomination Form'!Y150),\"\",'Scholars Nomination Form'!Y150)","v":""},{"$f":"IF(ISBLANK('Scholars Nomination Form'!Z150),\"\",'Scholars Nomination Form'!Z150)","v":""},{"$f":"IF(ISBLANK('Scholars Nomination Form'!AA150),\"\",'Scholars Nomination Form'!AA150)","v":""}]
[{"$f":"IF(ISBLANK('Scholars Nomination Form'!$F151),\"\",'Scholars Nomination Form'!$C$11)","v":""},{"$f":"IF(ISBLANK('Scholars Nomination Form'!$F151),\"\",'Scholars Nomination Form'!$C$12)","v":""},{"$f":"IF(ISBLANK('Scholars Nomination Form'!$F151),\"\",'Scholars Nomination Form'!$C$13)","v":""},{"$f":"IF(ISBLANK('Scholars Nomination Form'!$F151),\"\",'Scholars Nomination Form'!$C$14)","v":""},{"$f":"IF(ISBLANK('Scholars Nomination Form'!$F151),\"\",'Scholars Nomination Form'!$C$15)","v":""},{"$f":"IF(ISBLANK('Scholars Nomination Form'!$F151),\"\",'Scholars Nomination Form'!$C$16)","v":""},{"$f":"IF(ISBLANK('Scholars Nomination Form'!B151),\"\",'Scholars Nomination Form'!B151)","v":""},{"$f":"IF(ISBLANK('Scholars Nomination Form'!D151),\"\",'Scholars Nomination Form'!D151)","v":""},{"$f":"IF(ISBLANK('Scholars Nomination Form'!E151),\"\",'Scholars Nomination Form'!E151)","v":""},{"$f":"IF(ISBLANK('Scholars Nomination Form'!F151),\"\",'Scholars Nomination Form'!F151)","v":""},{"$f":"IF(ISBLANK('Scholars Nomination Form'!G151),\"\",'Scholars Nomination Form'!G151)","v":""},{"$f":"IF(ISBLANK('Scholars Nomination Form'!H151),\"\",'Scholars Nomination Form'!H151)","v":""},{"$f":"IF(ISBLANK('Scholars Nomination Form'!I151),\"\",'Scholars Nomination Form'!I151)","v":""},{"$f":"IF(ISBLANK('Scholars Nomination Form'!J151),\"\",'Scholars Nomination Form'!J151)","v":""},{"$f":"IF(ISBLANK('Scholars Nomination Form'!K151),\"\",'Scholars Nomination Form'!K151)","v":""},{"$f":"IF(ISBLANK('Scholars Nomination Form'!L151),\"\",'Scholars Nomination Form'!L151)","v":""},{"$f":"IF(ISBLANK('Scholars Nomination Form'!M151),\"\",'Scholars Nomination Form'!M151)","v":""},{"$f":"IF(ISBLANK('Scholars Nomination Form'!N151),\"\",'Scholars Nomination Form'!N151)","v":""},{"$f":"IF(ISBLANK('Scholars Nomination Form'!O151),\"\",'Scholars Nomination Form'!O151)","v":""},{"$f":"IF(ISBLANK('Scholars Nomination Form'!P151),\"\",'Scholars Nomination Form'!P151)","v":""},{"$f":"IF(ISBLANK('Scholars Nomination Form'!Q151),\"\",'Scholars Nomination Form'!Q151)","v":""},{"$f":"IF(ISBLANK('Scholars Nomination Form'!R151),\"\",'Scholars Nomination Form'!R151)","v":""},{"$f":"IF(ISBLANK('Scholars Nomination Form'!S151),\"\",'Scholars Nomination Form'!S151)","v":""},{"$f":"IF(ISBLANK('Scholars Nomination Form'!T151),\"\",'Scholars Nomination Form'!T151)","v":""},{"$f":"IF(ISBLANK('Scholars Nomination Form'!U151),\"\",'Scholars Nomination Form'!U151)","v":""},{"$f":"IF(ISBLANK('Scholars Nomination Form'!V151),\"\",'Scholars Nomination Form'!V151)","v":""},{"$f":"IF(ISBLANK('Scholars Nomination Form'!W151),\"\",'Scholars Nomination Form'!W151)","v":""},{"$f":"IF(ISBLANK('Scholars Nomination Form'!X151),\"\",'Scholars Nomination Form'!X151)","v":""},{"$f":"IF(ISBLANK('Scholars Nomination Form'!Y151),\"\",'Scholars Nomination Form'!Y151)","v":""},{"$f":"IF(ISBLANK('Scholars Nomination Form'!Z151),\"\",'Scholars Nomination Form'!Z151)","v":""},{"$f":"IF(ISBLANK('Scholars Nomination Form'!AA151),\"\",'Scholars Nomination Form'!AA151)","v":""}]
[{"$f":"IF(ISBLANK('Scholars Nomination Form'!$F152),\"\",'Scholars Nomination Form'!$C$11)","v":""},{"$f":"IF(ISBLANK('Scholars Nomination Form'!$F152),\"\",'Scholars Nomination Form'!$C$12)","v":""},{"$f":"IF(ISBLANK('Scholars Nomination Form'!$F152),\"\",'Scholars Nomination Form'!$C$13)","v":""},{"$f":"IF(ISBLANK('Scholars Nomination Form'!$F152),\"\",'Scholars Nomination Form'!$C$14)","v":""},{"$f":"IF(ISBLANK('Scholars Nomination Form'!$F152),\"\",'Scholars Nomination Form'!$C$15)","v":""},{"$f":"IF(ISBLANK('Scholars Nomination Form'!$F152),\"\",'Scholars Nomination Form'!$C$16)","v":""},{"$f":"IF(ISBLANK('Scholars Nomination Form'!B152),\"\",'Scholars Nomination Form'!B152)","v":""},{"$f":"IF(ISBLANK('Scholars Nomination Form'!D152),\"\",'Scholars Nomination Form'!D152)","v":""},{"$f":"IF(ISBLANK('Scholars Nomination Form'!E152),\"\",'Scholars Nomination Form'!E152)","v":""},{"$f":"IF(ISBLANK('Scholars Nomination Form'!F152),\"\",'Scholars Nomination Form'!F152)","v":""},{"$f":"IF(ISBLANK('Scholars Nomination Form'!G152),\"\",'Scholars Nomination Form'!G152)","v":""},{"$f":"IF(ISBLANK('Scholars Nomination Form'!H152),\"\",'Scholars Nomination Form'!H152)","v":""},{"$f":"IF(ISBLANK('Scholars Nomination Form'!I152),\"\",'Scholars Nomination Form'!I152)","v":""},{"$f":"IF(ISBLANK('Scholars Nomination Form'!J152),\"\",'Scholars Nomination Form'!J152)","v":""},{"$f":"IF(ISBLANK('Scholars Nomination Form'!K152),\"\",'Scholars Nomination Form'!K152)","v":""},{"$f":"IF(ISBLANK('Scholars Nomination Form'!L152),\"\",'Scholars Nomination Form'!L152)","v":""},{"$f":"IF(ISBLANK('Scholars Nomination Form'!M152),\"\",'Scholars Nomination Form'!M152)","v":""},{"$f":"IF(ISBLANK('Scholars Nomination Form'!N152),\"\",'Scholars Nomination Form'!N152)","v":""},{"$f":"IF(ISBLANK('Scholars Nomination Form'!O152),\"\",'Scholars Nomination Form'!O152)","v":""},{"$f":"IF(ISBLANK('Scholars Nomination Form'!P152),\"\",'Scholars Nomination Form'!P152)","v":""},{"$f":"IF(ISBLANK('Scholars Nomination Form'!Q152),\"\",'Scholars Nomination Form'!Q152)","v":""},{"$f":"IF(ISBLANK('Scholars Nomination Form'!R152),\"\",'Scholars Nomination Form'!R152)","v":""},{"$f":"IF(ISBLANK('Scholars Nomination Form'!S152),\"\",'Scholars Nomination Form'!S152)","v":""},{"$f":"IF(ISBLANK('Scholars Nomination Form'!T152),\"\",'Scholars Nomination Form'!T152)","v":""},{"$f":"IF(ISBLANK('Scholars Nomination Form'!U152),\"\",'Scholars Nomination Form'!U152)","v":""},{"$f":"IF(ISBLANK('Scholars Nomination Form'!V152),\"\",'Scholars Nomination Form'!V152)","v":""},{"$f":"IF(ISBLANK('Scholars Nomination Form'!W152),\"\",'Scholars Nomination Form'!W152)","v":""},{"$f":"IF(ISBLANK('Scholars Nomination Form'!X152),\"\",'Scholars Nomination Form'!X152)","v":""},{"$f":"IF(ISBLANK('Scholars Nomination Form'!Y152),\"\",'Scholars Nomination Form'!Y152)","v":""},{"$f":"IF(ISBLANK('Scholars Nomination Form'!Z152),\"\",'Scholars Nomination Form'!Z152)","v":""},{"$f":"IF(ISBLANK('Scholars Nomination Form'!AA152),\"\",'Scholars Nomination Form'!AA152)","v":""}]
[{"$f":"IF(ISBLANK('Scholars Nomination Form'!$F153),\"\",'Scholars Nomination Form'!$C$11)","v":""},{"$f":"IF(ISBLANK('Scholars Nomination Form'!$F153),\"\",'Scholars Nomination Form'!$C$12)","v":""},{"$f":"IF(ISBLANK('Scholars Nomination Form'!$F153),\"\",'Scholars Nomination Form'!$C$13)","v":""},{"$f":"IF(ISBLANK('Scholars Nomination Form'!$F153),\"\",'Scholars Nomination Form'!$C$14)","v":""},{"$f":"IF(ISBLANK('Scholars Nomination Form'!$F153),\"\",'Scholars Nomination Form'!$C$15)","v":""},{"$f":"IF(ISBLANK('Scholars Nomination Form'!$F153),\"\",'Scholars Nomination Form'!$C$16)","v":""},{"$f":"IF(ISBLANK('Scholars Nomination Form'!B153),\"\",'Scholars Nomination Form'!B153)","v":""},{"$f":"IF(ISBLANK('Scholars Nomination Form'!D153),\"\",'Scholars Nomination Form'!D153)","v":""},{"$f":"IF(ISBLANK('Scholars Nomination Form'!E153),\"\",'Scholars Nomination Form'!E153)","v":""},{"$f":"IF(ISBLANK('Scholars Nomination Form'!F153),\"\",'Scholars Nomination Form'!F153)","v":""},{"$f":"IF(ISBLANK('Scholars Nomination Form'!G153),\"\",'Scholars Nomination Form'!G153)","v":""},{"$f":"IF(ISBLANK('Scholars Nomination Form'!H153),\"\",'Scholars Nomination Form'!H153)","v":""},{"$f":"IF(ISBLANK('Scholars Nomination Form'!I153),\"\",'Scholars Nomination Form'!I153)","v":""},{"$f":"IF(ISBLANK('Scholars Nomination Form'!J153),\"\",'Scholars Nomination Form'!J153)","v":""},{"$f":"IF(ISBLANK('Scholars Nomination Form'!K153),\"\",'Scholars Nomination Form'!K153)","v":""},{"$f":"IF(ISBLANK('Scholars Nomination Form'!L153),\"\",'Scholars Nomination Form'!L153)","v":""},{"$f":"IF(ISBLANK('Scholars Nomination Form'!M153),\"\",'Scholars Nomination Form'!M153)","v":""},{"$f":"IF(ISBLANK('Scholars Nomination Form'!N153),\"\",'Scholars Nomination Form'!N153)","v":""},{"$f":"IF(ISBLANK('Scholars Nomination Form'!O153),\"\",'Scholars Nomination Form'!O153)","v":""},{"$f":"IF(ISBLANK('Scholars Nomination Form'!P153),\"\",'Scholars Nomination Form'!P153)","v":""},{"$f":"IF(ISBLANK('Scholars Nomination Form'!Q153),\"\",'Scholars Nomination Form'!Q153)","v":""},{"$f":"IF(ISBLANK('Scholars Nomination Form'!R153),\"\",'Scholars Nomination Form'!R153)","v":""},{"$f":"IF(ISBLANK('Scholars Nomination Form'!S153),\"\",'Scholars Nomination Form'!S153)","v":""},{"$f":"IF(ISBLANK('Scholars Nomination Form'!T153),\"\",'Scholars Nomination Form'!T153)","v":""},{"$f":"IF(ISBLANK('Scholars Nomination Form'!U153),\"\",'Scholars Nomination Form'!U153)","v":""},{"$f":"IF(ISBLANK('Scholars Nomination Form'!V153),\"\",'Scholars Nomination Form'!V153)","v":""},{"$f":"IF(ISBLANK('Scholars Nomination Form'!W153),\"\",'Scholars Nomination Form'!W153)","v":""},{"$f":"IF(ISBLANK('Scholars Nomination Form'!X153),\"\",'Scholars Nomination Form'!X153)","v":""},{"$f":"IF(ISBLANK('Scholars Nomination Form'!Y153),\"\",'Scholars Nomination Form'!Y153)","v":""},{"$f":"IF(ISBLANK('Scholars Nomination Form'!Z153),\"\",'Scholars Nomination Form'!Z153)","v":""},{"$f":"IF(ISBLANK('Scholars Nomination Form'!AA153),\"\",'Scholars Nomination Form'!AA153)","v":""}]
[{"$f":"IF(ISBLANK('Scholars Nomination Form'!$F154),\"\",'Scholars Nomination Form'!$C$11)","v":""},{"$f":"IF(ISBLANK('Scholars Nomination Form'!$F154),\"\",'Scholars Nomination Form'!$C$12)","v":""},{"$f":"IF(ISBLANK('Scholars Nomination Form'!$F154),\"\",'Scholars Nomination Form'!$C$13)","v":""},{"$f":"IF(ISBLANK('Scholars Nomination Form'!$F154),\"\",'Scholars Nomination Form'!$C$14)","v":""},{"$f":"IF(ISBLANK('Scholars Nomination Form'!$F154),\"\",'Scholars Nomination Form'!$C$15)","v":""},{"$f":"IF(ISBLANK('Scholars Nomination Form'!$F154),\"\",'Scholars Nomination Form'!$C$16)","v":""},{"$f":"IF(ISBLANK('Scholars Nomination Form'!B154),\"\",'Scholars Nomination Form'!B154)","v":""},{"$f":"IF(ISBLANK('Scholars Nomination Form'!D154),\"\",'Scholars Nomination Form'!D154)","v":""},{"$f":"IF(ISBLANK('Scholars Nomination Form'!E154),\"\",'Scholars Nomination Form'!E154)","v":""},{"$f":"IF(ISBLANK('Scholars Nomination Form'!F154),\"\",'Scholars Nomination Form'!F154)","v":""},{"$f":"IF(ISBLANK('Scholars Nomination Form'!G154),\"\",'Scholars Nomination Form'!G154)","v":""},{"$f":"IF(ISBLANK('Scholars Nomination Form'!H154),\"\",'Scholars Nomination Form'!H154)","v":""},{"$f":"IF(ISBLANK('Scholars Nomination Form'!I154),\"\",'Scholars Nomination Form'!I154)","v":""},{"$f":"IF(ISBLANK('Scholars Nomination Form'!J154),\"\",'Scholars Nomination Form'!J154)","v":""},{"$f":"IF(ISBLANK('Scholars Nomination Form'!K154),\"\",'Scholars Nomination Form'!K154)","v":""},{"$f":"IF(ISBLANK('Scholars Nomination Form'!L154),\"\",'Scholars Nomination Form'!L154)","v":""},{"$f":"IF(ISBLANK('Scholars Nomination Form'!M154),\"\",'Scholars Nomination Form'!M154)","v":""},{"$f":"IF(ISBLANK('Scholars Nomination Form'!N154),\"\",'Scholars Nomination Form'!N154)","v":""},{"$f":"IF(ISBLANK('Scholars Nomination Form'!O154),\"\",'Scholars Nomination Form'!O154)","v":""},{"$f":"IF(ISBLANK('Scholars Nomination Form'!P154),\"\",'Scholars Nomination Form'!P154)","v":""},{"$f":"IF(ISBLANK('Scholars Nomination Form'!Q154),\"\",'Scholars Nomination Form'!Q154)","v":""},{"$f":"IF(ISBLANK('Scholars Nomination Form'!R154),\"\",'Scholars Nomination Form'!R154)","v":""},{"$f":"IF(ISBLANK('Scholars Nomination Form'!S154),\"\",'Scholars Nomination Form'!S154)","v":""},{"$f":"IF(ISBLANK('Scholars Nomination Form'!T154),\"\",'Scholars Nomination Form'!T154)","v":""},{"$f":"IF(ISBLANK('Scholars Nomination Form'!U154),\"\",'Scholars Nomination Form'!U154)","v":""},{"$f":"IF(ISBLANK('Scholars Nomination Form'!V154),\"\",'Scholars Nomination Form'!V154)","v":""},{"$f":"IF(ISBLANK('Scholars Nomination Form'!W154),\"\",'Scholars Nomination Form'!W154)","v":""},{"$f":"IF(ISBLANK('Scholars Nomination Form'!X154),\"\",'Scholars Nomination Form'!X154)","v":""},{"$f":"IF(ISBLANK('Scholars Nomination Form'!Y154),\"\",'Scholars Nomination Form'!Y154)","v":""},{"$f":"IF(ISBLANK('Scholars Nomination Form'!Z154),\"\",'Scholars Nomination Form'!Z154)","v":""},{"$f":"IF(ISBLANK('Scholars Nomination Form'!AA154),\"\",'Scholars Nomination Form'!AA154)","v":""}]
[{"$f":"IF(ISBLANK('Scholars Nomination Form'!$F155),\"\",'Scholars Nomination Form'!$C$11)","v":""},{"$f":"IF(ISBLANK('Scholars Nomination Form'!$F155),\"\",'Scholars Nomination Form'!$C$12)","v":""},{"$f":"IF(ISBLANK('Scholars Nomination Form'!$F155),\"\",'Scholars Nomination Form'!$C$13)","v":""},{"$f":"IF(ISBLANK('Scholars Nomination Form'!$F155),\"\",'Scholars Nomination Form'!$C$14)","v":""},{"$f":"IF(ISBLANK('Scholars Nomination Form'!$F155),\"\",'Scholars Nomination Form'!$C$15)","v":""},{"$f":"IF(ISBLANK('Scholars Nomination Form'!$F155),\"\",'Scholars Nomination Form'!$C$16)","v":""},{"$f":"IF(ISBLANK('Scholars Nomination Form'!B155),\"\",'Scholars Nomination Form'!B155)","v":""},{"$f":"IF(ISBLANK('Scholars Nomination Form'!D155),\"\",'Scholars Nomination Form'!D155)","v":""},{"$f":"IF(ISBLANK('Scholars Nomination Form'!E155),\"\",'Scholars Nomination Form'!E155)","v":""},{"$f":"IF(ISBLANK('Scholars Nomination Form'!F155),\"\",'Scholars Nomination Form'!F155)","v":""},{"$f":"IF(ISBLANK('Scholars Nomination Form'!G155),\"\",'Scholars Nomination Form'!G155)","v":""},{"$f":"IF(ISBLANK('Scholars Nomination Form'!H155),\"\",'Scholars Nomination Form'!H155)","v":""},{"$f":"IF(ISBLANK('Scholars Nomination Form'!I155),\"\",'Scholars Nomination Form'!I155)","v":""},{"$f":"IF(ISBLANK('Scholars Nomination Form'!J155),\"\",'Scholars Nomination Form'!J155)","v":""},{"$f":"IF(ISBLANK('Scholars Nomination Form'!K155),\"\",'Scholars Nomination Form'!K155)","v":""},{"$f":"IF(ISBLANK('Scholars Nomination Form'!L155),\"\",'Scholars Nomination Form'!L155)","v":""},{"$f":"IF(ISBLANK('Scholars Nomination Form'!M155),\"\",'Scholars Nomination Form'!M155)","v":""},{"$f":"IF(ISBLANK('Scholars Nomination Form'!N155),\"\",'Scholars Nomination Form'!N155)","v":""},{"$f":"IF(ISBLANK('Scholars Nomination Form'!O155),\"\",'Scholars Nomination Form'!O155)","v":""},{"$f":"IF(ISBLANK('Scholars Nomination Form'!P155),\"\",'Scholars Nomination Form'!P155)","v":""},{"$f":"IF(ISBLANK('Scholars Nomination Form'!Q155),\"\",'Scholars Nomination Form'!Q155)","v":""},{"$f":"IF(ISBLANK('Scholars Nomination Form'!R155),\"\",'Scholars Nomination Form'!R155)","v":""},{"$f":"IF(ISBLANK('Scholars Nomination Form'!S155),\"\",'Scholars Nomination Form'!S155)","v":""},{"$f":"IF(ISBLANK('Scholars Nomination Form'!T155),\"\",'Scholars Nomination Form'!T155)","v":""},{"$f":"IF(ISBLANK('Scholars Nomination Form'!U155),\"\",'Scholars Nomination Form'!U155)","v":""},{"$f":"IF(ISBLANK('Scholars Nomination Form'!V155),\"\",'Scholars Nomination Form'!V155)","v":""},{"$f":"IF(ISBLANK('Scholars Nomination Form'!W155),\"\",'Scholars Nomination Form'!W155)","v":""},{"$f":"IF(ISBLANK('Scholars Nomination Form'!X155),\"\",'Scholars Nomination Form'!X155)","v":""},{"$f":"IF(ISBLANK('Scholars Nomination Form'!Y155),\"\",'Scholars Nomination Form'!Y155)","v":""},{"$f":"IF(ISBLANK('Scholars Nomination Form'!Z155),\"\",'Scholars Nomination Form'!Z155)","v":""},{"$f":"IF(ISBLANK('Scholars Nomination Form'!AA155),\"\",'Scholars Nomination Form'!AA155)","v":""}]
[{"$f":"IF(ISBLANK('Scholars Nomination Form'!$F156),\"\",'Scholars Nomination Form'!$C$11)","v":""},{"$f":"IF(ISBLANK('Scholars Nomination Form'!$F156),\"\",'Scholars Nomination Form'!$C$12)","v":""},{"$f":"IF(ISBLANK('Scholars Nomination Form'!$F156),\"\",'Scholars Nomination Form'!$C$13)","v":""},{"$f":"IF(ISBLANK('Scholars Nomination Form'!$F156),\"\",'Scholars Nomination Form'!$C$14)","v":""},{"$f":"IF(ISBLANK('Scholars Nomination Form'!$F156),\"\",'Scholars Nomination Form'!$C$15)","v":""},{"$f":"IF(ISBLANK('Scholars Nomination Form'!$F156),\"\",'Scholars Nomination Form'!$C$16)","v":""},{"$f":"IF(ISBLANK('Scholars Nomination Form'!B156),\"\",'Scholars Nomination Form'!B156)","v":""},{"$f":"IF(ISBLANK('Scholars Nomination Form'!D156),\"\",'Scholars Nomination Form'!D156)","v":""},{"$f":"IF(ISBLANK('Scholars Nomination Form'!E156),\"\",'Scholars Nomination Form'!E156)","v":""},{"$f":"IF(ISBLANK('Scholars Nomination Form'!F156),\"\",'Scholars Nomination Form'!F156)","v":""},{"$f":"IF(ISBLANK('Scholars Nomination Form'!G156),\"\",'Scholars Nomination Form'!G156)","v":""},{"$f":"IF(ISBLANK('Scholars Nomination Form'!H156),\"\",'Scholars Nomination Form'!H156)","v":""},{"$f":"IF(ISBLANK('Scholars Nomination Form'!I156),\"\",'Scholars Nomination Form'!I156)","v":""},{"$f":"IF(ISBLANK('Scholars Nomination Form'!J156),\"\",'Scholars Nomination Form'!J156)","v":""},{"$f":"IF(ISBLANK('Scholars Nomination Form'!K156),\"\",'Scholars Nomination Form'!K156)","v":""},{"$f":"IF(ISBLANK('Scholars Nomination Form'!L156),\"\",'Scholars Nomination Form'!L156)","v":""},{"$f":"IF(ISBLANK('Scholars Nomination Form'!M156),\"\",'Scholars Nomination Form'!M156)","v":""},{"$f":"IF(ISBLANK('Scholars Nomination Form'!N156),\"\",'Scholars Nomination Form'!N156)","v":""},{"$f":"IF(ISBLANK('Scholars Nomination Form'!O156),\"\",'Scholars Nomination Form'!O156)","v":""},{"$f":"IF(ISBLANK('Scholars Nomination Form'!P156),\"\",'Scholars Nomination Form'!P156)","v":""},{"$f":"IF(ISBLANK('Scholars Nomination Form'!Q156),\"\",'Scholars Nomination Form'!Q156)","v":""},{"$f":"IF(ISBLANK('Scholars Nomination Form'!R156),\"\",'Scholars Nomination Form'!R156)","v":""},{"$f":"IF(ISBLANK('Scholars Nomination Form'!S156),\"\",'Scholars Nomination Form'!S156)","v":""},{"$f":"IF(ISBLANK('Scholars Nomination Form'!T156),\"\",'Scholars Nomination Form'!T156)","v":""},{"$f":"IF(ISBLANK('Scholars Nomination Form'!U156),\"\",'Scholars Nomination Form'!U156)","v":""},{"$f":"IF(ISBLANK('Scholars Nomination Form'!V156),\"\",'Scholars Nomination Form'!V156)","v":""},{"$f":"IF(ISBLANK('Scholars Nomination Form'!W156),\"\",'Scholars Nomination Form'!W156)","v":""},{"$f":"IF(ISBLANK('Scholars Nomination Form'!X156),\"\",'Scholars Nomination Form'!X156)","v":""},{"$f":"IF(ISBLANK('Scholars Nomination Form'!Y156),\"\",'Scholars Nomination Form'!Y156)","v":""},{"$f":"IF(ISBLANK('Scholars Nomination Form'!Z156),\"\",'Scholars Nomination Form'!Z156)","v":""},{"$f":"IF(ISBLANK('Scholars Nomination Form'!AA156),\"\",'Scholars Nomination Form'!AA156)","v":""}]
[{"$f":"IF(ISBLANK('Scholars Nomination Form'!$F157),\"\",'Scholars Nomination Form'!$C$11)","v":""},{"$f":"IF(ISBLANK('Scholars Nomination Form'!$F157),\"\",'Scholars Nomination Form'!$C$12)","v":""},{"$f":"IF(ISBLANK('Scholars Nomination Form'!$F157),\"\",'Scholars Nomination Form'!$C$13)","v":""},{"$f":"IF(ISBLANK('Scholars Nomination Form'!$F157),\"\",'Scholars Nomination Form'!$C$14)","v":""},{"$f":"IF(ISBLANK('Scholars Nomination Form'!$F157),\"\",'Scholars Nomination Form'!$C$15)","v":""},{"$f":"IF(ISBLANK('Scholars Nomination Form'!$F157),\"\",'Scholars Nomination Form'!$C$16)","v":""},{"$f":"IF(ISBLANK('Scholars Nomination Form'!B157),\"\",'Scholars Nomination Form'!B157)","v":""},{"$f":"IF(ISBLANK('Scholars Nomination Form'!D157),\"\",'Scholars Nomination Form'!D157)","v":""},{"$f":"IF(ISBLANK('Scholars Nomination Form'!E157),\"\",'Scholars Nomination Form'!E157)","v":""},{"$f":"IF(ISBLANK('Scholars Nomination Form'!F157),\"\",'Scholars Nomination Form'!F157)","v":""},{"$f":"IF(ISBLANK('Scholars Nomination Form'!G157),\"\",'Scholars Nomination Form'!G157)","v":""},{"$f":"IF(ISBLANK('Scholars Nomination Form'!H157),\"\",'Scholars Nomination Form'!H157)","v":""},{"$f":"IF(ISBLANK('Scholars Nomination Form'!I157),\"\",'Scholars Nomination Form'!I157)","v":""},{"$f":"IF(ISBLANK('Scholars Nomination Form'!J157),\"\",'Scholars Nomination Form'!J157)","v":""},{"$f":"IF(ISBLANK('Scholars Nomination Form'!K157),\"\",'Scholars Nomination Form'!K157)","v":""},{"$f":"IF(ISBLANK('Scholars Nomination Form'!L157),\"\",'Scholars Nomination Form'!L157)","v":""},{"$f":"IF(ISBLANK('Scholars Nomination Form'!M157),\"\",'Scholars Nomination Form'!M157)","v":""},{"$f":"IF(ISBLANK('Scholars Nomination Form'!N157),\"\",'Scholars Nomination Form'!N157)","v":""},{"$f":"IF(ISBLANK('Scholars Nomination Form'!O157),\"\",'Scholars Nomination Form'!O157)","v":""},{"$f":"IF(ISBLANK('Scholars Nomination Form'!P157),\"\",'Scholars Nomination Form'!P157)","v":""},{"$f":"IF(ISBLANK('Scholars Nomination Form'!Q157),\"\",'Scholars Nomination Form'!Q157)","v":""},{"$f":"IF(ISBLANK('Scholars Nomination Form'!R157),\"\",'Scholars Nomination Form'!R157)","v":""},{"$f":"IF(ISBLANK('Scholars Nomination Form'!S157),\"\",'Scholars Nomination Form'!S157)","v":""},{"$f":"IF(ISBLANK('Scholars Nomination Form'!T157),\"\",'Scholars Nomination Form'!T157)","v":""},{"$f":"IF(ISBLANK('Scholars Nomination Form'!U157),\"\",'Scholars Nomination Form'!U157)","v":""},{"$f":"IF(ISBLANK('Scholars Nomination Form'!V157),\"\",'Scholars Nomination Form'!V157)","v":""},{"$f":"IF(ISBLANK('Scholars Nomination Form'!W157),\"\",'Scholars Nomination Form'!W157)","v":""},{"$f":"IF(ISBLANK('Scholars Nomination Form'!X157),\"\",'Scholars Nomination Form'!X157)","v":""},{"$f":"IF(ISBLANK('Scholars Nomination Form'!Y157),\"\",'Scholars Nomination Form'!Y157)","v":""},{"$f":"IF(ISBLANK('Scholars Nomination Form'!Z157),\"\",'Scholars Nomination Form'!Z157)","v":""},{"$f":"IF(ISBLANK('Scholars Nomination Form'!AA157),\"\",'Scholars Nomination Form'!AA157)","v":""}]
[{"$f":"IF(ISBLANK('Scholars Nomination Form'!$F158),\"\",'Scholars Nomination Form'!$C$11)","v":""},{"$f":"IF(ISBLANK('Scholars Nomination Form'!$F158),\"\",'Scholars Nomination Form'!$C$12)","v":""},{"$f":"IF(ISBLANK('Scholars Nomination Form'!$F158),\"\",'Scholars Nomination Form'!$C$13)","v":""},{"$f":"IF(ISBLANK('Scholars Nomination Form'!$F158),\"\",'Scholars Nomination Form'!$C$14)","v":""},{"$f":"IF(ISBLANK('Scholars Nomination Form'!$F158),\"\",'Scholars Nomination Form'!$C$15)","v":""},{"$f":"IF(ISBLANK('Scholars Nomination Form'!$F158),\"\",'Scholars Nomination Form'!$C$16)","v":""},{"$f":"IF(ISBLANK('Scholars Nomination Form'!B158),\"\",'Scholars Nomination Form'!B158)","v":""},{"$f":"IF(ISBLANK('Scholars Nomination Form'!D158),\"\",'Scholars Nomination Form'!D158)","v":""},{"$f":"IF(ISBLANK('Scholars Nomination Form'!E158),\"\",'Scholars Nomination Form'!E158)","v":""},{"$f":"IF(ISBLANK('Scholars Nomination Form'!F158),\"\",'Scholars Nomination Form'!F158)","v":""},{"$f":"IF(ISBLANK('Scholars Nomination Form'!G158),\"\",'Scholars Nomination Form'!G158)","v":""},{"$f":"IF(ISBLANK('Scholars Nomination Form'!H158),\"\",'Scholars Nomination Form'!H158)","v":""},{"$f":"IF(ISBLANK('Scholars Nomination Form'!I158),\"\",'Scholars Nomination Form'!I158)","v":""},{"$f":"IF(ISBLANK('Scholars Nomination Form'!J158),\"\",'Scholars Nomination Form'!J158)","v":""},{"$f":"IF(ISBLANK('Scholars Nomination Form'!K158),\"\",'Scholars Nomination Form'!K158)","v":""},{"$f":"IF(ISBLANK('Scholars Nomination Form'!L158),\"\",'Scholars Nomination Form'!L158)","v":""},{"$f":"IF(ISBLANK('Scholars Nomination Form'!M158),\"\",'Scholars Nomination Form'!M158)","v":""},{"$f":"IF(ISBLANK('Scholars Nomination Form'!N158),\"\",'Scholars Nomination Form'!N158)","v":""},{"$f":"IF(ISBLANK('Scholars Nomination Form'!O158),\"\",'Scholars Nomination Form'!O158)","v":""},{"$f":"IF(ISBLANK('Scholars Nomination Form'!P158),\"\",'Scholars Nomination Form'!P158)","v":""},{"$f":"IF(ISBLANK('Scholars Nomination Form'!Q158),\"\",'Scholars Nomination Form'!Q158)","v":""},{"$f":"IF(ISBLANK('Scholars Nomination Form'!R158),\"\",'Scholars Nomination Form'!R158)","v":""},{"$f":"IF(ISBLANK('Scholars Nomination Form'!S158),\"\",'Scholars Nomination Form'!S158)","v":""},{"$f":"IF(ISBLANK('Scholars Nomination Form'!T158),\"\",'Scholars Nomination Form'!T158)","v":""},{"$f":"IF(ISBLANK('Scholars Nomination Form'!U158),\"\",'Scholars Nomination Form'!U158)","v":""},{"$f":"IF(ISBLANK('Scholars Nomination Form'!V158),\"\",'Scholars Nomination Form'!V158)","v":""},{"$f":"IF(ISBLANK('Scholars Nomination Form'!W158),\"\",'Scholars Nomination Form'!W158)","v":""},{"$f":"IF(ISBLANK('Scholars Nomination Form'!X158),\"\",'Scholars Nomination Form'!X158)","v":""},{"$f":"IF(ISBLANK('Scholars Nomination Form'!Y158),\"\",'Scholars Nomination Form'!Y158)","v":""},{"$f":"IF(ISBLANK('Scholars Nomination Form'!Z158),\"\",'Scholars Nomination Form'!Z158)","v":""},{"$f":"IF(ISBLANK('Scholars Nomination Form'!AA158),\"\",'Scholars Nomination Form'!AA158)","v":""}]
[{"$f":"IF(ISBLANK('Scholars Nomination Form'!$F159),\"\",'Scholars Nomination Form'!$C$11)","v":""},{"$f":"IF(ISBLANK('Scholars Nomination Form'!$F159),\"\",'Scholars Nomination Form'!$C$12)","v":""},{"$f":"IF(ISBLANK('Scholars Nomination Form'!$F159),\"\",'Scholars Nomination Form'!$C$13)","v":""},{"$f":"IF(ISBLANK('Scholars Nomination Form'!$F159),\"\",'Scholars Nomination Form'!$C$14)","v":""},{"$f":"IF(ISBLANK('Scholars Nomination Form'!$F159),\"\",'Scholars Nomination Form'!$C$15)","v":""},{"$f":"IF(ISBLANK('Scholars Nomination Form'!$F159),\"\",'Scholars Nomination Form'!$C$16)","v":""},{"$f":"IF(ISBLANK('Scholars Nomination Form'!B159),\"\",'Scholars Nomination Form'!B159)","v":""},{"$f":"IF(ISBLANK('Scholars Nomination Form'!D159),\"\",'Scholars Nomination Form'!D159)","v":""},{"$f":"IF(ISBLANK('Scholars Nomination Form'!E159),\"\",'Scholars Nomination Form'!E159)","v":""},{"$f":"IF(ISBLANK('Scholars Nomination Form'!F159),\"\",'Scholars Nomination Form'!F159)","v":""},{"$f":"IF(ISBLANK('Scholars Nomination Form'!G159),\"\",'Scholars Nomination Form'!G159)","v":""},{"$f":"IF(ISBLANK('Scholars Nomination Form'!H159),\"\",'Scholars Nomination Form'!H159)","v":""},{"$f":"IF(ISBLANK('Scholars Nomination Form'!I159),\"\",'Scholars Nomination Form'!I159)","v":""},{"$f":"IF(ISBLANK('Scholars Nomination Form'!J159),\"\",'Scholars Nomination Form'!J159)","v":""},{"$f":"IF(ISBLANK('Scholars Nomination Form'!K159),\"\",'Scholars Nomination Form'!K159)","v":""},{"$f":"IF(ISBLANK('Scholars Nomination Form'!L159),\"\",'Scholars Nomination Form'!L159)","v":""},{"$f":"IF(ISBLANK('Scholars Nomination Form'!M159),\"\",'Scholars Nomination Form'!M159)","v":""},{"$f":"IF(ISBLANK('Scholars Nomination Form'!N159),\"\",'Scholars Nomination Form'!N159)","v":""},{"$f":"IF(ISBLANK('Scholars Nomination Form'!O159),\"\",'Scholars Nomination Form'!O159)","v":""},{"$f":"IF(ISBLANK('Scholars Nomination Form'!P159),\"\",'Scholars Nomination Form'!P159)","v":""},{"$f":"IF(ISBLANK('Scholars Nomination Form'!Q159),\"\",'Scholars Nomination Form'!Q159)","v":""},{"$f":"IF(ISBLANK('Scholars Nomination Form'!R159),\"\",'Scholars Nomination Form'!R159)","v":""},{"$f":"IF(ISBLANK('Scholars Nomination Form'!S159),\"\",'Scholars Nomination Form'!S159)","v":""},{"$f":"IF(ISBLANK('Scholars Nomination Form'!T159),\"\",'Scholars Nomination Form'!T159)","v":""},{"$f":"IF(ISBLANK('Scholars Nomination Form'!U159),\"\",'Scholars Nomination Form'!U159)","v":""},{"$f":"IF(ISBLANK('Scholars Nomination Form'!V159),\"\",'Scholars Nomination Form'!V159)","v":""},{"$f":"IF(ISBLANK('Scholars Nomination Form'!W159),\"\",'Scholars Nomination Form'!W159)","v":""},{"$f":"IF(ISBLANK('Scholars Nomination Form'!X159),\"\",'Scholars Nomination Form'!X159)","v":""},{"$f":"IF(ISBLANK('Scholars Nomination Form'!Y159),\"\",'Scholars Nomination Form'!Y159)","v":""},{"$f":"IF(ISBLANK('Scholars Nomination Form'!Z159),\"\",'Scholars Nomination Form'!Z159)","v":""},{"$f":"IF(ISBLANK('Scholars Nomination Form'!AA159),\"\",'Scholars Nomination Form'!AA159)","v":""}]
[{"$f":"IF(ISBLANK('Scholars Nomination Form'!$F160),\"\",'Scholars Nomination Form'!$C$11)","v":""},{"$f":"IF(ISBLANK('Scholars Nomination Form'!$F160),\"\",'Scholars Nomination Form'!$C$12)","v":""},{"$f":"IF(ISBLANK('Scholars Nomination Form'!$F160),\"\",'Scholars Nomination Form'!$C$13)","v":""},{"$f":"IF(ISBLANK('Scholars Nomination Form'!$F160),\"\",'Scholars Nomination Form'!$C$14)","v":""},{"$f":"IF(ISBLANK('Scholars Nomination Form'!$F160),\"\",'Scholars Nomination Form'!$C$15)","v":""},{"$f":"IF(ISBLANK('Scholars Nomination Form'!$F160),\"\",'Scholars Nomination Form'!$C$16)","v":""},{"$f":"IF(ISBLANK('Scholars Nomination Form'!B160),\"\",'Scholars Nomination Form'!B160)","v":""},{"$f":"IF(ISBLANK('Scholars Nomination Form'!D160),\"\",'Scholars Nomination Form'!D160)","v":""},{"$f":"IF(ISBLANK('Scholars Nomination Form'!E160),\"\",'Scholars Nomination Form'!E160)","v":""},{"$f":"IF(ISBLANK('Scholars Nomination Form'!F160),\"\",'Scholars Nomination Form'!F160)","v":""},{"$f":"IF(ISBLANK('Scholars Nomination Form'!G160),\"\",'Scholars Nomination Form'!G160)","v":""},{"$f":"IF(ISBLANK('Scholars Nomination Form'!H160),\"\",'Scholars Nomination Form'!H160)","v":""},{"$f":"IF(ISBLANK('Scholars Nomination Form'!I160),\"\",'Scholars Nomination Form'!I160)","v":""},{"$f":"IF(ISBLANK('Scholars Nomination Form'!J160),\"\",'Scholars Nomination Form'!J160)","v":""},{"$f":"IF(ISBLANK('Scholars Nomination Form'!K160),\"\",'Scholars Nomination Form'!K160)","v":""},{"$f":"IF(ISBLANK('Scholars Nomination Form'!L160),\"\",'Scholars Nomination Form'!L160)","v":""},{"$f":"IF(ISBLANK('Scholars Nomination Form'!M160),\"\",'Scholars Nomination Form'!M160)","v":""},{"$f":"IF(ISBLANK('Scholars Nomination Form'!N160),\"\",'Scholars Nomination Form'!N160)","v":""},{"$f":"IF(ISBLANK('Scholars Nomination Form'!O160),\"\",'Scholars Nomination Form'!O160)","v":""},{"$f":"IF(ISBLANK('Scholars Nomination Form'!P160),\"\",'Scholars Nomination Form'!P160)","v":""},{"$f":"IF(ISBLANK('Scholars Nomination Form'!Q160),\"\",'Scholars Nomination Form'!Q160)","v":""},{"$f":"IF(ISBLANK('Scholars Nomination Form'!R160),\"\",'Scholars Nomination Form'!R160)","v":""},{"$f":"IF(ISBLANK('Scholars Nomination Form'!S160),\"\",'Scholars Nomination Form'!S160)","v":""},{"$f":"IF(ISBLANK('Scholars Nomination Form'!T160),\"\",'Scholars Nomination Form'!T160)","v":""},{"$f":"IF(ISBLANK('Scholars Nomination Form'!U160),\"\",'Scholars Nomination Form'!U160)","v":""},{"$f":"IF(ISBLANK('Scholars Nomination Form'!V160),\"\",'Scholars Nomination Form'!V160)","v":""},{"$f":"IF(ISBLANK('Scholars Nomination Form'!W160),\"\",'Scholars Nomination Form'!W160)","v":""},{"$f":"IF(ISBLANK('Scholars Nomination Form'!X160),\"\",'Scholars Nomination Form'!X160)","v":""},{"$f":"IF(ISBLANK('Scholars Nomination Form'!Y160),\"\",'Scholars Nomination Form'!Y160)","v":""},{"$f":"IF(ISBLANK('Scholars Nomination Form'!Z160),\"\",'Scholars Nomination Form'!Z160)","v":""},{"$f":"IF(ISBLANK('Scholars Nomination Form'!AA160),\"\",'Scholars Nomination Form'!AA160)","v":""}]
[{"$f":"IF(ISBLANK('Scholars Nomination Form'!$F161),\"\",'Scholars Nomination Form'!$C$11)","v":""},{"$f":"IF(ISBLANK('Scholars Nomination Form'!$F161),\"\",'Scholars Nomination Form'!$C$12)","v":""},{"$f":"IF(ISBLANK('Scholars Nomination Form'!$F161),\"\",'Scholars Nomination Form'!$C$13)","v":""},{"$f":"IF(ISBLANK('Scholars Nomination Form'!$F161),\"\",'Scholars Nomination Form'!$C$14)","v":""},{"$f":"IF(ISBLANK('Scholars Nomination Form'!$F161),\"\",'Scholars Nomination Form'!$C$15)","v":""},{"$f":"IF(ISBLANK('Scholars Nomination Form'!$F161),\"\",'Scholars Nomination Form'!$C$16)","v":""},{"$f":"IF(ISBLANK('Scholars Nomination Form'!B161),\"\",'Scholars Nomination Form'!B161)","v":""},{"$f":"IF(ISBLANK('Scholars Nomination Form'!D161),\"\",'Scholars Nomination Form'!D161)","v":""},{"$f":"IF(ISBLANK('Scholars Nomination Form'!E161),\"\",'Scholars Nomination Form'!E161)","v":""},{"$f":"IF(ISBLANK('Scholars Nomination Form'!F161),\"\",'Scholars Nomination Form'!F161)","v":""},{"$f":"IF(ISBLANK('Scholars Nomination Form'!G161),\"\",'Scholars Nomination Form'!G161)","v":""},{"$f":"IF(ISBLANK('Scholars Nomination Form'!H161),\"\",'Scholars Nomination Form'!H161)","v":""},{"$f":"IF(ISBLANK('Scholars Nomination Form'!I161),\"\",'Scholars Nomination Form'!I161)","v":""},{"$f":"IF(ISBLANK('Scholars Nomination Form'!J161),\"\",'Scholars Nomination Form'!J161)","v":""},{"$f":"IF(ISBLANK('Scholars Nomination Form'!K161),\"\",'Scholars Nomination Form'!K161)","v":""},{"$f":"IF(ISBLANK('Scholars Nomination Form'!L161),\"\",'Scholars Nomination Form'!L161)","v":""},{"$f":"IF(ISBLANK('Scholars Nomination Form'!M161),\"\",'Scholars Nomination Form'!M161)","v":""},{"$f":"IF(ISBLANK('Scholars Nomination Form'!N161),\"\",'Scholars Nomination Form'!N161)","v":""},{"$f":"IF(ISBLANK('Scholars Nomination Form'!O161),\"\",'Scholars Nomination Form'!O161)","v":""},{"$f":"IF(ISBLANK('Scholars Nomination Form'!P161),\"\",'Scholars Nomination Form'!P161)","v":""},{"$f":"IF(ISBLANK('Scholars Nomination Form'!Q161),\"\",'Scholars Nomination Form'!Q161)","v":""},{"$f":"IF(ISBLANK('Scholars Nomination Form'!R161),\"\",'Scholars Nomination Form'!R161)","v":""},{"$f":"IF(ISBLANK('Scholars Nomination Form'!S161),\"\",'Scholars Nomination Form'!S161)","v":""},{"$f":"IF(ISBLANK('Scholars Nomination Form'!T161),\"\",'Scholars Nomination Form'!T161)","v":""},{"$f":"IF(ISBLANK('Scholars Nomination Form'!U161),\"\",'Scholars Nomination Form'!U161)","v":""},{"$f":"IF(ISBLANK('Scholars Nomination Form'!V161),\"\",'Scholars Nomination Form'!V161)","v":""},{"$f":"IF(ISBLANK('Scholars Nomination Form'!W161),\"\",'Scholars Nomination Form'!W161)","v":""},{"$f":"IF(ISBLANK('Scholars Nomination Form'!X161),\"\",'Scholars Nomination Form'!X161)","v":""},{"$f":"IF(ISBLANK('Scholars Nomination Form'!Y161),\"\",'Scholars Nomination Form'!Y161)","v":""},{"$f":"IF(ISBLANK('Scholars Nomination Form'!Z161),\"\",'Scholars Nomination Form'!Z161)","v":""},{"$f":"IF(ISBLANK('Scholars Nomination Form'!AA161),\"\",'Scholars Nomination Form'!AA161)","v":""}]
[{"$f":"IF(ISBLANK('Scholars Nomination Form'!$F162),\"\",'Scholars Nomination Form'!$C$11)","v":""},{"$f":"IF(ISBLANK('Scholars Nomination Form'!$F162),\"\",'Scholars Nomination Form'!$C$12)","v":""},{"$f":"IF(ISBLANK('Scholars Nomination Form'!$F162),\"\",'Scholars Nomination Form'!$C$13)","v":""},{"$f":"IF(ISBLANK('Scholars Nomination Form'!$F162),\"\",'Scholars Nomination Form'!$C$14)","v":""},{"$f":"IF(ISBLANK('Scholars Nomination Form'!$F162),\"\",'Scholars Nomination Form'!$C$15)","v":""},{"$f":"IF(ISBLANK('Scholars Nomination Form'!$F162),\"\",'Scholars Nomination Form'!$C$16)","v":""},{"$f":"IF(ISBLANK('Scholars Nomination Form'!B162),\"\",'Scholars Nomination Form'!B162)","v":""},{"$f":"IF(ISBLANK('Scholars Nomination Form'!D162),\"\",'Scholars Nomination Form'!D162)","v":""},{"$f":"IF(ISBLANK('Scholars Nomination Form'!E162),\"\",'Scholars Nomination Form'!E162)","v":""},{"$f":"IF(ISBLANK('Scholars Nomination Form'!F162),\"\",'Scholars Nomination Form'!F162)","v":""},{"$f":"IF(ISBLANK('Scholars Nomination Form'!G162),\"\",'Scholars Nomination Form'!G162)","v":""},{"$f":"IF(ISBLANK('Scholars Nomination Form'!H162),\"\",'Scholars Nomination Form'!H162)","v":""},{"$f":"IF(ISBLANK('Scholars Nomination Form'!I162),\"\",'Scholars Nomination Form'!I162)","v":""},{"$f":"IF(ISBLANK('Scholars Nomination Form'!J162),\"\",'Scholars Nomination Form'!J162)","v":""},{"$f":"IF(ISBLANK('Scholars Nomination Form'!K162),\"\",'Scholars Nomination Form'!K162)","v":""},{"$f":"IF(ISBLANK('Scholars Nomination Form'!L162),\"\",'Scholars Nomination Form'!L162)","v":""},{"$f":"IF(ISBLANK('Scholars Nomination Form'!M162),\"\",'Scholars Nomination Form'!M162)","v":""},{"$f":"IF(ISBLANK('Scholars Nomination Form'!N162),\"\",'Scholars Nomination Form'!N162)","v":""},{"$f":"IF(ISBLANK('Scholars Nomination Form'!O162),\"\",'Scholars Nomination Form'!O162)","v":""},{"$f":"IF(ISBLANK('Scholars Nomination Form'!P162),\"\",'Scholars Nomination Form'!P162)","v":""},{"$f":"IF(ISBLANK('Scholars Nomination Form'!Q162),\"\",'Scholars Nomination Form'!Q162)","v":""},{"$f":"IF(ISBLANK('Scholars Nomination Form'!R162),\"\",'Scholars Nomination Form'!R162)","v":""},{"$f":"IF(ISBLANK('Scholars Nomination Form'!S162),\"\",'Scholars Nomination Form'!S162)","v":""},{"$f":"IF(ISBLANK('Scholars Nomination Form'!T162),\"\",'Scholars Nomination Form'!T162)","v":""},{"$f":"IF(ISBLANK('Scholars Nomination Form'!U162),\"\",'Scholars Nomination Form'!U162)","v":""},{"$f":"IF(ISBLANK('Scholars Nomination Form'!V162),\"\",'Scholars Nomination Form'!V162)","v":""},{"$f":"IF(ISBLANK('Scholars Nomination Form'!W162),\"\",'Scholars Nomination Form'!W162)","v":""},{"$f":"IF(ISBLANK('Scholars Nomination Form'!X162),\"\",'Scholars Nomination Form'!X162)","v":""},{"$f":"IF(ISBLANK('Scholars Nomination Form'!Y162),\"\",'Scholars Nomination Form'!Y162)","v":""},{"$f":"IF(ISBLANK('Scholars Nomination Form'!Z162),\"\",'Scholars Nomination Form'!Z162)","v":""},{"$f":"IF(ISBLANK('Scholars Nomination Form'!AA162),\"\",'Scholars Nomination Form'!AA162)","v":""}]
[{"$f":"IF(ISBLANK('Scholars Nomination Form'!$F163),\"\",'Scholars Nomination Form'!$C$11)","v":""},{"$f":"IF(ISBLANK('Scholars Nomination Form'!$F163),\"\",'Scholars Nomination Form'!$C$12)","v":""},{"$f":"IF(ISBLANK('Scholars Nomination Form'!$F163),\"\",'Scholars Nomination Form'!$C$13)","v":""},{"$f":"IF(ISBLANK('Scholars Nomination Form'!$F163),\"\",'Scholars Nomination Form'!$C$14)","v":""},{"$f":"IF(ISBLANK('Scholars Nomination Form'!$F163),\"\",'Scholars Nomination Form'!$C$15)","v":""},{"$f":"IF(ISBLANK('Scholars Nomination Form'!$F163),\"\",'Scholars Nomination Form'!$C$16)","v":""},{"$f":"IF(ISBLANK('Scholars Nomination Form'!B163),\"\",'Scholars Nomination Form'!B163)","v":""},{"$f":"IF(ISBLANK('Scholars Nomination Form'!D163),\"\",'Scholars Nomination Form'!D163)","v":""},{"$f":"IF(ISBLANK('Scholars Nomination Form'!E163),\"\",'Scholars Nomination Form'!E163)","v":""},{"$f":"IF(ISBLANK('Scholars Nomination Form'!F163),\"\",'Scholars Nomination Form'!F163)","v":""},{"$f":"IF(ISBLANK('Scholars Nomination Form'!G163),\"\",'Scholars Nomination Form'!G163)","v":""},{"$f":"IF(ISBLANK('Scholars Nomination Form'!H163),\"\",'Scholars Nomination Form'!H163)","v":""},{"$f":"IF(ISBLANK('Scholars Nomination Form'!I163),\"\",'Scholars Nomination Form'!I163)","v":""},{"$f":"IF(ISBLANK('Scholars Nomination Form'!J163),\"\",'Scholars Nomination Form'!J163)","v":""},{"$f":"IF(ISBLANK('Scholars Nomination Form'!K163),\"\",'Scholars Nomination Form'!K163)","v":""},{"$f":"IF(ISBLANK('Scholars Nomination Form'!L163),\"\",'Scholars Nomination Form'!L163)","v":""},{"$f":"IF(ISBLANK('Scholars Nomination Form'!M163),\"\",'Scholars Nomination Form'!M163)","v":""},{"$f":"IF(ISBLANK('Scholars Nomination Form'!N163),\"\",'Scholars Nomination Form'!N163)","v":""},{"$f":"IF(ISBLANK('Scholars Nomination Form'!O163),\"\",'Scholars Nomination Form'!O163)","v":""},{"$f":"IF(ISBLANK('Scholars Nomination Form'!P163),\"\",'Scholars Nomination Form'!P163)","v":""},{"$f":"IF(ISBLANK('Scholars Nomination Form'!Q163),\"\",'Scholars Nomination Form'!Q163)","v":""},{"$f":"IF(ISBLANK('Scholars Nomination Form'!R163),\"\",'Scholars Nomination Form'!R163)","v":""},{"$f":"IF(ISBLANK('Scholars Nomination Form'!S163),\"\",'Scholars Nomination Form'!S163)","v":""},{"$f":"IF(ISBLANK('Scholars Nomination Form'!T163),\"\",'Scholars Nomination Form'!T163)","v":""},{"$f":"IF(ISBLANK('Scholars Nomination Form'!U163),\"\",'Scholars Nomination Form'!U163)","v":""},{"$f":"IF(ISBLANK('Scholars Nomination Form'!V163),\"\",'Scholars Nomination Form'!V163)","v":""},{"$f":"IF(ISBLANK('Scholars Nomination Form'!W163),\"\",'Scholars Nomination Form'!W163)","v":""},{"$f":"IF(ISBLANK('Scholars Nomination Form'!X163),\"\",'Scholars Nomination Form'!X163)","v":""},{"$f":"IF(ISBLANK('Scholars Nomination Form'!Y163),\"\",'Scholars Nomination Form'!Y163)","v":""},{"$f":"IF(ISBLANK('Scholars Nomination Form'!Z163),\"\",'Scholars Nomination Form'!Z163)","v":""},{"$f":"IF(ISBLANK('Scholars Nomination Form'!AA163),\"\",'Scholars Nomination Form'!AA163)","v":""}]
[{"$f":"IF(ISBLANK('Scholars Nomination Form'!$F164),\"\",'Scholars Nomination Form'!$C$11)","v":""},{"$f":"IF(ISBLANK('Scholars Nomination Form'!$F164),\"\",'Scholars Nomination Form'!$C$12)","v":""},{"$f":"IF(ISBLANK('Scholars Nomination Form'!$F164),\"\",'Scholars Nomination Form'!$C$13)","v":""},{"$f":"IF(ISBLANK('Scholars Nomination Form'!$F164),\"\",'Scholars Nomination Form'!$C$14)","v":""},{"$f":"IF(ISBLANK('Scholars Nomination Form'!$F164),\"\",'Scholars Nomination Form'!$C$15)","v":""},{"$f":"IF(ISBLANK('Scholars Nomination Form'!$F164),\"\",'Scholars Nomination Form'!$C$16)","v":""},{"$f":"IF(ISBLANK('Scholars Nomination Form'!B164),\"\",'Scholars Nomination Form'!B164)","v":""},{"$f":"IF(ISBLANK('Scholars Nomination Form'!D164),\"\",'Scholars Nomination Form'!D164)","v":""},{"$f":"IF(ISBLANK('Scholars Nomination Form'!E164),\"\",'Scholars Nomination Form'!E164)","v":""},{"$f":"IF(ISBLANK('Scholars Nomination Form'!F164),\"\",'Scholars Nomination Form'!F164)","v":""},{"$f":"IF(ISBLANK('Scholars Nomination Form'!G164),\"\",'Scholars Nomination Form'!G164)","v":""},{"$f":"IF(ISBLANK('Scholars Nomination Form'!H164),\"\",'Scholars Nomination Form'!H164)","v":""},{"$f":"IF(ISBLANK('Scholars Nomination Form'!I164),\"\",'Scholars Nomination Form'!I164)","v":""},{"$f":"IF(ISBLANK('Scholars Nomination Form'!J164),\"\",'Scholars Nomination Form'!J164)","v":""},{"$f":"IF(ISBLANK('Scholars Nomination Form'!K164),\"\",'Scholars Nomination Form'!K164)","v":""},{"$f":"IF(ISBLANK('Scholars Nomination Form'!L164),\"\",'Scholars Nomination Form'!L164)","v":""},{"$f":"IF(ISBLANK('Scholars Nomination Form'!M164),\"\",'Scholars Nomination Form'!M164)","v":""},{"$f":"IF(ISBLANK('Scholars Nomination Form'!N164),\"\",'Scholars Nomination Form'!N164)","v":""},{"$f":"IF(ISBLANK('Scholars Nomination Form'!O164),\"\",'Scholars Nomination Form'!O164)","v":""},{"$f":"IF(ISBLANK('Scholars Nomination Form'!P164),\"\",'Scholars Nomination Form'!P164)","v":""},{"$f":"IF(ISBLANK('Scholars Nomination Form'!Q164),\"\",'Scholars Nomination Form'!Q164)","v":""},{"$f":"IF(ISBLANK('Scholars Nomination Form'!R164),\"\",'Scholars Nomination Form'!R164)","v":""},{"$f":"IF(ISBLANK('Scholars Nomination Form'!S164),\"\",'Scholars Nomination Form'!S164)","v":""},{"$f":"IF(ISBLANK('Scholars Nomination Form'!T164),\"\",'Scholars Nomination Form'!T164)","v":""},{"$f":"IF(ISBLANK('Scholars Nomination Form'!U164),\"\",'Scholars Nomination Form'!U164)","v":""},{"$f":"IF(ISBLANK('Scholars Nomination Form'!V164),\"\",'Scholars Nomination Form'!V164)","v":""},{"$f":"IF(ISBLANK('Scholars Nomination Form'!W164),\"\",'Scholars Nomination Form'!W164)","v":""},{"$f":"IF(ISBLANK('Scholars Nomination Form'!X164),\"\",'Scholars Nomination Form'!X164)","v":""},{"$f":"IF(ISBLANK('Scholars Nomination Form'!Y164),\"\",'Scholars Nomination Form'!Y164)","v":""},{"$f":"IF(ISBLANK('Scholars Nomination Form'!Z164),\"\",'Scholars Nomination Form'!Z164)","v":""},{"$f":"IF(ISBLANK('Scholars Nomination Form'!AA164),\"\",'Scholars Nomination Form'!AA164)","v":""}]
[{"$f":"IF(ISBLANK('Scholars Nomination Form'!$F165),\"\",'Scholars Nomination Form'!$C$11)","v":""},{"$f":"IF(ISBLANK('Scholars Nomination Form'!$F165),\"\",'Scholars Nomination Form'!$C$12)","v":""},{"$f":"IF(ISBLANK('Scholars Nomination Form'!$F165),\"\",'Scholars Nomination Form'!$C$13)","v":""},{"$f":"IF(ISBLANK('Scholars Nomination Form'!$F165),\"\",'Scholars Nomination Form'!$C$14)","v":""},{"$f":"IF(ISBLANK('Scholars Nomination Form'!$F165),\"\",'Scholars Nomination Form'!$C$15)","v":""},{"$f":"IF(ISBLANK('Scholars Nomination Form'!$F165),\"\",'Scholars Nomination Form'!$C$16)","v":""},{"$f":"IF(ISBLANK('Scholars Nomination Form'!B165),\"\",'Scholars Nomination Form'!B165)","v":""},{"$f":"IF(ISBLANK('Scholars Nomination Form'!D165),\"\",'Scholars Nomination Form'!D165)","v":""},{"$f":"IF(ISBLANK('Scholars Nomination Form'!E165),\"\",'Scholars Nomination Form'!E165)","v":""},{"$f":"IF(ISBLANK('Scholars Nomination Form'!F165),\"\",'Scholars Nomination Form'!F165)","v":""},{"$f":"IF(ISBLANK('Scholars Nomination Form'!G165),\"\",'Scholars Nomination Form'!G165)","v":""},{"$f":"IF(ISBLANK('Scholars Nomination Form'!H165),\"\",'Scholars Nomination Form'!H165)","v":""},{"$f":"IF(ISBLANK('Scholars Nomination Form'!I165),\"\",'Scholars Nomination Form'!I165)","v":""},{"$f":"IF(ISBLANK('Scholars Nomination Form'!J165),\"\",'Scholars Nomination Form'!J165)","v":""},{"$f":"IF(ISBLANK('Scholars Nomination Form'!K165),\"\",'Scholars Nomination Form'!K165)","v":""},{"$f":"IF(ISBLANK('Scholars Nomination Form'!L165),\"\",'Scholars Nomination Form'!L165)","v":""},{"$f":"IF(ISBLANK('Scholars Nomination Form'!M165),\"\",'Scholars Nomination Form'!M165)","v":""},{"$f":"IF(ISBLANK('Scholars Nomination Form'!N165),\"\",'Scholars Nomination Form'!N165)","v":""},{"$f":"IF(ISBLANK('Scholars Nomination Form'!O165),\"\",'Scholars Nomination Form'!O165)","v":""},{"$f":"IF(ISBLANK('Scholars Nomination Form'!P165),\"\",'Scholars Nomination Form'!P165)","v":""},{"$f":"IF(ISBLANK('Scholars Nomination Form'!Q165),\"\",'Scholars Nomination Form'!Q165)","v":""},{"$f":"IF(ISBLANK('Scholars Nomination Form'!R165),\"\",'Scholars Nomination Form'!R165)","v":""},{"$f":"IF(ISBLANK('Scholars Nomination Form'!S165),\"\",'Scholars Nomination Form'!S165)","v":""},{"$f":"IF(ISBLANK('Scholars Nomination Form'!T165),\"\",'Scholars Nomination Form'!T165)","v":""},{"$f":"IF(ISBLANK('Scholars Nomination Form'!U165),\"\",'Scholars Nomination Form'!U165)","v":""},{"$f":"IF(ISBLANK('Scholars Nomination Form'!V165),\"\",'Scholars Nomination Form'!V165)","v":""},{"$f":"IF(ISBLANK('Scholars Nomination Form'!W165),\"\",'Scholars Nomination Form'!W165)","v":""},{"$f":"IF(ISBLANK('Scholars Nomination Form'!X165),\"\",'Scholars Nomination Form'!X165)","v":""},{"$f":"IF(ISBLANK('Scholars Nomination Form'!Y165),\"\",'Scholars Nomination Form'!Y165)","v":""},{"$f":"IF(ISBLANK('Scholars Nomination Form'!Z165),\"\",'Scholars Nomination Form'!Z165)","v":""},{"$f":"IF(ISBLANK('Scholars Nomination Form'!AA165),\"\",'Scholars Nomination Form'!AA165)","v":""}]
[{"$f":"IF(ISBLANK('Scholars Nomination Form'!$F166),\"\",'Scholars Nomination Form'!$C$11)","v":""},{"$f":"IF(ISBLANK('Scholars Nomination Form'!$F166),\"\",'Scholars Nomination Form'!$C$12)","v":""},{"$f":"IF(ISBLANK('Scholars Nomination Form'!$F166),\"\",'Scholars Nomination Form'!$C$13)","v":""},{"$f":"IF(ISBLANK('Scholars Nomination Form'!$F166),\"\",'Scholars Nomination Form'!$C$14)","v":""},{"$f":"IF(ISBLANK('Scholars Nomination Form'!$F166),\"\",'Scholars Nomination Form'!$C$15)","v":""},{"$f":"IF(ISBLANK('Scholars Nomination Form'!$F166),\"\",'Scholars Nomination Form'!$C$16)","v":""},{"$f":"IF(ISBLANK('Scholars Nomination Form'!B166),\"\",'Scholars Nomination Form'!B166)","v":""},{"$f":"IF(ISBLANK('Scholars Nomination Form'!D166),\"\",'Scholars Nomination Form'!D166)","v":""},{"$f":"IF(ISBLANK('Scholars Nomination Form'!E166),\"\",'Scholars Nomination Form'!E166)","v":""},{"$f":"IF(ISBLANK('Scholars Nomination Form'!F166),\"\",'Scholars Nomination Form'!F166)","v":""},{"$f":"IF(ISBLANK('Scholars Nomination Form'!G166),\"\",'Scholars Nomination Form'!G166)","v":""},{"$f":"IF(ISBLANK('Scholars Nomination Form'!H166),\"\",'Scholars Nomination Form'!H166)","v":""},{"$f":"IF(ISBLANK('Scholars Nomination Form'!I166),\"\",'Scholars Nomination Form'!I166)","v":""},{"$f":"IF(ISBLANK('Scholars Nomination Form'!J166),\"\",'Scholars Nomination Form'!J166)","v":""},{"$f":"IF(ISBLANK('Scholars Nomination Form'!K166),\"\",'Scholars Nomination Form'!K166)","v":""},{"$f":"IF(ISBLANK('Scholars Nomination Form'!L166),\"\",'Scholars Nomination Form'!L166)","v":""},{"$f":"IF(ISBLANK('Scholars Nomination Form'!M166),\"\",'Scholars Nomination Form'!M166)","v":""},{"$f":"IF(ISBLANK('Scholars Nomination Form'!N166),\"\",'Scholars Nomination Form'!N166)","v":""},{"$f":"IF(ISBLANK('Scholars Nomination Form'!O166),\"\",'Scholars Nomination Form'!O166)","v":""},{"$f":"IF(ISBLANK('Scholars Nomination Form'!P166),\"\",'Scholars Nomination Form'!P166)","v":""},{"$f":"IF(ISBLANK('Scholars Nomination Form'!Q166),\"\",'Scholars Nomination Form'!Q166)","v":""},{"$f":"IF(ISBLANK('Scholars Nomination Form'!R166),\"\",'Scholars Nomination Form'!R166)","v":""},{"$f":"IF(ISBLANK('Scholars Nomination Form'!S166),\"\",'Scholars Nomination Form'!S166)","v":""},{"$f":"IF(ISBLANK('Scholars Nomination Form'!T166),\"\",'Scholars Nomination Form'!T166)","v":""},{"$f":"IF(ISBLANK('Scholars Nomination Form'!U166),\"\",'Scholars Nomination Form'!U166)","v":""},{"$f":"IF(ISBLANK('Scholars Nomination Form'!V166),\"\",'Scholars Nomination Form'!V166)","v":""},{"$f":"IF(ISBLANK('Scholars Nomination Form'!W166),\"\",'Scholars Nomination Form'!W166)","v":""},{"$f":"IF(ISBLANK('Scholars Nomination Form'!X166),\"\",'Scholars Nomination Form'!X166)","v":""},{"$f":"IF(ISBLANK('Scholars Nomination Form'!Y166),\"\",'Scholars Nomination Form'!Y166)","v":""},{"$f":"IF(ISBLANK('Scholars Nomination Form'!Z166),\"\",'Scholars Nomination Form'!Z166)","v":""},{"$f":"IF(ISBLANK('Scholars Nomination Form'!AA166),\"\",'Scholars Nomination Form'!AA166)","v":""}]
[{"$f":"IF(ISBLANK('Scholars Nomination Form'!$F167),\"\",'Scholars Nomination Form'!$C$11)","v":""},{"$f":"IF(ISBLANK('Scholars Nomination Form'!$F167),\"\",'Scholars Nomination Form'!$C$12)","v":""},{"$f":"IF(ISBLANK('Scholars Nomination Form'!$F167),\"\",'Scholars Nomination Form'!$C$13)","v":""},{"$f":"IF(ISBLANK('Scholars Nomination Form'!$F167),\"\",'Scholars Nomination Form'!$C$14)","v":""},{"$f":"IF(ISBLANK('Scholars Nomination Form'!$F167),\"\",'Scholars Nomination Form'!$C$15)","v":""},{"$f":"IF(ISBLANK('Scholars Nomination Form'!$F167),\"\",'Scholars Nomination Form'!$C$16)","v":""},{"$f":"IF(ISBLANK('Scholars Nomination Form'!B167),\"\",'Scholars Nomination Form'!B167)","v":""},{"$f":"IF(ISBLANK('Scholars Nomination Form'!D167),\"\",'Scholars Nomination Form'!D167)","v":""},{"$f":"IF(ISBLANK('Scholars Nomination Form'!E167),\"\",'Scholars Nomination Form'!E167)","v":""},{"$f":"IF(ISBLANK('Scholars Nomination Form'!F167),\"\",'Scholars Nomination Form'!F167)","v":""},{"$f":"IF(ISBLANK('Scholars Nomination Form'!G167),\"\",'Scholars Nomination Form'!G167)","v":""},{"$f":"IF(ISBLANK('Scholars Nomination Form'!H167),\"\",'Scholars Nomination Form'!H167)","v":""},{"$f":"IF(ISBLANK('Scholars Nomination Form'!I167),\"\",'Scholars Nomination Form'!I167)","v":""},{"$f":"IF(ISBLANK('Scholars Nomination Form'!J167),\"\",'Scholars Nomination Form'!J167)","v":""},{"$f":"IF(ISBLANK('Scholars Nomination Form'!K167),\"\",'Scholars Nomination Form'!K167)","v":""},{"$f":"IF(ISBLANK('Scholars Nomination Form'!L167),\"\",'Scholars Nomination Form'!L167)","v":""},{"$f":"IF(ISBLANK('Scholars Nomination Form'!M167),\"\",'Scholars Nomination Form'!M167)","v":""},{"$f":"IF(ISBLANK('Scholars Nomination Form'!N167),\"\",'Scholars Nomination Form'!N167)","v":""},{"$f":"IF(ISBLANK('Scholars Nomination Form'!O167),\"\",'Scholars Nomination Form'!O167)","v":""},{"$f":"IF(ISBLANK('Scholars Nomination Form'!P167),\"\",'Scholars Nomination Form'!P167)","v":""},{"$f":"IF(ISBLANK('Scholars Nomination Form'!Q167),\"\",'Scholars Nomination Form'!Q167)","v":""},{"$f":"IF(ISBLANK('Scholars Nomination Form'!R167),\"\",'Scholars Nomination Form'!R167)","v":""},{"$f":"IF(ISBLANK('Scholars Nomination Form'!S167),\"\",'Scholars Nomination Form'!S167)","v":""},{"$f":"IF(ISBLANK('Scholars Nomination Form'!T167),\"\",'Scholars Nomination Form'!T167)","v":""},{"$f":"IF(ISBLANK('Scholars Nomination Form'!U167),\"\",'Scholars Nomination Form'!U167)","v":""},{"$f":"IF(ISBLANK('Scholars Nomination Form'!V167),\"\",'Scholars Nomination Form'!V167)","v":""},{"$f":"IF(ISBLANK('Scholars Nomination Form'!W167),\"\",'Scholars Nomination Form'!W167)","v":""},{"$f":"IF(ISBLANK('Scholars Nomination Form'!X167),\"\",'Scholars Nomination Form'!X167)","v":""},{"$f":"IF(ISBLANK('Scholars Nomination Form'!Y167),\"\",'Scholars Nomination Form'!Y167)","v":""},{"$f":"IF(ISBLANK('Scholars Nomination Form'!Z167),\"\",'Scholars Nomination Form'!Z167)","v":""},{"$f":"IF(ISBLANK('Scholars Nomination Form'!AA167),\"\",'Scholars Nomination Form'!AA167)","v":""}]
[{"$f":"IF(ISBLANK('Scholars Nomination Form'!$F168),\"\",'Scholars Nomination Form'!$C$11)","v":""},{"$f":"IF(ISBLANK('Scholars Nomination Form'!$F168),\"\",'Scholars Nomination Form'!$C$12)","v":""},{"$f":"IF(ISBLANK('Scholars Nomination Form'!$F168),\"\",'Scholars Nomination Form'!$C$13)","v":""},{"$f":"IF(ISBLANK('Scholars Nomination Form'!$F168),\"\",'Scholars Nomination Form'!$C$14)","v":""},{"$f":"IF(ISBLANK('Scholars Nomination Form'!$F168),\"\",'Scholars Nomination Form'!$C$15)","v":""},{"$f":"IF(ISBLANK('Scholars Nomination Form'!$F168),\"\",'Scholars Nomination Form'!$C$16)","v":""},{"$f":"IF(ISBLANK('Scholars Nomination Form'!B168),\"\",'Scholars Nomination Form'!B168)","v":""},{"$f":"IF(ISBLANK('Scholars Nomination Form'!D168),\"\",'Scholars Nomination Form'!D168)","v":""},{"$f":"IF(ISBLANK('Scholars Nomination Form'!E168),\"\",'Scholars Nomination Form'!E168)","v":""},{"$f":"IF(ISBLANK('Scholars Nomination Form'!F168),\"\",'Scholars Nomination Form'!F168)","v":""},{"$f":"IF(ISBLANK('Scholars Nomination Form'!G168),\"\",'Scholars Nomination Form'!G168)","v":""},{"$f":"IF(ISBLANK('Scholars Nomination Form'!H168),\"\",'Scholars Nomination Form'!H168)","v":""},{"$f":"IF(ISBLANK('Scholars Nomination Form'!I168),\"\",'Scholars Nomination Form'!I168)","v":""},{"$f":"IF(ISBLANK('Scholars Nomination Form'!J168),\"\",'Scholars Nomination Form'!J168)","v":""},{"$f":"IF(ISBLANK('Scholars Nomination Form'!K168),\"\",'Scholars Nomination Form'!K168)","v":""},{"$f":"IF(ISBLANK('Scholars Nomination Form'!L168),\"\",'Scholars Nomination Form'!L168)","v":""},{"$f":"IF(ISBLANK('Scholars Nomination Form'!M168),\"\",'Scholars Nomination Form'!M168)","v":""},{"$f":"IF(ISBLANK('Scholars Nomination Form'!N168),\"\",'Scholars Nomination Form'!N168)","v":""},{"$f":"IF(ISBLANK('Scholars Nomination Form'!O168),\"\",'Scholars Nomination Form'!O168)","v":""},{"$f":"IF(ISBLANK('Scholars Nomination Form'!P168),\"\",'Scholars Nomination Form'!P168)","v":""},{"$f":"IF(ISBLANK('Scholars Nomination Form'!Q168),\"\",'Scholars Nomination Form'!Q168)","v":""},{"$f":"IF(ISBLANK('Scholars Nomination Form'!R168),\"\",'Scholars Nomination Form'!R168)","v":""},{"$f":"IF(ISBLANK('Scholars Nomination Form'!S168),\"\",'Scholars Nomination Form'!S168)","v":""},{"$f":"IF(ISBLANK('Scholars Nomination Form'!T168),\"\",'Scholars Nomination Form'!T168)","v":""},{"$f":"IF(ISBLANK('Scholars Nomination Form'!U168),\"\",'Scholars Nomination Form'!U168)","v":""},{"$f":"IF(ISBLANK('Scholars Nomination Form'!V168),\"\",'Scholars Nomination Form'!V168)","v":""},{"$f":"IF(ISBLANK('Scholars Nomination Form'!W168),\"\",'Scholars Nomination Form'!W168)","v":""},{"$f":"IF(ISBLANK('Scholars Nomination Form'!X168),\"\",'Scholars Nomination Form'!X168)","v":""},{"$f":"IF(ISBLANK('Scholars Nomination Form'!Y168),\"\",'Scholars Nomination Form'!Y168)","v":""},{"$f":"IF(ISBLANK('Scholars Nomination Form'!Z168),\"\",'Scholars Nomination Form'!Z168)","v":""},{"$f":"IF(ISBLANK('Scholars Nomination Form'!AA168),\"\",'Scholars Nomination Form'!AA168)","v":""}]
[{"$f":"IF(ISBLANK('Scholars Nomination Form'!$F169),\"\",'Scholars Nomination Form'!$C$11)","v":""},{"$f":"IF(ISBLANK('Scholars Nomination Form'!$F169),\"\",'Scholars Nomination Form'!$C$12)","v":""},{"$f":"IF(ISBLANK('Scholars Nomination Form'!$F169),\"\",'Scholars Nomination Form'!$C$13)","v":""},{"$f":"IF(ISBLANK('Scholars Nomination Form'!$F169),\"\",'Scholars Nomination Form'!$C$14)","v":""},{"$f":"IF(ISBLANK('Scholars Nomination Form'!$F169),\"\",'Scholars Nomination Form'!$C$15)","v":""},{"$f":"IF(ISBLANK('Scholars Nomination Form'!$F169),\"\",'Scholars Nomination Form'!$C$16)","v":""},{"$f":"IF(ISBLANK('Scholars Nomination Form'!B169),\"\",'Scholars Nomination Form'!B169)","v":""},{"$f":"IF(ISBLANK('Scholars Nomination Form'!D169),\"\",'Scholars Nomination Form'!D169)","v":""},{"$f":"IF(ISBLANK('Scholars Nomination Form'!E169),\"\",'Scholars Nomination Form'!E169)","v":""},{"$f":"IF(ISBLANK('Scholars Nomination Form'!F169),\"\",'Scholars Nomination Form'!F169)","v":""},{"$f":"IF(ISBLANK('Scholars Nomination Form'!G169),\"\",'Scholars Nomination Form'!G169)","v":""},{"$f":"IF(ISBLANK('Scholars Nomination Form'!H169),\"\",'Scholars Nomination Form'!H169)","v":""},{"$f":"IF(ISBLANK('Scholars Nomination Form'!I169),\"\",'Scholars Nomination Form'!I169)","v":""},{"$f":"IF(ISBLANK('Scholars Nomination Form'!J169),\"\",'Scholars Nomination Form'!J169)","v":""},{"$f":"IF(ISBLANK('Scholars Nomination Form'!K169),\"\",'Scholars Nomination Form'!K169)","v":""},{"$f":"IF(ISBLANK('Scholars Nomination Form'!L169),\"\",'Scholars Nomination Form'!L169)","v":""},{"$f":"IF(ISBLANK('Scholars Nomination Form'!M169),\"\",'Scholars Nomination Form'!M169)","v":""},{"$f":"IF(ISBLANK('Scholars Nomination Form'!N169),\"\",'Scholars Nomination Form'!N169)","v":""},{"$f":"IF(ISBLANK('Scholars Nomination Form'!O169),\"\",'Scholars Nomination Form'!O169)","v":""},{"$f":"IF(ISBLANK('Scholars Nomination Form'!P169),\"\",'Scholars Nomination Form'!P169)","v":""},{"$f":"IF(ISBLANK('Scholars Nomination Form'!Q169),\"\",'Scholars Nomination Form'!Q169)","v":""},{"$f":"IF(ISBLANK('Scholars Nomination Form'!R169),\"\",'Scholars Nomination Form'!R169)","v":""},{"$f":"IF(ISBLANK('Scholars Nomination Form'!S169),\"\",'Scholars Nomination Form'!S169)","v":""},{"$f":"IF(ISBLANK('Scholars Nomination Form'!T169),\"\",'Scholars Nomination Form'!T169)","v":""},{"$f":"IF(ISBLANK('Scholars Nomination Form'!U169),\"\",'Scholars Nomination Form'!U169)","v":""},{"$f":"IF(ISBLANK('Scholars Nomination Form'!V169),\"\",'Scholars Nomination Form'!V169)","v":""},{"$f":"IF(ISBLANK('Scholars Nomination Form'!W169),\"\",'Scholars Nomination Form'!W169)","v":""},{"$f":"IF(ISBLANK('Scholars Nomination Form'!X169),\"\",'Scholars Nomination Form'!X169)","v":""},{"$f":"IF(ISBLANK('Scholars Nomination Form'!Y169),\"\",'Scholars Nomination Form'!Y169)","v":""},{"$f":"IF(ISBLANK('Scholars Nomination Form'!Z169),\"\",'Scholars Nomination Form'!Z169)","v":""},{"$f":"IF(ISBLANK('Scholars Nomination Form'!AA169),\"\",'Scholars Nomination Form'!AA169)","v":""}]
[{"$f":"IF(ISBLANK('Scholars Nomination Form'!$F170),\"\",'Scholars Nomination Form'!$C$11)","v":""},{"$f":"IF(ISBLANK('Scholars Nomination Form'!$F170),\"\",'Scholars Nomination Form'!$C$12)","v":""},{"$f":"IF(ISBLANK('Scholars Nomination Form'!$F170),\"\",'Scholars Nomination Form'!$C$13)","v":""},{"$f":"IF(ISBLANK('Scholars Nomination Form'!$F170),\"\",'Scholars Nomination Form'!$C$14)","v":""},{"$f":"IF(ISBLANK('Scholars Nomination Form'!$F170),\"\",'Scholars Nomination Form'!$C$15)","v":""},{"$f":"IF(ISBLANK('Scholars Nomination Form'!$F170),\"\",'Scholars Nomination Form'!$C$16)","v":""},{"$f":"IF(ISBLANK('Scholars Nomination Form'!B170),\"\",'Scholars Nomination Form'!B170)","v":""},{"$f":"IF(ISBLANK('Scholars Nomination Form'!D170),\"\",'Scholars Nomination Form'!D170)","v":""},{"$f":"IF(ISBLANK('Scholars Nomination Form'!E170),\"\",'Scholars Nomination Form'!E170)","v":""},{"$f":"IF(ISBLANK('Scholars Nomination Form'!F170),\"\",'Scholars Nomination Form'!F170)","v":""},{"$f":"IF(ISBLANK('Scholars Nomination Form'!G170),\"\",'Scholars Nomination Form'!G170)","v":""},{"$f":"IF(ISBLANK('Scholars Nomination Form'!H170),\"\",'Scholars Nomination Form'!H170)","v":""},{"$f":"IF(ISBLANK('Scholars Nomination Form'!I170),\"\",'Scholars Nomination Form'!I170)","v":""},{"$f":"IF(ISBLANK('Scholars Nomination Form'!J170),\"\",'Scholars Nomination Form'!J170)","v":""},{"$f":"IF(ISBLANK('Scholars Nomination Form'!K170),\"\",'Scholars Nomination Form'!K170)","v":""},{"$f":"IF(ISBLANK('Scholars Nomination Form'!L170),\"\",'Scholars Nomination Form'!L170)","v":""},{"$f":"IF(ISBLANK('Scholars Nomination Form'!M170),\"\",'Scholars Nomination Form'!M170)","v":""},{"$f":"IF(ISBLANK('Scholars Nomination Form'!N170),\"\",'Scholars Nomination Form'!N170)","v":""},{"$f":"IF(ISBLANK('Scholars Nomination Form'!O170),\"\",'Scholars Nomination Form'!O170)","v":""},{"$f":"IF(ISBLANK('Scholars Nomination Form'!P170),\"\",'Scholars Nomination Form'!P170)","v":""},{"$f":"IF(ISBLANK('Scholars Nomination Form'!Q170),\"\",'Scholars Nomination Form'!Q170)","v":""},{"$f":"IF(ISBLANK('Scholars Nomination Form'!R170),\"\",'Scholars Nomination Form'!R170)","v":""},{"$f":"IF(ISBLANK('Scholars Nomination Form'!S170),\"\",'Scholars Nomination Form'!S170)","v":""},{"$f":"IF(ISBLANK('Scholars Nomination Form'!T170),\"\",'Scholars Nomination Form'!T170)","v":""},{"$f":"IF(ISBLANK('Scholars Nomination Form'!U170),\"\",'Scholars Nomination Form'!U170)","v":""},{"$f":"IF(ISBLANK('Scholars Nomination Form'!V170),\"\",'Scholars Nomination Form'!V170)","v":""},{"$f":"IF(ISBLANK('Scholars Nomination Form'!W170),\"\",'Scholars Nomination Form'!W170)","v":""},{"$f":"IF(ISBLANK('Scholars Nomination Form'!X170),\"\",'Scholars Nomination Form'!X170)","v":""},{"$f":"IF(ISBLANK('Scholars Nomination Form'!Y170),\"\",'Scholars Nomination Form'!Y170)","v":""},{"$f":"IF(ISBLANK('Scholars Nomination Form'!Z170),\"\",'Scholars Nomination Form'!Z170)","v":""},{"$f":"IF(ISBLANK('Scholars Nomination Form'!AA170),\"\",'Scholars Nomination Form'!AA170)","v":""}]
[{"$f":"IF(ISBLANK('Scholars Nomination Form'!$F171),\"\",'Scholars Nomination Form'!$C$11)","v":""},{"$f":"IF(ISBLANK('Scholars Nomination Form'!$F171),\"\",'Scholars Nomination Form'!$C$12)","v":""},{"$f":"IF(ISBLANK('Scholars Nomination Form'!$F171),\"\",'Scholars Nomination Form'!$C$13)","v":""},{"$f":"IF(ISBLANK('Scholars Nomination Form'!$F171),\"\",'Scholars Nomination Form'!$C$14)","v":""},{"$f":"IF(ISBLANK('Scholars Nomination Form'!$F171),\"\",'Scholars Nomination Form'!$C$15)","v":""},{"$f":"IF(ISBLANK('Scholars Nomination Form'!$F171),\"\",'Scholars Nomination Form'!$C$16)","v":""},{"$f":"IF(ISBLANK('Scholars Nomination Form'!B171),\"\",'Scholars Nomination Form'!B171)","v":""},{"$f":"IF(ISBLANK('Scholars Nomination Form'!D171),\"\",'Scholars Nomination Form'!D171)","v":""},{"$f":"IF(ISBLANK('Scholars Nomination Form'!E171),\"\",'Scholars Nomination Form'!E171)","v":""},{"$f":"IF(ISBLANK('Scholars Nomination Form'!F171),\"\",'Scholars Nomination Form'!F171)","v":""},{"$f":"IF(ISBLANK('Scholars Nomination Form'!G171),\"\",'Scholars Nomination Form'!G171)","v":""},{"$f":"IF(ISBLANK('Scholars Nomination Form'!H171),\"\",'Scholars Nomination Form'!H171)","v":""},{"$f":"IF(ISBLANK('Scholars Nomination Form'!I171),\"\",'Scholars Nomination Form'!I171)","v":""},{"$f":"IF(ISBLANK('Scholars Nomination Form'!J171),\"\",'Scholars Nomination Form'!J171)","v":""},{"$f":"IF(ISBLANK('Scholars Nomination Form'!K171),\"\",'Scholars Nomination Form'!K171)","v":""},{"$f":"IF(ISBLANK('Scholars Nomination Form'!L171),\"\",'Scholars Nomination Form'!L171)","v":""},{"$f":"IF(ISBLANK('Scholars Nomination Form'!M171),\"\",'Scholars Nomination Form'!M171)","v":""},{"$f":"IF(ISBLANK('Scholars Nomination Form'!N171),\"\",'Scholars Nomination Form'!N171)","v":""},{"$f":"IF(ISBLANK('Scholars Nomination Form'!O171),\"\",'Scholars Nomination Form'!O171)","v":""},{"$f":"IF(ISBLANK('Scholars Nomination Form'!P171),\"\",'Scholars Nomination Form'!P171)","v":""},{"$f":"IF(ISBLANK('Scholars Nomination Form'!Q171),\"\",'Scholars Nomination Form'!Q171)","v":""},{"$f":"IF(ISBLANK('Scholars Nomination Form'!R171),\"\",'Scholars Nomination Form'!R171)","v":""},{"$f":"IF(ISBLANK('Scholars Nomination Form'!S171),\"\",'Scholars Nomination Form'!S171)","v":""},{"$f":"IF(ISBLANK('Scholars Nomination Form'!T171),\"\",'Scholars Nomination Form'!T171)","v":""},{"$f":"IF(ISBLANK('Scholars Nomination Form'!U171),\"\",'Scholars Nomination Form'!U171)","v":""},{"$f":"IF(ISBLANK('Scholars Nomination Form'!V171),\"\",'Scholars Nomination Form'!V171)","v":""},{"$f":"IF(ISBLANK('Scholars Nomination Form'!W171),\"\",'Scholars Nomination Form'!W171)","v":""},{"$f":"IF(ISBLANK('Scholars Nomination Form'!X171),\"\",'Scholars Nomination Form'!X171)","v":""},{"$f":"IF(ISBLANK('Scholars Nomination Form'!Y171),\"\",'Scholars Nomination Form'!Y171)","v":""},{"$f":"IF(ISBLANK('Scholars Nomination Form'!Z171),\"\",'Scholars Nomination Form'!Z171)","v":""},{"$f":"IF(ISBLANK('Scholars Nomination Form'!AA171),\"\",'Scholars Nomination Form'!AA171)","v":""}]
[{"$f":"IF(ISBLANK('Scholars Nomination Form'!$F172),\"\",'Scholars Nomination Form'!$C$11)","v":""},{"$f":"IF(ISBLANK('Scholars Nomination Form'!$F172),\"\",'Scholars Nomination Form'!$C$12)","v":""},{"$f":"IF(ISBLANK('Scholars Nomination Form'!$F172),\"\",'Scholars Nomination Form'!$C$13)","v":""},{"$f":"IF(ISBLANK('Scholars Nomination Form'!$F172),\"\",'Scholars Nomination Form'!$C$14)","v":""},{"$f":"IF(ISBLANK('Scholars Nomination Form'!$F172),\"\",'Scholars Nomination Form'!$C$15)","v":""},{"$f":"IF(ISBLANK('Scholars Nomination Form'!$F172),\"\",'Scholars Nomination Form'!$C$16)","v":""},{"$f":"IF(ISBLANK('Scholars Nomination Form'!B172),\"\",'Scholars Nomination Form'!B172)","v":""},{"$f":"IF(ISBLANK('Scholars Nomination Form'!D172),\"\",'Scholars Nomination Form'!D172)","v":""},{"$f":"IF(ISBLANK('Scholars Nomination Form'!E172),\"\",'Scholars Nomination Form'!E172)","v":""},{"$f":"IF(ISBLANK('Scholars Nomination Form'!F172),\"\",'Scholars Nomination Form'!F172)","v":""},{"$f":"IF(ISBLANK('Scholars Nomination Form'!G172),\"\",'Scholars Nomination Form'!G172)","v":""},{"$f":"IF(ISBLANK('Scholars Nomination Form'!H172),\"\",'Scholars Nomination Form'!H172)","v":""},{"$f":"IF(ISBLANK('Scholars Nomination Form'!I172),\"\",'Scholars Nomination Form'!I172)","v":""},{"$f":"IF(ISBLANK('Scholars Nomination Form'!J172),\"\",'Scholars Nomination Form'!J172)","v":""},{"$f":"IF(ISBLANK('Scholars Nomination Form'!K172),\"\",'Scholars Nomination Form'!K172)","v":""},{"$f":"IF(ISBLANK('Scholars Nomination Form'!L172),\"\",'Scholars Nomination Form'!L172)","v":""},{"$f":"IF(ISBLANK('Scholars Nomination Form'!M172),\"\",'Scholars Nomination Form'!M172)","v":""},{"$f":"IF(ISBLANK('Scholars Nomination Form'!N172),\"\",'Scholars Nomination Form'!N172)","v":""},{"$f":"IF(ISBLANK('Scholars Nomination Form'!O172),\"\",'Scholars Nomination Form'!O172)","v":""},{"$f":"IF(ISBLANK('Scholars Nomination Form'!P172),\"\",'Scholars Nomination Form'!P172)","v":""},{"$f":"IF(ISBLANK('Scholars Nomination Form'!Q172),\"\",'Scholars Nomination Form'!Q172)","v":""},{"$f":"IF(ISBLANK('Scholars Nomination Form'!R172),\"\",'Scholars Nomination Form'!R172)","v":""},{"$f":"IF(ISBLANK('Scholars Nomination Form'!S172),\"\",'Scholars Nomination Form'!S172)","v":""},{"$f":"IF(ISBLANK('Scholars Nomination Form'!T172),\"\",'Scholars Nomination Form'!T172)","v":""},{"$f":"IF(ISBLANK('Scholars Nomination Form'!U172),\"\",'Scholars Nomination Form'!U172)","v":""},{"$f":"IF(ISBLANK('Scholars Nomination Form'!V172),\"\",'Scholars Nomination Form'!V172)","v":""},{"$f":"IF(ISBLANK('Scholars Nomination Form'!W172),\"\",'Scholars Nomination Form'!W172)","v":""},{"$f":"IF(ISBLANK('Scholars Nomination Form'!X172),\"\",'Scholars Nomination Form'!X172)","v":""},{"$f":"IF(ISBLANK('Scholars Nomination Form'!Y172),\"\",'Scholars Nomination Form'!Y172)","v":""},{"$f":"IF(ISBLANK('Scholars Nomination Form'!Z172),\"\",'Scholars Nomination Form'!Z172)","v":""},{"$f":"IF(ISBLANK('Scholars Nomination Form'!AA172),\"\",'Scholars Nomination Form'!AA172)","v":""}]
[{"$f":"IF(ISBLANK('Scholars Nomination Form'!$F173),\"\",'Scholars Nomination Form'!$C$11)","v":""},{"$f":"IF(ISBLANK('Scholars Nomination Form'!$F173),\"\",'Scholars Nomination Form'!$C$12)","v":""},{"$f":"IF(ISBLANK('Scholars Nomination Form'!$F173),\"\",'Scholars Nomination Form'!$C$13)","v":""},{"$f":"IF(ISBLANK('Scholars Nomination Form'!$F173),\"\",'Scholars Nomination Form'!$C$14)","v":""},{"$f":"IF(ISBLANK('Scholars Nomination Form'!$F173),\"\",'Scholars Nomination Form'!$C$15)","v":""},{"$f":"IF(ISBLANK('Scholars Nomination Form'!$F173),\"\",'Scholars Nomination Form'!$C$16)","v":""},{"$f":"IF(ISBLANK('Scholars Nomination Form'!B173),\"\",'Scholars Nomination Form'!B173)","v":""},{"$f":"IF(ISBLANK('Scholars Nomination Form'!D173),\"\",'Scholars Nomination Form'!D173)","v":""},{"$f":"IF(ISBLANK('Scholars Nomination Form'!E173),\"\",'Scholars Nomination Form'!E173)","v":""},{"$f":"IF(ISBLANK('Scholars Nomination Form'!F173),\"\",'Scholars Nomination Form'!F173)","v":""},{"$f":"IF(ISBLANK('Scholars Nomination Form'!G173),\"\",'Scholars Nomination Form'!G173)","v":""},{"$f":"IF(ISBLANK('Scholars Nomination Form'!H173),\"\",'Scholars Nomination Form'!H173)","v":""},{"$f":"IF(ISBLANK('Scholars Nomination Form'!I173),\"\",'Scholars Nomination Form'!I173)","v":""},{"$f":"IF(ISBLANK('Scholars Nomination Form'!J173),\"\",'Scholars Nomination Form'!J173)","v":""},{"$f":"IF(ISBLANK('Scholars Nomination Form'!K173),\"\",'Scholars Nomination Form'!K173)","v":""},{"$f":"IF(ISBLANK('Scholars Nomination Form'!L173),\"\",'Scholars Nomination Form'!L173)","v":""},{"$f":"IF(ISBLANK('Scholars Nomination Form'!M173),\"\",'Scholars Nomination Form'!M173)","v":""},{"$f":"IF(ISBLANK('Scholars Nomination Form'!N173),\"\",'Scholars Nomination Form'!N173)","v":""},{"$f":"IF(ISBLANK('Scholars Nomination Form'!O173),\"\",'Scholars Nomination Form'!O173)","v":""},{"$f":"IF(ISBLANK('Scholars Nomination Form'!P173),\"\",'Scholars Nomination Form'!P173)","v":""},{"$f":"IF(ISBLANK('Scholars Nomination Form'!Q173),\"\",'Scholars Nomination Form'!Q173)","v":""},{"$f":"IF(ISBLANK('Scholars Nomination Form'!R173),\"\",'Scholars Nomination Form'!R173)","v":""},{"$f":"IF(ISBLANK('Scholars Nomination Form'!S173),\"\",'Scholars Nomination Form'!S173)","v":""},{"$f":"IF(ISBLANK('Scholars Nomination Form'!T173),\"\",'Scholars Nomination Form'!T173)","v":""},{"$f":"IF(ISBLANK('Scholars Nomination Form'!U173),\"\",'Scholars Nomination Form'!U173)","v":""},{"$f":"IF(ISBLANK('Scholars Nomination Form'!V173),\"\",'Scholars Nomination Form'!V173)","v":""},{"$f":"IF(ISBLANK('Scholars Nomination Form'!W173),\"\",'Scholars Nomination Form'!W173)","v":""},{"$f":"IF(ISBLANK('Scholars Nomination Form'!X173),\"\",'Scholars Nomination Form'!X173)","v":""},{"$f":"IF(ISBLANK('Scholars Nomination Form'!Y173),\"\",'Scholars Nomination Form'!Y173)","v":""},{"$f":"IF(ISBLANK('Scholars Nomination Form'!Z173),\"\",'Scholars Nomination Form'!Z173)","v":""},{"$f":"IF(ISBLANK('Scholars Nomination Form'!AA173),\"\",'Scholars Nomination Form'!AA173)","v":""}]
[{"$f":"IF(ISBLANK('Scholars Nomination Form'!$F174),\"\",'Scholars Nomination Form'!$C$11)","v":""},{"$f":"IF(ISBLANK('Scholars Nomination Form'!$F174),\"\",'Scholars Nomination Form'!$C$12)","v":""},{"$f":"IF(ISBLANK('Scholars Nomination Form'!$F174),\"\",'Scholars Nomination Form'!$C$13)","v":""},{"$f":"IF(ISBLANK('Scholars Nomination Form'!$F174),\"\",'Scholars Nomination Form'!$C$14)","v":""},{"$f":"IF(ISBLANK('Scholars Nomination Form'!$F174),\"\",'Scholars Nomination Form'!$C$15)","v":""},{"$f":"IF(ISBLANK('Scholars Nomination Form'!$F174),\"\",'Scholars Nomination Form'!$C$16)","v":""},{"$f":"IF(ISBLANK('Scholars Nomination Form'!B174),\"\",'Scholars Nomination Form'!B174)","v":""},{"$f":"IF(ISBLANK('Scholars Nomination Form'!D174),\"\",'Scholars Nomination Form'!D174)","v":""},{"$f":"IF(ISBLANK('Scholars Nomination Form'!E174),\"\",'Scholars Nomination Form'!E174)","v":""},{"$f":"IF(ISBLANK('Scholars Nomination Form'!F174),\"\",'Scholars Nomination Form'!F174)","v":""},{"$f":"IF(ISBLANK('Scholars Nomination Form'!G174),\"\",'Scholars Nomination Form'!G174)","v":""},{"$f":"IF(ISBLANK('Scholars Nomination Form'!H174),\"\",'Scholars Nomination Form'!H174)","v":""},{"$f":"IF(ISBLANK('Scholars Nomination Form'!I174),\"\",'Scholars Nomination Form'!I174)","v":""},{"$f":"IF(ISBLANK('Scholars Nomination Form'!J174),\"\",'Scholars Nomination Form'!J174)","v":""},{"$f":"IF(ISBLANK('Scholars Nomination Form'!K174),\"\",'Scholars Nomination Form'!K174)","v":""},{"$f":"IF(ISBLANK('Scholars Nomination Form'!L174),\"\",'Scholars Nomination Form'!L174)","v":""},{"$f":"IF(ISBLANK('Scholars Nomination Form'!M174),\"\",'Scholars Nomination Form'!M174)","v":""},{"$f":"IF(ISBLANK('Scholars Nomination Form'!N174),\"\",'Scholars Nomination Form'!N174)","v":""},{"$f":"IF(ISBLANK('Scholars Nomination Form'!O174),\"\",'Scholars Nomination Form'!O174)","v":""},{"$f":"IF(ISBLANK('Scholars Nomination Form'!P174),\"\",'Scholars Nomination Form'!P174)","v":""},{"$f":"IF(ISBLANK('Scholars Nomination Form'!Q174),\"\",'Scholars Nomination Form'!Q174)","v":""},{"$f":"IF(ISBLANK('Scholars Nomination Form'!R174),\"\",'Scholars Nomination Form'!R174)","v":""},{"$f":"IF(ISBLANK('Scholars Nomination Form'!S174),\"\",'Scholars Nomination Form'!S174)","v":""},{"$f":"IF(ISBLANK('Scholars Nomination Form'!T174),\"\",'Scholars Nomination Form'!T174)","v":""},{"$f":"IF(ISBLANK('Scholars Nomination Form'!U174),\"\",'Scholars Nomination Form'!U174)","v":""},{"$f":"IF(ISBLANK('Scholars Nomination Form'!V174),\"\",'Scholars Nomination Form'!V174)","v":""},{"$f":"IF(ISBLANK('Scholars Nomination Form'!W174),\"\",'Scholars Nomination Form'!W174)","v":""},{"$f":"IF(ISBLANK('Scholars Nomination Form'!X174),\"\",'Scholars Nomination Form'!X174)","v":""},{"$f":"IF(ISBLANK('Scholars Nomination Form'!Y174),\"\",'Scholars Nomination Form'!Y174)","v":""},{"$f":"IF(ISBLANK('Scholars Nomination Form'!Z174),\"\",'Scholars Nomination Form'!Z174)","v":""},{"$f":"IF(ISBLANK('Scholars Nomination Form'!AA174),\"\",'Scholars Nomination Form'!AA174)","v":""}]
[{"$f":"IF(ISBLANK('Scholars Nomination Form'!$F175),\"\",'Scholars Nomination Form'!$C$11)","v":""},{"$f":"IF(ISBLANK('Scholars Nomination Form'!$F175),\"\",'Scholars Nomination Form'!$C$12)","v":""},{"$f":"IF(ISBLANK('Scholars Nomination Form'!$F175),\"\",'Scholars Nomination Form'!$C$13)","v":""},{"$f":"IF(ISBLANK('Scholars Nomination Form'!$F175),\"\",'Scholars Nomination Form'!$C$14)","v":""},{"$f":"IF(ISBLANK('Scholars Nomination Form'!$F175),\"\",'Scholars Nomination Form'!$C$15)","v":""},{"$f":"IF(ISBLANK('Scholars Nomination Form'!$F175),\"\",'Scholars Nomination Form'!$C$16)","v":""},{"$f":"IF(ISBLANK('Scholars Nomination Form'!B175),\"\",'Scholars Nomination Form'!B175)","v":""},{"$f":"IF(ISBLANK('Scholars Nomination Form'!D175),\"\",'Scholars Nomination Form'!D175)","v":""},{"$f":"IF(ISBLANK('Scholars Nomination Form'!E175),\"\",'Scholars Nomination Form'!E175)","v":""},{"$f":"IF(ISBLANK('Scholars Nomination Form'!F175),\"\",'Scholars Nomination Form'!F175)","v":""},{"$f":"IF(ISBLANK('Scholars Nomination Form'!G175),\"\",'Scholars Nomination Form'!G175)","v":""},{"$f":"IF(ISBLANK('Scholars Nomination Form'!H175),\"\",'Scholars Nomination Form'!H175)","v":""},{"$f":"IF(ISBLANK('Scholars Nomination Form'!I175),\"\",'Scholars Nomination Form'!I175)","v":""},{"$f":"IF(ISBLANK('Scholars Nomination Form'!J175),\"\",'Scholars Nomination Form'!J175)","v":""},{"$f":"IF(ISBLANK('Scholars Nomination Form'!K175),\"\",'Scholars Nomination Form'!K175)","v":""},{"$f":"IF(ISBLANK('Scholars Nomination Form'!L175),\"\",'Scholars Nomination Form'!L175)","v":""},{"$f":"IF(ISBLANK('Scholars Nomination Form'!M175),\"\",'Scholars Nomination Form'!M175)","v":""},{"$f":"IF(ISBLANK('Scholars Nomination Form'!N175),\"\",'Scholars Nomination Form'!N175)","v":""},{"$f":"IF(ISBLANK('Scholars Nomination Form'!O175),\"\",'Scholars Nomination Form'!O175)","v":""},{"$f":"IF(ISBLANK('Scholars Nomination Form'!P175),\"\",'Scholars Nomination Form'!P175)","v":""},{"$f":"IF(ISBLANK('Scholars Nomination Form'!Q175),\"\",'Scholars Nomination Form'!Q175)","v":""},{"$f":"IF(ISBLANK('Scholars Nomination Form'!R175),\"\",'Scholars Nomination Form'!R175)","v":""},{"$f":"IF(ISBLANK('Scholars Nomination Form'!S175),\"\",'Scholars Nomination Form'!S175)","v":""},{"$f":"IF(ISBLANK('Scholars Nomination Form'!T175),\"\",'Scholars Nomination Form'!T175)","v":""},{"$f":"IF(ISBLANK('Scholars Nomination Form'!U175),\"\",'Scholars Nomination Form'!U175)","v":""},{"$f":"IF(ISBLANK('Scholars Nomination Form'!V175),\"\",'Scholars Nomination Form'!V175)","v":""},{"$f":"IF(ISBLANK('Scholars Nomination Form'!W175),\"\",'Scholars Nomination Form'!W175)","v":""},{"$f":"IF(ISBLANK('Scholars Nomination Form'!X175),\"\",'Scholars Nomination Form'!X175)","v":""},{"$f":"IF(ISBLANK('Scholars Nomination Form'!Y175),\"\",'Scholars Nomination Form'!Y175)","v":""},{"$f":"IF(ISBLANK('Scholars Nomination Form'!Z175),\"\",'Scholars Nomination Form'!Z175)","v":""},{"$f":"IF(ISBLANK('Scholars Nomination Form'!AA175),\"\",'Scholars Nomination Form'!AA175)","v":""}]
[{"$f":"IF(ISBLANK('Scholars Nomination Form'!$F176),\"\",'Scholars Nomination Form'!$C$11)","v":""},{"$f":"IF(ISBLANK('Scholars Nomination Form'!$F176),\"\",'Scholars Nomination Form'!$C$12)","v":""},{"$f":"IF(ISBLANK('Scholars Nomination Form'!$F176),\"\",'Scholars Nomination Form'!$C$13)","v":""},{"$f":"IF(ISBLANK('Scholars Nomination Form'!$F176),\"\",'Scholars Nomination Form'!$C$14)","v":""},{"$f":"IF(ISBLANK('Scholars Nomination Form'!$F176),\"\",'Scholars Nomination Form'!$C$15)","v":""},{"$f":"IF(ISBLANK('Scholars Nomination Form'!$F176),\"\",'Scholars Nomination Form'!$C$16)","v":""},{"$f":"IF(ISBLANK('Scholars Nomination Form'!B176),\"\",'Scholars Nomination Form'!B176)","v":""},{"$f":"IF(ISBLANK('Scholars Nomination Form'!D176),\"\",'Scholars Nomination Form'!D176)","v":""},{"$f":"IF(ISBLANK('Scholars Nomination Form'!E176),\"\",'Scholars Nomination Form'!E176)","v":""},{"$f":"IF(ISBLANK('Scholars Nomination Form'!F176),\"\",'Scholars Nomination Form'!F176)","v":""},{"$f":"IF(ISBLANK('Scholars Nomination Form'!G176),\"\",'Scholars Nomination Form'!G176)","v":""},{"$f":"IF(ISBLANK('Scholars Nomination Form'!H176),\"\",'Scholars Nomination Form'!H176)","v":""},{"$f":"IF(ISBLANK('Scholars Nomination Form'!I176),\"\",'Scholars Nomination Form'!I176)","v":""},{"$f":"IF(ISBLANK('Scholars Nomination Form'!J176),\"\",'Scholars Nomination Form'!J176)","v":""},{"$f":"IF(ISBLANK('Scholars Nomination Form'!K176),\"\",'Scholars Nomination Form'!K176)","v":""},{"$f":"IF(ISBLANK('Scholars Nomination Form'!L176),\"\",'Scholars Nomination Form'!L176)","v":""},{"$f":"IF(ISBLANK('Scholars Nomination Form'!M176),\"\",'Scholars Nomination Form'!M176)","v":""},{"$f":"IF(ISBLANK('Scholars Nomination Form'!N176),\"\",'Scholars Nomination Form'!N176)","v":""},{"$f":"IF(ISBLANK('Scholars Nomination Form'!O176),\"\",'Scholars Nomination Form'!O176)","v":""},{"$f":"IF(ISBLANK('Scholars Nomination Form'!P176),\"\",'Scholars Nomination Form'!P176)","v":""},{"$f":"IF(ISBLANK('Scholars Nomination Form'!Q176),\"\",'Scholars Nomination Form'!Q176)","v":""},{"$f":"IF(ISBLANK('Scholars Nomination Form'!R176),\"\",'Scholars Nomination Form'!R176)","v":""},{"$f":"IF(ISBLANK('Scholars Nomination Form'!S176),\"\",'Scholars Nomination Form'!S176)","v":""},{"$f":"IF(ISBLANK('Scholars Nomination Form'!T176),\"\",'Scholars Nomination Form'!T176)","v":""},{"$f":"IF(ISBLANK('Scholars Nomination Form'!U176),\"\",'Scholars Nomination Form'!U176)","v":""},{"$f":"IF(ISBLANK('Scholars Nomination Form'!V176),\"\",'Scholars Nomination Form'!V176)","v":""},{"$f":"IF(ISBLANK('Scholars Nomination Form'!W176),\"\",'Scholars Nomination Form'!W176)","v":""},{"$f":"IF(ISBLANK('Scholars Nomination Form'!X176),\"\",'Scholars Nomination Form'!X176)","v":""},{"$f":"IF(ISBLANK('Scholars Nomination Form'!Y176),\"\",'Scholars Nomination Form'!Y176)","v":""},{"$f":"IF(ISBLANK('Scholars Nomination Form'!Z176),\"\",'Scholars Nomination Form'!Z176)","v":""},{"$f":"IF(ISBLANK('Scholars Nomination Form'!AA176),\"\",'Scholars Nomination Form'!AA176)","v":""}]
[{"$f":"IF(ISBLANK('Scholars Nomination Form'!$F177),\"\",'Scholars Nomination Form'!$C$11)","v":""},{"$f":"IF(ISBLANK('Scholars Nomination Form'!$F177),\"\",'Scholars Nomination Form'!$C$12)","v":""},{"$f":"IF(ISBLANK('Scholars Nomination Form'!$F177),\"\",'Scholars Nomination Form'!$C$13)","v":""},{"$f":"IF(ISBLANK('Scholars Nomination Form'!$F177),\"\",'Scholars Nomination Form'!$C$14)","v":""},{"$f":"IF(ISBLANK('Scholars Nomination Form'!$F177),\"\",'Scholars Nomination Form'!$C$15)","v":""},{"$f":"IF(ISBLANK('Scholars Nomination Form'!$F177),\"\",'Scholars Nomination Form'!$C$16)","v":""},{"$f":"IF(ISBLANK('Scholars Nomination Form'!B177),\"\",'Scholars Nomination Form'!B177)","v":""},{"$f":"IF(ISBLANK('Scholars Nomination Form'!D177),\"\",'Scholars Nomination Form'!D177)","v":""},{"$f":"IF(ISBLANK('Scholars Nomination Form'!E177),\"\",'Scholars Nomination Form'!E177)","v":""},{"$f":"IF(ISBLANK('Scholars Nomination Form'!F177),\"\",'Scholars Nomination Form'!F177)","v":""},{"$f":"IF(ISBLANK('Scholars Nomination Form'!G177),\"\",'Scholars Nomination Form'!G177)","v":""},{"$f":"IF(ISBLANK('Scholars Nomination Form'!H177),\"\",'Scholars Nomination Form'!H177)","v":""},{"$f":"IF(ISBLANK('Scholars Nomination Form'!I177),\"\",'Scholars Nomination Form'!I177)","v":""},{"$f":"IF(ISBLANK('Scholars Nomination Form'!J177),\"\",'Scholars Nomination Form'!J177)","v":""},{"$f":"IF(ISBLANK('Scholars Nomination Form'!K177),\"\",'Scholars Nomination Form'!K177)","v":""},{"$f":"IF(ISBLANK('Scholars Nomination Form'!L177),\"\",'Scholars Nomination Form'!L177)","v":""},{"$f":"IF(ISBLANK('Scholars Nomination Form'!M177),\"\",'Scholars Nomination Form'!M177)","v":""},{"$f":"IF(ISBLANK('Scholars Nomination Form'!N177),\"\",'Scholars Nomination Form'!N177)","v":""},{"$f":"IF(ISBLANK('Scholars Nomination Form'!O177),\"\",'Scholars Nomination Form'!O177)","v":""},{"$f":"IF(ISBLANK('Scholars Nomination Form'!P177),\"\",'Scholars Nomination Form'!P177)","v":""},{"$f":"IF(ISBLANK('Scholars Nomination Form'!Q177),\"\",'Scholars Nomination Form'!Q177)","v":""},{"$f":"IF(ISBLANK('Scholars Nomination Form'!R177),\"\",'Scholars Nomination Form'!R177)","v":""},{"$f":"IF(ISBLANK('Scholars Nomination Form'!S177),\"\",'Scholars Nomination Form'!S177)","v":""},{"$f":"IF(ISBLANK('Scholars Nomination Form'!T177),\"\",'Scholars Nomination Form'!T177)","v":""},{"$f":"IF(ISBLANK('Scholars Nomination Form'!U177),\"\",'Scholars Nomination Form'!U177)","v":""},{"$f":"IF(ISBLANK('Scholars Nomination Form'!V177),\"\",'Scholars Nomination Form'!V177)","v":""},{"$f":"IF(ISBLANK('Scholars Nomination Form'!W177),\"\",'Scholars Nomination Form'!W177)","v":""},{"$f":"IF(ISBLANK('Scholars Nomination Form'!X177),\"\",'Scholars Nomination Form'!X177)","v":""},{"$f":"IF(ISBLANK('Scholars Nomination Form'!Y177),\"\",'Scholars Nomination Form'!Y177)","v":""},{"$f":"IF(ISBLANK('Scholars Nomination Form'!Z177),\"\",'Scholars Nomination Form'!Z177)","v":""},{"$f":"IF(ISBLANK('Scholars Nomination Form'!AA177),\"\",'Scholars Nomination Form'!AA177)","v":""}]
[{"$f":"IF(ISBLANK('Scholars Nomination Form'!$F178),\"\",'Scholars Nomination Form'!$C$11)","v":""},{"$f":"IF(ISBLANK('Scholars Nomination Form'!$F178),\"\",'Scholars Nomination Form'!$C$12)","v":""},{"$f":"IF(ISBLANK('Scholars Nomination Form'!$F178),\"\",'Scholars Nomination Form'!$C$13)","v":""},{"$f":"IF(ISBLANK('Scholars Nomination Form'!$F178),\"\",'Scholars Nomination Form'!$C$14)","v":""},{"$f":"IF(ISBLANK('Scholars Nomination Form'!$F178),\"\",'Scholars Nomination Form'!$C$15)","v":""},{"$f":"IF(ISBLANK('Scholars Nomination Form'!$F178),\"\",'Scholars Nomination Form'!$C$16)","v":""},{"$f":"IF(ISBLANK('Scholars Nomination Form'!B178),\"\",'Scholars Nomination Form'!B178)","v":""},{"$f":"IF(ISBLANK('Scholars Nomination Form'!D178),\"\",'Scholars Nomination Form'!D178)","v":""},{"$f":"IF(ISBLANK('Scholars Nomination Form'!E178),\"\",'Scholars Nomination Form'!E178)","v":""},{"$f":"IF(ISBLANK('Scholars Nomination Form'!F178),\"\",'Scholars Nomination Form'!F178)","v":""},{"$f":"IF(ISBLANK('Scholars Nomination Form'!G178),\"\",'Scholars Nomination Form'!G178)","v":""},{"$f":"IF(ISBLANK('Scholars Nomination Form'!H178),\"\",'Scholars Nomination Form'!H178)","v":""},{"$f":"IF(ISBLANK('Scholars Nomination Form'!I178),\"\",'Scholars Nomination Form'!I178)","v":""},{"$f":"IF(ISBLANK('Scholars Nomination Form'!J178),\"\",'Scholars Nomination Form'!J178)","v":""},{"$f":"IF(ISBLANK('Scholars Nomination Form'!K178),\"\",'Scholars Nomination Form'!K178)","v":""},{"$f":"IF(ISBLANK('Scholars Nomination Form'!L178),\"\",'Scholars Nomination Form'!L178)","v":""},{"$f":"IF(ISBLANK('Scholars Nomination Form'!M178),\"\",'Scholars Nomination Form'!M178)","v":""},{"$f":"IF(ISBLANK('Scholars Nomination Form'!N178),\"\",'Scholars Nomination Form'!N178)","v":""},{"$f":"IF(ISBLANK('Scholars Nomination Form'!O178),\"\",'Scholars Nomination Form'!O178)","v":""},{"$f":"IF(ISBLANK('Scholars Nomination Form'!P178),\"\",'Scholars Nomination Form'!P178)","v":""},{"$f":"IF(ISBLANK('Scholars Nomination Form'!Q178),\"\",'Scholars Nomination Form'!Q178)","v":""},{"$f":"IF(ISBLANK('Scholars Nomination Form'!R178),\"\",'Scholars Nomination Form'!R178)","v":""},{"$f":"IF(ISBLANK('Scholars Nomination Form'!S178),\"\",'Scholars Nomination Form'!S178)","v":""},{"$f":"IF(ISBLANK('Scholars Nomination Form'!T178),\"\",'Scholars Nomination Form'!T178)","v":""},{"$f":"IF(ISBLANK('Scholars Nomination Form'!U178),\"\",'Scholars Nomination Form'!U178)","v":""},{"$f":"IF(ISBLANK('Scholars Nomination Form'!V178),\"\",'Scholars Nomination Form'!V178)","v":""},{"$f":"IF(ISBLANK('Scholars Nomination Form'!W178),\"\",'Scholars Nomination Form'!W178)","v":""},{"$f":"IF(ISBLANK('Scholars Nomination Form'!X178),\"\",'Scholars Nomination Form'!X178)","v":""},{"$f":"IF(ISBLANK('Scholars Nomination Form'!Y178),\"\",'Scholars Nomination Form'!Y178)","v":""},{"$f":"IF(ISBLANK('Scholars Nomination Form'!Z178),\"\",'Scholars Nomination Form'!Z178)","v":""},{"$f":"IF(ISBLANK('Scholars Nomination Form'!AA178),\"\",'Scholars Nomination Form'!AA178)","v":""}]
[{"$f":"IF(ISBLANK('Scholars Nomination Form'!$F179),\"\",'Scholars Nomination Form'!$C$11)","v":""},{"$f":"IF(ISBLANK('Scholars Nomination Form'!$F179),\"\",'Scholars Nomination Form'!$C$12)","v":""},{"$f":"IF(ISBLANK('Scholars Nomination Form'!$F179),\"\",'Scholars Nomination Form'!$C$13)","v":""},{"$f":"IF(ISBLANK('Scholars Nomination Form'!$F179),\"\",'Scholars Nomination Form'!$C$14)","v":""},{"$f":"IF(ISBLANK('Scholars Nomination Form'!$F179),\"\",'Scholars Nomination Form'!$C$15)","v":""},{"$f":"IF(ISBLANK('Scholars Nomination Form'!$F179),\"\",'Scholars Nomination Form'!$C$16)","v":""},{"$f":"IF(ISBLANK('Scholars Nomination Form'!B179),\"\",'Scholars Nomination Form'!B179)","v":""},{"$f":"IF(ISBLANK('Scholars Nomination Form'!D179),\"\",'Scholars Nomination Form'!D179)","v":""},{"$f":"IF(ISBLANK('Scholars Nomination Form'!E179),\"\",'Scholars Nomination Form'!E179)","v":""},{"$f":"IF(ISBLANK('Scholars Nomination Form'!F179),\"\",'Scholars Nomination Form'!F179)","v":""},{"$f":"IF(ISBLANK('Scholars Nomination Form'!G179),\"\",'Scholars Nomination Form'!G179)","v":""},{"$f":"IF(ISBLANK('Scholars Nomination Form'!H179),\"\",'Scholars Nomination Form'!H179)","v":""},{"$f":"IF(ISBLANK('Scholars Nomination Form'!I179),\"\",'Scholars Nomination Form'!I179)","v":""},{"$f":"IF(ISBLANK('Scholars Nomination Form'!J179),\"\",'Scholars Nomination Form'!J179)","v":""},{"$f":"IF(ISBLANK('Scholars Nomination Form'!K179),\"\",'Scholars Nomination Form'!K179)","v":""},{"$f":"IF(ISBLANK('Scholars Nomination Form'!L179),\"\",'Scholars Nomination Form'!L179)","v":""},{"$f":"IF(ISBLANK('Scholars Nomination Form'!M179),\"\",'Scholars Nomination Form'!M179)","v":""},{"$f":"IF(ISBLANK('Scholars Nomination Form'!N179),\"\",'Scholars Nomination Form'!N179)","v":""},{"$f":"IF(ISBLANK('Scholars Nomination Form'!O179),\"\",'Scholars Nomination Form'!O179)","v":""},{"$f":"IF(ISBLANK('Scholars Nomination Form'!P179),\"\",'Scholars Nomination Form'!P179)","v":""},{"$f":"IF(ISBLANK('Scholars Nomination Form'!Q179),\"\",'Scholars Nomination Form'!Q179)","v":""},{"$f":"IF(ISBLANK('Scholars Nomination Form'!R179),\"\",'Scholars Nomination Form'!R179)","v":""},{"$f":"IF(ISBLANK('Scholars Nomination Form'!S179),\"\",'Scholars Nomination Form'!S179)","v":""},{"$f":"IF(ISBLANK('Scholars Nomination Form'!T179),\"\",'Scholars Nomination Form'!T179)","v":""},{"$f":"IF(ISBLANK('Scholars Nomination Form'!U179),\"\",'Scholars Nomination Form'!U179)","v":""},{"$f":"IF(ISBLANK('Scholars Nomination Form'!V179),\"\",'Scholars Nomination Form'!V179)","v":""},{"$f":"IF(ISBLANK('Scholars Nomination Form'!W179),\"\",'Scholars Nomination Form'!W179)","v":""},{"$f":"IF(ISBLANK('Scholars Nomination Form'!X179),\"\",'Scholars Nomination Form'!X179)","v":""},{"$f":"IF(ISBLANK('Scholars Nomination Form'!Y179),\"\",'Scholars Nomination Form'!Y179)","v":""},{"$f":"IF(ISBLANK('Scholars Nomination Form'!Z179),\"\",'Scholars Nomination Form'!Z179)","v":""},{"$f":"IF(ISBLANK('Scholars Nomination Form'!AA179),\"\",'Scholars Nomination Form'!AA179)","v":""}]
[{"$f":"IF(ISBLANK('Scholars Nomination Form'!$F180),\"\",'Scholars Nomination Form'!$C$11)","v":""},{"$f":"IF(ISBLANK('Scholars Nomination Form'!$F180),\"\",'Scholars Nomination Form'!$C$12)","v":""},{"$f":"IF(ISBLANK('Scholars Nomination Form'!$F180),\"\",'Scholars Nomination Form'!$C$13)","v":""},{"$f":"IF(ISBLANK('Scholars Nomination Form'!$F180),\"\",'Scholars Nomination Form'!$C$14)","v":""},{"$f":"IF(ISBLANK('Scholars Nomination Form'!$F180),\"\",'Scholars Nomination Form'!$C$15)","v":""},{"$f":"IF(ISBLANK('Scholars Nomination Form'!$F180),\"\",'Scholars Nomination Form'!$C$16)","v":""},{"$f":"IF(ISBLANK('Scholars Nomination Form'!B180),\"\",'Scholars Nomination Form'!B180)","v":""},{"$f":"IF(ISBLANK('Scholars Nomination Form'!D180),\"\",'Scholars Nomination Form'!D180)","v":""},{"$f":"IF(ISBLANK('Scholars Nomination Form'!E180),\"\",'Scholars Nomination Form'!E180)","v":""},{"$f":"IF(ISBLANK('Scholars Nomination Form'!F180),\"\",'Scholars Nomination Form'!F180)","v":""},{"$f":"IF(ISBLANK('Scholars Nomination Form'!G180),\"\",'Scholars Nomination Form'!G180)","v":""},{"$f":"IF(ISBLANK('Scholars Nomination Form'!H180),\"\",'Scholars Nomination Form'!H180)","v":""},{"$f":"IF(ISBLANK('Scholars Nomination Form'!I180),\"\",'Scholars Nomination Form'!I180)","v":""},{"$f":"IF(ISBLANK('Scholars Nomination Form'!J180),\"\",'Scholars Nomination Form'!J180)","v":""},{"$f":"IF(ISBLANK('Scholars Nomination Form'!K180),\"\",'Scholars Nomination Form'!K180)","v":""},{"$f":"IF(ISBLANK('Scholars Nomination Form'!L180),\"\",'Scholars Nomination Form'!L180)","v":""},{"$f":"IF(ISBLANK('Scholars Nomination Form'!M180),\"\",'Scholars Nomination Form'!M180)","v":""},{"$f":"IF(ISBLANK('Scholars Nomination Form'!N180),\"\",'Scholars Nomination Form'!N180)","v":""},{"$f":"IF(ISBLANK('Scholars Nomination Form'!O180),\"\",'Scholars Nomination Form'!O180)","v":""},{"$f":"IF(ISBLANK('Scholars Nomination Form'!P180),\"\",'Scholars Nomination Form'!P180)","v":""},{"$f":"IF(ISBLANK('Scholars Nomination Form'!Q180),\"\",'Scholars Nomination Form'!Q180)","v":""},{"$f":"IF(ISBLANK('Scholars Nomination Form'!R180),\"\",'Scholars Nomination Form'!R180)","v":""},{"$f":"IF(ISBLANK('Scholars Nomination Form'!S180),\"\",'Scholars Nomination Form'!S180)","v":""},{"$f":"IF(ISBLANK('Scholars Nomination Form'!T180),\"\",'Scholars Nomination Form'!T180)","v":""},{"$f":"IF(ISBLANK('Scholars Nomination Form'!U180),\"\",'Scholars Nomination Form'!U180)","v":""},{"$f":"IF(ISBLANK('Scholars Nomination Form'!V180),\"\",'Scholars Nomination Form'!V180)","v":""},{"$f":"IF(ISBLANK('Scholars Nomination Form'!W180),\"\",'Scholars Nomination Form'!W180)","v":""},{"$f":"IF(ISBLANK('Scholars Nomination Form'!X180),\"\",'Scholars Nomination Form'!X180)","v":""},{"$f":"IF(ISBLANK('Scholars Nomination Form'!Y180),\"\",'Scholars Nomination Form'!Y180)","v":""},{"$f":"IF(ISBLANK('Scholars Nomination Form'!Z180),\"\",'Scholars Nomination Form'!Z180)","v":""},{"$f":"IF(ISBLANK('Scholars Nomination Form'!AA180),\"\",'Scholars Nomination Form'!AA180)","v":""}]
[{"$f":"IF(ISBLANK('Scholars Nomination Form'!$F181),\"\",'Scholars Nomination Form'!$C$11)","v":""},{"$f":"IF(ISBLANK('Scholars Nomination Form'!$F181),\"\",'Scholars Nomination Form'!$C$12)","v":""},{"$f":"IF(ISBLANK('Scholars Nomination Form'!$F181),\"\",'Scholars Nomination Form'!$C$13)","v":""},{"$f":"IF(ISBLANK('Scholars Nomination Form'!$F181),\"\",'Scholars Nomination Form'!$C$14)","v":""},{"$f":"IF(ISBLANK('Scholars Nomination Form'!$F181),\"\",'Scholars Nomination Form'!$C$15)","v":""},{"$f":"IF(ISBLANK('Scholars Nomination Form'!$F181),\"\",'Scholars Nomination Form'!$C$16)","v":""},{"$f":"IF(ISBLANK('Scholars Nomination Form'!B181),\"\",'Scholars Nomination Form'!B181)","v":""},{"$f":"IF(ISBLANK('Scholars Nomination Form'!D181),\"\",'Scholars Nomination Form'!D181)","v":""},{"$f":"IF(ISBLANK('Scholars Nomination Form'!E181),\"\",'Scholars Nomination Form'!E181)","v":""},{"$f":"IF(ISBLANK('Scholars Nomination Form'!F181),\"\",'Scholars Nomination Form'!F181)","v":""},{"$f":"IF(ISBLANK('Scholars Nomination Form'!G181),\"\",'Scholars Nomination Form'!G181)","v":""},{"$f":"IF(ISBLANK('Scholars Nomination Form'!H181),\"\",'Scholars Nomination Form'!H181)","v":""},{"$f":"IF(ISBLANK('Scholars Nomination Form'!I181),\"\",'Scholars Nomination Form'!I181)","v":""},{"$f":"IF(ISBLANK('Scholars Nomination Form'!J181),\"\",'Scholars Nomination Form'!J181)","v":""},{"$f":"IF(ISBLANK('Scholars Nomination Form'!K181),\"\",'Scholars Nomination Form'!K181)","v":""},{"$f":"IF(ISBLANK('Scholars Nomination Form'!L181),\"\",'Scholars Nomination Form'!L181)","v":""},{"$f":"IF(ISBLANK('Scholars Nomination Form'!M181),\"\",'Scholars Nomination Form'!M181)","v":""},{"$f":"IF(ISBLANK('Scholars Nomination Form'!N181),\"\",'Scholars Nomination Form'!N181)","v":""},{"$f":"IF(ISBLANK('Scholars Nomination Form'!O181),\"\",'Scholars Nomination Form'!O181)","v":""},{"$f":"IF(ISBLANK('Scholars Nomination Form'!P181),\"\",'Scholars Nomination Form'!P181)","v":""},{"$f":"IF(ISBLANK('Scholars Nomination Form'!Q181),\"\",'Scholars Nomination Form'!Q181)","v":""},{"$f":"IF(ISBLANK('Scholars Nomination Form'!R181),\"\",'Scholars Nomination Form'!R181)","v":""},{"$f":"IF(ISBLANK('Scholars Nomination Form'!S181),\"\",'Scholars Nomination Form'!S181)","v":""},{"$f":"IF(ISBLANK('Scholars Nomination Form'!T181),\"\",'Scholars Nomination Form'!T181)","v":""},{"$f":"IF(ISBLANK('Scholars Nomination Form'!U181),\"\",'Scholars Nomination Form'!U181)","v":""},{"$f":"IF(ISBLANK('Scholars Nomination Form'!V181),\"\",'Scholars Nomination Form'!V181)","v":""},{"$f":"IF(ISBLANK('Scholars Nomination Form'!W181),\"\",'Scholars Nomination Form'!W181)","v":""},{"$f":"IF(ISBLANK('Scholars Nomination Form'!X181),\"\",'Scholars Nomination Form'!X181)","v":""},{"$f":"IF(ISBLANK('Scholars Nomination Form'!Y181),\"\",'Scholars Nomination Form'!Y181)","v":""},{"$f":"IF(ISBLANK('Scholars Nomination Form'!Z181),\"\",'Scholars Nomination Form'!Z181)","v":""},{"$f":"IF(ISBLANK('Scholars Nomination Form'!AA181),\"\",'Scholars Nomination Form'!AA181)","v":""}]
[{"$f":"IF(ISBLANK('Scholars Nomination Form'!$F182),\"\",'Scholars Nomination Form'!$C$11)","v":""},{"$f":"IF(ISBLANK('Scholars Nomination Form'!$F182),\"\",'Scholars Nomination Form'!$C$12)","v":""},{"$f":"IF(ISBLANK('Scholars Nomination Form'!$F182),\"\",'Scholars Nomination Form'!$C$13)","v":""},{"$f":"IF(ISBLANK('Scholars Nomination Form'!$F182),\"\",'Scholars Nomination Form'!$C$14)","v":""},{"$f":"IF(ISBLANK('Scholars Nomination Form'!$F182),\"\",'Scholars Nomination Form'!$C$15)","v":""},{"$f":"IF(ISBLANK('Scholars Nomination Form'!$F182),\"\",'Scholars Nomination Form'!$C$16)","v":""},{"$f":"IF(ISBLANK('Scholars Nomination Form'!B182),\"\",'Scholars Nomination Form'!B182)","v":""},{"$f":"IF(ISBLANK('Scholars Nomination Form'!D182),\"\",'Scholars Nomination Form'!D182)","v":""},{"$f":"IF(ISBLANK('Scholars Nomination Form'!E182),\"\",'Scholars Nomination Form'!E182)","v":""},{"$f":"IF(ISBLANK('Scholars Nomination Form'!F182),\"\",'Scholars Nomination Form'!F182)","v":""},{"$f":"IF(ISBLANK('Scholars Nomination Form'!G182),\"\",'Scholars Nomination Form'!G182)","v":""},{"$f":"IF(ISBLANK('Scholars Nomination Form'!H182),\"\",'Scholars Nomination Form'!H182)","v":""},{"$f":"IF(ISBLANK('Scholars Nomination Form'!I182),\"\",'Scholars Nomination Form'!I182)","v":""},{"$f":"IF(ISBLANK('Scholars Nomination Form'!J182),\"\",'Scholars Nomination Form'!J182)","v":""},{"$f":"IF(ISBLANK('Scholars Nomination Form'!K182),\"\",'Scholars Nomination Form'!K182)","v":""},{"$f":"IF(ISBLANK('Scholars Nomination Form'!L182),\"\",'Scholars Nomination Form'!L182)","v":""},{"$f":"IF(ISBLANK('Scholars Nomination Form'!M182),\"\",'Scholars Nomination Form'!M182)","v":""},{"$f":"IF(ISBLANK('Scholars Nomination Form'!N182),\"\",'Scholars Nomination Form'!N182)","v":""},{"$f":"IF(ISBLANK('Scholars Nomination Form'!O182),\"\",'Scholars Nomination Form'!O182)","v":""},{"$f":"IF(ISBLANK('Scholars Nomination Form'!P182),\"\",'Scholars Nomination Form'!P182)","v":""},{"$f":"IF(ISBLANK('Scholars Nomination Form'!Q182),\"\",'Scholars Nomination Form'!Q182)","v":""},{"$f":"IF(ISBLANK('Scholars Nomination Form'!R182),\"\",'Scholars Nomination Form'!R182)","v":""},{"$f":"IF(ISBLANK('Scholars Nomination Form'!S182),\"\",'Scholars Nomination Form'!S182)","v":""},{"$f":"IF(ISBLANK('Scholars Nomination Form'!T182),\"\",'Scholars Nomination Form'!T182)","v":""},{"$f":"IF(ISBLANK('Scholars Nomination Form'!U182),\"\",'Scholars Nomination Form'!U182)","v":""},{"$f":"IF(ISBLANK('Scholars Nomination Form'!V182),\"\",'Scholars Nomination Form'!V182)","v":""},{"$f":"IF(ISBLANK('Scholars Nomination Form'!W182),\"\",'Scholars Nomination Form'!W182)","v":""},{"$f":"IF(ISBLANK('Scholars Nomination Form'!X182),\"\",'Scholars Nomination Form'!X182)","v":""},{"$f":"IF(ISBLANK('Scholars Nomination Form'!Y182),\"\",'Scholars Nomination Form'!Y182)","v":""},{"$f":"IF(ISBLANK('Scholars Nomination Form'!Z182),\"\",'Scholars Nomination Form'!Z182)","v":""},{"$f":"IF(ISBLANK('Scholars Nomination Form'!AA182),\"\",'Scholars Nomination Form'!AA182)","v":""}]
[{"$f":"IF(ISBLANK('Scholars Nomination Form'!$F183),\"\",'Scholars Nomination Form'!$C$11)","v":""},{"$f":"IF(ISBLANK('Scholars Nomination Form'!$F183),\"\",'Scholars Nomination Form'!$C$12)","v":""},{"$f":"IF(ISBLANK('Scholars Nomination Form'!$F183),\"\",'Scholars Nomination Form'!$C$13)","v":""},{"$f":"IF(ISBLANK('Scholars Nomination Form'!$F183),\"\",'Scholars Nomination Form'!$C$14)","v":""},{"$f":"IF(ISBLANK('Scholars Nomination Form'!$F183),\"\",'Scholars Nomination Form'!$C$15)","v":""},{"$f":"IF(ISBLANK('Scholars Nomination Form'!$F183),\"\",'Scholars Nomination Form'!$C$16)","v":""},{"$f":"IF(ISBLANK('Scholars Nomination Form'!B183),\"\",'Scholars Nomination Form'!B183)","v":""},{"$f":"IF(ISBLANK('Scholars Nomination Form'!D183),\"\",'Scholars Nomination Form'!D183)","v":""},{"$f":"IF(ISBLANK('Scholars Nomination Form'!E183),\"\",'Scholars Nomination Form'!E183)","v":""},{"$f":"IF(ISBLANK('Scholars Nomination Form'!F183),\"\",'Scholars Nomination Form'!F183)","v":""},{"$f":"IF(ISBLANK('Scholars Nomination Form'!G183),\"\",'Scholars Nomination Form'!G183)","v":""},{"$f":"IF(ISBLANK('Scholars Nomination Form'!H183),\"\",'Scholars Nomination Form'!H183)","v":""},{"$f":"IF(ISBLANK('Scholars Nomination Form'!I183),\"\",'Scholars Nomination Form'!I183)","v":""},{"$f":"IF(ISBLANK('Scholars Nomination Form'!J183),\"\",'Scholars Nomination Form'!J183)","v":""},{"$f":"IF(ISBLANK('Scholars Nomination Form'!K183),\"\",'Scholars Nomination Form'!K183)","v":""},{"$f":"IF(ISBLANK('Scholars Nomination Form'!L183),\"\",'Scholars Nomination Form'!L183)","v":""},{"$f":"IF(ISBLANK('Scholars Nomination Form'!M183),\"\",'Scholars Nomination Form'!M183)","v":""},{"$f":"IF(ISBLANK('Scholars Nomination Form'!N183),\"\",'Scholars Nomination Form'!N183)","v":""},{"$f":"IF(ISBLANK('Scholars Nomination Form'!O183),\"\",'Scholars Nomination Form'!O183)","v":""},{"$f":"IF(ISBLANK('Scholars Nomination Form'!P183),\"\",'Scholars Nomination Form'!P183)","v":""},{"$f":"IF(ISBLANK('Scholars Nomination Form'!Q183),\"\",'Scholars Nomination Form'!Q183)","v":""},{"$f":"IF(ISBLANK('Scholars Nomination Form'!R183),\"\",'Scholars Nomination Form'!R183)","v":""},{"$f":"IF(ISBLANK('Scholars Nomination Form'!S183),\"\",'Scholars Nomination Form'!S183)","v":""},{"$f":"IF(ISBLANK('Scholars Nomination Form'!T183),\"\",'Scholars Nomination Form'!T183)","v":""},{"$f":"IF(ISBLANK('Scholars Nomination Form'!U183),\"\",'Scholars Nomination Form'!U183)","v":""},{"$f":"IF(ISBLANK('Scholars Nomination Form'!V183),\"\",'Scholars Nomination Form'!V183)","v":""},{"$f":"IF(ISBLANK('Scholars Nomination Form'!W183),\"\",'Scholars Nomination Form'!W183)","v":""},{"$f":"IF(ISBLANK('Scholars Nomination Form'!X183),\"\",'Scholars Nomination Form'!X183)","v":""},{"$f":"IF(ISBLANK('Scholars Nomination Form'!Y183),\"\",'Scholars Nomination Form'!Y183)","v":""},{"$f":"IF(ISBLANK('Scholars Nomination Form'!Z183),\"\",'Scholars Nomination Form'!Z183)","v":""},{"$f":"IF(ISBLANK('Scholars Nomination Form'!AA183),\"\",'Scholars Nomination Form'!AA183)","v":""}]
[{"$f":"IF(ISBLANK('Scholars Nomination Form'!$F184),\"\",'Scholars Nomination Form'!$C$11)","v":""},{"$f":"IF(ISBLANK('Scholars Nomination Form'!$F184),\"\",'Scholars Nomination Form'!$C$12)","v":""},{"$f":"IF(ISBLANK('Scholars Nomination Form'!$F184),\"\",'Scholars Nomination Form'!$C$13)","v":""},{"$f":"IF(ISBLANK('Scholars Nomination Form'!$F184),\"\",'Scholars Nomination Form'!$C$14)","v":""},{"$f":"IF(ISBLANK('Scholars Nomination Form'!$F184),\"\",'Scholars Nomination Form'!$C$15)","v":""},{"$f":"IF(ISBLANK('Scholars Nomination Form'!$F184),\"\",'Scholars Nomination Form'!$C$16)","v":""},{"$f":"IF(ISBLANK('Scholars Nomination Form'!B184),\"\",'Scholars Nomination Form'!B184)","v":""},{"$f":"IF(ISBLANK('Scholars Nomination Form'!D184),\"\",'Scholars Nomination Form'!D184)","v":""},{"$f":"IF(ISBLANK('Scholars Nomination Form'!E184),\"\",'Scholars Nomination Form'!E184)","v":""},{"$f":"IF(ISBLANK('Scholars Nomination Form'!F184),\"\",'Scholars Nomination Form'!F184)","v":""},{"$f":"IF(ISBLANK('Scholars Nomination Form'!G184),\"\",'Scholars Nomination Form'!G184)","v":""},{"$f":"IF(ISBLANK('Scholars Nomination Form'!H184),\"\",'Scholars Nomination Form'!H184)","v":""},{"$f":"IF(ISBLANK('Scholars Nomination Form'!I184),\"\",'Scholars Nomination Form'!I184)","v":""},{"$f":"IF(ISBLANK('Scholars Nomination Form'!J184),\"\",'Scholars Nomination Form'!J184)","v":""},{"$f":"IF(ISBLANK('Scholars Nomination Form'!K184),\"\",'Scholars Nomination Form'!K184)","v":""},{"$f":"IF(ISBLANK('Scholars Nomination Form'!L184),\"\",'Scholars Nomination Form'!L184)","v":""},{"$f":"IF(ISBLANK('Scholars Nomination Form'!M184),\"\",'Scholars Nomination Form'!M184)","v":""},{"$f":"IF(ISBLANK('Scholars Nomination Form'!N184),\"\",'Scholars Nomination Form'!N184)","v":""},{"$f":"IF(ISBLANK('Scholars Nomination Form'!O184),\"\",'Scholars Nomination Form'!O184)","v":""},{"$f":"IF(ISBLANK('Scholars Nomination Form'!P184),\"\",'Scholars Nomination Form'!P184)","v":""},{"$f":"IF(ISBLANK('Scholars Nomination Form'!Q184),\"\",'Scholars Nomination Form'!Q184)","v":""},{"$f":"IF(ISBLANK('Scholars Nomination Form'!R184),\"\",'Scholars Nomination Form'!R184)","v":""},{"$f":"IF(ISBLANK('Scholars Nomination Form'!S184),\"\",'Scholars Nomination Form'!S184)","v":""},{"$f":"IF(ISBLANK('Scholars Nomination Form'!T184),\"\",'Scholars Nomination Form'!T184)","v":""},{"$f":"IF(ISBLANK('Scholars Nomination Form'!U184),\"\",'Scholars Nomination Form'!U184)","v":""},{"$f":"IF(ISBLANK('Scholars Nomination Form'!V184),\"\",'Scholars Nomination Form'!V184)","v":""},{"$f":"IF(ISBLANK('Scholars Nomination Form'!W184),\"\",'Scholars Nomination Form'!W184)","v":""},{"$f":"IF(ISBLANK('Scholars Nomination Form'!X184),\"\",'Scholars Nomination Form'!X184)","v":""},{"$f":"IF(ISBLANK('Scholars Nomination Form'!Y184),\"\",'Scholars Nomination Form'!Y184)","v":""},{"$f":"IF(ISBLANK('Scholars Nomination Form'!Z184),\"\",'Scholars Nomination Form'!Z184)","v":""},{"$f":"IF(ISBLANK('Scholars Nomination Form'!AA184),\"\",'Scholars Nomination Form'!AA184)","v":""}]
[{"$f":"IF(ISBLANK('Scholars Nomination Form'!$F185),\"\",'Scholars Nomination Form'!$C$11)","v":""},{"$f":"IF(ISBLANK('Scholars Nomination Form'!$F185),\"\",'Scholars Nomination Form'!$C$12)","v":""},{"$f":"IF(ISBLANK('Scholars Nomination Form'!$F185),\"\",'Scholars Nomination Form'!$C$13)","v":""},{"$f":"IF(ISBLANK('Scholars Nomination Form'!$F185),\"\",'Scholars Nomination Form'!$C$14)","v":""},{"$f":"IF(ISBLANK('Scholars Nomination Form'!$F185),\"\",'Scholars Nomination Form'!$C$15)","v":""},{"$f":"IF(ISBLANK('Scholars Nomination Form'!$F185),\"\",'Scholars Nomination Form'!$C$16)","v":""},{"$f":"IF(ISBLANK('Scholars Nomination Form'!B185),\"\",'Scholars Nomination Form'!B185)","v":""},{"$f":"IF(ISBLANK('Scholars Nomination Form'!D185),\"\",'Scholars Nomination Form'!D185)","v":""},{"$f":"IF(ISBLANK('Scholars Nomination Form'!E185),\"\",'Scholars Nomination Form'!E185)","v":""},{"$f":"IF(ISBLANK('Scholars Nomination Form'!F185),\"\",'Scholars Nomination Form'!F185)","v":""},{"$f":"IF(ISBLANK('Scholars Nomination Form'!G185),\"\",'Scholars Nomination Form'!G185)","v":""},{"$f":"IF(ISBLANK('Scholars Nomination Form'!H185),\"\",'Scholars Nomination Form'!H185)","v":""},{"$f":"IF(ISBLANK('Scholars Nomination Form'!I185),\"\",'Scholars Nomination Form'!I185)","v":""},{"$f":"IF(ISBLANK('Scholars Nomination Form'!J185),\"\",'Scholars Nomination Form'!J185)","v":""},{"$f":"IF(ISBLANK('Scholars Nomination Form'!K185),\"\",'Scholars Nomination Form'!K185)","v":""},{"$f":"IF(ISBLANK('Scholars Nomination Form'!L185),\"\",'Scholars Nomination Form'!L185)","v":""},{"$f":"IF(ISBLANK('Scholars Nomination Form'!M185),\"\",'Scholars Nomination Form'!M185)","v":""},{"$f":"IF(ISBLANK('Scholars Nomination Form'!N185),\"\",'Scholars Nomination Form'!N185)","v":""},{"$f":"IF(ISBLANK('Scholars Nomination Form'!O185),\"\",'Scholars Nomination Form'!O185)","v":""},{"$f":"IF(ISBLANK('Scholars Nomination Form'!P185),\"\",'Scholars Nomination Form'!P185)","v":""},{"$f":"IF(ISBLANK('Scholars Nomination Form'!Q185),\"\",'Scholars Nomination Form'!Q185)","v":""},{"$f":"IF(ISBLANK('Scholars Nomination Form'!R185),\"\",'Scholars Nomination Form'!R185)","v":""},{"$f":"IF(ISBLANK('Scholars Nomination Form'!S185),\"\",'Scholars Nomination Form'!S185)","v":""},{"$f":"IF(ISBLANK('Scholars Nomination Form'!T185),\"\",'Scholars Nomination Form'!T185)","v":""},{"$f":"IF(ISBLANK('Scholars Nomination Form'!U185),\"\",'Scholars Nomination Form'!U185)","v":""},{"$f":"IF(ISBLANK('Scholars Nomination Form'!V185),\"\",'Scholars Nomination Form'!V185)","v":""},{"$f":"IF(ISBLANK('Scholars Nomination Form'!W185),\"\",'Scholars Nomination Form'!W185)","v":""},{"$f":"IF(ISBLANK('Scholars Nomination Form'!X185),\"\",'Scholars Nomination Form'!X185)","v":""},{"$f":"IF(ISBLANK('Scholars Nomination Form'!Y185),\"\",'Scholars Nomination Form'!Y185)","v":""},{"$f":"IF(ISBLANK('Scholars Nomination Form'!Z185),\"\",'Scholars Nomination Form'!Z185)","v":""},{"$f":"IF(ISBLANK('Scholars Nomination Form'!AA185),\"\",'Scholars Nomination Form'!AA185)","v":""}]
[{"$f":"IF(ISBLANK('Scholars Nomination Form'!$F186),\"\",'Scholars Nomination Form'!$C$11)","v":""},{"$f":"IF(ISBLANK('Scholars Nomination Form'!$F186),\"\",'Scholars Nomination Form'!$C$12)","v":""},{"$f":"IF(ISBLANK('Scholars Nomination Form'!$F186),\"\",'Scholars Nomination Form'!$C$13)","v":""},{"$f":"IF(ISBLANK('Scholars Nomination Form'!$F186),\"\",'Scholars Nomination Form'!$C$14)","v":""},{"$f":"IF(ISBLANK('Scholars Nomination Form'!$F186),\"\",'Scholars Nomination Form'!$C$15)","v":""},{"$f":"IF(ISBLANK('Scholars Nomination Form'!$F186),\"\",'Scholars Nomination Form'!$C$16)","v":""},{"$f":"IF(ISBLANK('Scholars Nomination Form'!B186),\"\",'Scholars Nomination Form'!B186)","v":""},{"$f":"IF(ISBLANK('Scholars Nomination Form'!D186),\"\",'Scholars Nomination Form'!D186)","v":""},{"$f":"IF(ISBLANK('Scholars Nomination Form'!E186),\"\",'Scholars Nomination Form'!E186)","v":""},{"$f":"IF(ISBLANK('Scholars Nomination Form'!F186),\"\",'Scholars Nomination Form'!F186)","v":""},{"$f":"IF(ISBLANK('Scholars Nomination Form'!G186),\"\",'Scholars Nomination Form'!G186)","v":""},{"$f":"IF(ISBLANK('Scholars Nomination Form'!H186),\"\",'Scholars Nomination Form'!H186)","v":""},{"$f":"IF(ISBLANK('Scholars Nomination Form'!I186),\"\",'Scholars Nomination Form'!I186)","v":""},{"$f":"IF(ISBLANK('Scholars Nomination Form'!J186),\"\",'Scholars Nomination Form'!J186)","v":""},{"$f":"IF(ISBLANK('Scholars Nomination Form'!K186),\"\",'Scholars Nomination Form'!K186)","v":""},{"$f":"IF(ISBLANK('Scholars Nomination Form'!L186),\"\",'Scholars Nomination Form'!L186)","v":""},{"$f":"IF(ISBLANK('Scholars Nomination Form'!M186),\"\",'Scholars Nomination Form'!M186)","v":""},{"$f":"IF(ISBLANK('Scholars Nomination Form'!N186),\"\",'Scholars Nomination Form'!N186)","v":""},{"$f":"IF(ISBLANK('Scholars Nomination Form'!O186),\"\",'Scholars Nomination Form'!O186)","v":""},{"$f":"IF(ISBLANK('Scholars Nomination Form'!P186),\"\",'Scholars Nomination Form'!P186)","v":""},{"$f":"IF(ISBLANK('Scholars Nomination Form'!Q186),\"\",'Scholars Nomination Form'!Q186)","v":""},{"$f":"IF(ISBLANK('Scholars Nomination Form'!R186),\"\",'Scholars Nomination Form'!R186)","v":""},{"$f":"IF(ISBLANK('Scholars Nomination Form'!S186),\"\",'Scholars Nomination Form'!S186)","v":""},{"$f":"IF(ISBLANK('Scholars Nomination Form'!T186),\"\",'Scholars Nomination Form'!T186)","v":""},{"$f":"IF(ISBLANK('Scholars Nomination Form'!U186),\"\",'Scholars Nomination Form'!U186)","v":""},{"$f":"IF(ISBLANK('Scholars Nomination Form'!V186),\"\",'Scholars Nomination Form'!V186)","v":""},{"$f":"IF(ISBLANK('Scholars Nomination Form'!W186),\"\",'Scholars Nomination Form'!W186)","v":""},{"$f":"IF(ISBLANK('Scholars Nomination Form'!X186),\"\",'Scholars Nomination Form'!X186)","v":""},{"$f":"IF(ISBLANK('Scholars Nomination Form'!Y186),\"\",'Scholars Nomination Form'!Y186)","v":""},{"$f":"IF(ISBLANK('Scholars Nomination Form'!Z186),\"\",'Scholars Nomination Form'!Z186)","v":""},{"$f":"IF(ISBLANK('Scholars Nomination Form'!AA186),\"\",'Scholars Nomination Form'!AA186)","v":""}]
[{"$f":"IF(ISBLANK('Scholars Nomination Form'!$F187),\"\",'Scholars Nomination Form'!$C$11)","v":""},{"$f":"IF(ISBLANK('Scholars Nomination Form'!$F187),\"\",'Scholars Nomination Form'!$C$12)","v":""},{"$f":"IF(ISBLANK('Scholars Nomination Form'!$F187),\"\",'Scholars Nomination Form'!$C$13)","v":""},{"$f":"IF(ISBLANK('Scholars Nomination Form'!$F187),\"\",'Scholars Nomination Form'!$C$14)","v":""},{"$f":"IF(ISBLANK('Scholars Nomination Form'!$F187),\"\",'Scholars Nomination Form'!$C$15)","v":""},{"$f":"IF(ISBLANK('Scholars Nomination Form'!$F187),\"\",'Scholars Nomination Form'!$C$16)","v":""},{"$f":"IF(ISBLANK('Scholars Nomination Form'!B187),\"\",'Scholars Nomination Form'!B187)","v":""},{"$f":"IF(ISBLANK('Scholars Nomination Form'!D187),\"\",'Scholars Nomination Form'!D187)","v":""},{"$f":"IF(ISBLANK('Scholars Nomination Form'!E187),\"\",'Scholars Nomination Form'!E187)","v":""},{"$f":"IF(ISBLANK('Scholars Nomination Form'!F187),\"\",'Scholars Nomination Form'!F187)","v":""},{"$f":"IF(ISBLANK('Scholars Nomination Form'!G187),\"\",'Scholars Nomination Form'!G187)","v":""},{"$f":"IF(ISBLANK('Scholars Nomination Form'!H187),\"\",'Scholars Nomination Form'!H187)","v":""},{"$f":"IF(ISBLANK('Scholars Nomination Form'!I187),\"\",'Scholars Nomination Form'!I187)","v":""},{"$f":"IF(ISBLANK('Scholars Nomination Form'!J187),\"\",'Scholars Nomination Form'!J187)","v":""},{"$f":"IF(ISBLANK('Scholars Nomination Form'!K187),\"\",'Scholars Nomination Form'!K187)","v":""},{"$f":"IF(ISBLANK('Scholars Nomination Form'!L187),\"\",'Scholars Nomination Form'!L187)","v":""},{"$f":"IF(ISBLANK('Scholars Nomination Form'!M187),\"\",'Scholars Nomination Form'!M187)","v":""},{"$f":"IF(ISBLANK('Scholars Nomination Form'!N187),\"\",'Scholars Nomination Form'!N187)","v":""},{"$f":"IF(ISBLANK('Scholars Nomination Form'!O187),\"\",'Scholars Nomination Form'!O187)","v":""},{"$f":"IF(ISBLANK('Scholars Nomination Form'!P187),\"\",'Scholars Nomination Form'!P187)","v":""},{"$f":"IF(ISBLANK('Scholars Nomination Form'!Q187),\"\",'Scholars Nomination Form'!Q187)","v":""},{"$f":"IF(ISBLANK('Scholars Nomination Form'!R187),\"\",'Scholars Nomination Form'!R187)","v":""},{"$f":"IF(ISBLANK('Scholars Nomination Form'!S187),\"\",'Scholars Nomination Form'!S187)","v":""},{"$f":"IF(ISBLANK('Scholars Nomination Form'!T187),\"\",'Scholars Nomination Form'!T187)","v":""},{"$f":"IF(ISBLANK('Scholars Nomination Form'!U187),\"\",'Scholars Nomination Form'!U187)","v":""},{"$f":"IF(ISBLANK('Scholars Nomination Form'!V187),\"\",'Scholars Nomination Form'!V187)","v":""},{"$f":"IF(ISBLANK('Scholars Nomination Form'!W187),\"\",'Scholars Nomination Form'!W187)","v":""},{"$f":"IF(ISBLANK('Scholars Nomination Form'!X187),\"\",'Scholars Nomination Form'!X187)","v":""},{"$f":"IF(ISBLANK('Scholars Nomination Form'!Y187),\"\",'Scholars Nomination Form'!Y187)","v":""},{"$f":"IF(ISBLANK('Scholars Nomination Form'!Z187),\"\",'Scholars Nomination Form'!Z187)","v":""},{"$f":"IF(ISBLANK('Scholars Nomination Form'!AA187),\"\",'Scholars Nomination Form'!AA187)","v":""}]
[{"$f":"IF(ISBLANK('Scholars Nomination Form'!$F188),\"\",'Scholars Nomination Form'!$C$11)","v":""},{"$f":"IF(ISBLANK('Scholars Nomination Form'!$F188),\"\",'Scholars Nomination Form'!$C$12)","v":""},{"$f":"IF(ISBLANK('Scholars Nomination Form'!$F188),\"\",'Scholars Nomination Form'!$C$13)","v":""},{"$f":"IF(ISBLANK('Scholars Nomination Form'!$F188),\"\",'Scholars Nomination Form'!$C$14)","v":""},{"$f":"IF(ISBLANK('Scholars Nomination Form'!$F188),\"\",'Scholars Nomination Form'!$C$15)","v":""},{"$f":"IF(ISBLANK('Scholars Nomination Form'!$F188),\"\",'Scholars Nomination Form'!$C$16)","v":""},{"$f":"IF(ISBLANK('Scholars Nomination Form'!B188),\"\",'Scholars Nomination Form'!B188)","v":""},{"$f":"IF(ISBLANK('Scholars Nomination Form'!D188),\"\",'Scholars Nomination Form'!D188)","v":""},{"$f":"IF(ISBLANK('Scholars Nomination Form'!E188),\"\",'Scholars Nomination Form'!E188)","v":""},{"$f":"IF(ISBLANK('Scholars Nomination Form'!F188),\"\",'Scholars Nomination Form'!F188)","v":""},{"$f":"IF(ISBLANK('Scholars Nomination Form'!G188),\"\",'Scholars Nomination Form'!G188)","v":""},{"$f":"IF(ISBLANK('Scholars Nomination Form'!H188),\"\",'Scholars Nomination Form'!H188)","v":""},{"$f":"IF(ISBLANK('Scholars Nomination Form'!I188),\"\",'Scholars Nomination Form'!I188)","v":""},{"$f":"IF(ISBLANK('Scholars Nomination Form'!J188),\"\",'Scholars Nomination Form'!J188)","v":""},{"$f":"IF(ISBLANK('Scholars Nomination Form'!K188),\"\",'Scholars Nomination Form'!K188)","v":""},{"$f":"IF(ISBLANK('Scholars Nomination Form'!L188),\"\",'Scholars Nomination Form'!L188)","v":""},{"$f":"IF(ISBLANK('Scholars Nomination Form'!M188),\"\",'Scholars Nomination Form'!M188)","v":""},{"$f":"IF(ISBLANK('Scholars Nomination Form'!N188),\"\",'Scholars Nomination Form'!N188)","v":""},{"$f":"IF(ISBLANK('Scholars Nomination Form'!O188),\"\",'Scholars Nomination Form'!O188)","v":""},{"$f":"IF(ISBLANK('Scholars Nomination Form'!P188),\"\",'Scholars Nomination Form'!P188)","v":""},{"$f":"IF(ISBLANK('Scholars Nomination Form'!Q188),\"\",'Scholars Nomination Form'!Q188)","v":""},{"$f":"IF(ISBLANK('Scholars Nomination Form'!R188),\"\",'Scholars Nomination Form'!R188)","v":""},{"$f":"IF(ISBLANK('Scholars Nomination Form'!S188),\"\",'Scholars Nomination Form'!S188)","v":""},{"$f":"IF(ISBLANK('Scholars Nomination Form'!T188),\"\",'Scholars Nomination Form'!T188)","v":""},{"$f":"IF(ISBLANK('Scholars Nomination Form'!U188),\"\",'Scholars Nomination Form'!U188)","v":""},{"$f":"IF(ISBLANK('Scholars Nomination Form'!V188),\"\",'Scholars Nomination Form'!V188)","v":""},{"$f":"IF(ISBLANK('Scholars Nomination Form'!W188),\"\",'Scholars Nomination Form'!W188)","v":""},{"$f":"IF(ISBLANK('Scholars Nomination Form'!X188),\"\",'Scholars Nomination Form'!X188)","v":""},{"$f":"IF(ISBLANK('Scholars Nomination Form'!Y188),\"\",'Scholars Nomination Form'!Y188)","v":""},{"$f":"IF(ISBLANK('Scholars Nomination Form'!Z188),\"\",'Scholars Nomination Form'!Z188)","v":""},{"$f":"IF(ISBLANK('Scholars Nomination Form'!AA188),\"\",'Scholars Nomination Form'!AA188)","v":""}]
[{"$f":"IF(ISBLANK('Scholars Nomination Form'!$F189),\"\",'Scholars Nomination Form'!$C$11)","v":""},{"$f":"IF(ISBLANK('Scholars Nomination Form'!$F189),\"\",'Scholars Nomination Form'!$C$12)","v":""},{"$f":"IF(ISBLANK('Scholars Nomination Form'!$F189),\"\",'Scholars Nomination Form'!$C$13)","v":""},{"$f":"IF(ISBLANK('Scholars Nomination Form'!$F189),\"\",'Scholars Nomination Form'!$C$14)","v":""},{"$f":"IF(ISBLANK('Scholars Nomination Form'!$F189),\"\",'Scholars Nomination Form'!$C$15)","v":""},{"$f":"IF(ISBLANK('Scholars Nomination Form'!$F189),\"\",'Scholars Nomination Form'!$C$16)","v":""},{"$f":"IF(ISBLANK('Scholars Nomination Form'!B189),\"\",'Scholars Nomination Form'!B189)","v":""},{"$f":"IF(ISBLANK('Scholars Nomination Form'!D189),\"\",'Scholars Nomination Form'!D189)","v":""},{"$f":"IF(ISBLANK('Scholars Nomination Form'!E189),\"\",'Scholars Nomination Form'!E189)","v":""},{"$f":"IF(ISBLANK('Scholars Nomination Form'!F189),\"\",'Scholars Nomination Form'!F189)","v":""},{"$f":"IF(ISBLANK('Scholars Nomination Form'!G189),\"\",'Scholars Nomination Form'!G189)","v":""},{"$f":"IF(ISBLANK('Scholars Nomination Form'!H189),\"\",'Scholars Nomination Form'!H189)","v":""},{"$f":"IF(ISBLANK('Scholars Nomination Form'!I189),\"\",'Scholars Nomination Form'!I189)","v":""},{"$f":"IF(ISBLANK('Scholars Nomination Form'!J189),\"\",'Scholars Nomination Form'!J189)","v":""},{"$f":"IF(ISBLANK('Scholars Nomination Form'!K189),\"\",'Scholars Nomination Form'!K189)","v":""},{"$f":"IF(ISBLANK('Scholars Nomination Form'!L189),\"\",'Scholars Nomination Form'!L189)","v":""},{"$f":"IF(ISBLANK('Scholars Nomination Form'!M189),\"\",'Scholars Nomination Form'!M189)","v":""},{"$f":"IF(ISBLANK('Scholars Nomination Form'!N189),\"\",'Scholars Nomination Form'!N189)","v":""},{"$f":"IF(ISBLANK('Scholars Nomination Form'!O189),\"\",'Scholars Nomination Form'!O189)","v":""},{"$f":"IF(ISBLANK('Scholars Nomination Form'!P189),\"\",'Scholars Nomination Form'!P189)","v":""},{"$f":"IF(ISBLANK('Scholars Nomination Form'!Q189),\"\",'Scholars Nomination Form'!Q189)","v":""},{"$f":"IF(ISBLANK('Scholars Nomination Form'!R189),\"\",'Scholars Nomination Form'!R189)","v":""},{"$f":"IF(ISBLANK('Scholars Nomination Form'!S189),\"\",'Scholars Nomination Form'!S189)","v":""},{"$f":"IF(ISBLANK('Scholars Nomination Form'!T189),\"\",'Scholars Nomination Form'!T189)","v":""},{"$f":"IF(ISBLANK('Scholars Nomination Form'!U189),\"\",'Scholars Nomination Form'!U189)","v":""},{"$f":"IF(ISBLANK('Scholars Nomination Form'!V189),\"\",'Scholars Nomination Form'!V189)","v":""},{"$f":"IF(ISBLANK('Scholars Nomination Form'!W189),\"\",'Scholars Nomination Form'!W189)","v":""},{"$f":"IF(ISBLANK('Scholars Nomination Form'!X189),\"\",'Scholars Nomination Form'!X189)","v":""},{"$f":"IF(ISBLANK('Scholars Nomination Form'!Y189),\"\",'Scholars Nomination Form'!Y189)","v":""},{"$f":"IF(ISBLANK('Scholars Nomination Form'!Z189),\"\",'Scholars Nomination Form'!Z189)","v":""},{"$f":"IF(ISBLANK('Scholars Nomination Form'!AA189),\"\",'Scholars Nomination Form'!AA189)","v":""}]
[{"$f":"IF(ISBLANK('Scholars Nomination Form'!$F190),\"\",'Scholars Nomination Form'!$C$11)","v":""},{"$f":"IF(ISBLANK('Scholars Nomination Form'!$F190),\"\",'Scholars Nomination Form'!$C$12)","v":""},{"$f":"IF(ISBLANK('Scholars Nomination Form'!$F190),\"\",'Scholars Nomination Form'!$C$13)","v":""},{"$f":"IF(ISBLANK('Scholars Nomination Form'!$F190),\"\",'Scholars Nomination Form'!$C$14)","v":""},{"$f":"IF(ISBLANK('Scholars Nomination Form'!$F190),\"\",'Scholars Nomination Form'!$C$15)","v":""},{"$f":"IF(ISBLANK('Scholars Nomination Form'!$F190),\"\",'Scholars Nomination Form'!$C$16)","v":""},{"$f":"IF(ISBLANK('Scholars Nomination Form'!B190),\"\",'Scholars Nomination Form'!B190)","v":""},{"$f":"IF(ISBLANK('Scholars Nomination Form'!D190),\"\",'Scholars Nomination Form'!D190)","v":""},{"$f":"IF(ISBLANK('Scholars Nomination Form'!E190),\"\",'Scholars Nomination Form'!E190)","v":""},{"$f":"IF(ISBLANK('Scholars Nomination Form'!F190),\"\",'Scholars Nomination Form'!F190)","v":""},{"$f":"IF(ISBLANK('Scholars Nomination Form'!G190),\"\",'Scholars Nomination Form'!G190)","v":""},{"$f":"IF(ISBLANK('Scholars Nomination Form'!H190),\"\",'Scholars Nomination Form'!H190)","v":""},{"$f":"IF(ISBLANK('Scholars Nomination Form'!I190),\"\",'Scholars Nomination Form'!I190)","v":""},{"$f":"IF(ISBLANK('Scholars Nomination Form'!J190),\"\",'Scholars Nomination Form'!J190)","v":""},{"$f":"IF(ISBLANK('Scholars Nomination Form'!K190),\"\",'Scholars Nomination Form'!K190)","v":""},{"$f":"IF(ISBLANK('Scholars Nomination Form'!L190),\"\",'Scholars Nomination Form'!L190)","v":""},{"$f":"IF(ISBLANK('Scholars Nomination Form'!M190),\"\",'Scholars Nomination Form'!M190)","v":""},{"$f":"IF(ISBLANK('Scholars Nomination Form'!N190),\"\",'Scholars Nomination Form'!N190)","v":""},{"$f":"IF(ISBLANK('Scholars Nomination Form'!O190),\"\",'Scholars Nomination Form'!O190)","v":""},{"$f":"IF(ISBLANK('Scholars Nomination Form'!P190),\"\",'Scholars Nomination Form'!P190)","v":""},{"$f":"IF(ISBLANK('Scholars Nomination Form'!Q190),\"\",'Scholars Nomination Form'!Q190)","v":""},{"$f":"IF(ISBLANK('Scholars Nomination Form'!R190),\"\",'Scholars Nomination Form'!R190)","v":""},{"$f":"IF(ISBLANK('Scholars Nomination Form'!S190),\"\",'Scholars Nomination Form'!S190)","v":""},{"$f":"IF(ISBLANK('Scholars Nomination Form'!T190),\"\",'Scholars Nomination Form'!T190)","v":""},{"$f":"IF(ISBLANK('Scholars Nomination Form'!U190),\"\",'Scholars Nomination Form'!U190)","v":""},{"$f":"IF(ISBLANK('Scholars Nomination Form'!V190),\"\",'Scholars Nomination Form'!V190)","v":""},{"$f":"IF(ISBLANK('Scholars Nomination Form'!W190),\"\",'Scholars Nomination Form'!W190)","v":""},{"$f":"IF(ISBLANK('Scholars Nomination Form'!X190),\"\",'Scholars Nomination Form'!X190)","v":""},{"$f":"IF(ISBLANK('Scholars Nomination Form'!Y190),\"\",'Scholars Nomination Form'!Y190)","v":""},{"$f":"IF(ISBLANK('Scholars Nomination Form'!Z190),\"\",'Scholars Nomination Form'!Z190)","v":""},{"$f":"IF(ISBLANK('Scholars Nomination Form'!AA190),\"\",'Scholars Nomination Form'!AA190)","v":""}]
[{"$f":"IF(ISBLANK('Scholars Nomination Form'!$F191),\"\",'Scholars Nomination Form'!$C$11)","v":""},{"$f":"IF(ISBLANK('Scholars Nomination Form'!$F191),\"\",'Scholars Nomination Form'!$C$12)","v":""},{"$f":"IF(ISBLANK('Scholars Nomination Form'!$F191),\"\",'Scholars Nomination Form'!$C$13)","v":""},{"$f":"IF(ISBLANK('Scholars Nomination Form'!$F191),\"\",'Scholars Nomination Form'!$C$14)","v":""},{"$f":"IF(ISBLANK('Scholars Nomination Form'!$F191),\"\",'Scholars Nomination Form'!$C$15)","v":""},{"$f":"IF(ISBLANK('Scholars Nomination Form'!$F191),\"\",'Scholars Nomination Form'!$C$16)","v":""},{"$f":"IF(ISBLANK('Scholars Nomination Form'!B191),\"\",'Scholars Nomination Form'!B191)","v":""},{"$f":"IF(ISBLANK('Scholars Nomination Form'!D191),\"\",'Scholars Nomination Form'!D191)","v":""},{"$f":"IF(ISBLANK('Scholars Nomination Form'!E191),\"\",'Scholars Nomination Form'!E191)","v":""},{"$f":"IF(ISBLANK('Scholars Nomination Form'!F191),\"\",'Scholars Nomination Form'!F191)","v":""},{"$f":"IF(ISBLANK('Scholars Nomination Form'!G191),\"\",'Scholars Nomination Form'!G191)","v":""},{"$f":"IF(ISBLANK('Scholars Nomination Form'!H191),\"\",'Scholars Nomination Form'!H191)","v":""},{"$f":"IF(ISBLANK('Scholars Nomination Form'!I191),\"\",'Scholars Nomination Form'!I191)","v":""},{"$f":"IF(ISBLANK('Scholars Nomination Form'!J191),\"\",'Scholars Nomination Form'!J191)","v":""},{"$f":"IF(ISBLANK('Scholars Nomination Form'!K191),\"\",'Scholars Nomination Form'!K191)","v":""},{"$f":"IF(ISBLANK('Scholars Nomination Form'!L191),\"\",'Scholars Nomination Form'!L191)","v":""},{"$f":"IF(ISBLANK('Scholars Nomination Form'!M191),\"\",'Scholars Nomination Form'!M191)","v":""},{"$f":"IF(ISBLANK('Scholars Nomination Form'!N191),\"\",'Scholars Nomination Form'!N191)","v":""},{"$f":"IF(ISBLANK('Scholars Nomination Form'!O191),\"\",'Scholars Nomination Form'!O191)","v":""},{"$f":"IF(ISBLANK('Scholars Nomination Form'!P191),\"\",'Scholars Nomination Form'!P191)","v":""},{"$f":"IF(ISBLANK('Scholars Nomination Form'!Q191),\"\",'Scholars Nomination Form'!Q191)","v":""},{"$f":"IF(ISBLANK('Scholars Nomination Form'!R191),\"\",'Scholars Nomination Form'!R191)","v":""},{"$f":"IF(ISBLANK('Scholars Nomination Form'!S191),\"\",'Scholars Nomination Form'!S191)","v":""},{"$f":"IF(ISBLANK('Scholars Nomination Form'!T191),\"\",'Scholars Nomination Form'!T191)","v":""},{"$f":"IF(ISBLANK('Scholars Nomination Form'!U191),\"\",'Scholars Nomination Form'!U191)","v":""},{"$f":"IF(ISBLANK('Scholars Nomination Form'!V191),\"\",'Scholars Nomination Form'!V191)","v":""},{"$f":"IF(ISBLANK('Scholars Nomination Form'!W191),\"\",'Scholars Nomination Form'!W191)","v":""},{"$f":"IF(ISBLANK('Scholars Nomination Form'!X191),\"\",'Scholars Nomination Form'!X191)","v":""},{"$f":"IF(ISBLANK('Scholars Nomination Form'!Y191),\"\",'Scholars Nomination Form'!Y191)","v":""},{"$f":"IF(ISBLANK('Scholars Nomination Form'!Z191),\"\",'Scholars Nomination Form'!Z191)","v":""},{"$f":"IF(ISBLANK('Scholars Nomination Form'!AA191),\"\",'Scholars Nomination Form'!AA191)","v":""}]
[{"$f":"IF(ISBLANK('Scholars Nomination Form'!$F192),\"\",'Scholars Nomination Form'!$C$11)","v":""},{"$f":"IF(ISBLANK('Scholars Nomination Form'!$F192),\"\",'Scholars Nomination Form'!$C$12)","v":""},{"$f":"IF(ISBLANK('Scholars Nomination Form'!$F192),\"\",'Scholars Nomination Form'!$C$13)","v":""},{"$f":"IF(ISBLANK('Scholars Nomination Form'!$F192),\"\",'Scholars Nomination Form'!$C$14)","v":""},{"$f":"IF(ISBLANK('Scholars Nomination Form'!$F192),\"\",'Scholars Nomination Form'!$C$15)","v":""},{"$f":"IF(ISBLANK('Scholars Nomination Form'!$F192),\"\",'Scholars Nomination Form'!$C$16)","v":""},{"$f":"IF(ISBLANK('Scholars Nomination Form'!B192),\"\",'Scholars Nomination Form'!B192)","v":""},{"$f":"IF(ISBLANK('Scholars Nomination Form'!D192),\"\",'Scholars Nomination Form'!D192)","v":""},{"$f":"IF(ISBLANK('Scholars Nomination Form'!E192),\"\",'Scholars Nomination Form'!E192)","v":""},{"$f":"IF(ISBLANK('Scholars Nomination Form'!F192),\"\",'Scholars Nomination Form'!F192)","v":""},{"$f":"IF(ISBLANK('Scholars Nomination Form'!G192),\"\",'Scholars Nomination Form'!G192)","v":""},{"$f":"IF(ISBLANK('Scholars Nomination Form'!H192),\"\",'Scholars Nomination Form'!H192)","v":""},{"$f":"IF(ISBLANK('Scholars Nomination Form'!I192),\"\",'Scholars Nomination Form'!I192)","v":""},{"$f":"IF(ISBLANK('Scholars Nomination Form'!J192),\"\",'Scholars Nomination Form'!J192)","v":""},{"$f":"IF(ISBLANK('Scholars Nomination Form'!K192),\"\",'Scholars Nomination Form'!K192)","v":""},{"$f":"IF(ISBLANK('Scholars Nomination Form'!L192),\"\",'Scholars Nomination Form'!L192)","v":""},{"$f":"IF(ISBLANK('Scholars Nomination Form'!M192),\"\",'Scholars Nomination Form'!M192)","v":""},{"$f":"IF(ISBLANK('Scholars Nomination Form'!N192),\"\",'Scholars Nomination Form'!N192)","v":""},{"$f":"IF(ISBLANK('Scholars Nomination Form'!O192),\"\",'Scholars Nomination Form'!O192)","v":""},{"$f":"IF(ISBLANK('Scholars Nomination Form'!P192),\"\",'Scholars Nomination Form'!P192)","v":""},{"$f":"IF(ISBLANK('Scholars Nomination Form'!Q192),\"\",'Scholars Nomination Form'!Q192)","v":""},{"$f":"IF(ISBLANK('Scholars Nomination Form'!R192),\"\",'Scholars Nomination Form'!R192)","v":""},{"$f":"IF(ISBLANK('Scholars Nomination Form'!S192),\"\",'Scholars Nomination Form'!S192)","v":""},{"$f":"IF(ISBLANK('Scholars Nomination Form'!T192),\"\",'Scholars Nomination Form'!T192)","v":""},{"$f":"IF(ISBLANK('Scholars Nomination Form'!U192),\"\",'Scholars Nomination Form'!U192)","v":""},{"$f":"IF(ISBLANK('Scholars Nomination Form'!V192),\"\",'Scholars Nomination Form'!V192)","v":""},{"$f":"IF(ISBLANK('Scholars Nomination Form'!W192),\"\",'Scholars Nomination Form'!W192)","v":""},{"$f":"IF(ISBLANK('Scholars Nomination Form'!X192),\"\",'Scholars Nomination Form'!X192)","v":""},{"$f":"IF(ISBLANK('Scholars Nomination Form'!Y192),\"\",'Scholars Nomination Form'!Y192)","v":""},{"$f":"IF(ISBLANK('Scholars Nomination Form'!Z192),\"\",'Scholars Nomination Form'!Z192)","v":""},{"$f":"IF(ISBLANK('Scholars Nomination Form'!AA192),\"\",'Scholars Nomination Form'!AA192)","v":""}]
[{"$f":"IF(ISBLANK('Scholars Nomination Form'!$F193),\"\",'Scholars Nomination Form'!$C$11)","v":""},{"$f":"IF(ISBLANK('Scholars Nomination Form'!$F193),\"\",'Scholars Nomination Form'!$C$12)","v":""},{"$f":"IF(ISBLANK('Scholars Nomination Form'!$F193),\"\",'Scholars Nomination Form'!$C$13)","v":""},{"$f":"IF(ISBLANK('Scholars Nomination Form'!$F193),\"\",'Scholars Nomination Form'!$C$14)","v":""},{"$f":"IF(ISBLANK('Scholars Nomination Form'!$F193),\"\",'Scholars Nomination Form'!$C$15)","v":""},{"$f":"IF(ISBLANK('Scholars Nomination Form'!$F193),\"\",'Scholars Nomination Form'!$C$16)","v":""},{"$f":"IF(ISBLANK('Scholars Nomination Form'!B193),\"\",'Scholars Nomination Form'!B193)","v":""},{"$f":"IF(ISBLANK('Scholars Nomination Form'!D193),\"\",'Scholars Nomination Form'!D193)","v":""},{"$f":"IF(ISBLANK('Scholars Nomination Form'!E193),\"\",'Scholars Nomination Form'!E193)","v":""},{"$f":"IF(ISBLANK('Scholars Nomination Form'!F193),\"\",'Scholars Nomination Form'!F193)","v":""},{"$f":"IF(ISBLANK('Scholars Nomination Form'!G193),\"\",'Scholars Nomination Form'!G193)","v":""},{"$f":"IF(ISBLANK('Scholars Nomination Form'!H193),\"\",'Scholars Nomination Form'!H193)","v":""},{"$f":"IF(ISBLANK('Scholars Nomination Form'!I193),\"\",'Scholars Nomination Form'!I193)","v":""},{"$f":"IF(ISBLANK('Scholars Nomination Form'!J193),\"\",'Scholars Nomination Form'!J193)","v":""},{"$f":"IF(ISBLANK('Scholars Nomination Form'!K193),\"\",'Scholars Nomination Form'!K193)","v":""},{"$f":"IF(ISBLANK('Scholars Nomination Form'!L193),\"\",'Scholars Nomination Form'!L193)","v":""},{"$f":"IF(ISBLANK('Scholars Nomination Form'!M193),\"\",'Scholars Nomination Form'!M193)","v":""},{"$f":"IF(ISBLANK('Scholars Nomination Form'!N193),\"\",'Scholars Nomination Form'!N193)","v":""},{"$f":"IF(ISBLANK('Scholars Nomination Form'!O193),\"\",'Scholars Nomination Form'!O193)","v":""},{"$f":"IF(ISBLANK('Scholars Nomination Form'!P193),\"\",'Scholars Nomination Form'!P193)","v":""},{"$f":"IF(ISBLANK('Scholars Nomination Form'!Q193),\"\",'Scholars Nomination Form'!Q193)","v":""},{"$f":"IF(ISBLANK('Scholars Nomination Form'!R193),\"\",'Scholars Nomination Form'!R193)","v":""},{"$f":"IF(ISBLANK('Scholars Nomination Form'!S193),\"\",'Scholars Nomination Form'!S193)","v":""},{"$f":"IF(ISBLANK('Scholars Nomination Form'!T193),\"\",'Scholars Nomination Form'!T193)","v":""},{"$f":"IF(ISBLANK('Scholars Nomination Form'!U193),\"\",'Scholars Nomination Form'!U193)","v":""},{"$f":"IF(ISBLANK('Scholars Nomination Form'!V193),\"\",'Scholars Nomination Form'!V193)","v":""},{"$f":"IF(ISBLANK('Scholars Nomination Form'!W193),\"\",'Scholars Nomination Form'!W193)","v":""},{"$f":"IF(ISBLANK('Scholars Nomination Form'!X193),\"\",'Scholars Nomination Form'!X193)","v":""},{"$f":"IF(ISBLANK('Scholars Nomination Form'!Y193),\"\",'Scholars Nomination Form'!Y193)","v":""},{"$f":"IF(ISBLANK('Scholars Nomination Form'!Z193),\"\",'Scholars Nomination Form'!Z193)","v":""},{"$f":"IF(ISBLANK('Scholars Nomination Form'!AA193),\"\",'Scholars Nomination Form'!AA193)","v":""}]
[{"$f":"IF(ISBLANK('Scholars Nomination Form'!$F194),\"\",'Scholars Nomination Form'!$C$11)","v":""},{"$f":"IF(ISBLANK('Scholars Nomination Form'!$F194),\"\",'Scholars Nomination Form'!$C$12)","v":""},{"$f":"IF(ISBLANK('Scholars Nomination Form'!$F194),\"\",'Scholars Nomination Form'!$C$13)","v":""},{"$f":"IF(ISBLANK('Scholars Nomination Form'!$F194),\"\",'Scholars Nomination Form'!$C$14)","v":""},{"$f":"IF(ISBLANK('Scholars Nomination Form'!$F194),\"\",'Scholars Nomination Form'!$C$15)","v":""},{"$f":"IF(ISBLANK('Scholars Nomination Form'!$F194),\"\",'Scholars Nomination Form'!$C$16)","v":""},{"$f":"IF(ISBLANK('Scholars Nomination Form'!B194),\"\",'Scholars Nomination Form'!B194)","v":""},{"$f":"IF(ISBLANK('Scholars Nomination Form'!D194),\"\",'Scholars Nomination Form'!D194)","v":""},{"$f":"IF(ISBLANK('Scholars Nomination Form'!E194),\"\",'Scholars Nomination Form'!E194)","v":""},{"$f":"IF(ISBLANK('Scholars Nomination Form'!F194),\"\",'Scholars Nomination Form'!F194)","v":""},{"$f":"IF(ISBLANK('Scholars Nomination Form'!G194),\"\",'Scholars Nomination Form'!G194)","v":""},{"$f":"IF(ISBLANK('Scholars Nomination Form'!H194),\"\",'Scholars Nomination Form'!H194)","v":""},{"$f":"IF(ISBLANK('Scholars Nomination Form'!I194),\"\",'Scholars Nomination Form'!I194)","v":""},{"$f":"IF(ISBLANK('Scholars Nomination Form'!J194),\"\",'Scholars Nomination Form'!J194)","v":""},{"$f":"IF(ISBLANK('Scholars Nomination Form'!K194),\"\",'Scholars Nomination Form'!K194)","v":""},{"$f":"IF(ISBLANK('Scholars Nomination Form'!L194),\"\",'Scholars Nomination Form'!L194)","v":""},{"$f":"IF(ISBLANK('Scholars Nomination Form'!M194),\"\",'Scholars Nomination Form'!M194)","v":""},{"$f":"IF(ISBLANK('Scholars Nomination Form'!N194),\"\",'Scholars Nomination Form'!N194)","v":""},{"$f":"IF(ISBLANK('Scholars Nomination Form'!O194),\"\",'Scholars Nomination Form'!O194)","v":""},{"$f":"IF(ISBLANK('Scholars Nomination Form'!P194),\"\",'Scholars Nomination Form'!P194)","v":""},{"$f":"IF(ISBLANK('Scholars Nomination Form'!Q194),\"\",'Scholars Nomination Form'!Q194)","v":""},{"$f":"IF(ISBLANK('Scholars Nomination Form'!R194),\"\",'Scholars Nomination Form'!R194)","v":""},{"$f":"IF(ISBLANK('Scholars Nomination Form'!S194),\"\",'Scholars Nomination Form'!S194)","v":""},{"$f":"IF(ISBLANK('Scholars Nomination Form'!T194),\"\",'Scholars Nomination Form'!T194)","v":""},{"$f":"IF(ISBLANK('Scholars Nomination Form'!U194),\"\",'Scholars Nomination Form'!U194)","v":""},{"$f":"IF(ISBLANK('Scholars Nomination Form'!V194),\"\",'Scholars Nomination Form'!V194)","v":""},{"$f":"IF(ISBLANK('Scholars Nomination Form'!W194),\"\",'Scholars Nomination Form'!W194)","v":""},{"$f":"IF(ISBLANK('Scholars Nomination Form'!X194),\"\",'Scholars Nomination Form'!X194)","v":""},{"$f":"IF(ISBLANK('Scholars Nomination Form'!Y194),\"\",'Scholars Nomination Form'!Y194)","v":""},{"$f":"IF(ISBLANK('Scholars Nomination Form'!Z194),\"\",'Scholars Nomination Form'!Z194)","v":""},{"$f":"IF(ISBLANK('Scholars Nomination Form'!AA194),\"\",'Scholars Nomination Form'!AA194)","v":""}]
[{"$f":"IF(ISBLANK('Scholars Nomination Form'!$F195),\"\",'Scholars Nomination Form'!$C$11)","v":""},{"$f":"IF(ISBLANK('Scholars Nomination Form'!$F195),\"\",'Scholars Nomination Form'!$C$12)","v":""},{"$f":"IF(ISBLANK('Scholars Nomination Form'!$F195),\"\",'Scholars Nomination Form'!$C$13)","v":""},{"$f":"IF(ISBLANK('Scholars Nomination Form'!$F195),\"\",'Scholars Nomination Form'!$C$14)","v":""},{"$f":"IF(ISBLANK('Scholars Nomination Form'!$F195),\"\",'Scholars Nomination Form'!$C$15)","v":""},{"$f":"IF(ISBLANK('Scholars Nomination Form'!$F195),\"\",'Scholars Nomination Form'!$C$16)","v":""},{"$f":"IF(ISBLANK('Scholars Nomination Form'!B195),\"\",'Scholars Nomination Form'!B195)","v":""},{"$f":"IF(ISBLANK('Scholars Nomination Form'!D195),\"\",'Scholars Nomination Form'!D195)","v":""},{"$f":"IF(ISBLANK('Scholars Nomination Form'!E195),\"\",'Scholars Nomination Form'!E195)","v":""},{"$f":"IF(ISBLANK('Scholars Nomination Form'!F195),\"\",'Scholars Nomination Form'!F195)","v":""},{"$f":"IF(ISBLANK('Scholars Nomination Form'!G195),\"\",'Scholars Nomination Form'!G195)","v":""},{"$f":"IF(ISBLANK('Scholars Nomination Form'!H195),\"\",'Scholars Nomination Form'!H195)","v":""},{"$f":"IF(ISBLANK('Scholars Nomination Form'!I195),\"\",'Scholars Nomination Form'!I195)","v":""},{"$f":"IF(ISBLANK('Scholars Nomination Form'!J195),\"\",'Scholars Nomination Form'!J195)","v":""},{"$f":"IF(ISBLANK('Scholars Nomination Form'!K195),\"\",'Scholars Nomination Form'!K195)","v":""},{"$f":"IF(ISBLANK('Scholars Nomination Form'!L195),\"\",'Scholars Nomination Form'!L195)","v":""},{"$f":"IF(ISBLANK('Scholars Nomination Form'!M195),\"\",'Scholars Nomination Form'!M195)","v":""},{"$f":"IF(ISBLANK('Scholars Nomination Form'!N195),\"\",'Scholars Nomination Form'!N195)","v":""},{"$f":"IF(ISBLANK('Scholars Nomination Form'!O195),\"\",'Scholars Nomination Form'!O195)","v":""},{"$f":"IF(ISBLANK('Scholars Nomination Form'!P195),\"\",'Scholars Nomination Form'!P195)","v":""},{"$f":"IF(ISBLANK('Scholars Nomination Form'!Q195),\"\",'Scholars Nomination Form'!Q195)","v":""},{"$f":"IF(ISBLANK('Scholars Nomination Form'!R195),\"\",'Scholars Nomination Form'!R195)","v":""},{"$f":"IF(ISBLANK('Scholars Nomination Form'!S195),\"\",'Scholars Nomination Form'!S195)","v":""},{"$f":"IF(ISBLANK('Scholars Nomination Form'!T195),\"\",'Scholars Nomination Form'!T195)","v":""},{"$f":"IF(ISBLANK('Scholars Nomination Form'!U195),\"\",'Scholars Nomination Form'!U195)","v":""},{"$f":"IF(ISBLANK('Scholars Nomination Form'!V195),\"\",'Scholars Nomination Form'!V195)","v":""},{"$f":"IF(ISBLANK('Scholars Nomination Form'!W195),\"\",'Scholars Nomination Form'!W195)","v":""},{"$f":"IF(ISBLANK('Scholars Nomination Form'!X195),\"\",'Scholars Nomination Form'!X195)","v":""},{"$f":"IF(ISBLANK('Scholars Nomination Form'!Y195),\"\",'Scholars Nomination Form'!Y195)","v":""},{"$f":"IF(ISBLANK('Scholars Nomination Form'!Z195),\"\",'Scholars Nomination Form'!Z195)","v":""},{"$f":"IF(ISBLANK('Scholars Nomination Form'!AA195),\"\",'Scholars Nomination Form'!AA195)","v":""}]
[{"$f":"IF(ISBLANK('Scholars Nomination Form'!$F196),\"\",'Scholars Nomination Form'!$C$11)","v":""},{"$f":"IF(ISBLANK('Scholars Nomination Form'!$F196),\"\",'Scholars Nomination Form'!$C$12)","v":""},{"$f":"IF(ISBLANK('Scholars Nomination Form'!$F196),\"\",'Scholars Nomination Form'!$C$13)","v":""},{"$f":"IF(ISBLANK('Scholars Nomination Form'!$F196),\"\",'Scholars Nomination Form'!$C$14)","v":""},{"$f":"IF(ISBLANK('Scholars Nomination Form'!$F196),\"\",'Scholars Nomination Form'!$C$15)","v":""},{"$f":"IF(ISBLANK('Scholars Nomination Form'!$F196),\"\",'Scholars Nomination Form'!$C$16)","v":""},{"$f":"IF(ISBLANK('Scholars Nomination Form'!B196),\"\",'Scholars Nomination Form'!B196)","v":""},{"$f":"IF(ISBLANK('Scholars Nomination Form'!D196),\"\",'Scholars Nomination Form'!D196)","v":""},{"$f":"IF(ISBLANK('Scholars Nomination Form'!E196),\"\",'Scholars Nomination Form'!E196)","v":""},{"$f":"IF(ISBLANK('Scholars Nomination Form'!F196),\"\",'Scholars Nomination Form'!F196)","v":""},{"$f":"IF(ISBLANK('Scholars Nomination Form'!G196),\"\",'Scholars Nomination Form'!G196)","v":""},{"$f":"IF(ISBLANK('Scholars Nomination Form'!H196),\"\",'Scholars Nomination Form'!H196)","v":""},{"$f":"IF(ISBLANK('Scholars Nomination Form'!I196),\"\",'Scholars Nomination Form'!I196)","v":""},{"$f":"IF(ISBLANK('Scholars Nomination Form'!J196),\"\",'Scholars Nomination Form'!J196)","v":""},{"$f":"IF(ISBLANK('Scholars Nomination Form'!K196),\"\",'Scholars Nomination Form'!K196)","v":""},{"$f":"IF(ISBLANK('Scholars Nomination Form'!L196),\"\",'Scholars Nomination Form'!L196)","v":""},{"$f":"IF(ISBLANK('Scholars Nomination Form'!M196),\"\",'Scholars Nomination Form'!M196)","v":""},{"$f":"IF(ISBLANK('Scholars Nomination Form'!N196),\"\",'Scholars Nomination Form'!N196)","v":""},{"$f":"IF(ISBLANK('Scholars Nomination Form'!O196),\"\",'Scholars Nomination Form'!O196)","v":""},{"$f":"IF(ISBLANK('Scholars Nomination Form'!P196),\"\",'Scholars Nomination Form'!P196)","v":""},{"$f":"IF(ISBLANK('Scholars Nomination Form'!Q196),\"\",'Scholars Nomination Form'!Q196)","v":""},{"$f":"IF(ISBLANK('Scholars Nomination Form'!R196),\"\",'Scholars Nomination Form'!R196)","v":""},{"$f":"IF(ISBLANK('Scholars Nomination Form'!S196),\"\",'Scholars Nomination Form'!S196)","v":""},{"$f":"IF(ISBLANK('Scholars Nomination Form'!T196),\"\",'Scholars Nomination Form'!T196)","v":""},{"$f":"IF(ISBLANK('Scholars Nomination Form'!U196),\"\",'Scholars Nomination Form'!U196)","v":""},{"$f":"IF(ISBLANK('Scholars Nomination Form'!V196),\"\",'Scholars Nomination Form'!V196)","v":""},{"$f":"IF(ISBLANK('Scholars Nomination Form'!W196),\"\",'Scholars Nomination Form'!W196)","v":""},{"$f":"IF(ISBLANK('Scholars Nomination Form'!X196),\"\",'Scholars Nomination Form'!X196)","v":""},{"$f":"IF(ISBLANK('Scholars Nomination Form'!Y196),\"\",'Scholars Nomination Form'!Y196)","v":""},{"$f":"IF(ISBLANK('Scholars Nomination Form'!Z196),\"\",'Scholars Nomination Form'!Z196)","v":""},{"$f":"IF(ISBLANK('Scholars Nomination Form'!AA196),\"\",'Scholars Nomination Form'!AA196)","v":""}]
[{"$f":"IF(ISBLANK('Scholars Nomination Form'!$F197),\"\",'Scholars Nomination Form'!$C$11)","v":""},{"$f":"IF(ISBLANK('Scholars Nomination Form'!$F197),\"\",'Scholars Nomination Form'!$C$12)","v":""},{"$f":"IF(ISBLANK('Scholars Nomination Form'!$F197),\"\",'Scholars Nomination Form'!$C$13)","v":""},{"$f":"IF(ISBLANK('Scholars Nomination Form'!$F197),\"\",'Scholars Nomination Form'!$C$14)","v":""},{"$f":"IF(ISBLANK('Scholars Nomination Form'!$F197),\"\",'Scholars Nomination Form'!$C$15)","v":""},{"$f":"IF(ISBLANK('Scholars Nomination Form'!$F197),\"\",'Scholars Nomination Form'!$C$16)","v":""},{"$f":"IF(ISBLANK('Scholars Nomination Form'!B197),\"\",'Scholars Nomination Form'!B197)","v":""},{"$f":"IF(ISBLANK('Scholars Nomination Form'!D197),\"\",'Scholars Nomination Form'!D197)","v":""},{"$f":"IF(ISBLANK('Scholars Nomination Form'!E197),\"\",'Scholars Nomination Form'!E197)","v":""},{"$f":"IF(ISBLANK('Scholars Nomination Form'!F197),\"\",'Scholars Nomination Form'!F197)","v":""},{"$f":"IF(ISBLANK('Scholars Nomination Form'!G197),\"\",'Scholars Nomination Form'!G197)","v":""},{"$f":"IF(ISBLANK('Scholars Nomination Form'!H197),\"\",'Scholars Nomination Form'!H197)","v":""},{"$f":"IF(ISBLANK('Scholars Nomination Form'!I197),\"\",'Scholars Nomination Form'!I197)","v":""},{"$f":"IF(ISBLANK('Scholars Nomination Form'!J197),\"\",'Scholars Nomination Form'!J197)","v":""},{"$f":"IF(ISBLANK('Scholars Nomination Form'!K197),\"\",'Scholars Nomination Form'!K197)","v":""},{"$f":"IF(ISBLANK('Scholars Nomination Form'!L197),\"\",'Scholars Nomination Form'!L197)","v":""},{"$f":"IF(ISBLANK('Scholars Nomination Form'!M197),\"\",'Scholars Nomination Form'!M197)","v":""},{"$f":"IF(ISBLANK('Scholars Nomination Form'!N197),\"\",'Scholars Nomination Form'!N197)","v":""},{"$f":"IF(ISBLANK('Scholars Nomination Form'!O197),\"\",'Scholars Nomination Form'!O197)","v":""},{"$f":"IF(ISBLANK('Scholars Nomination Form'!P197),\"\",'Scholars Nomination Form'!P197)","v":""},{"$f":"IF(ISBLANK('Scholars Nomination Form'!Q197),\"\",'Scholars Nomination Form'!Q197)","v":""},{"$f":"IF(ISBLANK('Scholars Nomination Form'!R197),\"\",'Scholars Nomination Form'!R197)","v":""},{"$f":"IF(ISBLANK('Scholars Nomination Form'!S197),\"\",'Scholars Nomination Form'!S197)","v":""},{"$f":"IF(ISBLANK('Scholars Nomination Form'!T197),\"\",'Scholars Nomination Form'!T197)","v":""},{"$f":"IF(ISBLANK('Scholars Nomination Form'!U197),\"\",'Scholars Nomination Form'!U197)","v":""},{"$f":"IF(ISBLANK('Scholars Nomination Form'!V197),\"\",'Scholars Nomination Form'!V197)","v":""},{"$f":"IF(ISBLANK('Scholars Nomination Form'!W197),\"\",'Scholars Nomination Form'!W197)","v":""},{"$f":"IF(ISBLANK('Scholars Nomination Form'!X197),\"\",'Scholars Nomination Form'!X197)","v":""},{"$f":"IF(ISBLANK('Scholars Nomination Form'!Y197),\"\",'Scholars Nomination Form'!Y197)","v":""},{"$f":"IF(ISBLANK('Scholars Nomination Form'!Z197),\"\",'Scholars Nomination Form'!Z197)","v":""},{"$f":"IF(ISBLANK('Scholars Nomination Form'!AA197),\"\",'Scholars Nomination Form'!AA197)","v":""}]
[{"$f":"IF(ISBLANK('Scholars Nomination Form'!$F198),\"\",'Scholars Nomination Form'!$C$11)","v":""},{"$f":"IF(ISBLANK('Scholars Nomination Form'!$F198),\"\",'Scholars Nomination Form'!$C$12)","v":""},{"$f":"IF(ISBLANK('Scholars Nomination Form'!$F198),\"\",'Scholars Nomination Form'!$C$13)","v":""},{"$f":"IF(ISBLANK('Scholars Nomination Form'!$F198),\"\",'Scholars Nomination Form'!$C$14)","v":""},{"$f":"IF(ISBLANK('Scholars Nomination Form'!$F198),\"\",'Scholars Nomination Form'!$C$15)","v":""},{"$f":"IF(ISBLANK('Scholars Nomination Form'!$F198),\"\",'Scholars Nomination Form'!$C$16)","v":""},{"$f":"IF(ISBLANK('Scholars Nomination Form'!B198),\"\",'Scholars Nomination Form'!B198)","v":""},{"$f":"IF(ISBLANK('Scholars Nomination Form'!D198),\"\",'Scholars Nomination Form'!D198)","v":""},{"$f":"IF(ISBLANK('Scholars Nomination Form'!E198),\"\",'Scholars Nomination Form'!E198)","v":""},{"$f":"IF(ISBLANK('Scholars Nomination Form'!F198),\"\",'Scholars Nomination Form'!F198)","v":""},{"$f":"IF(ISBLANK('Scholars Nomination Form'!G198),\"\",'Scholars Nomination Form'!G198)","v":""},{"$f":"IF(ISBLANK('Scholars Nomination Form'!H198),\"\",'Scholars Nomination Form'!H198)","v":""},{"$f":"IF(ISBLANK('Scholars Nomination Form'!I198),\"\",'Scholars Nomination Form'!I198)","v":""},{"$f":"IF(ISBLANK('Scholars Nomination Form'!J198),\"\",'Scholars Nomination Form'!J198)","v":""},{"$f":"IF(ISBLANK('Scholars Nomination Form'!K198),\"\",'Scholars Nomination Form'!K198)","v":""},{"$f":"IF(ISBLANK('Scholars Nomination Form'!L198),\"\",'Scholars Nomination Form'!L198)","v":""},{"$f":"IF(ISBLANK('Scholars Nomination Form'!M198),\"\",'Scholars Nomination Form'!M198)","v":""},{"$f":"IF(ISBLANK('Scholars Nomination Form'!N198),\"\",'Scholars Nomination Form'!N198)","v":""},{"$f":"IF(ISBLANK('Scholars Nomination Form'!O198),\"\",'Scholars Nomination Form'!O198)","v":""},{"$f":"IF(ISBLANK('Scholars Nomination Form'!P198),\"\",'Scholars Nomination Form'!P198)","v":""},{"$f":"IF(ISBLANK('Scholars Nomination Form'!Q198),\"\",'Scholars Nomination Form'!Q198)","v":""},{"$f":"IF(ISBLANK('Scholars Nomination Form'!R198),\"\",'Scholars Nomination Form'!R198)","v":""},{"$f":"IF(ISBLANK('Scholars Nomination Form'!S198),\"\",'Scholars Nomination Form'!S198)","v":""},{"$f":"IF(ISBLANK('Scholars Nomination Form'!T198),\"\",'Scholars Nomination Form'!T198)","v":""},{"$f":"IF(ISBLANK('Scholars Nomination Form'!U198),\"\",'Scholars Nomination Form'!U198)","v":""},{"$f":"IF(ISBLANK('Scholars Nomination Form'!V198),\"\",'Scholars Nomination Form'!V198)","v":""},{"$f":"IF(ISBLANK('Scholars Nomination Form'!W198),\"\",'Scholars Nomination Form'!W198)","v":""},{"$f":"IF(ISBLANK('Scholars Nomination Form'!X198),\"\",'Scholars Nomination Form'!X198)","v":""},{"$f":"IF(ISBLANK('Scholars Nomination Form'!Y198),\"\",'Scholars Nomination Form'!Y198)","v":""},{"$f":"IF(ISBLANK('Scholars Nomination Form'!Z198),\"\",'Scholars Nomination Form'!Z198)","v":""},{"$f":"IF(ISBLANK('Scholars Nomination Form'!AA198),\"\",'Scholars Nomination Form'!AA198)","v":""}]
[{"$f":"IF(ISBLANK('Scholars Nomination Form'!$F199),\"\",'Scholars Nomination Form'!$C$11)","v":""},{"$f":"IF(ISBLANK('Scholars Nomination Form'!$F199),\"\",'Scholars Nomination Form'!$C$12)","v":""},{"$f":"IF(ISBLANK('Scholars Nomination Form'!$F199),\"\",'Scholars Nomination Form'!$C$13)","v":""},{"$f":"IF(ISBLANK('Scholars Nomination Form'!$F199),\"\",'Scholars Nomination Form'!$C$14)","v":""},{"$f":"IF(ISBLANK('Scholars Nomination Form'!$F199),\"\",'Scholars Nomination Form'!$C$15)","v":""},{"$f":"IF(ISBLANK('Scholars Nomination Form'!$F199),\"\",'Scholars Nomination Form'!$C$16)","v":""},{"$f":"IF(ISBLANK('Scholars Nomination Form'!B199),\"\",'Scholars Nomination Form'!B199)","v":""},{"$f":"IF(ISBLANK('Scholars Nomination Form'!D199),\"\",'Scholars Nomination Form'!D199)","v":""},{"$f":"IF(ISBLANK('Scholars Nomination Form'!E199),\"\",'Scholars Nomination Form'!E199)","v":""},{"$f":"IF(ISBLANK('Scholars Nomination Form'!F199),\"\",'Scholars Nomination Form'!F199)","v":""},{"$f":"IF(ISBLANK('Scholars Nomination Form'!G199),\"\",'Scholars Nomination Form'!G199)","v":""},{"$f":"IF(ISBLANK('Scholars Nomination Form'!H199),\"\",'Scholars Nomination Form'!H199)","v":""},{"$f":"IF(ISBLANK('Scholars Nomination Form'!I199),\"\",'Scholars Nomination Form'!I199)","v":""},{"$f":"IF(ISBLANK('Scholars Nomination Form'!J199),\"\",'Scholars Nomination Form'!J199)","v":""},{"$f":"IF(ISBLANK('Scholars Nomination Form'!K199),\"\",'Scholars Nomination Form'!K199)","v":""},{"$f":"IF(ISBLANK('Scholars Nomination Form'!L199),\"\",'Scholars Nomination Form'!L199)","v":""},{"$f":"IF(ISBLANK('Scholars Nomination Form'!M199),\"\",'Scholars Nomination Form'!M199)","v":""},{"$f":"IF(ISBLANK('Scholars Nomination Form'!N199),\"\",'Scholars Nomination Form'!N199)","v":""},{"$f":"IF(ISBLANK('Scholars Nomination Form'!O199),\"\",'Scholars Nomination Form'!O199)","v":""},{"$f":"IF(ISBLANK('Scholars Nomination Form'!P199),\"\",'Scholars Nomination Form'!P199)","v":""},{"$f":"IF(ISBLANK('Scholars Nomination Form'!Q199),\"\",'Scholars Nomination Form'!Q199)","v":""},{"$f":"IF(ISBLANK('Scholars Nomination Form'!R199),\"\",'Scholars Nomination Form'!R199)","v":""},{"$f":"IF(ISBLANK('Scholars Nomination Form'!S199),\"\",'Scholars Nomination Form'!S199)","v":""},{"$f":"IF(ISBLANK('Scholars Nomination Form'!T199),\"\",'Scholars Nomination Form'!T199)","v":""},{"$f":"IF(ISBLANK('Scholars Nomination Form'!U199),\"\",'Scholars Nomination Form'!U199)","v":""},{"$f":"IF(ISBLANK('Scholars Nomination Form'!V199),\"\",'Scholars Nomination Form'!V199)","v":""},{"$f":"IF(ISBLANK('Scholars Nomination Form'!W199),\"\",'Scholars Nomination Form'!W199)","v":""},{"$f":"IF(ISBLANK('Scholars Nomination Form'!X199),\"\",'Scholars Nomination Form'!X199)","v":""},{"$f":"IF(ISBLANK('Scholars Nomination Form'!Y199),\"\",'Scholars Nomination Form'!Y199)","v":""},{"$f":"IF(ISBLANK('Scholars Nomination Form'!Z199),\"\",'Scholars Nomination Form'!Z199)","v":""},{"$f":"IF(ISBLANK('Scholars Nomination Form'!AA199),\"\",'Scholars Nomination Form'!AA199)","v":""}]
[{"$f":"IF(ISBLANK('Scholars Nomination Form'!$F200),\"\",'Scholars Nomination Form'!$C$11)","v":""},{"$f":"IF(ISBLANK('Scholars Nomination Form'!$F200),\"\",'Scholars Nomination Form'!$C$12)","v":""},{"$f":"IF(ISBLANK('Scholars Nomination Form'!$F200),\"\",'Scholars Nomination Form'!$C$13)","v":""},{"$f":"IF(ISBLANK('Scholars Nomination Form'!$F200),\"\",'Scholars Nomination Form'!$C$14)","v":""},{"$f":"IF(ISBLANK('Scholars Nomination Form'!$F200),\"\",'Scholars Nomination Form'!$C$15)","v":""},{"$f":"IF(ISBLANK('Scholars Nomination Form'!$F200),\"\",'Scholars Nomination Form'!$C$16)","v":""},{"$f":"IF(ISBLANK('Scholars Nomination Form'!B200),\"\",'Scholars Nomination Form'!B200)","v":""},{"$f":"IF(ISBLANK('Scholars Nomination Form'!D200),\"\",'Scholars Nomination Form'!D200)","v":""},{"$f":"IF(ISBLANK('Scholars Nomination Form'!E200),\"\",'Scholars Nomination Form'!E200)","v":""},{"$f":"IF(ISBLANK('Scholars Nomination Form'!F200),\"\",'Scholars Nomination Form'!F200)","v":""},{"$f":"IF(ISBLANK('Scholars Nomination Form'!G200),\"\",'Scholars Nomination Form'!G200)","v":""},{"$f":"IF(ISBLANK('Scholars Nomination Form'!H200),\"\",'Scholars Nomination Form'!H200)","v":""},{"$f":"IF(ISBLANK('Scholars Nomination Form'!I200),\"\",'Scholars Nomination Form'!I200)","v":""},{"$f":"IF(ISBLANK('Scholars Nomination Form'!J200),\"\",'Scholars Nomination Form'!J200)","v":""},{"$f":"IF(ISBLANK('Scholars Nomination Form'!K200),\"\",'Scholars Nomination Form'!K200)","v":""},{"$f":"IF(ISBLANK('Scholars Nomination Form'!L200),\"\",'Scholars Nomination Form'!L200)","v":""},{"$f":"IF(ISBLANK('Scholars Nomination Form'!M200),\"\",'Scholars Nomination Form'!M200)","v":""},{"$f":"IF(ISBLANK('Scholars Nomination Form'!N200),\"\",'Scholars Nomination Form'!N200)","v":""},{"$f":"IF(ISBLANK('Scholars Nomination Form'!O200),\"\",'Scholars Nomination Form'!O200)","v":""},{"$f":"IF(ISBLANK('Scholars Nomination Form'!P200),\"\",'Scholars Nomination Form'!P200)","v":""},{"$f":"IF(ISBLANK('Scholars Nomination Form'!Q200),\"\",'Scholars Nomination Form'!Q200)","v":""},{"$f":"IF(ISBLANK('Scholars Nomination Form'!R200),\"\",'Scholars Nomination Form'!R200)","v":""},{"$f":"IF(ISBLANK('Scholars Nomination Form'!S200),\"\",'Scholars Nomination Form'!S200)","v":""},{"$f":"IF(ISBLANK('Scholars Nomination Form'!T200),\"\",'Scholars Nomination Form'!T200)","v":""},{"$f":"IF(ISBLANK('Scholars Nomination Form'!U200),\"\",'Scholars Nomination Form'!U200)","v":""},{"$f":"IF(ISBLANK('Scholars Nomination Form'!V200),\"\",'Scholars Nomination Form'!V200)","v":""},{"$f":"IF(ISBLANK('Scholars Nomination Form'!W200),\"\",'Scholars Nomination Form'!W200)","v":""},{"$f":"IF(ISBLANK('Scholars Nomination Form'!X200),\"\",'Scholars Nomination Form'!X200)","v":""},{"$f":"IF(ISBLANK('Scholars Nomination Form'!Y200),\"\",'Scholars Nomination Form'!Y200)","v":""},{"$f":"IF(ISBLANK('Scholars Nomination Form'!Z200),\"\",'Scholars Nomination Form'!Z200)","v":""},{"$f":"IF(ISBLANK('Scholars Nomination Form'!AA200),\"\",'Scholars Nomination Form'!AA200)","v":""}]
[{"$f":"IF(ISBLANK('Scholars Nomination Form'!$F201),\"\",'Scholars Nomination Form'!$C$11)","v":""},{"$f":"IF(ISBLANK('Scholars Nomination Form'!$F201),\"\",'Scholars Nomination Form'!$C$12)","v":""},{"$f":"IF(ISBLANK('Scholars Nomination Form'!$F201),\"\",'Scholars Nomination Form'!$C$13)","v":""},{"$f":"IF(ISBLANK('Scholars Nomination Form'!$F201),\"\",'Scholars Nomination Form'!$C$14)","v":""},{"$f":"IF(ISBLANK('Scholars Nomination Form'!$F201),\"\",'Scholars Nomination Form'!$C$15)","v":""},{"$f":"IF(ISBLANK('Scholars Nomination Form'!$F201),\"\",'Scholars Nomination Form'!$C$16)","v":""},{"$f":"IF(ISBLANK('Scholars Nomination Form'!B201),\"\",'Scholars Nomination Form'!B201)","v":""},{"$f":"IF(ISBLANK('Scholars Nomination Form'!D201),\"\",'Scholars Nomination Form'!D201)","v":""},{"$f":"IF(ISBLANK('Scholars Nomination Form'!E201),\"\",'Scholars Nomination Form'!E201)","v":""},{"$f":"IF(ISBLANK('Scholars Nomination Form'!F201),\"\",'Scholars Nomination Form'!F201)","v":""},{"$f":"IF(ISBLANK('Scholars Nomination Form'!G201),\"\",'Scholars Nomination Form'!G201)","v":""},{"$f":"IF(ISBLANK('Scholars Nomination Form'!H201),\"\",'Scholars Nomination Form'!H201)","v":""},{"$f":"IF(ISBLANK('Scholars Nomination Form'!I201),\"\",'Scholars Nomination Form'!I201)","v":""},{"$f":"IF(ISBLANK('Scholars Nomination Form'!J201),\"\",'Scholars Nomination Form'!J201)","v":""},{"$f":"IF(ISBLANK('Scholars Nomination Form'!K201),\"\",'Scholars Nomination Form'!K201)","v":""},{"$f":"IF(ISBLANK('Scholars Nomination Form'!L201),\"\",'Scholars Nomination Form'!L201)","v":""},{"$f":"IF(ISBLANK('Scholars Nomination Form'!M201),\"\",'Scholars Nomination Form'!M201)","v":""},{"$f":"IF(ISBLANK('Scholars Nomination Form'!N201),\"\",'Scholars Nomination Form'!N201)","v":""},{"$f":"IF(ISBLANK('Scholars Nomination Form'!O201),\"\",'Scholars Nomination Form'!O201)","v":""},{"$f":"IF(ISBLANK('Scholars Nomination Form'!P201),\"\",'Scholars Nomination Form'!P201)","v":""},{"$f":"IF(ISBLANK('Scholars Nomination Form'!Q201),\"\",'Scholars Nomination Form'!Q201)","v":""},{"$f":"IF(ISBLANK('Scholars Nomination Form'!R201),\"\",'Scholars Nomination Form'!R201)","v":""},{"$f":"IF(ISBLANK('Scholars Nomination Form'!S201),\"\",'Scholars Nomination Form'!S201)","v":""},{"$f":"IF(ISBLANK('Scholars Nomination Form'!T201),\"\",'Scholars Nomination Form'!T201)","v":""},{"$f":"IF(ISBLANK('Scholars Nomination Form'!U201),\"\",'Scholars Nomination Form'!U201)","v":""},{"$f":"IF(ISBLANK('Scholars Nomination Form'!V201),\"\",'Scholars Nomination Form'!V201)","v":""},{"$f":"IF(ISBLANK('Scholars Nomination Form'!W201),\"\",'Scholars Nomination Form'!W201)","v":""},{"$f":"IF(ISBLANK('Scholars Nomination Form'!X201),\"\",'Scholars Nomination Form'!X201)","v":""},{"$f":"IF(ISBLANK('Scholars Nomination Form'!Y201),\"\",'Scholars Nomination Form'!Y201)","v":""},{"$f":"IF(ISBLANK('Scholars Nomination Form'!Z201),\"\",'Scholars Nomination Form'!Z201)","v":""},{"$f":"IF(ISBLANK('Scholars Nomination Form'!AA201),\"\",'Scholars Nomination Form'!AA201)","v":""}]
[{"$f":"IF(ISBLANK('Scholars Nomination Form'!$F202),\"\",'Scholars Nomination Form'!$C$11)","v":""},{"$f":"IF(ISBLANK('Scholars Nomination Form'!$F202),\"\",'Scholars Nomination Form'!$C$12)","v":""},{"$f":"IF(ISBLANK('Scholars Nomination Form'!$F202),\"\",'Scholars Nomination Form'!$C$13)","v":""},{"$f":"IF(ISBLANK('Scholars Nomination Form'!$F202),\"\",'Scholars Nomination Form'!$C$14)","v":""},{"$f":"IF(ISBLANK('Scholars Nomination Form'!$F202),\"\",'Scholars Nomination Form'!$C$15)","v":""},{"$f":"IF(ISBLANK('Scholars Nomination Form'!$F202),\"\",'Scholars Nomination Form'!$C$16)","v":""},{"$f":"IF(ISBLANK('Scholars Nomination Form'!B202),\"\",'Scholars Nomination Form'!B202)","v":""},{"$f":"IF(ISBLANK('Scholars Nomination Form'!D202),\"\",'Scholars Nomination Form'!D202)","v":""},{"$f":"IF(ISBLANK('Scholars Nomination Form'!E202),\"\",'Scholars Nomination Form'!E202)","v":""},{"$f":"IF(ISBLANK('Scholars Nomination Form'!F202),\"\",'Scholars Nomination Form'!F202)","v":""},{"$f":"IF(ISBLANK('Scholars Nomination Form'!G202),\"\",'Scholars Nomination Form'!G202)","v":""},{"$f":"IF(ISBLANK('Scholars Nomination Form'!H202),\"\",'Scholars Nomination Form'!H202)","v":""},{"$f":"IF(ISBLANK('Scholars Nomination Form'!I202),\"\",'Scholars Nomination Form'!I202)","v":""},{"$f":"IF(ISBLANK('Scholars Nomination Form'!J202),\"\",'Scholars Nomination Form'!J202)","v":""},{"$f":"IF(ISBLANK('Scholars Nomination Form'!K202),\"\",'Scholars Nomination Form'!K202)","v":""},{"$f":"IF(ISBLANK('Scholars Nomination Form'!L202),\"\",'Scholars Nomination Form'!L202)","v":""},{"$f":"IF(ISBLANK('Scholars Nomination Form'!M202),\"\",'Scholars Nomination Form'!M202)","v":""},{"$f":"IF(ISBLANK('Scholars Nomination Form'!N202),\"\",'Scholars Nomination Form'!N202)","v":""},{"$f":"IF(ISBLANK('Scholars Nomination Form'!O202),\"\",'Scholars Nomination Form'!O202)","v":""},{"$f":"IF(ISBLANK('Scholars Nomination Form'!P202),\"\",'Scholars Nomination Form'!P202)","v":""},{"$f":"IF(ISBLANK('Scholars Nomination Form'!Q202),\"\",'Scholars Nomination Form'!Q202)","v":""},{"$f":"IF(ISBLANK('Scholars Nomination Form'!R202),\"\",'Scholars Nomination Form'!R202)","v":""},{"$f":"IF(ISBLANK('Scholars Nomination Form'!S202),\"\",'Scholars Nomination Form'!S202)","v":""},{"$f":"IF(ISBLANK('Scholars Nomination Form'!T202),\"\",'Scholars Nomination Form'!T202)","v":""},{"$f":"IF(ISBLANK('Scholars Nomination Form'!U202),\"\",'Scholars Nomination Form'!U202)","v":""},{"$f":"IF(ISBLANK('Scholars Nomination Form'!V202),\"\",'Scholars Nomination Form'!V202)","v":""},{"$f":"IF(ISBLANK('Scholars Nomination Form'!W202),\"\",'Scholars Nomination Form'!W202)","v":""},{"$f":"IF(ISBLANK('Scholars Nomination Form'!X202),\"\",'Scholars Nomination Form'!X202)","v":""},{"$f":"IF(ISBLANK('Scholars Nomination Form'!Y202),\"\",'Scholars Nomination Form'!Y202)","v":""},{"$f":"IF(ISBLANK('Scholars Nomination Form'!Z202),\"\",'Scholars Nomination Form'!Z202)","v":""},{"$f":"IF(ISBLANK('Scholars Nomination Form'!AA202),\"\",'Scholars Nomination Form'!AA202)","v":""}]
[{"$f":"IF(ISBLANK('Scholars Nomination Form'!$F203),\"\",'Scholars Nomination Form'!$C$11)","v":""},{"$f":"IF(ISBLANK('Scholars Nomination Form'!$F203),\"\",'Scholars Nomination Form'!$C$12)","v":""},{"$f":"IF(ISBLANK('Scholars Nomination Form'!$F203),\"\",'Scholars Nomination Form'!$C$13)","v":""},{"$f":"IF(ISBLANK('Scholars Nomination Form'!$F203),\"\",'Scholars Nomination Form'!$C$14)","v":""},{"$f":"IF(ISBLANK('Scholars Nomination Form'!$F203),\"\",'Scholars Nomination Form'!$C$15)","v":""},{"$f":"IF(ISBLANK('Scholars Nomination Form'!$F203),\"\",'Scholars Nomination Form'!$C$16)","v":""},{"$f":"IF(ISBLANK('Scholars Nomination Form'!B203),\"\",'Scholars Nomination Form'!B203)","v":""},{"$f":"IF(ISBLANK('Scholars Nomination Form'!D203),\"\",'Scholars Nomination Form'!D203)","v":""},{"$f":"IF(ISBLANK('Scholars Nomination Form'!E203),\"\",'Scholars Nomination Form'!E203)","v":""},{"$f":"IF(ISBLANK('Scholars Nomination Form'!F203),\"\",'Scholars Nomination Form'!F203)","v":""},{"$f":"IF(ISBLANK('Scholars Nomination Form'!G203),\"\",'Scholars Nomination Form'!G203)","v":""},{"$f":"IF(ISBLANK('Scholars Nomination Form'!H203),\"\",'Scholars Nomination Form'!H203)","v":""},{"$f":"IF(ISBLANK('Scholars Nomination Form'!I203),\"\",'Scholars Nomination Form'!I203)","v":""},{"$f":"IF(ISBLANK('Scholars Nomination Form'!J203),\"\",'Scholars Nomination Form'!J203)","v":""},{"$f":"IF(ISBLANK('Scholars Nomination Form'!K203),\"\",'Scholars Nomination Form'!K203)","v":""},{"$f":"IF(ISBLANK('Scholars Nomination Form'!L203),\"\",'Scholars Nomination Form'!L203)","v":""},{"$f":"IF(ISBLANK('Scholars Nomination Form'!M203),\"\",'Scholars Nomination Form'!M203)","v":""},{"$f":"IF(ISBLANK('Scholars Nomination Form'!N203),\"\",'Scholars Nomination Form'!N203)","v":""},{"$f":"IF(ISBLANK('Scholars Nomination Form'!O203),\"\",'Scholars Nomination Form'!O203)","v":""},{"$f":"IF(ISBLANK('Scholars Nomination Form'!P203),\"\",'Scholars Nomination Form'!P203)","v":""},{"$f":"IF(ISBLANK('Scholars Nomination Form'!Q203),\"\",'Scholars Nomination Form'!Q203)","v":""},{"$f":"IF(ISBLANK('Scholars Nomination Form'!R203),\"\",'Scholars Nomination Form'!R203)","v":""},{"$f":"IF(ISBLANK('Scholars Nomination Form'!S203),\"\",'Scholars Nomination Form'!S203)","v":""},{"$f":"IF(ISBLANK('Scholars Nomination Form'!T203),\"\",'Scholars Nomination Form'!T203)","v":""},{"$f":"IF(ISBLANK('Scholars Nomination Form'!U203),\"\",'Scholars Nomination Form'!U203)","v":""},{"$f":"IF(ISBLANK('Scholars Nomination Form'!V203),\"\",'Scholars Nomination Form'!V203)","v":""},{"$f":"IF(ISBLANK('Scholars Nomination Form'!W203),\"\",'Scholars Nomination Form'!W203)","v":""},{"$f":"IF(ISBLANK('Scholars Nomination Form'!X203),\"\",'Scholars Nomination Form'!X203)","v":""},{"$f":"IF(ISBLANK('Scholars Nomination Form'!Y203),\"\",'Scholars Nomination Form'!Y203)","v":""},{"$f":"IF(ISBLANK('Scholars Nomination Form'!Z203),\"\",'Scholars Nomination Form'!Z203)","v":""},{"$f":"IF(ISBLANK('Scholars Nomination Form'!AA203),\"\",'Scholars Nomination Form'!AA203)","v":""}]
[{"$f":"IF(ISBLANK('Scholars Nomination Form'!$F204),\"\",'Scholars Nomination Form'!$C$11)","v":""},{"$f":"IF(ISBLANK('Scholars Nomination Form'!$F204),\"\",'Scholars Nomination Form'!$C$12)","v":""},{"$f":"IF(ISBLANK('Scholars Nomination Form'!$F204),\"\",'Scholars Nomination Form'!$C$13)","v":""},{"$f":"IF(ISBLANK('Scholars Nomination Form'!$F204),\"\",'Scholars Nomination Form'!$C$14)","v":""},{"$f":"IF(ISBLANK('Scholars Nomination Form'!$F204),\"\",'Scholars Nomination Form'!$C$15)","v":""},{"$f":"IF(ISBLANK('Scholars Nomination Form'!$F204),\"\",'Scholars Nomination Form'!$C$16)","v":""},{"$f":"IF(ISBLANK('Scholars Nomination Form'!B204),\"\",'Scholars Nomination Form'!B204)","v":""},{"$f":"IF(ISBLANK('Scholars Nomination Form'!D204),\"\",'Scholars Nomination Form'!D204)","v":""},{"$f":"IF(ISBLANK('Scholars Nomination Form'!E204),\"\",'Scholars Nomination Form'!E204)","v":""},{"$f":"IF(ISBLANK('Scholars Nomination Form'!F204),\"\",'Scholars Nomination Form'!F204)","v":""},{"$f":"IF(ISBLANK('Scholars Nomination Form'!G204),\"\",'Scholars Nomination Form'!G204)","v":""},{"$f":"IF(ISBLANK('Scholars Nomination Form'!H204),\"\",'Scholars Nomination Form'!H204)","v":""},{"$f":"IF(ISBLANK('Scholars Nomination Form'!I204),\"\",'Scholars Nomination Form'!I204)","v":""},{"$f":"IF(ISBLANK('Scholars Nomination Form'!J204),\"\",'Scholars Nomination Form'!J204)","v":""},{"$f":"IF(ISBLANK('Scholars Nomination Form'!K204),\"\",'Scholars Nomination Form'!K204)","v":""},{"$f":"IF(ISBLANK('Scholars Nomination Form'!L204),\"\",'Scholars Nomination Form'!L204)","v":""},{"$f":"IF(ISBLANK('Scholars Nomination Form'!M204),\"\",'Scholars Nomination Form'!M204)","v":""},{"$f":"IF(ISBLANK('Scholars Nomination Form'!N204),\"\",'Scholars Nomination Form'!N204)","v":""},{"$f":"IF(ISBLANK('Scholars Nomination Form'!O204),\"\",'Scholars Nomination Form'!O204)","v":""},{"$f":"IF(ISBLANK('Scholars Nomination Form'!P204),\"\",'Scholars Nomination Form'!P204)","v":""},{"$f":"IF(ISBLANK('Scholars Nomination Form'!Q204),\"\",'Scholars Nomination Form'!Q204)","v":""},{"$f":"IF(ISBLANK('Scholars Nomination Form'!R204),\"\",'Scholars Nomination Form'!R204)","v":""},{"$f":"IF(ISBLANK('Scholars Nomination Form'!S204),\"\",'Scholars Nomination Form'!S204)","v":""},{"$f":"IF(ISBLANK('Scholars Nomination Form'!T204),\"\",'Scholars Nomination Form'!T204)","v":""},{"$f":"IF(ISBLANK('Scholars Nomination Form'!U204),\"\",'Scholars Nomination Form'!U204)","v":""},{"$f":"IF(ISBLANK('Scholars Nomination Form'!V204),\"\",'Scholars Nomination Form'!V204)","v":""},{"$f":"IF(ISBLANK('Scholars Nomination Form'!W204),\"\",'Scholars Nomination Form'!W204)","v":""},{"$f":"IF(ISBLANK('Scholars Nomination Form'!X204),\"\",'Scholars Nomination Form'!X204)","v":""},{"$f":"IF(ISBLANK('Scholars Nomination Form'!Y204),\"\",'Scholars Nomination Form'!Y204)","v":""},{"$f":"IF(ISBLANK('Scholars Nomination Form'!Z204),\"\",'Scholars Nomination Form'!Z204)","v":""},{"$f":"IF(ISBLANK('Scholars Nomination Form'!AA204),\"\",'Scholars Nomination Form'!AA204)","v":""}]
[{"$f":"IF(ISBLANK('Scholars Nomination Form'!$F205),\"\",'Scholars Nomination Form'!$C$11)","v":""},{"$f":"IF(ISBLANK('Scholars Nomination Form'!$F205),\"\",'Scholars Nomination Form'!$C$12)","v":""},{"$f":"IF(ISBLANK('Scholars Nomination Form'!$F205),\"\",'Scholars Nomination Form'!$C$13)","v":""},{"$f":"IF(ISBLANK('Scholars Nomination Form'!$F205),\"\",'Scholars Nomination Form'!$C$14)","v":""},{"$f":"IF(ISBLANK('Scholars Nomination Form'!$F205),\"\",'Scholars Nomination Form'!$C$15)","v":""},{"$f":"IF(ISBLANK('Scholars Nomination Form'!$F205),\"\",'Scholars Nomination Form'!$C$16)","v":""},{"$f":"IF(ISBLANK('Scholars Nomination Form'!B205),\"\",'Scholars Nomination Form'!B205)","v":""},{"$f":"IF(ISBLANK('Scholars Nomination Form'!D205),\"\",'Scholars Nomination Form'!D205)","v":""},{"$f":"IF(ISBLANK('Scholars Nomination Form'!E205),\"\",'Scholars Nomination Form'!E205)","v":""},{"$f":"IF(ISBLANK('Scholars Nomination Form'!F205),\"\",'Scholars Nomination Form'!F205)","v":""},{"$f":"IF(ISBLANK('Scholars Nomination Form'!G205),\"\",'Scholars Nomination Form'!G205)","v":""},{"$f":"IF(ISBLANK('Scholars Nomination Form'!H205),\"\",'Scholars Nomination Form'!H205)","v":""},{"$f":"IF(ISBLANK('Scholars Nomination Form'!I205),\"\",'Scholars Nomination Form'!I205)","v":""},{"$f":"IF(ISBLANK('Scholars Nomination Form'!J205),\"\",'Scholars Nomination Form'!J205)","v":""},{"$f":"IF(ISBLANK('Scholars Nomination Form'!K205),\"\",'Scholars Nomination Form'!K205)","v":""},{"$f":"IF(ISBLANK('Scholars Nomination Form'!L205),\"\",'Scholars Nomination Form'!L205)","v":""},{"$f":"IF(ISBLANK('Scholars Nomination Form'!M205),\"\",'Scholars Nomination Form'!M205)","v":""},{"$f":"IF(ISBLANK('Scholars Nomination Form'!N205),\"\",'Scholars Nomination Form'!N205)","v":""},{"$f":"IF(ISBLANK('Scholars Nomination Form'!O205),\"\",'Scholars Nomination Form'!O205)","v":""},{"$f":"IF(ISBLANK('Scholars Nomination Form'!P205),\"\",'Scholars Nomination Form'!P205)","v":""},{"$f":"IF(ISBLANK('Scholars Nomination Form'!Q205),\"\",'Scholars Nomination Form'!Q205)","v":""},{"$f":"IF(ISBLANK('Scholars Nomination Form'!R205),\"\",'Scholars Nomination Form'!R205)","v":""},{"$f":"IF(ISBLANK('Scholars Nomination Form'!S205),\"\",'Scholars Nomination Form'!S205)","v":""},{"$f":"IF(ISBLANK('Scholars Nomination Form'!T205),\"\",'Scholars Nomination Form'!T205)","v":""},{"$f":"IF(ISBLANK('Scholars Nomination Form'!U205),\"\",'Scholars Nomination Form'!U205)","v":""},{"$f":"IF(ISBLANK('Scholars Nomination Form'!V205),\"\",'Scholars Nomination Form'!V205)","v":""},{"$f":"IF(ISBLANK('Scholars Nomination Form'!W205),\"\",'Scholars Nomination Form'!W205)","v":""},{"$f":"IF(ISBLANK('Scholars Nomination Form'!X205),\"\",'Scholars Nomination Form'!X205)","v":""},{"$f":"IF(ISBLANK('Scholars Nomination Form'!Y205),\"\",'Scholars Nomination Form'!Y205)","v":""},{"$f":"IF(ISBLANK('Scholars Nomination Form'!Z205),\"\",'Scholars Nomination Form'!Z205)","v":""},{"$f":"IF(ISBLANK('Scholars Nomination Form'!AA205),\"\",'Scholars Nomination Form'!AA205)","v":""}]
[{"$f":"IF(ISBLANK('Scholars Nomination Form'!$F206),\"\",'Scholars Nomination Form'!$C$11)","v":""},{"$f":"IF(ISBLANK('Scholars Nomination Form'!$F206),\"\",'Scholars Nomination Form'!$C$12)","v":""},{"$f":"IF(ISBLANK('Scholars Nomination Form'!$F206),\"\",'Scholars Nomination Form'!$C$13)","v":""},{"$f":"IF(ISBLANK('Scholars Nomination Form'!$F206),\"\",'Scholars Nomination Form'!$C$14)","v":""},{"$f":"IF(ISBLANK('Scholars Nomination Form'!$F206),\"\",'Scholars Nomination Form'!$C$15)","v":""},{"$f":"IF(ISBLANK('Scholars Nomination Form'!$F206),\"\",'Scholars Nomination Form'!$C$16)","v":""},{"$f":"IF(ISBLANK('Scholars Nomination Form'!B206),\"\",'Scholars Nomination Form'!B206)","v":""},{"$f":"IF(ISBLANK('Scholars Nomination Form'!D206),\"\",'Scholars Nomination Form'!D206)","v":""},{"$f":"IF(ISBLANK('Scholars Nomination Form'!E206),\"\",'Scholars Nomination Form'!E206)","v":""},{"$f":"IF(ISBLANK('Scholars Nomination Form'!F206),\"\",'Scholars Nomination Form'!F206)","v":""},{"$f":"IF(ISBLANK('Scholars Nomination Form'!G206),\"\",'Scholars Nomination Form'!G206)","v":""},{"$f":"IF(ISBLANK('Scholars Nomination Form'!H206),\"\",'Scholars Nomination Form'!H206)","v":""},{"$f":"IF(ISBLANK('Scholars Nomination Form'!I206),\"\",'Scholars Nomination Form'!I206)","v":""},{"$f":"IF(ISBLANK('Scholars Nomination Form'!J206),\"\",'Scholars Nomination Form'!J206)","v":""},{"$f":"IF(ISBLANK('Scholars Nomination Form'!K206),\"\",'Scholars Nomination Form'!K206)","v":""},{"$f":"IF(ISBLANK('Scholars Nomination Form'!L206),\"\",'Scholars Nomination Form'!L206)","v":""},{"$f":"IF(ISBLANK('Scholars Nomination Form'!M206),\"\",'Scholars Nomination Form'!M206)","v":""},{"$f":"IF(ISBLANK('Scholars Nomination Form'!N206),\"\",'Scholars Nomination Form'!N206)","v":""},{"$f":"IF(ISBLANK('Scholars Nomination Form'!O206),\"\",'Scholars Nomination Form'!O206)","v":""},{"$f":"IF(ISBLANK('Scholars Nomination Form'!P206),\"\",'Scholars Nomination Form'!P206)","v":""},{"$f":"IF(ISBLANK('Scholars Nomination Form'!Q206),\"\",'Scholars Nomination Form'!Q206)","v":""},{"$f":"IF(ISBLANK('Scholars Nomination Form'!R206),\"\",'Scholars Nomination Form'!R206)","v":""},{"$f":"IF(ISBLANK('Scholars Nomination Form'!S206),\"\",'Scholars Nomination Form'!S206)","v":""},{"$f":"IF(ISBLANK('Scholars Nomination Form'!T206),\"\",'Scholars Nomination Form'!T206)","v":""},{"$f":"IF(ISBLANK('Scholars Nomination Form'!U206),\"\",'Scholars Nomination Form'!U206)","v":""},{"$f":"IF(ISBLANK('Scholars Nomination Form'!V206),\"\",'Scholars Nomination Form'!V206)","v":""},{"$f":"IF(ISBLANK('Scholars Nomination Form'!W206),\"\",'Scholars Nomination Form'!W206)","v":""},{"$f":"IF(ISBLANK('Scholars Nomination Form'!X206),\"\",'Scholars Nomination Form'!X206)","v":""},{"$f":"IF(ISBLANK('Scholars Nomination Form'!Y206),\"\",'Scholars Nomination Form'!Y206)","v":""},{"$f":"IF(ISBLANK('Scholars Nomination Form'!Z206),\"\",'Scholars Nomination Form'!Z206)","v":""},{"$f":"IF(ISBLANK('Scholars Nomination Form'!AA206),\"\",'Scholars Nomination Form'!AA206)","v":""}]
[{"$f":"IF(ISBLANK('Scholars Nomination Form'!$F207),\"\",'Scholars Nomination Form'!$C$11)","v":""},{"$f":"IF(ISBLANK('Scholars Nomination Form'!$F207),\"\",'Scholars Nomination Form'!$C$12)","v":""},{"$f":"IF(ISBLANK('Scholars Nomination Form'!$F207),\"\",'Scholars Nomination Form'!$C$13)","v":""},{"$f":"IF(ISBLANK('Scholars Nomination Form'!$F207),\"\",'Scholars Nomination Form'!$C$14)","v":""},{"$f":"IF(ISBLANK('Scholars Nomination Form'!$F207),\"\",'Scholars Nomination Form'!$C$15)","v":""},{"$f":"IF(ISBLANK('Scholars Nomination Form'!$F207),\"\",'Scholars Nomination Form'!$C$16)","v":""},{"$f":"IF(ISBLANK('Scholars Nomination Form'!B207),\"\",'Scholars Nomination Form'!B207)","v":""},{"$f":"IF(ISBLANK('Scholars Nomination Form'!D207),\"\",'Scholars Nomination Form'!D207)","v":""},{"$f":"IF(ISBLANK('Scholars Nomination Form'!E207),\"\",'Scholars Nomination Form'!E207)","v":""},{"$f":"IF(ISBLANK('Scholars Nomination Form'!F207),\"\",'Scholars Nomination Form'!F207)","v":""},{"$f":"IF(ISBLANK('Scholars Nomination Form'!G207),\"\",'Scholars Nomination Form'!G207)","v":""},{"$f":"IF(ISBLANK('Scholars Nomination Form'!H207),\"\",'Scholars Nomination Form'!H207)","v":""},{"$f":"IF(ISBLANK('Scholars Nomination Form'!I207),\"\",'Scholars Nomination Form'!I207)","v":""},{"$f":"IF(ISBLANK('Scholars Nomination Form'!J207),\"\",'Scholars Nomination Form'!J207)","v":""},{"$f":"IF(ISBLANK('Scholars Nomination Form'!K207),\"\",'Scholars Nomination Form'!K207)","v":""},{"$f":"IF(ISBLANK('Scholars Nomination Form'!L207),\"\",'Scholars Nomination Form'!L207)","v":""},{"$f":"IF(ISBLANK('Scholars Nomination Form'!M207),\"\",'Scholars Nomination Form'!M207)","v":""},{"$f":"IF(ISBLANK('Scholars Nomination Form'!N207),\"\",'Scholars Nomination Form'!N207)","v":""},{"$f":"IF(ISBLANK('Scholars Nomination Form'!O207),\"\",'Scholars Nomination Form'!O207)","v":""},{"$f":"IF(ISBLANK('Scholars Nomination Form'!P207),\"\",'Scholars Nomination Form'!P207)","v":""},{"$f":"IF(ISBLANK('Scholars Nomination Form'!Q207),\"\",'Scholars Nomination Form'!Q207)","v":""},{"$f":"IF(ISBLANK('Scholars Nomination Form'!R207),\"\",'Scholars Nomination Form'!R207)","v":""},{"$f":"IF(ISBLANK('Scholars Nomination Form'!S207),\"\",'Scholars Nomination Form'!S207)","v":""},{"$f":"IF(ISBLANK('Scholars Nomination Form'!T207),\"\",'Scholars Nomination Form'!T207)","v":""},{"$f":"IF(ISBLANK('Scholars Nomination Form'!U207),\"\",'Scholars Nomination Form'!U207)","v":""},{"$f":"IF(ISBLANK('Scholars Nomination Form'!V207),\"\",'Scholars Nomination Form'!V207)","v":""},{"$f":"IF(ISBLANK('Scholars Nomination Form'!W207),\"\",'Scholars Nomination Form'!W207)","v":""},{"$f":"IF(ISBLANK('Scholars Nomination Form'!X207),\"\",'Scholars Nomination Form'!X207)","v":""},{"$f":"IF(ISBLANK('Scholars Nomination Form'!Y207),\"\",'Scholars Nomination Form'!Y207)","v":""},{"$f":"IF(ISBLANK('Scholars Nomination Form'!Z207),\"\",'Scholars Nomination Form'!Z207)","v":""},{"$f":"IF(ISBLANK('Scholars Nomination Form'!AA207),\"\",'Scholars Nomination Form'!AA207)","v":""}]
[{"$f":"IF(ISBLANK('Scholars Nomination Form'!$F208),\"\",'Scholars Nomination Form'!$C$11)","v":""},{"$f":"IF(ISBLANK('Scholars Nomination Form'!$F208),\"\",'Scholars Nomination Form'!$C$12)","v":""},{"$f":"IF(ISBLANK('Scholars Nomination Form'!$F208),\"\",'Scholars Nomination Form'!$C$13)","v":""},{"$f":"IF(ISBLANK('Scholars Nomination Form'!$F208),\"\",'Scholars Nomination Form'!$C$14)","v":""},{"$f":"IF(ISBLANK('Scholars Nomination Form'!$F208),\"\",'Scholars Nomination Form'!$C$15)","v":""},{"$f":"IF(ISBLANK('Scholars Nomination Form'!$F208),\"\",'Scholars Nomination Form'!$C$16)","v":""},{"$f":"IF(ISBLANK('Scholars Nomination Form'!B208),\"\",'Scholars Nomination Form'!B208)","v":""},{"$f":"IF(ISBLANK('Scholars Nomination Form'!D208),\"\",'Scholars Nomination Form'!D208)","v":""},{"$f":"IF(ISBLANK('Scholars Nomination Form'!E208),\"\",'Scholars Nomination Form'!E208)","v":""},{"$f":"IF(ISBLANK('Scholars Nomination Form'!F208),\"\",'Scholars Nomination Form'!F208)","v":""},{"$f":"IF(ISBLANK('Scholars Nomination Form'!G208),\"\",'Scholars Nomination Form'!G208)","v":""},{"$f":"IF(ISBLANK('Scholars Nomination Form'!H208),\"\",'Scholars Nomination Form'!H208)","v":""},{"$f":"IF(ISBLANK('Scholars Nomination Form'!I208),\"\",'Scholars Nomination Form'!I208)","v":""},{"$f":"IF(ISBLANK('Scholars Nomination Form'!J208),\"\",'Scholars Nomination Form'!J208)","v":""},{"$f":"IF(ISBLANK('Scholars Nomination Form'!K208),\"\",'Scholars Nomination Form'!K208)","v":""},{"$f":"IF(ISBLANK('Scholars Nomination Form'!L208),\"\",'Scholars Nomination Form'!L208)","v":""},{"$f":"IF(ISBLANK('Scholars Nomination Form'!M208),\"\",'Scholars Nomination Form'!M208)","v":""},{"$f":"IF(ISBLANK('Scholars Nomination Form'!N208),\"\",'Scholars Nomination Form'!N208)","v":""},{"$f":"IF(ISBLANK('Scholars Nomination Form'!O208),\"\",'Scholars Nomination Form'!O208)","v":""},{"$f":"IF(ISBLANK('Scholars Nomination Form'!P208),\"\",'Scholars Nomination Form'!P208)","v":""},{"$f":"IF(ISBLANK('Scholars Nomination Form'!Q208),\"\",'Scholars Nomination Form'!Q208)","v":""},{"$f":"IF(ISBLANK('Scholars Nomination Form'!R208),\"\",'Scholars Nomination Form'!R208)","v":""},{"$f":"IF(ISBLANK('Scholars Nomination Form'!S208),\"\",'Scholars Nomination Form'!S208)","v":""},{"$f":"IF(ISBLANK('Scholars Nomination Form'!T208),\"\",'Scholars Nomination Form'!T208)","v":""},{"$f":"IF(ISBLANK('Scholars Nomination Form'!U208),\"\",'Scholars Nomination Form'!U208)","v":""},{"$f":"IF(ISBLANK('Scholars Nomination Form'!V208),\"\",'Scholars Nomination Form'!V208)","v":""},{"$f":"IF(ISBLANK('Scholars Nomination Form'!W208),\"\",'Scholars Nomination Form'!W208)","v":""},{"$f":"IF(ISBLANK('Scholars Nomination Form'!X208),\"\",'Scholars Nomination Form'!X208)","v":""},{"$f":"IF(ISBLANK('Scholars Nomination Form'!Y208),\"\",'Scholars Nomination Form'!Y208)","v":""},{"$f":"IF(ISBLANK('Scholars Nomination Form'!Z208),\"\",'Scholars Nomination Form'!Z208)","v":""},{"$f":"IF(ISBLANK('Scholars Nomination Form'!AA208),\"\",'Scholars Nomination Form'!AA208)","v":""}]
[{"$f":"IF(ISBLANK('Scholars Nomination Form'!$F209),\"\",'Scholars Nomination Form'!$C$11)","v":""},{"$f":"IF(ISBLANK('Scholars Nomination Form'!$F209),\"\",'Scholars Nomination Form'!$C$12)","v":""},{"$f":"IF(ISBLANK('Scholars Nomination Form'!$F209),\"\",'Scholars Nomination Form'!$C$13)","v":""},{"$f":"IF(ISBLANK('Scholars Nomination Form'!$F209),\"\",'Scholars Nomination Form'!$C$14)","v":""},{"$f":"IF(ISBLANK('Scholars Nomination Form'!$F209),\"\",'Scholars Nomination Form'!$C$15)","v":""},{"$f":"IF(ISBLANK('Scholars Nomination Form'!$F209),\"\",'Scholars Nomination Form'!$C$16)","v":""},{"$f":"IF(ISBLANK('Scholars Nomination Form'!B209),\"\",'Scholars Nomination Form'!B209)","v":""},{"$f":"IF(ISBLANK('Scholars Nomination Form'!D209),\"\",'Scholars Nomination Form'!D209)","v":""},{"$f":"IF(ISBLANK('Scholars Nomination Form'!E209),\"\",'Scholars Nomination Form'!E209)","v":""},{"$f":"IF(ISBLANK('Scholars Nomination Form'!F209),\"\",'Scholars Nomination Form'!F209)","v":""},{"$f":"IF(ISBLANK('Scholars Nomination Form'!G209),\"\",'Scholars Nomination Form'!G209)","v":""},{"$f":"IF(ISBLANK('Scholars Nomination Form'!H209),\"\",'Scholars Nomination Form'!H209)","v":""},{"$f":"IF(ISBLANK('Scholars Nomination Form'!I209),\"\",'Scholars Nomination Form'!I209)","v":""},{"$f":"IF(ISBLANK('Scholars Nomination Form'!J209),\"\",'Scholars Nomination Form'!J209)","v":""},{"$f":"IF(ISBLANK('Scholars Nomination Form'!K209),\"\",'Scholars Nomination Form'!K209)","v":""},{"$f":"IF(ISBLANK('Scholars Nomination Form'!L209),\"\",'Scholars Nomination Form'!L209)","v":""},{"$f":"IF(ISBLANK('Scholars Nomination Form'!M209),\"\",'Scholars Nomination Form'!M209)","v":""},{"$f":"IF(ISBLANK('Scholars Nomination Form'!N209),\"\",'Scholars Nomination Form'!N209)","v":""},{"$f":"IF(ISBLANK('Scholars Nomination Form'!O209),\"\",'Scholars Nomination Form'!O209)","v":""},{"$f":"IF(ISBLANK('Scholars Nomination Form'!P209),\"\",'Scholars Nomination Form'!P209)","v":""},{"$f":"IF(ISBLANK('Scholars Nomination Form'!Q209),\"\",'Scholars Nomination Form'!Q209)","v":""},{"$f":"IF(ISBLANK('Scholars Nomination Form'!R209),\"\",'Scholars Nomination Form'!R209)","v":""},{"$f":"IF(ISBLANK('Scholars Nomination Form'!S209),\"\",'Scholars Nomination Form'!S209)","v":""},{"$f":"IF(ISBLANK('Scholars Nomination Form'!T209),\"\",'Scholars Nomination Form'!T209)","v":""},{"$f":"IF(ISBLANK('Scholars Nomination Form'!U209),\"\",'Scholars Nomination Form'!U209)","v":""},{"$f":"IF(ISBLANK('Scholars Nomination Form'!V209),\"\",'Scholars Nomination Form'!V209)","v":""},{"$f":"IF(ISBLANK('Scholars Nomination Form'!W209),\"\",'Scholars Nomination Form'!W209)","v":""},{"$f":"IF(ISBLANK('Scholars Nomination Form'!X209),\"\",'Scholars Nomination Form'!X209)","v":""},{"$f":"IF(ISBLANK('Scholars Nomination Form'!Y209),\"\",'Scholars Nomination Form'!Y209)","v":""},{"$f":"IF(ISBLANK('Scholars Nomination Form'!Z209),\"\",'Scholars Nomination Form'!Z209)","v":""},{"$f":"IF(ISBLANK('Scholars Nomination Form'!AA209),\"\",'Scholars Nomination Form'!AA209)","v":""}]
[{"$f":"IF(ISBLANK('Scholars Nomination Form'!$F210),\"\",'Scholars Nomination Form'!$C$11)","v":""},{"$f":"IF(ISBLANK('Scholars Nomination Form'!$F210),\"\",'Scholars Nomination Form'!$C$12)","v":""},{"$f":"IF(ISBLANK('Scholars Nomination Form'!$F210),\"\",'Scholars Nomination Form'!$C$13)","v":""},{"$f":"IF(ISBLANK('Scholars Nomination Form'!$F210),\"\",'Scholars Nomination Form'!$C$14)","v":""},{"$f":"IF(ISBLANK('Scholars Nomination Form'!$F210),\"\",'Scholars Nomination Form'!$C$15)","v":""},{"$f":"IF(ISBLANK('Scholars Nomination Form'!$F210),\"\",'Scholars Nomination Form'!$C$16)","v":""},{"$f":"IF(ISBLANK('Scholars Nomination Form'!B210),\"\",'Scholars Nomination Form'!B210)","v":""},{"$f":"IF(ISBLANK('Scholars Nomination Form'!D210),\"\",'Scholars Nomination Form'!D210)","v":""},{"$f":"IF(ISBLANK('Scholars Nomination Form'!E210),\"\",'Scholars Nomination Form'!E210)","v":""},{"$f":"IF(ISBLANK('Scholars Nomination Form'!F210),\"\",'Scholars Nomination Form'!F210)","v":""},{"$f":"IF(ISBLANK('Scholars Nomination Form'!G210),\"\",'Scholars Nomination Form'!G210)","v":""},{"$f":"IF(ISBLANK('Scholars Nomination Form'!H210),\"\",'Scholars Nomination Form'!H210)","v":""},{"$f":"IF(ISBLANK('Scholars Nomination Form'!I210),\"\",'Scholars Nomination Form'!I210)","v":""},{"$f":"IF(ISBLANK('Scholars Nomination Form'!J210),\"\",'Scholars Nomination Form'!J210)","v":""},{"$f":"IF(ISBLANK('Scholars Nomination Form'!K210),\"\",'Scholars Nomination Form'!K210)","v":""},{"$f":"IF(ISBLANK('Scholars Nomination Form'!L210),\"\",'Scholars Nomination Form'!L210)","v":""},{"$f":"IF(ISBLANK('Scholars Nomination Form'!M210),\"\",'Scholars Nomination Form'!M210)","v":""},{"$f":"IF(ISBLANK('Scholars Nomination Form'!N210),\"\",'Scholars Nomination Form'!N210)","v":""},{"$f":"IF(ISBLANK('Scholars Nomination Form'!O210),\"\",'Scholars Nomination Form'!O210)","v":""},{"$f":"IF(ISBLANK('Scholars Nomination Form'!P210),\"\",'Scholars Nomination Form'!P210)","v":""},{"$f":"IF(ISBLANK('Scholars Nomination Form'!Q210),\"\",'Scholars Nomination Form'!Q210)","v":""},{"$f":"IF(ISBLANK('Scholars Nomination Form'!R210),\"\",'Scholars Nomination Form'!R210)","v":""},{"$f":"IF(ISBLANK('Scholars Nomination Form'!S210),\"\",'Scholars Nomination Form'!S210)","v":""},{"$f":"IF(ISBLANK('Scholars Nomination Form'!T210),\"\",'Scholars Nomination Form'!T210)","v":""},{"$f":"IF(ISBLANK('Scholars Nomination Form'!U210),\"\",'Scholars Nomination Form'!U210)","v":""},{"$f":"IF(ISBLANK('Scholars Nomination Form'!V210),\"\",'Scholars Nomination Form'!V210)","v":""},{"$f":"IF(ISBLANK('Scholars Nomination Form'!W210),\"\",'Scholars Nomination Form'!W210)","v":""},{"$f":"IF(ISBLANK('Scholars Nomination Form'!X210),\"\",'Scholars Nomination Form'!X210)","v":""},{"$f":"IF(ISBLANK('Scholars Nomination Form'!Y210),\"\",'Scholars Nomination Form'!Y210)","v":""},{"$f":"IF(ISBLANK('Scholars Nomination Form'!Z210),\"\",'Scholars Nomination Form'!Z210)","v":""},{"$f":"IF(ISBLANK('Scholars Nomination Form'!AA210),\"\",'Scholars Nomination Form'!AA210)","v":""}]
[{"$f":"IF(ISBLANK('Scholars Nomination Form'!$F211),\"\",'Scholars Nomination Form'!$C$11)","v":""},{"$f":"IF(ISBLANK('Scholars Nomination Form'!$F211),\"\",'Scholars Nomination Form'!$C$12)","v":""},{"$f":"IF(ISBLANK('Scholars Nomination Form'!$F211),\"\",'Scholars Nomination Form'!$C$13)","v":""},{"$f":"IF(ISBLANK('Scholars Nomination Form'!$F211),\"\",'Scholars Nomination Form'!$C$14)","v":""},{"$f":"IF(ISBLANK('Scholars Nomination Form'!$F211),\"\",'Scholars Nomination Form'!$C$15)","v":""},{"$f":"IF(ISBLANK('Scholars Nomination Form'!$F211),\"\",'Scholars Nomination Form'!$C$16)","v":""},{"$f":"IF(ISBLANK('Scholars Nomination Form'!B211),\"\",'Scholars Nomination Form'!B211)","v":""},{"$f":"IF(ISBLANK('Scholars Nomination Form'!D211),\"\",'Scholars Nomination Form'!D211)","v":""},{"$f":"IF(ISBLANK('Scholars Nomination Form'!E211),\"\",'Scholars Nomination Form'!E211)","v":""},{"$f":"IF(ISBLANK('Scholars Nomination Form'!F211),\"\",'Scholars Nomination Form'!F211)","v":""},{"$f":"IF(ISBLANK('Scholars Nomination Form'!G211),\"\",'Scholars Nomination Form'!G211)","v":""},{"$f":"IF(ISBLANK('Scholars Nomination Form'!H211),\"\",'Scholars Nomination Form'!H211)","v":""},{"$f":"IF(ISBLANK('Scholars Nomination Form'!I211),\"\",'Scholars Nomination Form'!I211)","v":""},{"$f":"IF(ISBLANK('Scholars Nomination Form'!J211),\"\",'Scholars Nomination Form'!J211)","v":""},{"$f":"IF(ISBLANK('Scholars Nomination Form'!K211),\"\",'Scholars Nomination Form'!K211)","v":""},{"$f":"IF(ISBLANK('Scholars Nomination Form'!L211),\"\",'Scholars Nomination Form'!L211)","v":""},{"$f":"IF(ISBLANK('Scholars Nomination Form'!M211),\"\",'Scholars Nomination Form'!M211)","v":""},{"$f":"IF(ISBLANK('Scholars Nomination Form'!N211),\"\",'Scholars Nomination Form'!N211)","v":""},{"$f":"IF(ISBLANK('Scholars Nomination Form'!O211),\"\",'Scholars Nomination Form'!O211)","v":""},{"$f":"IF(ISBLANK('Scholars Nomination Form'!P211),\"\",'Scholars Nomination Form'!P211)","v":""},{"$f":"IF(ISBLANK('Scholars Nomination Form'!Q211),\"\",'Scholars Nomination Form'!Q211)","v":""},{"$f":"IF(ISBLANK('Scholars Nomination Form'!R211),\"\",'Scholars Nomination Form'!R211)","v":""},{"$f":"IF(ISBLANK('Scholars Nomination Form'!S211),\"\",'Scholars Nomination Form'!S211)","v":""},{"$f":"IF(ISBLANK('Scholars Nomination Form'!T211),\"\",'Scholars Nomination Form'!T211)","v":""},{"$f":"IF(ISBLANK('Scholars Nomination Form'!U211),\"\",'Scholars Nomination Form'!U211)","v":""},{"$f":"IF(ISBLANK('Scholars Nomination Form'!V211),\"\",'Scholars Nomination Form'!V211)","v":""},{"$f":"IF(ISBLANK('Scholars Nomination Form'!W211),\"\",'Scholars Nomination Form'!W211)","v":""},{"$f":"IF(ISBLANK('Scholars Nomination Form'!X211),\"\",'Scholars Nomination Form'!X211)","v":""},{"$f":"IF(ISBLANK('Scholars Nomination Form'!Y211),\"\",'Scholars Nomination Form'!Y211)","v":""},{"$f":"IF(ISBLANK('Scholars Nomination Form'!Z211),\"\",'Scholars Nomination Form'!Z211)","v":""},{"$f":"IF(ISBLANK('Scholars Nomination Form'!AA211),\"\",'Scholars Nomination Form'!AA211)","v":""}]
[{"$f":"IF(ISBLANK('Scholars Nomination Form'!$F212),\"\",'Scholars Nomination Form'!$C$11)","v":""},{"$f":"IF(ISBLANK('Scholars Nomination Form'!$F212),\"\",'Scholars Nomination Form'!$C$12)","v":""},{"$f":"IF(ISBLANK('Scholars Nomination Form'!$F212),\"\",'Scholars Nomination Form'!$C$13)","v":""},{"$f":"IF(ISBLANK('Scholars Nomination Form'!$F212),\"\",'Scholars Nomination Form'!$C$14)","v":""},{"$f":"IF(ISBLANK('Scholars Nomination Form'!$F212),\"\",'Scholars Nomination Form'!$C$15)","v":""},{"$f":"IF(ISBLANK('Scholars Nomination Form'!$F212),\"\",'Scholars Nomination Form'!$C$16)","v":""},{"$f":"IF(ISBLANK('Scholars Nomination Form'!B212),\"\",'Scholars Nomination Form'!B212)","v":""},{"$f":"IF(ISBLANK('Scholars Nomination Form'!D212),\"\",'Scholars Nomination Form'!D212)","v":""},{"$f":"IF(ISBLANK('Scholars Nomination Form'!E212),\"\",'Scholars Nomination Form'!E212)","v":""},{"$f":"IF(ISBLANK('Scholars Nomination Form'!F212),\"\",'Scholars Nomination Form'!F212)","v":""},{"$f":"IF(ISBLANK('Scholars Nomination Form'!G212),\"\",'Scholars Nomination Form'!G212)","v":""},{"$f":"IF(ISBLANK('Scholars Nomination Form'!H212),\"\",'Scholars Nomination Form'!H212)","v":""},{"$f":"IF(ISBLANK('Scholars Nomination Form'!I212),\"\",'Scholars Nomination Form'!I212)","v":""},{"$f":"IF(ISBLANK('Scholars Nomination Form'!J212),\"\",'Scholars Nomination Form'!J212)","v":""},{"$f":"IF(ISBLANK('Scholars Nomination Form'!K212),\"\",'Scholars Nomination Form'!K212)","v":""},{"$f":"IF(ISBLANK('Scholars Nomination Form'!L212),\"\",'Scholars Nomination Form'!L212)","v":""},{"$f":"IF(ISBLANK('Scholars Nomination Form'!M212),\"\",'Scholars Nomination Form'!M212)","v":""},{"$f":"IF(ISBLANK('Scholars Nomination Form'!N212),\"\",'Scholars Nomination Form'!N212)","v":""},{"$f":"IF(ISBLANK('Scholars Nomination Form'!O212),\"\",'Scholars Nomination Form'!O212)","v":""},{"$f":"IF(ISBLANK('Scholars Nomination Form'!P212),\"\",'Scholars Nomination Form'!P212)","v":""},{"$f":"IF(ISBLANK('Scholars Nomination Form'!Q212),\"\",'Scholars Nomination Form'!Q212)","v":""},{"$f":"IF(ISBLANK('Scholars Nomination Form'!R212),\"\",'Scholars Nomination Form'!R212)","v":""},{"$f":"IF(ISBLANK('Scholars Nomination Form'!S212),\"\",'Scholars Nomination Form'!S212)","v":""},{"$f":"IF(ISBLANK('Scholars Nomination Form'!T212),\"\",'Scholars Nomination Form'!T212)","v":""},{"$f":"IF(ISBLANK('Scholars Nomination Form'!U212),\"\",'Scholars Nomination Form'!U212)","v":""},{"$f":"IF(ISBLANK('Scholars Nomination Form'!V212),\"\",'Scholars Nomination Form'!V212)","v":""},{"$f":"IF(ISBLANK('Scholars Nomination Form'!W212),\"\",'Scholars Nomination Form'!W212)","v":""},{"$f":"IF(ISBLANK('Scholars Nomination Form'!X212),\"\",'Scholars Nomination Form'!X212)","v":""},{"$f":"IF(ISBLANK('Scholars Nomination Form'!Y212),\"\",'Scholars Nomination Form'!Y212)","v":""},{"$f":"IF(ISBLANK('Scholars Nomination Form'!Z212),\"\",'Scholars Nomination Form'!Z212)","v":""},{"$f":"IF(ISBLANK('Scholars Nomination Form'!AA212),\"\",'Scholars Nomination Form'!AA212)","v":""}]
[{"$f":"IF(ISBLANK('Scholars Nomination Form'!$F213),\"\",'Scholars Nomination Form'!$C$11)","v":""},{"$f":"IF(ISBLANK('Scholars Nomination Form'!$F213),\"\",'Scholars Nomination Form'!$C$12)","v":""},{"$f":"IF(ISBLANK('Scholars Nomination Form'!$F213),\"\",'Scholars Nomination Form'!$C$13)","v":""},{"$f":"IF(ISBLANK('Scholars Nomination Form'!$F213),\"\",'Scholars Nomination Form'!$C$14)","v":""},{"$f":"IF(ISBLANK('Scholars Nomination Form'!$F213),\"\",'Scholars Nomination Form'!$C$15)","v":""},{"$f":"IF(ISBLANK('Scholars Nomination Form'!$F213),\"\",'Scholars Nomination Form'!$C$16)","v":""},{"$f":"IF(ISBLANK('Scholars Nomination Form'!B213),\"\",'Scholars Nomination Form'!B213)","v":""},{"$f":"IF(ISBLANK('Scholars Nomination Form'!D213),\"\",'Scholars Nomination Form'!D213)","v":""},{"$f":"IF(ISBLANK('Scholars Nomination Form'!E213),\"\",'Scholars Nomination Form'!E213)","v":""},{"$f":"IF(ISBLANK('Scholars Nomination Form'!F213),\"\",'Scholars Nomination Form'!F213)","v":""},{"$f":"IF(ISBLANK('Scholars Nomination Form'!G213),\"\",'Scholars Nomination Form'!G213)","v":""},{"$f":"IF(ISBLANK('Scholars Nomination Form'!H213),\"\",'Scholars Nomination Form'!H213)","v":""},{"$f":"IF(ISBLANK('Scholars Nomination Form'!I213),\"\",'Scholars Nomination Form'!I213)","v":""},{"$f":"IF(ISBLANK('Scholars Nomination Form'!J213),\"\",'Scholars Nomination Form'!J213)","v":""},{"$f":"IF(ISBLANK('Scholars Nomination Form'!K213),\"\",'Scholars Nomination Form'!K213)","v":""},{"$f":"IF(ISBLANK('Scholars Nomination Form'!L213),\"\",'Scholars Nomination Form'!L213)","v":""},{"$f":"IF(ISBLANK('Scholars Nomination Form'!M213),\"\",'Scholars Nomination Form'!M213)","v":""},{"$f":"IF(ISBLANK('Scholars Nomination Form'!N213),\"\",'Scholars Nomination Form'!N213)","v":""},{"$f":"IF(ISBLANK('Scholars Nomination Form'!O213),\"\",'Scholars Nomination Form'!O213)","v":""},{"$f":"IF(ISBLANK('Scholars Nomination Form'!P213),\"\",'Scholars Nomination Form'!P213)","v":""},{"$f":"IF(ISBLANK('Scholars Nomination Form'!Q213),\"\",'Scholars Nomination Form'!Q213)","v":""},{"$f":"IF(ISBLANK('Scholars Nomination Form'!R213),\"\",'Scholars Nomination Form'!R213)","v":""},{"$f":"IF(ISBLANK('Scholars Nomination Form'!S213),\"\",'Scholars Nomination Form'!S213)","v":""},{"$f":"IF(ISBLANK('Scholars Nomination Form'!T213),\"\",'Scholars Nomination Form'!T213)","v":""},{"$f":"IF(ISBLANK('Scholars Nomination Form'!U213),\"\",'Scholars Nomination Form'!U213)","v":""},{"$f":"IF(ISBLANK('Scholars Nomination Form'!V213),\"\",'Scholars Nomination Form'!V213)","v":""},{"$f":"IF(ISBLANK('Scholars Nomination Form'!W213),\"\",'Scholars Nomination Form'!W213)","v":""},{"$f":"IF(ISBLANK('Scholars Nomination Form'!X213),\"\",'Scholars Nomination Form'!X213)","v":""},{"$f":"IF(ISBLANK('Scholars Nomination Form'!Y213),\"\",'Scholars Nomination Form'!Y213)","v":""},{"$f":"IF(ISBLANK('Scholars Nomination Form'!Z213),\"\",'Scholars Nomination Form'!Z213)","v":""},{"$f":"IF(ISBLANK('Scholars Nomination Form'!AA213),\"\",'Scholars Nomination Form'!AA213)","v":""}]
[{"$f":"IF(ISBLANK('Scholars Nomination Form'!$F214),\"\",'Scholars Nomination Form'!$C$11)","v":""},{"$f":"IF(ISBLANK('Scholars Nomination Form'!$F214),\"\",'Scholars Nomination Form'!$C$12)","v":""},{"$f":"IF(ISBLANK('Scholars Nomination Form'!$F214),\"\",'Scholars Nomination Form'!$C$13)","v":""},{"$f":"IF(ISBLANK('Scholars Nomination Form'!$F214),\"\",'Scholars Nomination Form'!$C$14)","v":""},{"$f":"IF(ISBLANK('Scholars Nomination Form'!$F214),\"\",'Scholars Nomination Form'!$C$15)","v":""},{"$f":"IF(ISBLANK('Scholars Nomination Form'!$F214),\"\",'Scholars Nomination Form'!$C$16)","v":""},{"$f":"IF(ISBLANK('Scholars Nomination Form'!B214),\"\",'Scholars Nomination Form'!B214)","v":""},{"$f":"IF(ISBLANK('Scholars Nomination Form'!D214),\"\",'Scholars Nomination Form'!D214)","v":""},{"$f":"IF(ISBLANK('Scholars Nomination Form'!E214),\"\",'Scholars Nomination Form'!E214)","v":""},{"$f":"IF(ISBLANK('Scholars Nomination Form'!F214),\"\",'Scholars Nomination Form'!F214)","v":""},{"$f":"IF(ISBLANK('Scholars Nomination Form'!G214),\"\",'Scholars Nomination Form'!G214)","v":""},{"$f":"IF(ISBLANK('Scholars Nomination Form'!H214),\"\",'Scholars Nomination Form'!H214)","v":""},{"$f":"IF(ISBLANK('Scholars Nomination Form'!I214),\"\",'Scholars Nomination Form'!I214)","v":""},{"$f":"IF(ISBLANK('Scholars Nomination Form'!J214),\"\",'Scholars Nomination Form'!J214)","v":""},{"$f":"IF(ISBLANK('Scholars Nomination Form'!K214),\"\",'Scholars Nomination Form'!K214)","v":""},{"$f":"IF(ISBLANK('Scholars Nomination Form'!L214),\"\",'Scholars Nomination Form'!L214)","v":""},{"$f":"IF(ISBLANK('Scholars Nomination Form'!M214),\"\",'Scholars Nomination Form'!M214)","v":""},{"$f":"IF(ISBLANK('Scholars Nomination Form'!N214),\"\",'Scholars Nomination Form'!N214)","v":""},{"$f":"IF(ISBLANK('Scholars Nomination Form'!O214),\"\",'Scholars Nomination Form'!O214)","v":""},{"$f":"IF(ISBLANK('Scholars Nomination Form'!P214),\"\",'Scholars Nomination Form'!P214)","v":""},{"$f":"IF(ISBLANK('Scholars Nomination Form'!Q214),\"\",'Scholars Nomination Form'!Q214)","v":""},{"$f":"IF(ISBLANK('Scholars Nomination Form'!R214),\"\",'Scholars Nomination Form'!R214)","v":""},{"$f":"IF(ISBLANK('Scholars Nomination Form'!S214),\"\",'Scholars Nomination Form'!S214)","v":""},{"$f":"IF(ISBLANK('Scholars Nomination Form'!T214),\"\",'Scholars Nomination Form'!T214)","v":""},{"$f":"IF(ISBLANK('Scholars Nomination Form'!U214),\"\",'Scholars Nomination Form'!U214)","v":""},{"$f":"IF(ISBLANK('Scholars Nomination Form'!V214),\"\",'Scholars Nomination Form'!V214)","v":""},{"$f":"IF(ISBLANK('Scholars Nomination Form'!W214),\"\",'Scholars Nomination Form'!W214)","v":""},{"$f":"IF(ISBLANK('Scholars Nomination Form'!X214),\"\",'Scholars Nomination Form'!X214)","v":""},{"$f":"IF(ISBLANK('Scholars Nomination Form'!Y214),\"\",'Scholars Nomination Form'!Y214)","v":""},{"$f":"IF(ISBLANK('Scholars Nomination Form'!Z214),\"\",'Scholars Nomination Form'!Z214)","v":""},{"$f":"IF(ISBLANK('Scholars Nomination Form'!AA214),\"\",'Scholars Nomination Form'!AA214)","v":""}]
[{"$f":"IF(ISBLANK('Scholars Nomination Form'!$F215),\"\",'Scholars Nomination Form'!$C$11)","v":""},{"$f":"IF(ISBLANK('Scholars Nomination Form'!$F215),\"\",'Scholars Nomination Form'!$C$12)","v":""},{"$f":"IF(ISBLANK('Scholars Nomination Form'!$F215),\"\",'Scholars Nomination Form'!$C$13)","v":""},{"$f":"IF(ISBLANK('Scholars Nomination Form'!$F215),\"\",'Scholars Nomination Form'!$C$14)","v":""},{"$f":"IF(ISBLANK('Scholars Nomination Form'!$F215),\"\",'Scholars Nomination Form'!$C$15)","v":""},{"$f":"IF(ISBLANK('Scholars Nomination Form'!$F215),\"\",'Scholars Nomination Form'!$C$16)","v":""},{"$f":"IF(ISBLANK('Scholars Nomination Form'!B215),\"\",'Scholars Nomination Form'!B215)","v":""},{"$f":"IF(ISBLANK('Scholars Nomination Form'!D215),\"\",'Scholars Nomination Form'!D215)","v":""},{"$f":"IF(ISBLANK('Scholars Nomination Form'!E215),\"\",'Scholars Nomination Form'!E215)","v":""},{"$f":"IF(ISBLANK('Scholars Nomination Form'!F215),\"\",'Scholars Nomination Form'!F215)","v":""},{"$f":"IF(ISBLANK('Scholars Nomination Form'!G215),\"\",'Scholars Nomination Form'!G215)","v":""},{"$f":"IF(ISBLANK('Scholars Nomination Form'!H215),\"\",'Scholars Nomination Form'!H215)","v":""},{"$f":"IF(ISBLANK('Scholars Nomination Form'!I215),\"\",'Scholars Nomination Form'!I215)","v":""},{"$f":"IF(ISBLANK('Scholars Nomination Form'!J215),\"\",'Scholars Nomination Form'!J215)","v":""},{"$f":"IF(ISBLANK('Scholars Nomination Form'!K215),\"\",'Scholars Nomination Form'!K215)","v":""},{"$f":"IF(ISBLANK('Scholars Nomination Form'!L215),\"\",'Scholars Nomination Form'!L215)","v":""},{"$f":"IF(ISBLANK('Scholars Nomination Form'!M215),\"\",'Scholars Nomination Form'!M215)","v":""},{"$f":"IF(ISBLANK('Scholars Nomination Form'!N215),\"\",'Scholars Nomination Form'!N215)","v":""},{"$f":"IF(ISBLANK('Scholars Nomination Form'!O215),\"\",'Scholars Nomination Form'!O215)","v":""},{"$f":"IF(ISBLANK('Scholars Nomination Form'!P215),\"\",'Scholars Nomination Form'!P215)","v":""},{"$f":"IF(ISBLANK('Scholars Nomination Form'!Q215),\"\",'Scholars Nomination Form'!Q215)","v":""},{"$f":"IF(ISBLANK('Scholars Nomination Form'!R215),\"\",'Scholars Nomination Form'!R215)","v":""},{"$f":"IF(ISBLANK('Scholars Nomination Form'!S215),\"\",'Scholars Nomination Form'!S215)","v":""},{"$f":"IF(ISBLANK('Scholars Nomination Form'!T215),\"\",'Scholars Nomination Form'!T215)","v":""},{"$f":"IF(ISBLANK('Scholars Nomination Form'!U215),\"\",'Scholars Nomination Form'!U215)","v":""},{"$f":"IF(ISBLANK('Scholars Nomination Form'!V215),\"\",'Scholars Nomination Form'!V215)","v":""},{"$f":"IF(ISBLANK('Scholars Nomination Form'!W215),\"\",'Scholars Nomination Form'!W215)","v":""},{"$f":"IF(ISBLANK('Scholars Nomination Form'!X215),\"\",'Scholars Nomination Form'!X215)","v":""},{"$f":"IF(ISBLANK('Scholars Nomination Form'!Y215),\"\",'Scholars Nomination Form'!Y215)","v":""},{"$f":"IF(ISBLANK('Scholars Nomination Form'!Z215),\"\",'Scholars Nomination Form'!Z215)","v":""},{"$f":"IF(ISBLANK('Scholars Nomination Form'!AA215),\"\",'Scholars Nomination Form'!AA215)","v":""}]
[{"$f":"IF(ISBLANK('Scholars Nomination Form'!$F216),\"\",'Scholars Nomination Form'!$C$11)","v":""},{"$f":"IF(ISBLANK('Scholars Nomination Form'!$F216),\"\",'Scholars Nomination Form'!$C$12)","v":""},{"$f":"IF(ISBLANK('Scholars Nomination Form'!$F216),\"\",'Scholars Nomination Form'!$C$13)","v":""},{"$f":"IF(ISBLANK('Scholars Nomination Form'!$F216),\"\",'Scholars Nomination Form'!$C$14)","v":""},{"$f":"IF(ISBLANK('Scholars Nomination Form'!$F216),\"\",'Scholars Nomination Form'!$C$15)","v":""},{"$f":"IF(ISBLANK('Scholars Nomination Form'!$F216),\"\",'Scholars Nomination Form'!$C$16)","v":""},{"$f":"IF(ISBLANK('Scholars Nomination Form'!B216),\"\",'Scholars Nomination Form'!B216)","v":""},{"$f":"IF(ISBLANK('Scholars Nomination Form'!D216),\"\",'Scholars Nomination Form'!D216)","v":""},{"$f":"IF(ISBLANK('Scholars Nomination Form'!E216),\"\",'Scholars Nomination Form'!E216)","v":""},{"$f":"IF(ISBLANK('Scholars Nomination Form'!F216),\"\",'Scholars Nomination Form'!F216)","v":""},{"$f":"IF(ISBLANK('Scholars Nomination Form'!G216),\"\",'Scholars Nomination Form'!G216)","v":""},{"$f":"IF(ISBLANK('Scholars Nomination Form'!H216),\"\",'Scholars Nomination Form'!H216)","v":""},{"$f":"IF(ISBLANK('Scholars Nomination Form'!I216),\"\",'Scholars Nomination Form'!I216)","v":""},{"$f":"IF(ISBLANK('Scholars Nomination Form'!J216),\"\",'Scholars Nomination Form'!J216)","v":""},{"$f":"IF(ISBLANK('Scholars Nomination Form'!K216),\"\",'Scholars Nomination Form'!K216)","v":""},{"$f":"IF(ISBLANK('Scholars Nomination Form'!L216),\"\",'Scholars Nomination Form'!L216)","v":""},{"$f":"IF(ISBLANK('Scholars Nomination Form'!M216),\"\",'Scholars Nomination Form'!M216)","v":""},{"$f":"IF(ISBLANK('Scholars Nomination Form'!N216),\"\",'Scholars Nomination Form'!N216)","v":""},{"$f":"IF(ISBLANK('Scholars Nomination Form'!O216),\"\",'Scholars Nomination Form'!O216)","v":""},{"$f":"IF(ISBLANK('Scholars Nomination Form'!P216),\"\",'Scholars Nomination Form'!P216)","v":""},{"$f":"IF(ISBLANK('Scholars Nomination Form'!Q216),\"\",'Scholars Nomination Form'!Q216)","v":""},{"$f":"IF(ISBLANK('Scholars Nomination Form'!R216),\"\",'Scholars Nomination Form'!R216)","v":""},{"$f":"IF(ISBLANK('Scholars Nomination Form'!S216),\"\",'Scholars Nomination Form'!S216)","v":""},{"$f":"IF(ISBLANK('Scholars Nomination Form'!T216),\"\",'Scholars Nomination Form'!T216)","v":""},{"$f":"IF(ISBLANK('Scholars Nomination Form'!U216),\"\",'Scholars Nomination Form'!U216)","v":""},{"$f":"IF(ISBLANK('Scholars Nomination Form'!V216),\"\",'Scholars Nomination Form'!V216)","v":""},{"$f":"IF(ISBLANK('Scholars Nomination Form'!W216),\"\",'Scholars Nomination Form'!W216)","v":""},{"$f":"IF(ISBLANK('Scholars Nomination Form'!X216),\"\",'Scholars Nomination Form'!X216)","v":""},{"$f":"IF(ISBLANK('Scholars Nomination Form'!Y216),\"\",'Scholars Nomination Form'!Y216)","v":""},{"$f":"IF(ISBLANK('Scholars Nomination Form'!Z216),\"\",'Scholars Nomination Form'!Z216)","v":""},{"$f":"IF(ISBLANK('Scholars Nomination Form'!AA216),\"\",'Scholars Nomination Form'!AA216)","v":""}]
[{"$f":"IF(ISBLANK('Scholars Nomination Form'!$F217),\"\",'Scholars Nomination Form'!$C$11)","v":""},{"$f":"IF(ISBLANK('Scholars Nomination Form'!$F217),\"\",'Scholars Nomination Form'!$C$12)","v":""},{"$f":"IF(ISBLANK('Scholars Nomination Form'!$F217),\"\",'Scholars Nomination Form'!$C$13)","v":""},{"$f":"IF(ISBLANK('Scholars Nomination Form'!$F217),\"\",'Scholars Nomination Form'!$C$14)","v":""},{"$f":"IF(ISBLANK('Scholars Nomination Form'!$F217),\"\",'Scholars Nomination Form'!$C$15)","v":""},{"$f":"IF(ISBLANK('Scholars Nomination Form'!$F217),\"\",'Scholars Nomination Form'!$C$16)","v":""},{"$f":"IF(ISBLANK('Scholars Nomination Form'!B217),\"\",'Scholars Nomination Form'!B217)","v":""},{"$f":"IF(ISBLANK('Scholars Nomination Form'!D217),\"\",'Scholars Nomination Form'!D217)","v":""},{"$f":"IF(ISBLANK('Scholars Nomination Form'!E217),\"\",'Scholars Nomination Form'!E217)","v":""},{"$f":"IF(ISBLANK('Scholars Nomination Form'!F217),\"\",'Scholars Nomination Form'!F217)","v":""},{"$f":"IF(ISBLANK('Scholars Nomination Form'!G217),\"\",'Scholars Nomination Form'!G217)","v":""},{"$f":"IF(ISBLANK('Scholars Nomination Form'!H217),\"\",'Scholars Nomination Form'!H217)","v":""},{"$f":"IF(ISBLANK('Scholars Nomination Form'!I217),\"\",'Scholars Nomination Form'!I217)","v":""},{"$f":"IF(ISBLANK('Scholars Nomination Form'!J217),\"\",'Scholars Nomination Form'!J217)","v":""},{"$f":"IF(ISBLANK('Scholars Nomination Form'!K217),\"\",'Scholars Nomination Form'!K217)","v":""},{"$f":"IF(ISBLANK('Scholars Nomination Form'!L217),\"\",'Scholars Nomination Form'!L217)","v":""},{"$f":"IF(ISBLANK('Scholars Nomination Form'!M217),\"\",'Scholars Nomination Form'!M217)","v":""},{"$f":"IF(ISBLANK('Scholars Nomination Form'!N217),\"\",'Scholars Nomination Form'!N217)","v":""},{"$f":"IF(ISBLANK('Scholars Nomination Form'!O217),\"\",'Scholars Nomination Form'!O217)","v":""},{"$f":"IF(ISBLANK('Scholars Nomination Form'!P217),\"\",'Scholars Nomination Form'!P217)","v":""},{"$f":"IF(ISBLANK('Scholars Nomination Form'!Q217),\"\",'Scholars Nomination Form'!Q217)","v":""},{"$f":"IF(ISBLANK('Scholars Nomination Form'!R217),\"\",'Scholars Nomination Form'!R217)","v":""},{"$f":"IF(ISBLANK('Scholars Nomination Form'!S217),\"\",'Scholars Nomination Form'!S217)","v":""},{"$f":"IF(ISBLANK('Scholars Nomination Form'!T217),\"\",'Scholars Nomination Form'!T217)","v":""},{"$f":"IF(ISBLANK('Scholars Nomination Form'!U217),\"\",'Scholars Nomination Form'!U217)","v":""},{"$f":"IF(ISBLANK('Scholars Nomination Form'!V217),\"\",'Scholars Nomination Form'!V217)","v":""},{"$f":"IF(ISBLANK('Scholars Nomination Form'!W217),\"\",'Scholars Nomination Form'!W217)","v":""},{"$f":"IF(ISBLANK('Scholars Nomination Form'!X217),\"\",'Scholars Nomination Form'!X217)","v":""},{"$f":"IF(ISBLANK('Scholars Nomination Form'!Y217),\"\",'Scholars Nomination Form'!Y217)","v":""},{"$f":"IF(ISBLANK('Scholars Nomination Form'!Z217),\"\",'Scholars Nomination Form'!Z217)","v":""},{"$f":"IF(ISBLANK('Scholars Nomination Form'!AA217),\"\",'Scholars Nomination Form'!AA217)","v":""}]
[{"$f":"IF(ISBLANK('Scholars Nomination Form'!$F218),\"\",'Scholars Nomination Form'!$C$11)","v":""},{"$f":"IF(ISBLANK('Scholars Nomination Form'!$F218),\"\",'Scholars Nomination Form'!$C$12)","v":""},{"$f":"IF(ISBLANK('Scholars Nomination Form'!$F218),\"\",'Scholars Nomination Form'!$C$13)","v":""},{"$f":"IF(ISBLANK('Scholars Nomination Form'!$F218),\"\",'Scholars Nomination Form'!$C$14)","v":""},{"$f":"IF(ISBLANK('Scholars Nomination Form'!$F218),\"\",'Scholars Nomination Form'!$C$15)","v":""},{"$f":"IF(ISBLANK('Scholars Nomination Form'!$F218),\"\",'Scholars Nomination Form'!$C$16)","v":""},{"$f":"IF(ISBLANK('Scholars Nomination Form'!B218),\"\",'Scholars Nomination Form'!B218)","v":""},{"$f":"IF(ISBLANK('Scholars Nomination Form'!D218),\"\",'Scholars Nomination Form'!D218)","v":""},{"$f":"IF(ISBLANK('Scholars Nomination Form'!E218),\"\",'Scholars Nomination Form'!E218)","v":""},{"$f":"IF(ISBLANK('Scholars Nomination Form'!F218),\"\",'Scholars Nomination Form'!F218)","v":""},{"$f":"IF(ISBLANK('Scholars Nomination Form'!G218),\"\",'Scholars Nomination Form'!G218)","v":""},{"$f":"IF(ISBLANK('Scholars Nomination Form'!H218),\"\",'Scholars Nomination Form'!H218)","v":""},{"$f":"IF(ISBLANK('Scholars Nomination Form'!I218),\"\",'Scholars Nomination Form'!I218)","v":""},{"$f":"IF(ISBLANK('Scholars Nomination Form'!J218),\"\",'Scholars Nomination Form'!J218)","v":""},{"$f":"IF(ISBLANK('Scholars Nomination Form'!K218),\"\",'Scholars Nomination Form'!K218)","v":""},{"$f":"IF(ISBLANK('Scholars Nomination Form'!L218),\"\",'Scholars Nomination Form'!L218)","v":""},{"$f":"IF(ISBLANK('Scholars Nomination Form'!M218),\"\",'Scholars Nomination Form'!M218)","v":""},{"$f":"IF(ISBLANK('Scholars Nomination Form'!N218),\"\",'Scholars Nomination Form'!N218)","v":""},{"$f":"IF(ISBLANK('Scholars Nomination Form'!O218),\"\",'Scholars Nomination Form'!O218)","v":""},{"$f":"IF(ISBLANK('Scholars Nomination Form'!P218),\"\",'Scholars Nomination Form'!P218)","v":""},{"$f":"IF(ISBLANK('Scholars Nomination Form'!Q218),\"\",'Scholars Nomination Form'!Q218)","v":""},{"$f":"IF(ISBLANK('Scholars Nomination Form'!R218),\"\",'Scholars Nomination Form'!R218)","v":""},{"$f":"IF(ISBLANK('Scholars Nomination Form'!S218),\"\",'Scholars Nomination Form'!S218)","v":""},{"$f":"IF(ISBLANK('Scholars Nomination Form'!T218),\"\",'Scholars Nomination Form'!T218)","v":""},{"$f":"IF(ISBLANK('Scholars Nomination Form'!U218),\"\",'Scholars Nomination Form'!U218)","v":""},{"$f":"IF(ISBLANK('Scholars Nomination Form'!V218),\"\",'Scholars Nomination Form'!V218)","v":""},{"$f":"IF(ISBLANK('Scholars Nomination Form'!W218),\"\",'Scholars Nomination Form'!W218)","v":""},{"$f":"IF(ISBLANK('Scholars Nomination Form'!X218),\"\",'Scholars Nomination Form'!X218)","v":""},{"$f":"IF(ISBLANK('Scholars Nomination Form'!Y218),\"\",'Scholars Nomination Form'!Y218)","v":""},{"$f":"IF(ISBLANK('Scholars Nomination Form'!Z218),\"\",'Scholars Nomination Form'!Z218)","v":""},{"$f":"IF(ISBLANK('Scholars Nomination Form'!AA218),\"\",'Scholars Nomination Form'!AA218)","v":""}]
[{"$f":"IF(ISBLANK('Scholars Nomination Form'!$F219),\"\",'Scholars Nomination Form'!$C$11)","v":""},{"$f":"IF(ISBLANK('Scholars Nomination Form'!$F219),\"\",'Scholars Nomination Form'!$C$12)","v":""},{"$f":"IF(ISBLANK('Scholars Nomination Form'!$F219),\"\",'Scholars Nomination Form'!$C$13)","v":""},{"$f":"IF(ISBLANK('Scholars Nomination Form'!$F219),\"\",'Scholars Nomination Form'!$C$14)","v":""},{"$f":"IF(ISBLANK('Scholars Nomination Form'!$F219),\"\",'Scholars Nomination Form'!$C$15)","v":""},{"$f":"IF(ISBLANK('Scholars Nomination Form'!$F219),\"\",'Scholars Nomination Form'!$C$16)","v":""},{"$f":"IF(ISBLANK('Scholars Nomination Form'!B219),\"\",'Scholars Nomination Form'!B219)","v":""},{"$f":"IF(ISBLANK('Scholars Nomination Form'!D219),\"\",'Scholars Nomination Form'!D219)","v":""},{"$f":"IF(ISBLANK('Scholars Nomination Form'!E219),\"\",'Scholars Nomination Form'!E219)","v":""},{"$f":"IF(ISBLANK('Scholars Nomination Form'!F219),\"\",'Scholars Nomination Form'!F219)","v":""},{"$f":"IF(ISBLANK('Scholars Nomination Form'!G219),\"\",'Scholars Nomination Form'!G219)","v":""},{"$f":"IF(ISBLANK('Scholars Nomination Form'!H219),\"\",'Scholars Nomination Form'!H219)","v":""},{"$f":"IF(ISBLANK('Scholars Nomination Form'!I219),\"\",'Scholars Nomination Form'!I219)","v":""},{"$f":"IF(ISBLANK('Scholars Nomination Form'!J219),\"\",'Scholars Nomination Form'!J219)","v":""},{"$f":"IF(ISBLANK('Scholars Nomination Form'!K219),\"\",'Scholars Nomination Form'!K219)","v":""},{"$f":"IF(ISBLANK('Scholars Nomination Form'!L219),\"\",'Scholars Nomination Form'!L219)","v":""},{"$f":"IF(ISBLANK('Scholars Nomination Form'!M219),\"\",'Scholars Nomination Form'!M219)","v":""},{"$f":"IF(ISBLANK('Scholars Nomination Form'!N219),\"\",'Scholars Nomination Form'!N219)","v":""},{"$f":"IF(ISBLANK('Scholars Nomination Form'!O219),\"\",'Scholars Nomination Form'!O219)","v":""},{"$f":"IF(ISBLANK('Scholars Nomination Form'!P219),\"\",'Scholars Nomination Form'!P219)","v":""},{"$f":"IF(ISBLANK('Scholars Nomination Form'!Q219),\"\",'Scholars Nomination Form'!Q219)","v":""},{"$f":"IF(ISBLANK('Scholars Nomination Form'!R219),\"\",'Scholars Nomination Form'!R219)","v":""},{"$f":"IF(ISBLANK('Scholars Nomination Form'!S219),\"\",'Scholars Nomination Form'!S219)","v":""},{"$f":"IF(ISBLANK('Scholars Nomination Form'!T219),\"\",'Scholars Nomination Form'!T219)","v":""},{"$f":"IF(ISBLANK('Scholars Nomination Form'!U219),\"\",'Scholars Nomination Form'!U219)","v":""},{"$f":"IF(ISBLANK('Scholars Nomination Form'!V219),\"\",'Scholars Nomination Form'!V219)","v":""},{"$f":"IF(ISBLANK('Scholars Nomination Form'!W219),\"\",'Scholars Nomination Form'!W219)","v":""},{"$f":"IF(ISBLANK('Scholars Nomination Form'!X219),\"\",'Scholars Nomination Form'!X219)","v":""},{"$f":"IF(ISBLANK('Scholars Nomination Form'!Y219),\"\",'Scholars Nomination Form'!Y219)","v":""},{"$f":"IF(ISBLANK('Scholars Nomination Form'!Z219),\"\",'Scholars Nomination Form'!Z219)","v":""},{"$f":"IF(ISBLANK('Scholars Nomination Form'!AA219),\"\",'Scholars Nomination Form'!AA219)","v":""}]
[{"$f":"IF(ISBLANK('Scholars Nomination Form'!$F220),\"\",'Scholars Nomination Form'!$C$11)","v":""},{"$f":"IF(ISBLANK('Scholars Nomination Form'!$F220),\"\",'Scholars Nomination Form'!$C$12)","v":""},{"$f":"IF(ISBLANK('Scholars Nomination Form'!$F220),\"\",'Scholars Nomination Form'!$C$13)","v":""},{"$f":"IF(ISBLANK('Scholars Nomination Form'!$F220),\"\",'Scholars Nomination Form'!$C$14)","v":""},{"$f":"IF(ISBLANK('Scholars Nomination Form'!$F220),\"\",'Scholars Nomination Form'!$C$15)","v":""},{"$f":"IF(ISBLANK('Scholars Nomination Form'!$F220),\"\",'Scholars Nomination Form'!$C$16)","v":""},{"$f":"IF(ISBLANK('Scholars Nomination Form'!B220),\"\",'Scholars Nomination Form'!B220)","v":""},{"$f":"IF(ISBLANK('Scholars Nomination Form'!D220),\"\",'Scholars Nomination Form'!D220)","v":""},{"$f":"IF(ISBLANK('Scholars Nomination Form'!E220),\"\",'Scholars Nomination Form'!E220)","v":""},{"$f":"IF(ISBLANK('Scholars Nomination Form'!F220),\"\",'Scholars Nomination Form'!F220)","v":""},{"$f":"IF(ISBLANK('Scholars Nomination Form'!G220),\"\",'Scholars Nomination Form'!G220)","v":""},{"$f":"IF(ISBLANK('Scholars Nomination Form'!H220),\"\",'Scholars Nomination Form'!H220)","v":""},{"$f":"IF(ISBLANK('Scholars Nomination Form'!I220),\"\",'Scholars Nomination Form'!I220)","v":""},{"$f":"IF(ISBLANK('Scholars Nomination Form'!J220),\"\",'Scholars Nomination Form'!J220)","v":""},{"$f":"IF(ISBLANK('Scholars Nomination Form'!K220),\"\",'Scholars Nomination Form'!K220)","v":""},{"$f":"IF(ISBLANK('Scholars Nomination Form'!L220),\"\",'Scholars Nomination Form'!L220)","v":""},{"$f":"IF(ISBLANK('Scholars Nomination Form'!M220),\"\",'Scholars Nomination Form'!M220)","v":""},{"$f":"IF(ISBLANK('Scholars Nomination Form'!N220),\"\",'Scholars Nomination Form'!N220)","v":""},{"$f":"IF(ISBLANK('Scholars Nomination Form'!O220),\"\",'Scholars Nomination Form'!O220)","v":""},{"$f":"IF(ISBLANK('Scholars Nomination Form'!P220),\"\",'Scholars Nomination Form'!P220)","v":""},{"$f":"IF(ISBLANK('Scholars Nomination Form'!Q220),\"\",'Scholars Nomination Form'!Q220)","v":""},{"$f":"IF(ISBLANK('Scholars Nomination Form'!R220),\"\",'Scholars Nomination Form'!R220)","v":""},{"$f":"IF(ISBLANK('Scholars Nomination Form'!S220),\"\",'Scholars Nomination Form'!S220)","v":""},{"$f":"IF(ISBLANK('Scholars Nomination Form'!T220),\"\",'Scholars Nomination Form'!T220)","v":""},{"$f":"IF(ISBLANK('Scholars Nomination Form'!U220),\"\",'Scholars Nomination Form'!U220)","v":""},{"$f":"IF(ISBLANK('Scholars Nomination Form'!V220),\"\",'Scholars Nomination Form'!V220)","v":""},{"$f":"IF(ISBLANK('Scholars Nomination Form'!W220),\"\",'Scholars Nomination Form'!W220)","v":""},{"$f":"IF(ISBLANK('Scholars Nomination Form'!X220),\"\",'Scholars Nomination Form'!X220)","v":""},{"$f":"IF(ISBLANK('Scholars Nomination Form'!Y220),\"\",'Scholars Nomination Form'!Y220)","v":""},{"$f":"IF(ISBLANK('Scholars Nomination Form'!Z220),\"\",'Scholars Nomination Form'!Z220)","v":""},{"$f":"IF(ISBLANK('Scholars Nomination Form'!AA220),\"\",'Scholars Nomination Form'!AA220)","v":""}]
[{"$f":"IF(ISBLANK('Scholars Nomination Form'!$F221),\"\",'Scholars Nomination Form'!$C$11)","v":""},{"$f":"IF(ISBLANK('Scholars Nomination Form'!$F221),\"\",'Scholars Nomination Form'!$C$12)","v":""},{"$f":"IF(ISBLANK('Scholars Nomination Form'!$F221),\"\",'Scholars Nomination Form'!$C$13)","v":""},{"$f":"IF(ISBLANK('Scholars Nomination Form'!$F221),\"\",'Scholars Nomination Form'!$C$14)","v":""},{"$f":"IF(ISBLANK('Scholars Nomination Form'!$F221),\"\",'Scholars Nomination Form'!$C$15)","v":""},{"$f":"IF(ISBLANK('Scholars Nomination Form'!$F221),\"\",'Scholars Nomination Form'!$C$16)","v":""},{"$f":"IF(ISBLANK('Scholars Nomination Form'!B221),\"\",'Scholars Nomination Form'!B221)","v":""},{"$f":"IF(ISBLANK('Scholars Nomination Form'!D221),\"\",'Scholars Nomination Form'!D221)","v":""},{"$f":"IF(ISBLANK('Scholars Nomination Form'!E221),\"\",'Scholars Nomination Form'!E221)","v":""},{"$f":"IF(ISBLANK('Scholars Nomination Form'!F221),\"\",'Scholars Nomination Form'!F221)","v":""},{"$f":"IF(ISBLANK('Scholars Nomination Form'!G221),\"\",'Scholars Nomination Form'!G221)","v":""},{"$f":"IF(ISBLANK('Scholars Nomination Form'!H221),\"\",'Scholars Nomination Form'!H221)","v":""},{"$f":"IF(ISBLANK('Scholars Nomination Form'!I221),\"\",'Scholars Nomination Form'!I221)","v":""},{"$f":"IF(ISBLANK('Scholars Nomination Form'!J221),\"\",'Scholars Nomination Form'!J221)","v":""},{"$f":"IF(ISBLANK('Scholars Nomination Form'!K221),\"\",'Scholars Nomination Form'!K221)","v":""},{"$f":"IF(ISBLANK('Scholars Nomination Form'!L221),\"\",'Scholars Nomination Form'!L221)","v":""},{"$f":"IF(ISBLANK('Scholars Nomination Form'!M221),\"\",'Scholars Nomination Form'!M221)","v":""},{"$f":"IF(ISBLANK('Scholars Nomination Form'!N221),\"\",'Scholars Nomination Form'!N221)","v":""},{"$f":"IF(ISBLANK('Scholars Nomination Form'!O221),\"\",'Scholars Nomination Form'!O221)","v":""},{"$f":"IF(ISBLANK('Scholars Nomination Form'!P221),\"\",'Scholars Nomination Form'!P221)","v":""},{"$f":"IF(ISBLANK('Scholars Nomination Form'!Q221),\"\",'Scholars Nomination Form'!Q221)","v":""},{"$f":"IF(ISBLANK('Scholars Nomination Form'!R221),\"\",'Scholars Nomination Form'!R221)","v":""},{"$f":"IF(ISBLANK('Scholars Nomination Form'!S221),\"\",'Scholars Nomination Form'!S221)","v":""},{"$f":"IF(ISBLANK('Scholars Nomination Form'!T221),\"\",'Scholars Nomination Form'!T221)","v":""},{"$f":"IF(ISBLANK('Scholars Nomination Form'!U221),\"\",'Scholars Nomination Form'!U221)","v":""},{"$f":"IF(ISBLANK('Scholars Nomination Form'!V221),\"\",'Scholars Nomination Form'!V221)","v":""},{"$f":"IF(ISBLANK('Scholars Nomination Form'!W221),\"\",'Scholars Nomination Form'!W221)","v":""},{"$f":"IF(ISBLANK('Scholars Nomination Form'!X221),\"\",'Scholars Nomination Form'!X221)","v":""},{"$f":"IF(ISBLANK('Scholars Nomination Form'!Y221),\"\",'Scholars Nomination Form'!Y221)","v":""},{"$f":"IF(ISBLANK('Scholars Nomination Form'!Z221),\"\",'Scholars Nomination Form'!Z221)","v":""},{"$f":"IF(ISBLANK('Scholars Nomination Form'!AA221),\"\",'Scholars Nomination Form'!AA221)","v":""}]
[{"$f":"IF(ISBLANK('Scholars Nomination Form'!$F222),\"\",'Scholars Nomination Form'!$C$11)","v":""},{"$f":"IF(ISBLANK('Scholars Nomination Form'!$F222),\"\",'Scholars Nomination Form'!$C$12)","v":""},{"$f":"IF(ISBLANK('Scholars Nomination Form'!$F222),\"\",'Scholars Nomination Form'!$C$13)","v":""},{"$f":"IF(ISBLANK('Scholars Nomination Form'!$F222),\"\",'Scholars Nomination Form'!$C$14)","v":""},{"$f":"IF(ISBLANK('Scholars Nomination Form'!$F222),\"\",'Scholars Nomination Form'!$C$15)","v":""},{"$f":"IF(ISBLANK('Scholars Nomination Form'!$F222),\"\",'Scholars Nomination Form'!$C$16)","v":""},{"$f":"IF(ISBLANK('Scholars Nomination Form'!B222),\"\",'Scholars Nomination Form'!B222)","v":""},{"$f":"IF(ISBLANK('Scholars Nomination Form'!D222),\"\",'Scholars Nomination Form'!D222)","v":""},{"$f":"IF(ISBLANK('Scholars Nomination Form'!E222),\"\",'Scholars Nomination Form'!E222)","v":""},{"$f":"IF(ISBLANK('Scholars Nomination Form'!F222),\"\",'Scholars Nomination Form'!F222)","v":""},{"$f":"IF(ISBLANK('Scholars Nomination Form'!G222),\"\",'Scholars Nomination Form'!G222)","v":""},{"$f":"IF(ISBLANK('Scholars Nomination Form'!H222),\"\",'Scholars Nomination Form'!H222)","v":""},{"$f":"IF(ISBLANK('Scholars Nomination Form'!I222),\"\",'Scholars Nomination Form'!I222)","v":""},{"$f":"IF(ISBLANK('Scholars Nomination Form'!J222),\"\",'Scholars Nomination Form'!J222)","v":""},{"$f":"IF(ISBLANK('Scholars Nomination Form'!K222),\"\",'Scholars Nomination Form'!K222)","v":""},{"$f":"IF(ISBLANK('Scholars Nomination Form'!L222),\"\",'Scholars Nomination Form'!L222)","v":""},{"$f":"IF(ISBLANK('Scholars Nomination Form'!M222),\"\",'Scholars Nomination Form'!M222)","v":""},{"$f":"IF(ISBLANK('Scholars Nomination Form'!N222),\"\",'Scholars Nomination Form'!N222)","v":""},{"$f":"IF(ISBLANK('Scholars Nomination Form'!O222),\"\",'Scholars Nomination Form'!O222)","v":""},{"$f":"IF(ISBLANK('Scholars Nomination Form'!P222),\"\",'Scholars Nomination Form'!P222)","v":""},{"$f":"IF(ISBLANK('Scholars Nomination Form'!Q222),\"\",'Scholars Nomination Form'!Q222)","v":""},{"$f":"IF(ISBLANK('Scholars Nomination Form'!R222),\"\",'Scholars Nomination Form'!R222)","v":""},{"$f":"IF(ISBLANK('Scholars Nomination Form'!S222),\"\",'Scholars Nomination Form'!S222)","v":""},{"$f":"IF(ISBLANK('Scholars Nomination Form'!T222),\"\",'Scholars Nomination Form'!T222)","v":""},{"$f":"IF(ISBLANK('Scholars Nomination Form'!U222),\"\",'Scholars Nomination Form'!U222)","v":""},{"$f":"IF(ISBLANK('Scholars Nomination Form'!V222),\"\",'Scholars Nomination Form'!V222)","v":""},{"$f":"IF(ISBLANK('Scholars Nomination Form'!W222),\"\",'Scholars Nomination Form'!W222)","v":""},{"$f":"IF(ISBLANK('Scholars Nomination Form'!X222),\"\",'Scholars Nomination Form'!X222)","v":""},{"$f":"IF(ISBLANK('Scholars Nomination Form'!Y222),\"\",'Scholars Nomination Form'!Y222)","v":""},{"$f":"IF(ISBLANK('Scholars Nomination Form'!Z222),\"\",'Scholars Nomination Form'!Z222)","v":""},{"$f":"IF(ISBLANK('Scholars Nomination Form'!AA222),\"\",'Scholars Nomination Form'!AA222)","v":""}]
[{"$f":"IF(ISBLANK('Scholars Nomination Form'!$F223),\"\",'Scholars Nomination Form'!$C$11)","v":""},{"$f":"IF(ISBLANK('Scholars Nomination Form'!$F223),\"\",'Scholars Nomination Form'!$C$12)","v":""},{"$f":"IF(ISBLANK('Scholars Nomination Form'!$F223),\"\",'Scholars Nomination Form'!$C$13)","v":""},{"$f":"IF(ISBLANK('Scholars Nomination Form'!$F223),\"\",'Scholars Nomination Form'!$C$14)","v":""},{"$f":"IF(ISBLANK('Scholars Nomination Form'!$F223),\"\",'Scholars Nomination Form'!$C$15)","v":""},{"$f":"IF(ISBLANK('Scholars Nomination Form'!$F223),\"\",'Scholars Nomination Form'!$C$16)","v":""},{"$f":"IF(ISBLANK('Scholars Nomination Form'!B223),\"\",'Scholars Nomination Form'!B223)","v":""},{"$f":"IF(ISBLANK('Scholars Nomination Form'!D223),\"\",'Scholars Nomination Form'!D223)","v":""},{"$f":"IF(ISBLANK('Scholars Nomination Form'!E223),\"\",'Scholars Nomination Form'!E223)","v":""},{"$f":"IF(ISBLANK('Scholars Nomination Form'!F223),\"\",'Scholars Nomination Form'!F223)","v":""},{"$f":"IF(ISBLANK('Scholars Nomination Form'!G223),\"\",'Scholars Nomination Form'!G223)","v":""},{"$f":"IF(ISBLANK('Scholars Nomination Form'!H223),\"\",'Scholars Nomination Form'!H223)","v":""},{"$f":"IF(ISBLANK('Scholars Nomination Form'!I223),\"\",'Scholars Nomination Form'!I223)","v":""},{"$f":"IF(ISBLANK('Scholars Nomination Form'!J223),\"\",'Scholars Nomination Form'!J223)","v":""},{"$f":"IF(ISBLANK('Scholars Nomination Form'!K223),\"\",'Scholars Nomination Form'!K223)","v":""},{"$f":"IF(ISBLANK('Scholars Nomination Form'!L223),\"\",'Scholars Nomination Form'!L223)","v":""},{"$f":"IF(ISBLANK('Scholars Nomination Form'!M223),\"\",'Scholars Nomination Form'!M223)","v":""},{"$f":"IF(ISBLANK('Scholars Nomination Form'!N223),\"\",'Scholars Nomination Form'!N223)","v":""},{"$f":"IF(ISBLANK('Scholars Nomination Form'!O223),\"\",'Scholars Nomination Form'!O223)","v":""},{"$f":"IF(ISBLANK('Scholars Nomination Form'!P223),\"\",'Scholars Nomination Form'!P223)","v":""},{"$f":"IF(ISBLANK('Scholars Nomination Form'!Q223),\"\",'Scholars Nomination Form'!Q223)","v":""},{"$f":"IF(ISBLANK('Scholars Nomination Form'!R223),\"\",'Scholars Nomination Form'!R223)","v":""},{"$f":"IF(ISBLANK('Scholars Nomination Form'!S223),\"\",'Scholars Nomination Form'!S223)","v":""},{"$f":"IF(ISBLANK('Scholars Nomination Form'!T223),\"\",'Scholars Nomination Form'!T223)","v":""},{"$f":"IF(ISBLANK('Scholars Nomination Form'!U223),\"\",'Scholars Nomination Form'!U223)","v":""},{"$f":"IF(ISBLANK('Scholars Nomination Form'!V223),\"\",'Scholars Nomination Form'!V223)","v":""},{"$f":"IF(ISBLANK('Scholars Nomination Form'!W223),\"\",'Scholars Nomination Form'!W223)","v":""},{"$f":"IF(ISBLANK('Scholars Nomination Form'!X223),\"\",'Scholars Nomination Form'!X223)","v":""},{"$f":"IF(ISBLANK('Scholars Nomination Form'!Y223),\"\",'Scholars Nomination Form'!Y223)","v":""},{"$f":"IF(ISBLANK('Scholars Nomination Form'!Z223),\"\",'Scholars Nomination Form'!Z223)","v":""},{"$f":"IF(ISBLANK('Scholars Nomination Form'!AA223),\"\",'Scholars Nomination Form'!AA223)","v":""}]
[{"$f":"IF(ISBLANK('Scholars Nomination Form'!$F224),\"\",'Scholars Nomination Form'!$C$11)","v":""},{"$f":"IF(ISBLANK('Scholars Nomination Form'!$F224),\"\",'Scholars Nomination Form'!$C$12)","v":""},{"$f":"IF(ISBLANK('Scholars Nomination Form'!$F224),\"\",'Scholars Nomination Form'!$C$13)","v":""},{"$f":"IF(ISBLANK('Scholars Nomination Form'!$F224),\"\",'Scholars Nomination Form'!$C$14)","v":""},{"$f":"IF(ISBLANK('Scholars Nomination Form'!$F224),\"\",'Scholars Nomination Form'!$C$15)","v":""},{"$f":"IF(ISBLANK('Scholars Nomination Form'!$F224),\"\",'Scholars Nomination Form'!$C$16)","v":""},{"$f":"IF(ISBLANK('Scholars Nomination Form'!B224),\"\",'Scholars Nomination Form'!B224)","v":""},{"$f":"IF(ISBLANK('Scholars Nomination Form'!D224),\"\",'Scholars Nomination Form'!D224)","v":""},{"$f":"IF(ISBLANK('Scholars Nomination Form'!E224),\"\",'Scholars Nomination Form'!E224)","v":""},{"$f":"IF(ISBLANK('Scholars Nomination Form'!F224),\"\",'Scholars Nomination Form'!F224)","v":""},{"$f":"IF(ISBLANK('Scholars Nomination Form'!G224),\"\",'Scholars Nomination Form'!G224)","v":""},{"$f":"IF(ISBLANK('Scholars Nomination Form'!H224),\"\",'Scholars Nomination Form'!H224)","v":""},{"$f":"IF(ISBLANK('Scholars Nomination Form'!I224),\"\",'Scholars Nomination Form'!I224)","v":""},{"$f":"IF(ISBLANK('Scholars Nomination Form'!J224),\"\",'Scholars Nomination Form'!J224)","v":""},{"$f":"IF(ISBLANK('Scholars Nomination Form'!K224),\"\",'Scholars Nomination Form'!K224)","v":""},{"$f":"IF(ISBLANK('Scholars Nomination Form'!L224),\"\",'Scholars Nomination Form'!L224)","v":""},{"$f":"IF(ISBLANK('Scholars Nomination Form'!M224),\"\",'Scholars Nomination Form'!M224)","v":""},{"$f":"IF(ISBLANK('Scholars Nomination Form'!N224),\"\",'Scholars Nomination Form'!N224)","v":""},{"$f":"IF(ISBLANK('Scholars Nomination Form'!O224),\"\",'Scholars Nomination Form'!O224)","v":""},{"$f":"IF(ISBLANK('Scholars Nomination Form'!P224),\"\",'Scholars Nomination Form'!P224)","v":""},{"$f":"IF(ISBLANK('Scholars Nomination Form'!Q224),\"\",'Scholars Nomination Form'!Q224)","v":""},{"$f":"IF(ISBLANK('Scholars Nomination Form'!R224),\"\",'Scholars Nomination Form'!R224)","v":""},{"$f":"IF(ISBLANK('Scholars Nomination Form'!S224),\"\",'Scholars Nomination Form'!S224)","v":""},{"$f":"IF(ISBLANK('Scholars Nomination Form'!T224),\"\",'Scholars Nomination Form'!T224)","v":""},{"$f":"IF(ISBLANK('Scholars Nomination Form'!U224),\"\",'Scholars Nomination Form'!U224)","v":""},{"$f":"IF(ISBLANK('Scholars Nomination Form'!V224),\"\",'Scholars Nomination Form'!V224)","v":""},{"$f":"IF(ISBLANK('Scholars Nomination Form'!W224),\"\",'Scholars Nomination Form'!W224)","v":""},{"$f":"IF(ISBLANK('Scholars Nomination Form'!X224),\"\",'Scholars Nomination Form'!X224)","v":""},{"$f":"IF(ISBLANK('Scholars Nomination Form'!Y224),\"\",'Scholars Nomination Form'!Y224)","v":""},{"$f":"IF(ISBLANK('Scholars Nomination Form'!Z224),\"\",'Scholars Nomination Form'!Z224)","v":""},{"$f":"IF(ISBLANK('Scholars Nomination Form'!AA224),\"\",'Scholars Nomination Form'!AA224)","v":""}]
[{"$f":"IF(ISBLANK('Scholars Nomination Form'!$F225),\"\",'Scholars Nomination Form'!$C$11)","v":""},{"$f":"IF(ISBLANK('Scholars Nomination Form'!$F225),\"\",'Scholars Nomination Form'!$C$12)","v":""},{"$f":"IF(ISBLANK('Scholars Nomination Form'!$F225),\"\",'Scholars Nomination Form'!$C$13)","v":""},{"$f":"IF(ISBLANK('Scholars Nomination Form'!$F225),\"\",'Scholars Nomination Form'!$C$14)","v":""},{"$f":"IF(ISBLANK('Scholars Nomination Form'!$F225),\"\",'Scholars Nomination Form'!$C$15)","v":""},{"$f":"IF(ISBLANK('Scholars Nomination Form'!$F225),\"\",'Scholars Nomination Form'!$C$16)","v":""},{"$f":"IF(ISBLANK('Scholars Nomination Form'!B225),\"\",'Scholars Nomination Form'!B225)","v":""},{"$f":"IF(ISBLANK('Scholars Nomination Form'!D225),\"\",'Scholars Nomination Form'!D225)","v":""},{"$f":"IF(ISBLANK('Scholars Nomination Form'!E225),\"\",'Scholars Nomination Form'!E225)","v":""},{"$f":"IF(ISBLANK('Scholars Nomination Form'!F225),\"\",'Scholars Nomination Form'!F225)","v":""},{"$f":"IF(ISBLANK('Scholars Nomination Form'!G225),\"\",'Scholars Nomination Form'!G225)","v":""},{"$f":"IF(ISBLANK('Scholars Nomination Form'!H225),\"\",'Scholars Nomination Form'!H225)","v":""},{"$f":"IF(ISBLANK('Scholars Nomination Form'!I225),\"\",'Scholars Nomination Form'!I225)","v":""},{"$f":"IF(ISBLANK('Scholars Nomination Form'!J225),\"\",'Scholars Nomination Form'!J225)","v":""},{"$f":"IF(ISBLANK('Scholars Nomination Form'!K225),\"\",'Scholars Nomination Form'!K225)","v":""},{"$f":"IF(ISBLANK('Scholars Nomination Form'!L225),\"\",'Scholars Nomination Form'!L225)","v":""},{"$f":"IF(ISBLANK('Scholars Nomination Form'!M225),\"\",'Scholars Nomination Form'!M225)","v":""},{"$f":"IF(ISBLANK('Scholars Nomination Form'!N225),\"\",'Scholars Nomination Form'!N225)","v":""},{"$f":"IF(ISBLANK('Scholars Nomination Form'!O225),\"\",'Scholars Nomination Form'!O225)","v":""},{"$f":"IF(ISBLANK('Scholars Nomination Form'!P225),\"\",'Scholars Nomination Form'!P225)","v":""},{"$f":"IF(ISBLANK('Scholars Nomination Form'!Q225),\"\",'Scholars Nomination Form'!Q225)","v":""},{"$f":"IF(ISBLANK('Scholars Nomination Form'!R225),\"\",'Scholars Nomination Form'!R225)","v":""},{"$f":"IF(ISBLANK('Scholars Nomination Form'!S225),\"\",'Scholars Nomination Form'!S225)","v":""},{"$f":"IF(ISBLANK('Scholars Nomination Form'!T225),\"\",'Scholars Nomination Form'!T225)","v":""},{"$f":"IF(ISBLANK('Scholars Nomination Form'!U225),\"\",'Scholars Nomination Form'!U225)","v":""},{"$f":"IF(ISBLANK('Scholars Nomination Form'!V225),\"\",'Scholars Nomination Form'!V225)","v":""},{"$f":"IF(ISBLANK('Scholars Nomination Form'!W225),\"\",'Scholars Nomination Form'!W225)","v":""},{"$f":"IF(ISBLANK('Scholars Nomination Form'!X225),\"\",'Scholars Nomination Form'!X225)","v":""},{"$f":"IF(ISBLANK('Scholars Nomination Form'!Y225),\"\",'Scholars Nomination Form'!Y225)","v":""},{"$f":"IF(ISBLANK('Scholars Nomination Form'!Z225),\"\",'Scholars Nomination Form'!Z225)","v":""},{"$f":"IF(ISBLANK('Scholars Nomination Form'!AA225),\"\",'Scholars Nomination Form'!AA225)","v":""}]
[{"$f":"IF(ISBLANK('Scholars Nomination Form'!$F226),\"\",'Scholars Nomination Form'!$C$11)","v":""},{"$f":"IF(ISBLANK('Scholars Nomination Form'!$F226),\"\",'Scholars Nomination Form'!$C$12)","v":""},{"$f":"IF(ISBLANK('Scholars Nomination Form'!$F226),\"\",'Scholars Nomination Form'!$C$13)","v":""},{"$f":"IF(ISBLANK('Scholars Nomination Form'!$F226),\"\",'Scholars Nomination Form'!$C$14)","v":""},{"$f":"IF(ISBLANK('Scholars Nomination Form'!$F226),\"\",'Scholars Nomination Form'!$C$15)","v":""},{"$f":"IF(ISBLANK('Scholars Nomination Form'!$F226),\"\",'Scholars Nomination Form'!$C$16)","v":""},{"$f":"IF(ISBLANK('Scholars Nomination Form'!B226),\"\",'Scholars Nomination Form'!B226)","v":""},{"$f":"IF(ISBLANK('Scholars Nomination Form'!D226),\"\",'Scholars Nomination Form'!D226)","v":""},{"$f":"IF(ISBLANK('Scholars Nomination Form'!E226),\"\",'Scholars Nomination Form'!E226)","v":""},{"$f":"IF(ISBLANK('Scholars Nomination Form'!F226),\"\",'Scholars Nomination Form'!F226)","v":""},{"$f":"IF(ISBLANK('Scholars Nomination Form'!G226),\"\",'Scholars Nomination Form'!G226)","v":""},{"$f":"IF(ISBLANK('Scholars Nomination Form'!H226),\"\",'Scholars Nomination Form'!H226)","v":""},{"$f":"IF(ISBLANK('Scholars Nomination Form'!I226),\"\",'Scholars Nomination Form'!I226)","v":""},{"$f":"IF(ISBLANK('Scholars Nomination Form'!J226),\"\",'Scholars Nomination Form'!J226)","v":""},{"$f":"IF(ISBLANK('Scholars Nomination Form'!K226),\"\",'Scholars Nomination Form'!K226)","v":""},{"$f":"IF(ISBLANK('Scholars Nomination Form'!L226),\"\",'Scholars Nomination Form'!L226)","v":""},{"$f":"IF(ISBLANK('Scholars Nomination Form'!M226),\"\",'Scholars Nomination Form'!M226)","v":""},{"$f":"IF(ISBLANK('Scholars Nomination Form'!N226),\"\",'Scholars Nomination Form'!N226)","v":""},{"$f":"IF(ISBLANK('Scholars Nomination Form'!O226),\"\",'Scholars Nomination Form'!O226)","v":""},{"$f":"IF(ISBLANK('Scholars Nomination Form'!P226),\"\",'Scholars Nomination Form'!P226)","v":""},{"$f":"IF(ISBLANK('Scholars Nomination Form'!Q226),\"\",'Scholars Nomination Form'!Q226)","v":""},{"$f":"IF(ISBLANK('Scholars Nomination Form'!R226),\"\",'Scholars Nomination Form'!R226)","v":""},{"$f":"IF(ISBLANK('Scholars Nomination Form'!S226),\"\",'Scholars Nomination Form'!S226)","v":""},{"$f":"IF(ISBLANK('Scholars Nomination Form'!T226),\"\",'Scholars Nomination Form'!T226)","v":""},{"$f":"IF(ISBLANK('Scholars Nomination Form'!U226),\"\",'Scholars Nomination Form'!U226)","v":""},{"$f":"IF(ISBLANK('Scholars Nomination Form'!V226),\"\",'Scholars Nomination Form'!V226)","v":""},{"$f":"IF(ISBLANK('Scholars Nomination Form'!W226),\"\",'Scholars Nomination Form'!W226)","v":""},{"$f":"IF(ISBLANK('Scholars Nomination Form'!X226),\"\",'Scholars Nomination Form'!X226)","v":""},{"$f":"IF(ISBLANK('Scholars Nomination Form'!Y226),\"\",'Scholars Nomination Form'!Y226)","v":""},{"$f":"IF(ISBLANK('Scholars Nomination Form'!Z226),\"\",'Scholars Nomination Form'!Z226)","v":""},{"$f":"IF(ISBLANK('Scholars Nomination Form'!AA226),\"\",'Scholars Nomination Form'!AA226)","v":""}]
[{"$f":"IF(ISBLANK('Scholars Nomination Form'!$F227),\"\",'Scholars Nomination Form'!$C$11)","v":""},{"$f":"IF(ISBLANK('Scholars Nomination Form'!$F227),\"\",'Scholars Nomination Form'!$C$12)","v":""},{"$f":"IF(ISBLANK('Scholars Nomination Form'!$F227),\"\",'Scholars Nomination Form'!$C$13)","v":""},{"$f":"IF(ISBLANK('Scholars Nomination Form'!$F227),\"\",'Scholars Nomination Form'!$C$14)","v":""},{"$f":"IF(ISBLANK('Scholars Nomination Form'!$F227),\"\",'Scholars Nomination Form'!$C$15)","v":""},{"$f":"IF(ISBLANK('Scholars Nomination Form'!$F227),\"\",'Scholars Nomination Form'!$C$16)","v":""},{"$f":"IF(ISBLANK('Scholars Nomination Form'!B227),\"\",'Scholars Nomination Form'!B227)","v":""},{"$f":"IF(ISBLANK('Scholars Nomination Form'!D227),\"\",'Scholars Nomination Form'!D227)","v":""},{"$f":"IF(ISBLANK('Scholars Nomination Form'!E227),\"\",'Scholars Nomination Form'!E227)","v":""},{"$f":"IF(ISBLANK('Scholars Nomination Form'!F227),\"\",'Scholars Nomination Form'!F227)","v":""},{"$f":"IF(ISBLANK('Scholars Nomination Form'!G227),\"\",'Scholars Nomination Form'!G227)","v":""},{"$f":"IF(ISBLANK('Scholars Nomination Form'!H227),\"\",'Scholars Nomination Form'!H227)","v":""},{"$f":"IF(ISBLANK('Scholars Nomination Form'!I227),\"\",'Scholars Nomination Form'!I227)","v":""},{"$f":"IF(ISBLANK('Scholars Nomination Form'!J227),\"\",'Scholars Nomination Form'!J227)","v":""},{"$f":"IF(ISBLANK('Scholars Nomination Form'!K227),\"\",'Scholars Nomination Form'!K227)","v":""},{"$f":"IF(ISBLANK('Scholars Nomination Form'!L227),\"\",'Scholars Nomination Form'!L227)","v":""},{"$f":"IF(ISBLANK('Scholars Nomination Form'!M227),\"\",'Scholars Nomination Form'!M227)","v":""},{"$f":"IF(ISBLANK('Scholars Nomination Form'!N227),\"\",'Scholars Nomination Form'!N227)","v":""},{"$f":"IF(ISBLANK('Scholars Nomination Form'!O227),\"\",'Scholars Nomination Form'!O227)","v":""},{"$f":"IF(ISBLANK('Scholars Nomination Form'!P227),\"\",'Scholars Nomination Form'!P227)","v":""},{"$f":"IF(ISBLANK('Scholars Nomination Form'!Q227),\"\",'Scholars Nomination Form'!Q227)","v":""},{"$f":"IF(ISBLANK('Scholars Nomination Form'!R227),\"\",'Scholars Nomination Form'!R227)","v":""},{"$f":"IF(ISBLANK('Scholars Nomination Form'!S227),\"\",'Scholars Nomination Form'!S227)","v":""},{"$f":"IF(ISBLANK('Scholars Nomination Form'!T227),\"\",'Scholars Nomination Form'!T227)","v":""},{"$f":"IF(ISBLANK('Scholars Nomination Form'!U227),\"\",'Scholars Nomination Form'!U227)","v":""},{"$f":"IF(ISBLANK('Scholars Nomination Form'!V227),\"\",'Scholars Nomination Form'!V227)","v":""},{"$f":"IF(ISBLANK('Scholars Nomination Form'!W227),\"\",'Scholars Nomination Form'!W227)","v":""},{"$f":"IF(ISBLANK('Scholars Nomination Form'!X227),\"\",'Scholars Nomination Form'!X227)","v":""},{"$f":"IF(ISBLANK('Scholars Nomination Form'!Y227),\"\",'Scholars Nomination Form'!Y227)","v":""},{"$f":"IF(ISBLANK('Scholars Nomination Form'!Z227),\"\",'Scholars Nomination Form'!Z227)","v":""},{"$f":"IF(ISBLANK('Scholars Nomination Form'!AA227),\"\",'Scholars Nomination Form'!AA227)","v":""}]
[{"$f":"IF(ISBLANK('Scholars Nomination Form'!$F228),\"\",'Scholars Nomination Form'!$C$11)","v":""},{"$f":"IF(ISBLANK('Scholars Nomination Form'!$F228),\"\",'Scholars Nomination Form'!$C$12)","v":""},{"$f":"IF(ISBLANK('Scholars Nomination Form'!$F228),\"\",'Scholars Nomination Form'!$C$13)","v":""},{"$f":"IF(ISBLANK('Scholars Nomination Form'!$F228),\"\",'Scholars Nomination Form'!$C$14)","v":""},{"$f":"IF(ISBLANK('Scholars Nomination Form'!$F228),\"\",'Scholars Nomination Form'!$C$15)","v":""},{"$f":"IF(ISBLANK('Scholars Nomination Form'!$F228),\"\",'Scholars Nomination Form'!$C$16)","v":""},{"$f":"IF(ISBLANK('Scholars Nomination Form'!B228),\"\",'Scholars Nomination Form'!B228)","v":""},{"$f":"IF(ISBLANK('Scholars Nomination Form'!D228),\"\",'Scholars Nomination Form'!D228)","v":""},{"$f":"IF(ISBLANK('Scholars Nomination Form'!E228),\"\",'Scholars Nomination Form'!E228)","v":""},{"$f":"IF(ISBLANK('Scholars Nomination Form'!F228),\"\",'Scholars Nomination Form'!F228)","v":""},{"$f":"IF(ISBLANK('Scholars Nomination Form'!G228),\"\",'Scholars Nomination Form'!G228)","v":""},{"$f":"IF(ISBLANK('Scholars Nomination Form'!H228),\"\",'Scholars Nomination Form'!H228)","v":""},{"$f":"IF(ISBLANK('Scholars Nomination Form'!I228),\"\",'Scholars Nomination Form'!I228)","v":""},{"$f":"IF(ISBLANK('Scholars Nomination Form'!J228),\"\",'Scholars Nomination Form'!J228)","v":""},{"$f":"IF(ISBLANK('Scholars Nomination Form'!K228),\"\",'Scholars Nomination Form'!K228)","v":""},{"$f":"IF(ISBLANK('Scholars Nomination Form'!L228),\"\",'Scholars Nomination Form'!L228)","v":""},{"$f":"IF(ISBLANK('Scholars Nomination Form'!M228),\"\",'Scholars Nomination Form'!M228)","v":""},{"$f":"IF(ISBLANK('Scholars Nomination Form'!N228),\"\",'Scholars Nomination Form'!N228)","v":""},{"$f":"IF(ISBLANK('Scholars Nomination Form'!O228),\"\",'Scholars Nomination Form'!O228)","v":""},{"$f":"IF(ISBLANK('Scholars Nomination Form'!P228),\"\",'Scholars Nomination Form'!P228)","v":""},{"$f":"IF(ISBLANK('Scholars Nomination Form'!Q228),\"\",'Scholars Nomination Form'!Q228)","v":""},{"$f":"IF(ISBLANK('Scholars Nomination Form'!R228),\"\",'Scholars Nomination Form'!R228)","v":""},{"$f":"IF(ISBLANK('Scholars Nomination Form'!S228),\"\",'Scholars Nomination Form'!S228)","v":""},{"$f":"IF(ISBLANK('Scholars Nomination Form'!T228),\"\",'Scholars Nomination Form'!T228)","v":""},{"$f":"IF(ISBLANK('Scholars Nomination Form'!U228),\"\",'Scholars Nomination Form'!U228)","v":""},{"$f":"IF(ISBLANK('Scholars Nomination Form'!V228),\"\",'Scholars Nomination Form'!V228)","v":""},{"$f":"IF(ISBLANK('Scholars Nomination Form'!W228),\"\",'Scholars Nomination Form'!W228)","v":""},{"$f":"IF(ISBLANK('Scholars Nomination Form'!X228),\"\",'Scholars Nomination Form'!X228)","v":""},{"$f":"IF(ISBLANK('Scholars Nomination Form'!Y228),\"\",'Scholars Nomination Form'!Y228)","v":""},{"$f":"IF(ISBLANK('Scholars Nomination Form'!Z228),\"\",'Scholars Nomination Form'!Z228)","v":""},{"$f":"IF(ISBLANK('Scholars Nomination Form'!AA228),\"\",'Scholars Nomination Form'!AA228)","v":""}]
[{"$f":"IF(ISBLANK('Scholars Nomination Form'!$F229),\"\",'Scholars Nomination Form'!$C$11)","v":""},{"$f":"IF(ISBLANK('Scholars Nomination Form'!$F229),\"\",'Scholars Nomination Form'!$C$12)","v":""},{"$f":"IF(ISBLANK('Scholars Nomination Form'!$F229),\"\",'Scholars Nomination Form'!$C$13)","v":""},{"$f":"IF(ISBLANK('Scholars Nomination Form'!$F229),\"\",'Scholars Nomination Form'!$C$14)","v":""},{"$f":"IF(ISBLANK('Scholars Nomination Form'!$F229),\"\",'Scholars Nomination Form'!$C$15)","v":""},{"$f":"IF(ISBLANK('Scholars Nomination Form'!$F229),\"\",'Scholars Nomination Form'!$C$16)","v":""},{"$f":"IF(ISBLANK('Scholars Nomination Form'!B229),\"\",'Scholars Nomination Form'!B229)","v":""},{"$f":"IF(ISBLANK('Scholars Nomination Form'!D229),\"\",'Scholars Nomination Form'!D229)","v":""},{"$f":"IF(ISBLANK('Scholars Nomination Form'!E229),\"\",'Scholars Nomination Form'!E229)","v":""},{"$f":"IF(ISBLANK('Scholars Nomination Form'!F229),\"\",'Scholars Nomination Form'!F229)","v":""},{"$f":"IF(ISBLANK('Scholars Nomination Form'!G229),\"\",'Scholars Nomination Form'!G229)","v":""},{"$f":"IF(ISBLANK('Scholars Nomination Form'!H229),\"\",'Scholars Nomination Form'!H229)","v":""},{"$f":"IF(ISBLANK('Scholars Nomination Form'!I229),\"\",'Scholars Nomination Form'!I229)","v":""},{"$f":"IF(ISBLANK('Scholars Nomination Form'!J229),\"\",'Scholars Nomination Form'!J229)","v":""},{"$f":"IF(ISBLANK('Scholars Nomination Form'!K229),\"\",'Scholars Nomination Form'!K229)","v":""},{"$f":"IF(ISBLANK('Scholars Nomination Form'!L229),\"\",'Scholars Nomination Form'!L229)","v":""},{"$f":"IF(ISBLANK('Scholars Nomination Form'!M229),\"\",'Scholars Nomination Form'!M229)","v":""},{"$f":"IF(ISBLANK('Scholars Nomination Form'!N229),\"\",'Scholars Nomination Form'!N229)","v":""},{"$f":"IF(ISBLANK('Scholars Nomination Form'!O229),\"\",'Scholars Nomination Form'!O229)","v":""},{"$f":"IF(ISBLANK('Scholars Nomination Form'!P229),\"\",'Scholars Nomination Form'!P229)","v":""},{"$f":"IF(ISBLANK('Scholars Nomination Form'!Q229),\"\",'Scholars Nomination Form'!Q229)","v":""},{"$f":"IF(ISBLANK('Scholars Nomination Form'!R229),\"\",'Scholars Nomination Form'!R229)","v":""},{"$f":"IF(ISBLANK('Scholars Nomination Form'!S229),\"\",'Scholars Nomination Form'!S229)","v":""},{"$f":"IF(ISBLANK('Scholars Nomination Form'!T229),\"\",'Scholars Nomination Form'!T229)","v":""},{"$f":"IF(ISBLANK('Scholars Nomination Form'!U229),\"\",'Scholars Nomination Form'!U229)","v":""},{"$f":"IF(ISBLANK('Scholars Nomination Form'!V229),\"\",'Scholars Nomination Form'!V229)","v":""},{"$f":"IF(ISBLANK('Scholars Nomination Form'!W229),\"\",'Scholars Nomination Form'!W229)","v":""},{"$f":"IF(ISBLANK('Scholars Nomination Form'!X229),\"\",'Scholars Nomination Form'!X229)","v":""},{"$f":"IF(ISBLANK('Scholars Nomination Form'!Y229),\"\",'Scholars Nomination Form'!Y229)","v":""},{"$f":"IF(ISBLANK('Scholars Nomination Form'!Z229),\"\",'Scholars Nomination Form'!Z229)","v":""},{"$f":"IF(ISBLANK('Scholars Nomination Form'!AA229),\"\",'Scholars Nomination Form'!AA229)","v":""}]
[{"$f":"IF(ISBLANK('Scholars Nomination Form'!$F230),\"\",'Scholars Nomination Form'!$C$11)","v":""},{"$f":"IF(ISBLANK('Scholars Nomination Form'!$F230),\"\",'Scholars Nomination Form'!$C$12)","v":""},{"$f":"IF(ISBLANK('Scholars Nomination Form'!$F230),\"\",'Scholars Nomination Form'!$C$13)","v":""},{"$f":"IF(ISBLANK('Scholars Nomination Form'!$F230),\"\",'Scholars Nomination Form'!$C$14)","v":""},{"$f":"IF(ISBLANK('Scholars Nomination Form'!$F230),\"\",'Scholars Nomination Form'!$C$15)","v":""},{"$f":"IF(ISBLANK('Scholars Nomination Form'!$F230),\"\",'Scholars Nomination Form'!$C$16)","v":""},{"$f":"IF(ISBLANK('Scholars Nomination Form'!B230),\"\",'Scholars Nomination Form'!B230)","v":""},{"$f":"IF(ISBLANK('Scholars Nomination Form'!D230),\"\",'Scholars Nomination Form'!D230)","v":""},{"$f":"IF(ISBLANK('Scholars Nomination Form'!E230),\"\",'Scholars Nomination Form'!E230)","v":""},{"$f":"IF(ISBLANK('Scholars Nomination Form'!F230),\"\",'Scholars Nomination Form'!F230)","v":""},{"$f":"IF(ISBLANK('Scholars Nomination Form'!G230),\"\",'Scholars Nomination Form'!G230)","v":""},{"$f":"IF(ISBLANK('Scholars Nomination Form'!H230),\"\",'Scholars Nomination Form'!H230)","v":""},{"$f":"IF(ISBLANK('Scholars Nomination Form'!I230),\"\",'Scholars Nomination Form'!I230)","v":""},{"$f":"IF(ISBLANK('Scholars Nomination Form'!J230),\"\",'Scholars Nomination Form'!J230)","v":""},{"$f":"IF(ISBLANK('Scholars Nomination Form'!K230),\"\",'Scholars Nomination Form'!K230)","v":""},{"$f":"IF(ISBLANK('Scholars Nomination Form'!L230),\"\",'Scholars Nomination Form'!L230)","v":""},{"$f":"IF(ISBLANK('Scholars Nomination Form'!M230),\"\",'Scholars Nomination Form'!M230)","v":""},{"$f":"IF(ISBLANK('Scholars Nomination Form'!N230),\"\",'Scholars Nomination Form'!N230)","v":""},{"$f":"IF(ISBLANK('Scholars Nomination Form'!O230),\"\",'Scholars Nomination Form'!O230)","v":""},{"$f":"IF(ISBLANK('Scholars Nomination Form'!P230),\"\",'Scholars Nomination Form'!P230)","v":""},{"$f":"IF(ISBLANK('Scholars Nomination Form'!Q230),\"\",'Scholars Nomination Form'!Q230)","v":""},{"$f":"IF(ISBLANK('Scholars Nomination Form'!R230),\"\",'Scholars Nomination Form'!R230)","v":""},{"$f":"IF(ISBLANK('Scholars Nomination Form'!S230),\"\",'Scholars Nomination Form'!S230)","v":""},{"$f":"IF(ISBLANK('Scholars Nomination Form'!T230),\"\",'Scholars Nomination Form'!T230)","v":""},{"$f":"IF(ISBLANK('Scholars Nomination Form'!U230),\"\",'Scholars Nomination Form'!U230)","v":""},{"$f":"IF(ISBLANK('Scholars Nomination Form'!V230),\"\",'Scholars Nomination Form'!V230)","v":""},{"$f":"IF(ISBLANK('Scholars Nomination Form'!W230),\"\",'Scholars Nomination Form'!W230)","v":""},{"$f":"IF(ISBLANK('Scholars Nomination Form'!X230),\"\",'Scholars Nomination Form'!X230)","v":""},{"$f":"IF(ISBLANK('Scholars Nomination Form'!Y230),\"\",'Scholars Nomination Form'!Y230)","v":""},{"$f":"IF(ISBLANK('Scholars Nomination Form'!Z230),\"\",'Scholars Nomination Form'!Z230)","v":""},{"$f":"IF(ISBLANK('Scholars Nomination Form'!AA230),\"\",'Scholars Nomination Form'!AA230)","v":""}]
[{"$f":"IF(ISBLANK('Scholars Nomination Form'!$F231),\"\",'Scholars Nomination Form'!$C$11)","v":""},{"$f":"IF(ISBLANK('Scholars Nomination Form'!$F231),\"\",'Scholars Nomination Form'!$C$12)","v":""},{"$f":"IF(ISBLANK('Scholars Nomination Form'!$F231),\"\",'Scholars Nomination Form'!$C$13)","v":""},{"$f":"IF(ISBLANK('Scholars Nomination Form'!$F231),\"\",'Scholars Nomination Form'!$C$14)","v":""},{"$f":"IF(ISBLANK('Scholars Nomination Form'!$F231),\"\",'Scholars Nomination Form'!$C$15)","v":""},{"$f":"IF(ISBLANK('Scholars Nomination Form'!$F231),\"\",'Scholars Nomination Form'!$C$16)","v":""},{"$f":"IF(ISBLANK('Scholars Nomination Form'!B231),\"\",'Scholars Nomination Form'!B231)","v":""},{"$f":"IF(ISBLANK('Scholars Nomination Form'!D231),\"\",'Scholars Nomination Form'!D231)","v":""},{"$f":"IF(ISBLANK('Scholars Nomination Form'!E231),\"\",'Scholars Nomination Form'!E231)","v":""},{"$f":"IF(ISBLANK('Scholars Nomination Form'!F231),\"\",'Scholars Nomination Form'!F231)","v":""},{"$f":"IF(ISBLANK('Scholars Nomination Form'!G231),\"\",'Scholars Nomination Form'!G231)","v":""},{"$f":"IF(ISBLANK('Scholars Nomination Form'!H231),\"\",'Scholars Nomination Form'!H231)","v":""},{"$f":"IF(ISBLANK('Scholars Nomination Form'!I231),\"\",'Scholars Nomination Form'!I231)","v":""},{"$f":"IF(ISBLANK('Scholars Nomination Form'!J231),\"\",'Scholars Nomination Form'!J231)","v":""},{"$f":"IF(ISBLANK('Scholars Nomination Form'!K231),\"\",'Scholars Nomination Form'!K231)","v":""},{"$f":"IF(ISBLANK('Scholars Nomination Form'!L231),\"\",'Scholars Nomination Form'!L231)","v":""},{"$f":"IF(ISBLANK('Scholars Nomination Form'!M231),\"\",'Scholars Nomination Form'!M231)","v":""},{"$f":"IF(ISBLANK('Scholars Nomination Form'!N231),\"\",'Scholars Nomination Form'!N231)","v":""},{"$f":"IF(ISBLANK('Scholars Nomination Form'!O231),\"\",'Scholars Nomination Form'!O231)","v":""},{"$f":"IF(ISBLANK('Scholars Nomination Form'!P231),\"\",'Scholars Nomination Form'!P231)","v":""},{"$f":"IF(ISBLANK('Scholars Nomination Form'!Q231),\"\",'Scholars Nomination Form'!Q231)","v":""},{"$f":"IF(ISBLANK('Scholars Nomination Form'!R231),\"\",'Scholars Nomination Form'!R231)","v":""},{"$f":"IF(ISBLANK('Scholars Nomination Form'!S231),\"\",'Scholars Nomination Form'!S231)","v":""},{"$f":"IF(ISBLANK('Scholars Nomination Form'!T231),\"\",'Scholars Nomination Form'!T231)","v":""},{"$f":"IF(ISBLANK('Scholars Nomination Form'!U231),\"\",'Scholars Nomination Form'!U231)","v":""},{"$f":"IF(ISBLANK('Scholars Nomination Form'!V231),\"\",'Scholars Nomination Form'!V231)","v":""},{"$f":"IF(ISBLANK('Scholars Nomination Form'!W231),\"\",'Scholars Nomination Form'!W231)","v":""},{"$f":"IF(ISBLANK('Scholars Nomination Form'!X231),\"\",'Scholars Nomination Form'!X231)","v":""},{"$f":"IF(ISBLANK('Scholars Nomination Form'!Y231),\"\",'Scholars Nomination Form'!Y231)","v":""},{"$f":"IF(ISBLANK('Scholars Nomination Form'!Z231),\"\",'Scholars Nomination Form'!Z231)","v":""},{"$f":"IF(ISBLANK('Scholars Nomination Form'!AA231),\"\",'Scholars Nomination Form'!AA231)","v":""}]
[{"$f":"IF(ISBLANK('Scholars Nomination Form'!$F232),\"\",'Scholars Nomination Form'!$C$11)","v":""},{"$f":"IF(ISBLANK('Scholars Nomination Form'!$F232),\"\",'Scholars Nomination Form'!$C$12)","v":""},{"$f":"IF(ISBLANK('Scholars Nomination Form'!$F232),\"\",'Scholars Nomination Form'!$C$13)","v":""},{"$f":"IF(ISBLANK('Scholars Nomination Form'!$F232),\"\",'Scholars Nomination Form'!$C$14)","v":""},{"$f":"IF(ISBLANK('Scholars Nomination Form'!$F232),\"\",'Scholars Nomination Form'!$C$15)","v":""},{"$f":"IF(ISBLANK('Scholars Nomination Form'!$F232),\"\",'Scholars Nomination Form'!$C$16)","v":""},{"$f":"IF(ISBLANK('Scholars Nomination Form'!B232),\"\",'Scholars Nomination Form'!B232)","v":""},{"$f":"IF(ISBLANK('Scholars Nomination Form'!D232),\"\",'Scholars Nomination Form'!D232)","v":""},{"$f":"IF(ISBLANK('Scholars Nomination Form'!E232),\"\",'Scholars Nomination Form'!E232)","v":""},{"$f":"IF(ISBLANK('Scholars Nomination Form'!F232),\"\",'Scholars Nomination Form'!F232)","v":""},{"$f":"IF(ISBLANK('Scholars Nomination Form'!G232),\"\",'Scholars Nomination Form'!G232)","v":""},{"$f":"IF(ISBLANK('Scholars Nomination Form'!H232),\"\",'Scholars Nomination Form'!H232)","v":""},{"$f":"IF(ISBLANK('Scholars Nomination Form'!I232),\"\",'Scholars Nomination Form'!I232)","v":""},{"$f":"IF(ISBLANK('Scholars Nomination Form'!J232),\"\",'Scholars Nomination Form'!J232)","v":""},{"$f":"IF(ISBLANK('Scholars Nomination Form'!K232),\"\",'Scholars Nomination Form'!K232)","v":""},{"$f":"IF(ISBLANK('Scholars Nomination Form'!L232),\"\",'Scholars Nomination Form'!L232)","v":""},{"$f":"IF(ISBLANK('Scholars Nomination Form'!M232),\"\",'Scholars Nomination Form'!M232)","v":""},{"$f":"IF(ISBLANK('Scholars Nomination Form'!N232),\"\",'Scholars Nomination Form'!N232)","v":""},{"$f":"IF(ISBLANK('Scholars Nomination Form'!O232),\"\",'Scholars Nomination Form'!O232)","v":""},{"$f":"IF(ISBLANK('Scholars Nomination Form'!P232),\"\",'Scholars Nomination Form'!P232)","v":""},{"$f":"IF(ISBLANK('Scholars Nomination Form'!Q232),\"\",'Scholars Nomination Form'!Q232)","v":""},{"$f":"IF(ISBLANK('Scholars Nomination Form'!R232),\"\",'Scholars Nomination Form'!R232)","v":""},{"$f":"IF(ISBLANK('Scholars Nomination Form'!S232),\"\",'Scholars Nomination Form'!S232)","v":""},{"$f":"IF(ISBLANK('Scholars Nomination Form'!T232),\"\",'Scholars Nomination Form'!T232)","v":""},{"$f":"IF(ISBLANK('Scholars Nomination Form'!U232),\"\",'Scholars Nomination Form'!U232)","v":""},{"$f":"IF(ISBLANK('Scholars Nomination Form'!V232),\"\",'Scholars Nomination Form'!V232)","v":""},{"$f":"IF(ISBLANK('Scholars Nomination Form'!W232),\"\",'Scholars Nomination Form'!W232)","v":""},{"$f":"IF(ISBLANK('Scholars Nomination Form'!X232),\"\",'Scholars Nomination Form'!X232)","v":""},{"$f":"IF(ISBLANK('Scholars Nomination Form'!Y232),\"\",'Scholars Nomination Form'!Y232)","v":""},{"$f":"IF(ISBLANK('Scholars Nomination Form'!Z232),\"\",'Scholars Nomination Form'!Z232)","v":""},{"$f":"IF(ISBLANK('Scholars Nomination Form'!AA232),\"\",'Scholars Nomination Form'!AA232)","v":""}]
[{"$f":"IF(ISBLANK('Scholars Nomination Form'!$F233),\"\",'Scholars Nomination Form'!$C$11)","v":""},{"$f":"IF(ISBLANK('Scholars Nomination Form'!$F233),\"\",'Scholars Nomination Form'!$C$12)","v":""},{"$f":"IF(ISBLANK('Scholars Nomination Form'!$F233),\"\",'Scholars Nomination Form'!$C$13)","v":""},{"$f":"IF(ISBLANK('Scholars Nomination Form'!$F233),\"\",'Scholars Nomination Form'!$C$14)","v":""},{"$f":"IF(ISBLANK('Scholars Nomination Form'!$F233),\"\",'Scholars Nomination Form'!$C$15)","v":""},{"$f":"IF(ISBLANK('Scholars Nomination Form'!$F233),\"\",'Scholars Nomination Form'!$C$16)","v":""},{"$f":"IF(ISBLANK('Scholars Nomination Form'!B233),\"\",'Scholars Nomination Form'!B233)","v":""},{"$f":"IF(ISBLANK('Scholars Nomination Form'!D233),\"\",'Scholars Nomination Form'!D233)","v":""},{"$f":"IF(ISBLANK('Scholars Nomination Form'!E233),\"\",'Scholars Nomination Form'!E233)","v":""},{"$f":"IF(ISBLANK('Scholars Nomination Form'!F233),\"\",'Scholars Nomination Form'!F233)","v":""},{"$f":"IF(ISBLANK('Scholars Nomination Form'!G233),\"\",'Scholars Nomination Form'!G233)","v":""},{"$f":"IF(ISBLANK('Scholars Nomination Form'!H233),\"\",'Scholars Nomination Form'!H233)","v":""},{"$f":"IF(ISBLANK('Scholars Nomination Form'!I233),\"\",'Scholars Nomination Form'!I233)","v":""},{"$f":"IF(ISBLANK('Scholars Nomination Form'!J233),\"\",'Scholars Nomination Form'!J233)","v":""},{"$f":"IF(ISBLANK('Scholars Nomination Form'!K233),\"\",'Scholars Nomination Form'!K233)","v":""},{"$f":"IF(ISBLANK('Scholars Nomination Form'!L233),\"\",'Scholars Nomination Form'!L233)","v":""},{"$f":"IF(ISBLANK('Scholars Nomination Form'!M233),\"\",'Scholars Nomination Form'!M233)","v":""},{"$f":"IF(ISBLANK('Scholars Nomination Form'!N233),\"\",'Scholars Nomination Form'!N233)","v":""},{"$f":"IF(ISBLANK('Scholars Nomination Form'!O233),\"\",'Scholars Nomination Form'!O233)","v":""},{"$f":"IF(ISBLANK('Scholars Nomination Form'!P233),\"\",'Scholars Nomination Form'!P233)","v":""},{"$f":"IF(ISBLANK('Scholars Nomination Form'!Q233),\"\",'Scholars Nomination Form'!Q233)","v":""},{"$f":"IF(ISBLANK('Scholars Nomination Form'!R233),\"\",'Scholars Nomination Form'!R233)","v":""},{"$f":"IF(ISBLANK('Scholars Nomination Form'!S233),\"\",'Scholars Nomination Form'!S233)","v":""},{"$f":"IF(ISBLANK('Scholars Nomination Form'!T233),\"\",'Scholars Nomination Form'!T233)","v":""},{"$f":"IF(ISBLANK('Scholars Nomination Form'!U233),\"\",'Scholars Nomination Form'!U233)","v":""},{"$f":"IF(ISBLANK('Scholars Nomination Form'!V233),\"\",'Scholars Nomination Form'!V233)","v":""},{"$f":"IF(ISBLANK('Scholars Nomination Form'!W233),\"\",'Scholars Nomination Form'!W233)","v":""},{"$f":"IF(ISBLANK('Scholars Nomination Form'!X233),\"\",'Scholars Nomination Form'!X233)","v":""},{"$f":"IF(ISBLANK('Scholars Nomination Form'!Y233),\"\",'Scholars Nomination Form'!Y233)","v":""},{"$f":"IF(ISBLANK('Scholars Nomination Form'!Z233),\"\",'Scholars Nomination Form'!Z233)","v":""},{"$f":"IF(ISBLANK('Scholars Nomination Form'!AA233),\"\",'Scholars Nomination Form'!AA233)","v":""}]
[{"$f":"IF(ISBLANK('Scholars Nomination Form'!$F234),\"\",'Scholars Nomination Form'!$C$11)","v":""},{"$f":"IF(ISBLANK('Scholars Nomination Form'!$F234),\"\",'Scholars Nomination Form'!$C$12)","v":""},{"$f":"IF(ISBLANK('Scholars Nomination Form'!$F234),\"\",'Scholars Nomination Form'!$C$13)","v":""},{"$f":"IF(ISBLANK('Scholars Nomination Form'!$F234),\"\",'Scholars Nomination Form'!$C$14)","v":""},{"$f":"IF(ISBLANK('Scholars Nomination Form'!$F234),\"\",'Scholars Nomination Form'!$C$15)","v":""},{"$f":"IF(ISBLANK('Scholars Nomination Form'!$F234),\"\",'Scholars Nomination Form'!$C$16)","v":""},{"$f":"IF(ISBLANK('Scholars Nomination Form'!B234),\"\",'Scholars Nomination Form'!B234)","v":""},{"$f":"IF(ISBLANK('Scholars Nomination Form'!D234),\"\",'Scholars Nomination Form'!D234)","v":""},{"$f":"IF(ISBLANK('Scholars Nomination Form'!E234),\"\",'Scholars Nomination Form'!E234)","v":""},{"$f":"IF(ISBLANK('Scholars Nomination Form'!F234),\"\",'Scholars Nomination Form'!F234)","v":""},{"$f":"IF(ISBLANK('Scholars Nomination Form'!G234),\"\",'Scholars Nomination Form'!G234)","v":""},{"$f":"IF(ISBLANK('Scholars Nomination Form'!H234),\"\",'Scholars Nomination Form'!H234)","v":""},{"$f":"IF(ISBLANK('Scholars Nomination Form'!I234),\"\",'Scholars Nomination Form'!I234)","v":""},{"$f":"IF(ISBLANK('Scholars Nomination Form'!J234),\"\",'Scholars Nomination Form'!J234)","v":""},{"$f":"IF(ISBLANK('Scholars Nomination Form'!K234),\"\",'Scholars Nomination Form'!K234)","v":""},{"$f":"IF(ISBLANK('Scholars Nomination Form'!L234),\"\",'Scholars Nomination Form'!L234)","v":""},{"$f":"IF(ISBLANK('Scholars Nomination Form'!M234),\"\",'Scholars Nomination Form'!M234)","v":""},{"$f":"IF(ISBLANK('Scholars Nomination Form'!N234),\"\",'Scholars Nomination Form'!N234)","v":""},{"$f":"IF(ISBLANK('Scholars Nomination Form'!O234),\"\",'Scholars Nomination Form'!O234)","v":""},{"$f":"IF(ISBLANK('Scholars Nomination Form'!P234),\"\",'Scholars Nomination Form'!P234)","v":""},{"$f":"IF(ISBLANK('Scholars Nomination Form'!Q234),\"\",'Scholars Nomination Form'!Q234)","v":""},{"$f":"IF(ISBLANK('Scholars Nomination Form'!R234),\"\",'Scholars Nomination Form'!R234)","v":""},{"$f":"IF(ISBLANK('Scholars Nomination Form'!S234),\"\",'Scholars Nomination Form'!S234)","v":""},{"$f":"IF(ISBLANK('Scholars Nomination Form'!T234),\"\",'Scholars Nomination Form'!T234)","v":""},{"$f":"IF(ISBLANK('Scholars Nomination Form'!U234),\"\",'Scholars Nomination Form'!U234)","v":""},{"$f":"IF(ISBLANK('Scholars Nomination Form'!V234),\"\",'Scholars Nomination Form'!V234)","v":""},{"$f":"IF(ISBLANK('Scholars Nomination Form'!W234),\"\",'Scholars Nomination Form'!W234)","v":""},{"$f":"IF(ISBLANK('Scholars Nomination Form'!X234),\"\",'Scholars Nomination Form'!X234)","v":""},{"$f":"IF(ISBLANK('Scholars Nomination Form'!Y234),\"\",'Scholars Nomination Form'!Y234)","v":""},{"$f":"IF(ISBLANK('Scholars Nomination Form'!Z234),\"\",'Scholars Nomination Form'!Z234)","v":""},{"$f":"IF(ISBLANK('Scholars Nomination Form'!AA234),\"\",'Scholars Nomination Form'!AA234)","v":""}]
[{"$f":"IF(ISBLANK('Scholars Nomination Form'!$F235),\"\",'Scholars Nomination Form'!$C$11)","v":""},{"$f":"IF(ISBLANK('Scholars Nomination Form'!$F235),\"\",'Scholars Nomination Form'!$C$12)","v":""},{"$f":"IF(ISBLANK('Scholars Nomination Form'!$F235),\"\",'Scholars Nomination Form'!$C$13)","v":""},{"$f":"IF(ISBLANK('Scholars Nomination Form'!$F235),\"\",'Scholars Nomination Form'!$C$14)","v":""},{"$f":"IF(ISBLANK('Scholars Nomination Form'!$F235),\"\",'Scholars Nomination Form'!$C$15)","v":""},{"$f":"IF(ISBLANK('Scholars Nomination Form'!$F235),\"\",'Scholars Nomination Form'!$C$16)","v":""},{"$f":"IF(ISBLANK('Scholars Nomination Form'!B235),\"\",'Scholars Nomination Form'!B235)","v":""},{"$f":"IF(ISBLANK('Scholars Nomination Form'!D235),\"\",'Scholars Nomination Form'!D235)","v":""},{"$f":"IF(ISBLANK('Scholars Nomination Form'!E235),\"\",'Scholars Nomination Form'!E235)","v":""},{"$f":"IF(ISBLANK('Scholars Nomination Form'!F235),\"\",'Scholars Nomination Form'!F235)","v":""},{"$f":"IF(ISBLANK('Scholars Nomination Form'!G235),\"\",'Scholars Nomination Form'!G235)","v":""},{"$f":"IF(ISBLANK('Scholars Nomination Form'!H235),\"\",'Scholars Nomination Form'!H235)","v":""},{"$f":"IF(ISBLANK('Scholars Nomination Form'!I235),\"\",'Scholars Nomination Form'!I235)","v":""},{"$f":"IF(ISBLANK('Scholars Nomination Form'!J235),\"\",'Scholars Nomination Form'!J235)","v":""},{"$f":"IF(ISBLANK('Scholars Nomination Form'!K235),\"\",'Scholars Nomination Form'!K235)","v":""},{"$f":"IF(ISBLANK('Scholars Nomination Form'!L235),\"\",'Scholars Nomination Form'!L235)","v":""},{"$f":"IF(ISBLANK('Scholars Nomination Form'!M235),\"\",'Scholars Nomination Form'!M235)","v":""},{"$f":"IF(ISBLANK('Scholars Nomination Form'!N235),\"\",'Scholars Nomination Form'!N235)","v":""},{"$f":"IF(ISBLANK('Scholars Nomination Form'!O235),\"\",'Scholars Nomination Form'!O235)","v":""},{"$f":"IF(ISBLANK('Scholars Nomination Form'!P235),\"\",'Scholars Nomination Form'!P235)","v":""},{"$f":"IF(ISBLANK('Scholars Nomination Form'!Q235),\"\",'Scholars Nomination Form'!Q235)","v":""},{"$f":"IF(ISBLANK('Scholars Nomination Form'!R235),\"\",'Scholars Nomination Form'!R235)","v":""},{"$f":"IF(ISBLANK('Scholars Nomination Form'!S235),\"\",'Scholars Nomination Form'!S235)","v":""},{"$f":"IF(ISBLANK('Scholars Nomination Form'!T235),\"\",'Scholars Nomination Form'!T235)","v":""},{"$f":"IF(ISBLANK('Scholars Nomination Form'!U235),\"\",'Scholars Nomination Form'!U235)","v":""},{"$f":"IF(ISBLANK('Scholars Nomination Form'!V235),\"\",'Scholars Nomination Form'!V235)","v":""},{"$f":"IF(ISBLANK('Scholars Nomination Form'!W235),\"\",'Scholars Nomination Form'!W235)","v":""},{"$f":"IF(ISBLANK('Scholars Nomination Form'!X235),\"\",'Scholars Nomination Form'!X235)","v":""},{"$f":"IF(ISBLANK('Scholars Nomination Form'!Y235),\"\",'Scholars Nomination Form'!Y235)","v":""},{"$f":"IF(ISBLANK('Scholars Nomination Form'!Z235),\"\",'Scholars Nomination Form'!Z235)","v":""},{"$f":"IF(ISBLANK('Scholars Nomination Form'!AA235),\"\",'Scholars Nomination Form'!AA235)","v":""}]
[{"$f":"IF(ISBLANK('Scholars Nomination Form'!$F236),\"\",'Scholars Nomination Form'!$C$11)","v":""},{"$f":"IF(ISBLANK('Scholars Nomination Form'!$F236),\"\",'Scholars Nomination Form'!$C$12)","v":""},{"$f":"IF(ISBLANK('Scholars Nomination Form'!$F236),\"\",'Scholars Nomination Form'!$C$13)","v":""},{"$f":"IF(ISBLANK('Scholars Nomination Form'!$F236),\"\",'Scholars Nomination Form'!$C$14)","v":""},{"$f":"IF(ISBLANK('Scholars Nomination Form'!$F236),\"\",'Scholars Nomination Form'!$C$15)","v":""},{"$f":"IF(ISBLANK('Scholars Nomination Form'!$F236),\"\",'Scholars Nomination Form'!$C$16)","v":""},{"$f":"IF(ISBLANK('Scholars Nomination Form'!B236),\"\",'Scholars Nomination Form'!B236)","v":""},{"$f":"IF(ISBLANK('Scholars Nomination Form'!D236),\"\",'Scholars Nomination Form'!D236)","v":""},{"$f":"IF(ISBLANK('Scholars Nomination Form'!E236),\"\",'Scholars Nomination Form'!E236)","v":""},{"$f":"IF(ISBLANK('Scholars Nomination Form'!F236),\"\",'Scholars Nomination Form'!F236)","v":""},{"$f":"IF(ISBLANK('Scholars Nomination Form'!G236),\"\",'Scholars Nomination Form'!G236)","v":""},{"$f":"IF(ISBLANK('Scholars Nomination Form'!H236),\"\",'Scholars Nomination Form'!H236)","v":""},{"$f":"IF(ISBLANK('Scholars Nomination Form'!I236),\"\",'Scholars Nomination Form'!I236)","v":""},{"$f":"IF(ISBLANK('Scholars Nomination Form'!J236),\"\",'Scholars Nomination Form'!J236)","v":""},{"$f":"IF(ISBLANK('Scholars Nomination Form'!K236),\"\",'Scholars Nomination Form'!K236)","v":""},{"$f":"IF(ISBLANK('Scholars Nomination Form'!L236),\"\",'Scholars Nomination Form'!L236)","v":""},{"$f":"IF(ISBLANK('Scholars Nomination Form'!M236),\"\",'Scholars Nomination Form'!M236)","v":""},{"$f":"IF(ISBLANK('Scholars Nomination Form'!N236),\"\",'Scholars Nomination Form'!N236)","v":""},{"$f":"IF(ISBLANK('Scholars Nomination Form'!O236),\"\",'Scholars Nomination Form'!O236)","v":""},{"$f":"IF(ISBLANK('Scholars Nomination Form'!P236),\"\",'Scholars Nomination Form'!P236)","v":""},{"$f":"IF(ISBLANK('Scholars Nomination Form'!Q236),\"\",'Scholars Nomination Form'!Q236)","v":""},{"$f":"IF(ISBLANK('Scholars Nomination Form'!R236),\"\",'Scholars Nomination Form'!R236)","v":""},{"$f":"IF(ISBLANK('Scholars Nomination Form'!S236),\"\",'Scholars Nomination Form'!S236)","v":""},{"$f":"IF(ISBLANK('Scholars Nomination Form'!T236),\"\",'Scholars Nomination Form'!T236)","v":""},{"$f":"IF(ISBLANK('Scholars Nomination Form'!U236),\"\",'Scholars Nomination Form'!U236)","v":""},{"$f":"IF(ISBLANK('Scholars Nomination Form'!V236),\"\",'Scholars Nomination Form'!V236)","v":""},{"$f":"IF(ISBLANK('Scholars Nomination Form'!W236),\"\",'Scholars Nomination Form'!W236)","v":""},{"$f":"IF(ISBLANK('Scholars Nomination Form'!X236),\"\",'Scholars Nomination Form'!X236)","v":""},{"$f":"IF(ISBLANK('Scholars Nomination Form'!Y236),\"\",'Scholars Nomination Form'!Y236)","v":""},{"$f":"IF(ISBLANK('Scholars Nomination Form'!Z236),\"\",'Scholars Nomination Form'!Z236)","v":""},{"$f":"IF(ISBLANK('Scholars Nomination Form'!AA236),\"\",'Scholars Nomination Form'!AA236)","v":""}]
[{"$f":"IF(ISBLANK('Scholars Nomination Form'!$F237),\"\",'Scholars Nomination Form'!$C$11)","v":""},{"$f":"IF(ISBLANK('Scholars Nomination Form'!$F237),\"\",'Scholars Nomination Form'!$C$12)","v":""},{"$f":"IF(ISBLANK('Scholars Nomination Form'!$F237),\"\",'Scholars Nomination Form'!$C$13)","v":""},{"$f":"IF(ISBLANK('Scholars Nomination Form'!$F237),\"\",'Scholars Nomination Form'!$C$14)","v":""},{"$f":"IF(ISBLANK('Scholars Nomination Form'!$F237),\"\",'Scholars Nomination Form'!$C$15)","v":""},{"$f":"IF(ISBLANK('Scholars Nomination Form'!$F237),\"\",'Scholars Nomination Form'!$C$16)","v":""},{"$f":"IF(ISBLANK('Scholars Nomination Form'!B237),\"\",'Scholars Nomination Form'!B237)","v":""},{"$f":"IF(ISBLANK('Scholars Nomination Form'!D237),\"\",'Scholars Nomination Form'!D237)","v":""},{"$f":"IF(ISBLANK('Scholars Nomination Form'!E237),\"\",'Scholars Nomination Form'!E237)","v":""},{"$f":"IF(ISBLANK('Scholars Nomination Form'!F237),\"\",'Scholars Nomination Form'!F237)","v":""},{"$f":"IF(ISBLANK('Scholars Nomination Form'!G237),\"\",'Scholars Nomination Form'!G237)","v":""},{"$f":"IF(ISBLANK('Scholars Nomination Form'!H237),\"\",'Scholars Nomination Form'!H237)","v":""},{"$f":"IF(ISBLANK('Scholars Nomination Form'!I237),\"\",'Scholars Nomination Form'!I237)","v":""},{"$f":"IF(ISBLANK('Scholars Nomination Form'!J237),\"\",'Scholars Nomination Form'!J237)","v":""},{"$f":"IF(ISBLANK('Scholars Nomination Form'!K237),\"\",'Scholars Nomination Form'!K237)","v":""},{"$f":"IF(ISBLANK('Scholars Nomination Form'!L237),\"\",'Scholars Nomination Form'!L237)","v":""},{"$f":"IF(ISBLANK('Scholars Nomination Form'!M237),\"\",'Scholars Nomination Form'!M237)","v":""},{"$f":"IF(ISBLANK('Scholars Nomination Form'!N237),\"\",'Scholars Nomination Form'!N237)","v":""},{"$f":"IF(ISBLANK('Scholars Nomination Form'!O237),\"\",'Scholars Nomination Form'!O237)","v":""},{"$f":"IF(ISBLANK('Scholars Nomination Form'!P237),\"\",'Scholars Nomination Form'!P237)","v":""},{"$f":"IF(ISBLANK('Scholars Nomination Form'!Q237),\"\",'Scholars Nomination Form'!Q237)","v":""},{"$f":"IF(ISBLANK('Scholars Nomination Form'!R237),\"\",'Scholars Nomination Form'!R237)","v":""},{"$f":"IF(ISBLANK('Scholars Nomination Form'!S237),\"\",'Scholars Nomination Form'!S237)","v":""},{"$f":"IF(ISBLANK('Scholars Nomination Form'!T237),\"\",'Scholars Nomination Form'!T237)","v":""},{"$f":"IF(ISBLANK('Scholars Nomination Form'!U237),\"\",'Scholars Nomination Form'!U237)","v":""},{"$f":"IF(ISBLANK('Scholars Nomination Form'!V237),\"\",'Scholars Nomination Form'!V237)","v":""},{"$f":"IF(ISBLANK('Scholars Nomination Form'!W237),\"\",'Scholars Nomination Form'!W237)","v":""},{"$f":"IF(ISBLANK('Scholars Nomination Form'!X237),\"\",'Scholars Nomination Form'!X237)","v":""},{"$f":"IF(ISBLANK('Scholars Nomination Form'!Y237),\"\",'Scholars Nomination Form'!Y237)","v":""},{"$f":"IF(ISBLANK('Scholars Nomination Form'!Z237),\"\",'Scholars Nomination Form'!Z237)","v":""},{"$f":"IF(ISBLANK('Scholars Nomination Form'!AA237),\"\",'Scholars Nomination Form'!AA237)","v":""}]
[{"$f":"IF(ISBLANK('Scholars Nomination Form'!$F238),\"\",'Scholars Nomination Form'!$C$11)","v":""},{"$f":"IF(ISBLANK('Scholars Nomination Form'!$F238),\"\",'Scholars Nomination Form'!$C$12)","v":""},{"$f":"IF(ISBLANK('Scholars Nomination Form'!$F238),\"\",'Scholars Nomination Form'!$C$13)","v":""},{"$f":"IF(ISBLANK('Scholars Nomination Form'!$F238),\"\",'Scholars Nomination Form'!$C$14)","v":""},{"$f":"IF(ISBLANK('Scholars Nomination Form'!$F238),\"\",'Scholars Nomination Form'!$C$15)","v":""},{"$f":"IF(ISBLANK('Scholars Nomination Form'!$F238),\"\",'Scholars Nomination Form'!$C$16)","v":""},{"$f":"IF(ISBLANK('Scholars Nomination Form'!B238),\"\",'Scholars Nomination Form'!B238)","v":""},{"$f":"IF(ISBLANK('Scholars Nomination Form'!D238),\"\",'Scholars Nomination Form'!D238)","v":""},{"$f":"IF(ISBLANK('Scholars Nomination Form'!E238),\"\",'Scholars Nomination Form'!E238)","v":""},{"$f":"IF(ISBLANK('Scholars Nomination Form'!F238),\"\",'Scholars Nomination Form'!F238)","v":""},{"$f":"IF(ISBLANK('Scholars Nomination Form'!G238),\"\",'Scholars Nomination Form'!G238)","v":""},{"$f":"IF(ISBLANK('Scholars Nomination Form'!H238),\"\",'Scholars Nomination Form'!H238)","v":""},{"$f":"IF(ISBLANK('Scholars Nomination Form'!I238),\"\",'Scholars Nomination Form'!I238)","v":""},{"$f":"IF(ISBLANK('Scholars Nomination Form'!J238),\"\",'Scholars Nomination Form'!J238)","v":""},{"$f":"IF(ISBLANK('Scholars Nomination Form'!K238),\"\",'Scholars Nomination Form'!K238)","v":""},{"$f":"IF(ISBLANK('Scholars Nomination Form'!L238),\"\",'Scholars Nomination Form'!L238)","v":""},{"$f":"IF(ISBLANK('Scholars Nomination Form'!M238),\"\",'Scholars Nomination Form'!M238)","v":""},{"$f":"IF(ISBLANK('Scholars Nomination Form'!N238),\"\",'Scholars Nomination Form'!N238)","v":""},{"$f":"IF(ISBLANK('Scholars Nomination Form'!O238),\"\",'Scholars Nomination Form'!O238)","v":""},{"$f":"IF(ISBLANK('Scholars Nomination Form'!P238),\"\",'Scholars Nomination Form'!P238)","v":""},{"$f":"IF(ISBLANK('Scholars Nomination Form'!Q238),\"\",'Scholars Nomination Form'!Q238)","v":""},{"$f":"IF(ISBLANK('Scholars Nomination Form'!R238),\"\",'Scholars Nomination Form'!R238)","v":""},{"$f":"IF(ISBLANK('Scholars Nomination Form'!S238),\"\",'Scholars Nomination Form'!S238)","v":""},{"$f":"IF(ISBLANK('Scholars Nomination Form'!T238),\"\",'Scholars Nomination Form'!T238)","v":""},{"$f":"IF(ISBLANK('Scholars Nomination Form'!U238),\"\",'Scholars Nomination Form'!U238)","v":""},{"$f":"IF(ISBLANK('Scholars Nomination Form'!V238),\"\",'Scholars Nomination Form'!V238)","v":""},{"$f":"IF(ISBLANK('Scholars Nomination Form'!W238),\"\",'Scholars Nomination Form'!W238)","v":""},{"$f":"IF(ISBLANK('Scholars Nomination Form'!X238),\"\",'Scholars Nomination Form'!X238)","v":""},{"$f":"IF(ISBLANK('Scholars Nomination Form'!Y238),\"\",'Scholars Nomination Form'!Y238)","v":""},{"$f":"IF(ISBLANK('Scholars Nomination Form'!Z238),\"\",'Scholars Nomination Form'!Z238)","v":""},{"$f":"IF(ISBLANK('Scholars Nomination Form'!AA238),\"\",'Scholars Nomination Form'!AA238)","v":""}]
[{"$f":"IF(ISBLANK('Scholars Nomination Form'!$F239),\"\",'Scholars Nomination Form'!$C$11)","v":""},{"$f":"IF(ISBLANK('Scholars Nomination Form'!$F239),\"\",'Scholars Nomination Form'!$C$12)","v":""},{"$f":"IF(ISBLANK('Scholars Nomination Form'!$F239),\"\",'Scholars Nomination Form'!$C$13)","v":""},{"$f":"IF(ISBLANK('Scholars Nomination Form'!$F239),\"\",'Scholars Nomination Form'!$C$14)","v":""},{"$f":"IF(ISBLANK('Scholars Nomination Form'!$F239),\"\",'Scholars Nomination Form'!$C$15)","v":""},{"$f":"IF(ISBLANK('Scholars Nomination Form'!$F239),\"\",'Scholars Nomination Form'!$C$16)","v":""},{"$f":"IF(ISBLANK('Scholars Nomination Form'!B239),\"\",'Scholars Nomination Form'!B239)","v":""},{"$f":"IF(ISBLANK('Scholars Nomination Form'!D239),\"\",'Scholars Nomination Form'!D239)","v":""},{"$f":"IF(ISBLANK('Scholars Nomination Form'!E239),\"\",'Scholars Nomination Form'!E239)","v":""},{"$f":"IF(ISBLANK('Scholars Nomination Form'!F239),\"\",'Scholars Nomination Form'!F239)","v":""},{"$f":"IF(ISBLANK('Scholars Nomination Form'!G239),\"\",'Scholars Nomination Form'!G239)","v":""},{"$f":"IF(ISBLANK('Scholars Nomination Form'!H239),\"\",'Scholars Nomination Form'!H239)","v":""},{"$f":"IF(ISBLANK('Scholars Nomination Form'!I239),\"\",'Scholars Nomination Form'!I239)","v":""},{"$f":"IF(ISBLANK('Scholars Nomination Form'!J239),\"\",'Scholars Nomination Form'!J239)","v":""},{"$f":"IF(ISBLANK('Scholars Nomination Form'!K239),\"\",'Scholars Nomination Form'!K239)","v":""},{"$f":"IF(ISBLANK('Scholars Nomination Form'!L239),\"\",'Scholars Nomination Form'!L239)","v":""},{"$f":"IF(ISBLANK('Scholars Nomination Form'!M239),\"\",'Scholars Nomination Form'!M239)","v":""},{"$f":"IF(ISBLANK('Scholars Nomination Form'!N239),\"\",'Scholars Nomination Form'!N239)","v":""},{"$f":"IF(ISBLANK('Scholars Nomination Form'!O239),\"\",'Scholars Nomination Form'!O239)","v":""},{"$f":"IF(ISBLANK('Scholars Nomination Form'!P239),\"\",'Scholars Nomination Form'!P239)","v":""},{"$f":"IF(ISBLANK('Scholars Nomination Form'!Q239),\"\",'Scholars Nomination Form'!Q239)","v":""},{"$f":"IF(ISBLANK('Scholars Nomination Form'!R239),\"\",'Scholars Nomination Form'!R239)","v":""},{"$f":"IF(ISBLANK('Scholars Nomination Form'!S239),\"\",'Scholars Nomination Form'!S239)","v":""},{"$f":"IF(ISBLANK('Scholars Nomination Form'!T239),\"\",'Scholars Nomination Form'!T239)","v":""},{"$f":"IF(ISBLANK('Scholars Nomination Form'!U239),\"\",'Scholars Nomination Form'!U239)","v":""},{"$f":"IF(ISBLANK('Scholars Nomination Form'!V239),\"\",'Scholars Nomination Form'!V239)","v":""},{"$f":"IF(ISBLANK('Scholars Nomination Form'!W239),\"\",'Scholars Nomination Form'!W239)","v":""},{"$f":"IF(ISBLANK('Scholars Nomination Form'!X239),\"\",'Scholars Nomination Form'!X239)","v":""},{"$f":"IF(ISBLANK('Scholars Nomination Form'!Y239),\"\",'Scholars Nomination Form'!Y239)","v":""},{"$f":"IF(ISBLANK('Scholars Nomination Form'!Z239),\"\",'Scholars Nomination Form'!Z239)","v":""},{"$f":"IF(ISBLANK('Scholars Nomination Form'!AA239),\"\",'Scholars Nomination Form'!AA239)","v":""}]
[{"$f":"IF(ISBLANK('Scholars Nomination Form'!$F240),\"\",'Scholars Nomination Form'!$C$11)","v":""},{"$f":"IF(ISBLANK('Scholars Nomination Form'!$F240),\"\",'Scholars Nomination Form'!$C$12)","v":""},{"$f":"IF(ISBLANK('Scholars Nomination Form'!$F240),\"\",'Scholars Nomination Form'!$C$13)","v":""},{"$f":"IF(ISBLANK('Scholars Nomination Form'!$F240),\"\",'Scholars Nomination Form'!$C$14)","v":""},{"$f":"IF(ISBLANK('Scholars Nomination Form'!$F240),\"\",'Scholars Nomination Form'!$C$15)","v":""},{"$f":"IF(ISBLANK('Scholars Nomination Form'!$F240),\"\",'Scholars Nomination Form'!$C$16)","v":""},{"$f":"IF(ISBLANK('Scholars Nomination Form'!B240),\"\",'Scholars Nomination Form'!B240)","v":""},{"$f":"IF(ISBLANK('Scholars Nomination Form'!D240),\"\",'Scholars Nomination Form'!D240)","v":""},{"$f":"IF(ISBLANK('Scholars Nomination Form'!E240),\"\",'Scholars Nomination Form'!E240)","v":""},{"$f":"IF(ISBLANK('Scholars Nomination Form'!F240),\"\",'Scholars Nomination Form'!F240)","v":""},{"$f":"IF(ISBLANK('Scholars Nomination Form'!G240),\"\",'Scholars Nomination Form'!G240)","v":""},{"$f":"IF(ISBLANK('Scholars Nomination Form'!H240),\"\",'Scholars Nomination Form'!H240)","v":""},{"$f":"IF(ISBLANK('Scholars Nomination Form'!I240),\"\",'Scholars Nomination Form'!I240)","v":""},{"$f":"IF(ISBLANK('Scholars Nomination Form'!J240),\"\",'Scholars Nomination Form'!J240)","v":""},{"$f":"IF(ISBLANK('Scholars Nomination Form'!K240),\"\",'Scholars Nomination Form'!K240)","v":""},{"$f":"IF(ISBLANK('Scholars Nomination Form'!L240),\"\",'Scholars Nomination Form'!L240)","v":""},{"$f":"IF(ISBLANK('Scholars Nomination Form'!M240),\"\",'Scholars Nomination Form'!M240)","v":""},{"$f":"IF(ISBLANK('Scholars Nomination Form'!N240),\"\",'Scholars Nomination Form'!N240)","v":""},{"$f":"IF(ISBLANK('Scholars Nomination Form'!O240),\"\",'Scholars Nomination Form'!O240)","v":""},{"$f":"IF(ISBLANK('Scholars Nomination Form'!P240),\"\",'Scholars Nomination Form'!P240)","v":""},{"$f":"IF(ISBLANK('Scholars Nomination Form'!Q240),\"\",'Scholars Nomination Form'!Q240)","v":""},{"$f":"IF(ISBLANK('Scholars Nomination Form'!R240),\"\",'Scholars Nomination Form'!R240)","v":""},{"$f":"IF(ISBLANK('Scholars Nomination Form'!S240),\"\",'Scholars Nomination Form'!S240)","v":""},{"$f":"IF(ISBLANK('Scholars Nomination Form'!T240),\"\",'Scholars Nomination Form'!T240)","v":""},{"$f":"IF(ISBLANK('Scholars Nomination Form'!U240),\"\",'Scholars Nomination Form'!U240)","v":""},{"$f":"IF(ISBLANK('Scholars Nomination Form'!V240),\"\",'Scholars Nomination Form'!V240)","v":""},{"$f":"IF(ISBLANK('Scholars Nomination Form'!W240),\"\",'Scholars Nomination Form'!W240)","v":""},{"$f":"IF(ISBLANK('Scholars Nomination Form'!X240),\"\",'Scholars Nomination Form'!X240)","v":""},{"$f":"IF(ISBLANK('Scholars Nomination Form'!Y240),\"\",'Scholars Nomination Form'!Y240)","v":""},{"$f":"IF(ISBLANK('Scholars Nomination Form'!Z240),\"\",'Scholars Nomination Form'!Z240)","v":""},{"$f":"IF(ISBLANK('Scholars Nomination Form'!AA240),\"\",'Scholars Nomination Form'!AA240)","v":""}]
[{"$f":"IF(ISBLANK('Scholars Nomination Form'!$F241),\"\",'Scholars Nomination Form'!$C$11)","v":""},{"$f":"IF(ISBLANK('Scholars Nomination Form'!$F241),\"\",'Scholars Nomination Form'!$C$12)","v":""},{"$f":"IF(ISBLANK('Scholars Nomination Form'!$F241),\"\",'Scholars Nomination Form'!$C$13)","v":""},{"$f":"IF(ISBLANK('Scholars Nomination Form'!$F241),\"\",'Scholars Nomination Form'!$C$14)","v":""},{"$f":"IF(ISBLANK('Scholars Nomination Form'!$F241),\"\",'Scholars Nomination Form'!$C$15)","v":""},{"$f":"IF(ISBLANK('Scholars Nomination Form'!$F241),\"\",'Scholars Nomination Form'!$C$16)","v":""},{"$f":"IF(ISBLANK('Scholars Nomination Form'!B241),\"\",'Scholars Nomination Form'!B241)","v":""},{"$f":"IF(ISBLANK('Scholars Nomination Form'!D241),\"\",'Scholars Nomination Form'!D241)","v":""},{"$f":"IF(ISBLANK('Scholars Nomination Form'!E241),\"\",'Scholars Nomination Form'!E241)","v":""},{"$f":"IF(ISBLANK('Scholars Nomination Form'!F241),\"\",'Scholars Nomination Form'!F241)","v":""},{"$f":"IF(ISBLANK('Scholars Nomination Form'!G241),\"\",'Scholars Nomination Form'!G241)","v":""},{"$f":"IF(ISBLANK('Scholars Nomination Form'!H241),\"\",'Scholars Nomination Form'!H241)","v":""},{"$f":"IF(ISBLANK('Scholars Nomination Form'!I241),\"\",'Scholars Nomination Form'!I241)","v":""},{"$f":"IF(ISBLANK('Scholars Nomination Form'!J241),\"\",'Scholars Nomination Form'!J241)","v":""},{"$f":"IF(ISBLANK('Scholars Nomination Form'!K241),\"\",'Scholars Nomination Form'!K241)","v":""},{"$f":"IF(ISBLANK('Scholars Nomination Form'!L241),\"\",'Scholars Nomination Form'!L241)","v":""},{"$f":"IF(ISBLANK('Scholars Nomination Form'!M241),\"\",'Scholars Nomination Form'!M241)","v":""},{"$f":"IF(ISBLANK('Scholars Nomination Form'!N241),\"\",'Scholars Nomination Form'!N241)","v":""},{"$f":"IF(ISBLANK('Scholars Nomination Form'!O241),\"\",'Scholars Nomination Form'!O241)","v":""},{"$f":"IF(ISBLANK('Scholars Nomination Form'!P241),\"\",'Scholars Nomination Form'!P241)","v":""},{"$f":"IF(ISBLANK('Scholars Nomination Form'!Q241),\"\",'Scholars Nomination Form'!Q241)","v":""},{"$f":"IF(ISBLANK('Scholars Nomination Form'!R241),\"\",'Scholars Nomination Form'!R241)","v":""},{"$f":"IF(ISBLANK('Scholars Nomination Form'!S241),\"\",'Scholars Nomination Form'!S241)","v":""},{"$f":"IF(ISBLANK('Scholars Nomination Form'!T241),\"\",'Scholars Nomination Form'!T241)","v":""},{"$f":"IF(ISBLANK('Scholars Nomination Form'!U241),\"\",'Scholars Nomination Form'!U241)","v":""},{"$f":"IF(ISBLANK('Scholars Nomination Form'!V241),\"\",'Scholars Nomination Form'!V241)","v":""},{"$f":"IF(ISBLANK('Scholars Nomination Form'!W241),\"\",'Scholars Nomination Form'!W241)","v":""},{"$f":"IF(ISBLANK('Scholars Nomination Form'!X241),\"\",'Scholars Nomination Form'!X241)","v":""},{"$f":"IF(ISBLANK('Scholars Nomination Form'!Y241),\"\",'Scholars Nomination Form'!Y241)","v":""},{"$f":"IF(ISBLANK('Scholars Nomination Form'!Z241),\"\",'Scholars Nomination Form'!Z241)","v":""},{"$f":"IF(ISBLANK('Scholars Nomination Form'!AA241),\"\",'Scholars Nomination Form'!AA241)","v":""}]
[{"$f":"IF(ISBLANK('Scholars Nomination Form'!$F242),\"\",'Scholars Nomination Form'!$C$11)","v":""},{"$f":"IF(ISBLANK('Scholars Nomination Form'!$F242),\"\",'Scholars Nomination Form'!$C$12)","v":""},{"$f":"IF(ISBLANK('Scholars Nomination Form'!$F242),\"\",'Scholars Nomination Form'!$C$13)","v":""},{"$f":"IF(ISBLANK('Scholars Nomination Form'!$F242),\"\",'Scholars Nomination Form'!$C$14)","v":""},{"$f":"IF(ISBLANK('Scholars Nomination Form'!$F242),\"\",'Scholars Nomination Form'!$C$15)","v":""},{"$f":"IF(ISBLANK('Scholars Nomination Form'!$F242),\"\",'Scholars Nomination Form'!$C$16)","v":""},{"$f":"IF(ISBLANK('Scholars Nomination Form'!B242),\"\",'Scholars Nomination Form'!B242)","v":""},{"$f":"IF(ISBLANK('Scholars Nomination Form'!D242),\"\",'Scholars Nomination Form'!D242)","v":""},{"$f":"IF(ISBLANK('Scholars Nomination Form'!E242),\"\",'Scholars Nomination Form'!E242)","v":""},{"$f":"IF(ISBLANK('Scholars Nomination Form'!F242),\"\",'Scholars Nomination Form'!F242)","v":""},{"$f":"IF(ISBLANK('Scholars Nomination Form'!G242),\"\",'Scholars Nomination Form'!G242)","v":""},{"$f":"IF(ISBLANK('Scholars Nomination Form'!H242),\"\",'Scholars Nomination Form'!H242)","v":""},{"$f":"IF(ISBLANK('Scholars Nomination Form'!I242),\"\",'Scholars Nomination Form'!I242)","v":""},{"$f":"IF(ISBLANK('Scholars Nomination Form'!J242),\"\",'Scholars Nomination Form'!J242)","v":""},{"$f":"IF(ISBLANK('Scholars Nomination Form'!K242),\"\",'Scholars Nomination Form'!K242)","v":""},{"$f":"IF(ISBLANK('Scholars Nomination Form'!L242),\"\",'Scholars Nomination Form'!L242)","v":""},{"$f":"IF(ISBLANK('Scholars Nomination Form'!M242),\"\",'Scholars Nomination Form'!M242)","v":""},{"$f":"IF(ISBLANK('Scholars Nomination Form'!N242),\"\",'Scholars Nomination Form'!N242)","v":""},{"$f":"IF(ISBLANK('Scholars Nomination Form'!O242),\"\",'Scholars Nomination Form'!O242)","v":""},{"$f":"IF(ISBLANK('Scholars Nomination Form'!P242),\"\",'Scholars Nomination Form'!P242)","v":""},{"$f":"IF(ISBLANK('Scholars Nomination Form'!Q242),\"\",'Scholars Nomination Form'!Q242)","v":""},{"$f":"IF(ISBLANK('Scholars Nomination Form'!R242),\"\",'Scholars Nomination Form'!R242)","v":""},{"$f":"IF(ISBLANK('Scholars Nomination Form'!S242),\"\",'Scholars Nomination Form'!S242)","v":""},{"$f":"IF(ISBLANK('Scholars Nomination Form'!T242),\"\",'Scholars Nomination Form'!T242)","v":""},{"$f":"IF(ISBLANK('Scholars Nomination Form'!U242),\"\",'Scholars Nomination Form'!U242)","v":""},{"$f":"IF(ISBLANK('Scholars Nomination Form'!V242),\"\",'Scholars Nomination Form'!V242)","v":""},{"$f":"IF(ISBLANK('Scholars Nomination Form'!W242),\"\",'Scholars Nomination Form'!W242)","v":""},{"$f":"IF(ISBLANK('Scholars Nomination Form'!X242),\"\",'Scholars Nomination Form'!X242)","v":""},{"$f":"IF(ISBLANK('Scholars Nomination Form'!Y242),\"\",'Scholars Nomination Form'!Y242)","v":""},{"$f":"IF(ISBLANK('Scholars Nomination Form'!Z242),\"\",'Scholars Nomination Form'!Z242)","v":""},{"$f":"IF(ISBLANK('Scholars Nomination Form'!AA242),\"\",'Scholars Nomination Form'!AA242)","v":""}]
[{"$f":"IF(ISBLANK('Scholars Nomination Form'!$F243),\"\",'Scholars Nomination Form'!$C$11)","v":""},{"$f":"IF(ISBLANK('Scholars Nomination Form'!$F243),\"\",'Scholars Nomination Form'!$C$12)","v":""},{"$f":"IF(ISBLANK('Scholars Nomination Form'!$F243),\"\",'Scholars Nomination Form'!$C$13)","v":""},{"$f":"IF(ISBLANK('Scholars Nomination Form'!$F243),\"\",'Scholars Nomination Form'!$C$14)","v":""},{"$f":"IF(ISBLANK('Scholars Nomination Form'!$F243),\"\",'Scholars Nomination Form'!$C$15)","v":""},{"$f":"IF(ISBLANK('Scholars Nomination Form'!$F243),\"\",'Scholars Nomination Form'!$C$16)","v":""},{"$f":"IF(ISBLANK('Scholars Nomination Form'!B243),\"\",'Scholars Nomination Form'!B243)","v":""},{"$f":"IF(ISBLANK('Scholars Nomination Form'!D243),\"\",'Scholars Nomination Form'!D243)","v":""},{"$f":"IF(ISBLANK('Scholars Nomination Form'!E243),\"\",'Scholars Nomination Form'!E243)","v":""},{"$f":"IF(ISBLANK('Scholars Nomination Form'!F243),\"\",'Scholars Nomination Form'!F243)","v":""},{"$f":"IF(ISBLANK('Scholars Nomination Form'!G243),\"\",'Scholars Nomination Form'!G243)","v":""},{"$f":"IF(ISBLANK('Scholars Nomination Form'!H243),\"\",'Scholars Nomination Form'!H243)","v":""},{"$f":"IF(ISBLANK('Scholars Nomination Form'!I243),\"\",'Scholars Nomination Form'!I243)","v":""},{"$f":"IF(ISBLANK('Scholars Nomination Form'!J243),\"\",'Scholars Nomination Form'!J243)","v":""},{"$f":"IF(ISBLANK('Scholars Nomination Form'!K243),\"\",'Scholars Nomination Form'!K243)","v":""},{"$f":"IF(ISBLANK('Scholars Nomination Form'!L243),\"\",'Scholars Nomination Form'!L243)","v":""},{"$f":"IF(ISBLANK('Scholars Nomination Form'!M243),\"\",'Scholars Nomination Form'!M243)","v":""},{"$f":"IF(ISBLANK('Scholars Nomination Form'!N243),\"\",'Scholars Nomination Form'!N243)","v":""},{"$f":"IF(ISBLANK('Scholars Nomination Form'!O243),\"\",'Scholars Nomination Form'!O243)","v":""},{"$f":"IF(ISBLANK('Scholars Nomination Form'!P243),\"\",'Scholars Nomination Form'!P243)","v":""},{"$f":"IF(ISBLANK('Scholars Nomination Form'!Q243),\"\",'Scholars Nomination Form'!Q243)","v":""},{"$f":"IF(ISBLANK('Scholars Nomination Form'!R243),\"\",'Scholars Nomination Form'!R243)","v":""},{"$f":"IF(ISBLANK('Scholars Nomination Form'!S243),\"\",'Scholars Nomination Form'!S243)","v":""},{"$f":"IF(ISBLANK('Scholars Nomination Form'!T243),\"\",'Scholars Nomination Form'!T243)","v":""},{"$f":"IF(ISBLANK('Scholars Nomination Form'!U243),\"\",'Scholars Nomination Form'!U243)","v":""},{"$f":"IF(ISBLANK('Scholars Nomination Form'!V243),\"\",'Scholars Nomination Form'!V243)","v":""},{"$f":"IF(ISBLANK('Scholars Nomination Form'!W243),\"\",'Scholars Nomination Form'!W243)","v":""},{"$f":"IF(ISBLANK('Scholars Nomination Form'!X243),\"\",'Scholars Nomination Form'!X243)","v":""},{"$f":"IF(ISBLANK('Scholars Nomination Form'!Y243),\"\",'Scholars Nomination Form'!Y243)","v":""},{"$f":"IF(ISBLANK('Scholars Nomination Form'!Z243),\"\",'Scholars Nomination Form'!Z243)","v":""},{"$f":"IF(ISBLANK('Scholars Nomination Form'!AA243),\"\",'Scholars Nomination Form'!AA243)","v":""}]
[{"$f":"IF(ISBLANK('Scholars Nomination Form'!$F244),\"\",'Scholars Nomination Form'!$C$11)","v":""},{"$f":"IF(ISBLANK('Scholars Nomination Form'!$F244),\"\",'Scholars Nomination Form'!$C$12)","v":""},{"$f":"IF(ISBLANK('Scholars Nomination Form'!$F244),\"\",'Scholars Nomination Form'!$C$13)","v":""},{"$f":"IF(ISBLANK('Scholars Nomination Form'!$F244),\"\",'Scholars Nomination Form'!$C$14)","v":""},{"$f":"IF(ISBLANK('Scholars Nomination Form'!$F244),\"\",'Scholars Nomination Form'!$C$15)","v":""},{"$f":"IF(ISBLANK('Scholars Nomination Form'!$F244),\"\",'Scholars Nomination Form'!$C$16)","v":""},{"$f":"IF(ISBLANK('Scholars Nomination Form'!B244),\"\",'Scholars Nomination Form'!B244)","v":""},{"$f":"IF(ISBLANK('Scholars Nomination Form'!D244),\"\",'Scholars Nomination Form'!D244)","v":""},{"$f":"IF(ISBLANK('Scholars Nomination Form'!E244),\"\",'Scholars Nomination Form'!E244)","v":""},{"$f":"IF(ISBLANK('Scholars Nomination Form'!F244),\"\",'Scholars Nomination Form'!F244)","v":""},{"$f":"IF(ISBLANK('Scholars Nomination Form'!G244),\"\",'Scholars Nomination Form'!G244)","v":""},{"$f":"IF(ISBLANK('Scholars Nomination Form'!H244),\"\",'Scholars Nomination Form'!H244)","v":""},{"$f":"IF(ISBLANK('Scholars Nomination Form'!I244),\"\",'Scholars Nomination Form'!I244)","v":""},{"$f":"IF(ISBLANK('Scholars Nomination Form'!J244),\"\",'Scholars Nomination Form'!J244)","v":""},{"$f":"IF(ISBLANK('Scholars Nomination Form'!K244),\"\",'Scholars Nomination Form'!K244)","v":""},{"$f":"IF(ISBLANK('Scholars Nomination Form'!L244),\"\",'Scholars Nomination Form'!L244)","v":""},{"$f":"IF(ISBLANK('Scholars Nomination Form'!M244),\"\",'Scholars Nomination Form'!M244)","v":""},{"$f":"IF(ISBLANK('Scholars Nomination Form'!N244),\"\",'Scholars Nomination Form'!N244)","v":""},{"$f":"IF(ISBLANK('Scholars Nomination Form'!O244),\"\",'Scholars Nomination Form'!O244)","v":""},{"$f":"IF(ISBLANK('Scholars Nomination Form'!P244),\"\",'Scholars Nomination Form'!P244)","v":""},{"$f":"IF(ISBLANK('Scholars Nomination Form'!Q244),\"\",'Scholars Nomination Form'!Q244)","v":""},{"$f":"IF(ISBLANK('Scholars Nomination Form'!R244),\"\",'Scholars Nomination Form'!R244)","v":""},{"$f":"IF(ISBLANK('Scholars Nomination Form'!S244),\"\",'Scholars Nomination Form'!S244)","v":""},{"$f":"IF(ISBLANK('Scholars Nomination Form'!T244),\"\",'Scholars Nomination Form'!T244)","v":""},{"$f":"IF(ISBLANK('Scholars Nomination Form'!U244),\"\",'Scholars Nomination Form'!U244)","v":""},{"$f":"IF(ISBLANK('Scholars Nomination Form'!V244),\"\",'Scholars Nomination Form'!V244)","v":""},{"$f":"IF(ISBLANK('Scholars Nomination Form'!W244),\"\",'Scholars Nomination Form'!W244)","v":""},{"$f":"IF(ISBLANK('Scholars Nomination Form'!X244),\"\",'Scholars Nomination Form'!X244)","v":""},{"$f":"IF(ISBLANK('Scholars Nomination Form'!Y244),\"\",'Scholars Nomination Form'!Y244)","v":""},{"$f":"IF(ISBLANK('Scholars Nomination Form'!Z244),\"\",'Scholars Nomination Form'!Z244)","v":""},{"$f":"IF(ISBLANK('Scholars Nomination Form'!AA244),\"\",'Scholars Nomination Form'!AA244)","v":""}]
[{"$f":"IF(ISBLANK('Scholars Nomination Form'!$F245),\"\",'Scholars Nomination Form'!$C$11)","v":""},{"$f":"IF(ISBLANK('Scholars Nomination Form'!$F245),\"\",'Scholars Nomination Form'!$C$12)","v":""},{"$f":"IF(ISBLANK('Scholars Nomination Form'!$F245),\"\",'Scholars Nomination Form'!$C$13)","v":""},{"$f":"IF(ISBLANK('Scholars Nomination Form'!$F245),\"\",'Scholars Nomination Form'!$C$14)","v":""},{"$f":"IF(ISBLANK('Scholars Nomination Form'!$F245),\"\",'Scholars Nomination Form'!$C$15)","v":""},{"$f":"IF(ISBLANK('Scholars Nomination Form'!$F245),\"\",'Scholars Nomination Form'!$C$16)","v":""},{"$f":"IF(ISBLANK('Scholars Nomination Form'!B245),\"\",'Scholars Nomination Form'!B245)","v":""},{"$f":"IF(ISBLANK('Scholars Nomination Form'!D245),\"\",'Scholars Nomination Form'!D245)","v":""},{"$f":"IF(ISBLANK('Scholars Nomination Form'!E245),\"\",'Scholars Nomination Form'!E245)","v":""},{"$f":"IF(ISBLANK('Scholars Nomination Form'!F245),\"\",'Scholars Nomination Form'!F245)","v":""},{"$f":"IF(ISBLANK('Scholars Nomination Form'!G245),\"\",'Scholars Nomination Form'!G245)","v":""},{"$f":"IF(ISBLANK('Scholars Nomination Form'!H245),\"\",'Scholars Nomination Form'!H245)","v":""},{"$f":"IF(ISBLANK('Scholars Nomination Form'!I245),\"\",'Scholars Nomination Form'!I245)","v":""},{"$f":"IF(ISBLANK('Scholars Nomination Form'!J245),\"\",'Scholars Nomination Form'!J245)","v":""},{"$f":"IF(ISBLANK('Scholars Nomination Form'!K245),\"\",'Scholars Nomination Form'!K245)","v":""},{"$f":"IF(ISBLANK('Scholars Nomination Form'!L245),\"\",'Scholars Nomination Form'!L245)","v":""},{"$f":"IF(ISBLANK('Scholars Nomination Form'!M245),\"\",'Scholars Nomination Form'!M245)","v":""},{"$f":"IF(ISBLANK('Scholars Nomination Form'!N245),\"\",'Scholars Nomination Form'!N245)","v":""},{"$f":"IF(ISBLANK('Scholars Nomination Form'!O245),\"\",'Scholars Nomination Form'!O245)","v":""},{"$f":"IF(ISBLANK('Scholars Nomination Form'!P245),\"\",'Scholars Nomination Form'!P245)","v":""},{"$f":"IF(ISBLANK('Scholars Nomination Form'!Q245),\"\",'Scholars Nomination Form'!Q245)","v":""},{"$f":"IF(ISBLANK('Scholars Nomination Form'!R245),\"\",'Scholars Nomination Form'!R245)","v":""},{"$f":"IF(ISBLANK('Scholars Nomination Form'!S245),\"\",'Scholars Nomination Form'!S245)","v":""},{"$f":"IF(ISBLANK('Scholars Nomination Form'!T245),\"\",'Scholars Nomination Form'!T245)","v":""},{"$f":"IF(ISBLANK('Scholars Nomination Form'!U245),\"\",'Scholars Nomination Form'!U245)","v":""},{"$f":"IF(ISBLANK('Scholars Nomination Form'!V245),\"\",'Scholars Nomination Form'!V245)","v":""},{"$f":"IF(ISBLANK('Scholars Nomination Form'!W245),\"\",'Scholars Nomination Form'!W245)","v":""},{"$f":"IF(ISBLANK('Scholars Nomination Form'!X245),\"\",'Scholars Nomination Form'!X245)","v":""},{"$f":"IF(ISBLANK('Scholars Nomination Form'!Y245),\"\",'Scholars Nomination Form'!Y245)","v":""},{"$f":"IF(ISBLANK('Scholars Nomination Form'!Z245),\"\",'Scholars Nomination Form'!Z245)","v":""},{"$f":"IF(ISBLANK('Scholars Nomination Form'!AA245),\"\",'Scholars Nomination Form'!AA245)","v":""}]
[{"$f":"IF(ISBLANK('Scholars Nomination Form'!$F246),\"\",'Scholars Nomination Form'!$C$11)","v":""},{"$f":"IF(ISBLANK('Scholars Nomination Form'!$F246),\"\",'Scholars Nomination Form'!$C$12)","v":""},{"$f":"IF(ISBLANK('Scholars Nomination Form'!$F246),\"\",'Scholars Nomination Form'!$C$13)","v":""},{"$f":"IF(ISBLANK('Scholars Nomination Form'!$F246),\"\",'Scholars Nomination Form'!$C$14)","v":""},{"$f":"IF(ISBLANK('Scholars Nomination Form'!$F246),\"\",'Scholars Nomination Form'!$C$15)","v":""},{"$f":"IF(ISBLANK('Scholars Nomination Form'!$F246),\"\",'Scholars Nomination Form'!$C$16)","v":""},{"$f":"IF(ISBLANK('Scholars Nomination Form'!B246),\"\",'Scholars Nomination Form'!B246)","v":""},{"$f":"IF(ISBLANK('Scholars Nomination Form'!D246),\"\",'Scholars Nomination Form'!D246)","v":""},{"$f":"IF(ISBLANK('Scholars Nomination Form'!E246),\"\",'Scholars Nomination Form'!E246)","v":""},{"$f":"IF(ISBLANK('Scholars Nomination Form'!F246),\"\",'Scholars Nomination Form'!F246)","v":""},{"$f":"IF(ISBLANK('Scholars Nomination Form'!G246),\"\",'Scholars Nomination Form'!G246)","v":""},{"$f":"IF(ISBLANK('Scholars Nomination Form'!H246),\"\",'Scholars Nomination Form'!H246)","v":""},{"$f":"IF(ISBLANK('Scholars Nomination Form'!I246),\"\",'Scholars Nomination Form'!I246)","v":""},{"$f":"IF(ISBLANK('Scholars Nomination Form'!J246),\"\",'Scholars Nomination Form'!J246)","v":""},{"$f":"IF(ISBLANK('Scholars Nomination Form'!K246),\"\",'Scholars Nomination Form'!K246)","v":""},{"$f":"IF(ISBLANK('Scholars Nomination Form'!L246),\"\",'Scholars Nomination Form'!L246)","v":""},{"$f":"IF(ISBLANK('Scholars Nomination Form'!M246),\"\",'Scholars Nomination Form'!M246)","v":""},{"$f":"IF(ISBLANK('Scholars Nomination Form'!N246),\"\",'Scholars Nomination Form'!N246)","v":""},{"$f":"IF(ISBLANK('Scholars Nomination Form'!O246),\"\",'Scholars Nomination Form'!O246)","v":""},{"$f":"IF(ISBLANK('Scholars Nomination Form'!P246),\"\",'Scholars Nomination Form'!P246)","v":""},{"$f":"IF(ISBLANK('Scholars Nomination Form'!Q246),\"\",'Scholars Nomination Form'!Q246)","v":""},{"$f":"IF(ISBLANK('Scholars Nomination Form'!R246),\"\",'Scholars Nomination Form'!R246)","v":""},{"$f":"IF(ISBLANK('Scholars Nomination Form'!S246),\"\",'Scholars Nomination Form'!S246)","v":""},{"$f":"IF(ISBLANK('Scholars Nomination Form'!T246),\"\",'Scholars Nomination Form'!T246)","v":""},{"$f":"IF(ISBLANK('Scholars Nomination Form'!U246),\"\",'Scholars Nomination Form'!U246)","v":""},{"$f":"IF(ISBLANK('Scholars Nomination Form'!V246),\"\",'Scholars Nomination Form'!V246)","v":""},{"$f":"IF(ISBLANK('Scholars Nomination Form'!W246),\"\",'Scholars Nomination Form'!W246)","v":""},{"$f":"IF(ISBLANK('Scholars Nomination Form'!X246),\"\",'Scholars Nomination Form'!X246)","v":""},{"$f":"IF(ISBLANK('Scholars Nomination Form'!Y246),\"\",'Scholars Nomination Form'!Y246)","v":""},{"$f":"IF(ISBLANK('Scholars Nomination Form'!Z246),\"\",'Scholars Nomination Form'!Z246)","v":""},{"$f":"IF(ISBLANK('Scholars Nomination Form'!AA246),\"\",'Scholars Nomination Form'!AA246)","v":""}]
[{"$f":"IF(ISBLANK('Scholars Nomination Form'!$F247),\"\",'Scholars Nomination Form'!$C$11)","v":""},{"$f":"IF(ISBLANK('Scholars Nomination Form'!$F247),\"\",'Scholars Nomination Form'!$C$12)","v":""},{"$f":"IF(ISBLANK('Scholars Nomination Form'!$F247),\"\",'Scholars Nomination Form'!$C$13)","v":""},{"$f":"IF(ISBLANK('Scholars Nomination Form'!$F247),\"\",'Scholars Nomination Form'!$C$14)","v":""},{"$f":"IF(ISBLANK('Scholars Nomination Form'!$F247),\"\",'Scholars Nomination Form'!$C$15)","v":""},{"$f":"IF(ISBLANK('Scholars Nomination Form'!$F247),\"\",'Scholars Nomination Form'!$C$16)","v":""},{"$f":"IF(ISBLANK('Scholars Nomination Form'!B247),\"\",'Scholars Nomination Form'!B247)","v":""},{"$f":"IF(ISBLANK('Scholars Nomination Form'!D247),\"\",'Scholars Nomination Form'!D247)","v":""},{"$f":"IF(ISBLANK('Scholars Nomination Form'!E247),\"\",'Scholars Nomination Form'!E247)","v":""},{"$f":"IF(ISBLANK('Scholars Nomination Form'!F247),\"\",'Scholars Nomination Form'!F247)","v":""},{"$f":"IF(ISBLANK('Scholars Nomination Form'!G247),\"\",'Scholars Nomination Form'!G247)","v":""},{"$f":"IF(ISBLANK('Scholars Nomination Form'!H247),\"\",'Scholars Nomination Form'!H247)","v":""},{"$f":"IF(ISBLANK('Scholars Nomination Form'!I247),\"\",'Scholars Nomination Form'!I247)","v":""},{"$f":"IF(ISBLANK('Scholars Nomination Form'!J247),\"\",'Scholars Nomination Form'!J247)","v":""},{"$f":"IF(ISBLANK('Scholars Nomination Form'!K247),\"\",'Scholars Nomination Form'!K247)","v":""},{"$f":"IF(ISBLANK('Scholars Nomination Form'!L247),\"\",'Scholars Nomination Form'!L247)","v":""},{"$f":"IF(ISBLANK('Scholars Nomination Form'!M247),\"\",'Scholars Nomination Form'!M247)","v":""},{"$f":"IF(ISBLANK('Scholars Nomination Form'!N247),\"\",'Scholars Nomination Form'!N247)","v":""},{"$f":"IF(ISBLANK('Scholars Nomination Form'!O247),\"\",'Scholars Nomination Form'!O247)","v":""},{"$f":"IF(ISBLANK('Scholars Nomination Form'!P247),\"\",'Scholars Nomination Form'!P247)","v":""},{"$f":"IF(ISBLANK('Scholars Nomination Form'!Q247),\"\",'Scholars Nomination Form'!Q247)","v":""},{"$f":"IF(ISBLANK('Scholars Nomination Form'!R247),\"\",'Scholars Nomination Form'!R247)","v":""},{"$f":"IF(ISBLANK('Scholars Nomination Form'!S247),\"\",'Scholars Nomination Form'!S247)","v":""},{"$f":"IF(ISBLANK('Scholars Nomination Form'!T247),\"\",'Scholars Nomination Form'!T247)","v":""},{"$f":"IF(ISBLANK('Scholars Nomination Form'!U247),\"\",'Scholars Nomination Form'!U247)","v":""},{"$f":"IF(ISBLANK('Scholars Nomination Form'!V247),\"\",'Scholars Nomination Form'!V247)","v":""},{"$f":"IF(ISBLANK('Scholars Nomination Form'!W247),\"\",'Scholars Nomination Form'!W247)","v":""},{"$f":"IF(ISBLANK('Scholars Nomination Form'!X247),\"\",'Scholars Nomination Form'!X247)","v":""},{"$f":"IF(ISBLANK('Scholars Nomination Form'!Y247),\"\",'Scholars Nomination Form'!Y247)","v":""},{"$f":"IF(ISBLANK('Scholars Nomination Form'!Z247),\"\",'Scholars Nomination Form'!Z247)","v":""},{"$f":"IF(ISBLANK('Scholars Nomination Form'!AA247),\"\",'Scholars Nomination Form'!AA247)","v":""}]
[{"$f":"IF(ISBLANK('Scholars Nomination Form'!$F248),\"\",'Scholars Nomination Form'!$C$11)","v":""},{"$f":"IF(ISBLANK('Scholars Nomination Form'!$F248),\"\",'Scholars Nomination Form'!$C$12)","v":""},{"$f":"IF(ISBLANK('Scholars Nomination Form'!$F248),\"\",'Scholars Nomination Form'!$C$13)","v":""},{"$f":"IF(ISBLANK('Scholars Nomination Form'!$F248),\"\",'Scholars Nomination Form'!$C$14)","v":""},{"$f":"IF(ISBLANK('Scholars Nomination Form'!$F248),\"\",'Scholars Nomination Form'!$C$15)","v":""},{"$f":"IF(ISBLANK('Scholars Nomination Form'!$F248),\"\",'Scholars Nomination Form'!$C$16)","v":""},{"$f":"IF(ISBLANK('Scholars Nomination Form'!B248),\"\",'Scholars Nomination Form'!B248)","v":""},{"$f":"IF(ISBLANK('Scholars Nomination Form'!D248),\"\",'Scholars Nomination Form'!D248)","v":""},{"$f":"IF(ISBLANK('Scholars Nomination Form'!E248),\"\",'Scholars Nomination Form'!E248)","v":""},{"$f":"IF(ISBLANK('Scholars Nomination Form'!F248),\"\",'Scholars Nomination Form'!F248)","v":""},{"$f":"IF(ISBLANK('Scholars Nomination Form'!G248),\"\",'Scholars Nomination Form'!G248)","v":""},{"$f":"IF(ISBLANK('Scholars Nomination Form'!H248),\"\",'Scholars Nomination Form'!H248)","v":""},{"$f":"IF(ISBLANK('Scholars Nomination Form'!I248),\"\",'Scholars Nomination Form'!I248)","v":""},{"$f":"IF(ISBLANK('Scholars Nomination Form'!J248),\"\",'Scholars Nomination Form'!J248)","v":""},{"$f":"IF(ISBLANK('Scholars Nomination Form'!K248),\"\",'Scholars Nomination Form'!K248)","v":""},{"$f":"IF(ISBLANK('Scholars Nomination Form'!L248),\"\",'Scholars Nomination Form'!L248)","v":""},{"$f":"IF(ISBLANK('Scholars Nomination Form'!M248),\"\",'Scholars Nomination Form'!M248)","v":""},{"$f":"IF(ISBLANK('Scholars Nomination Form'!N248),\"\",'Scholars Nomination Form'!N248)","v":""},{"$f":"IF(ISBLANK('Scholars Nomination Form'!O248),\"\",'Scholars Nomination Form'!O248)","v":""},{"$f":"IF(ISBLANK('Scholars Nomination Form'!P248),\"\",'Scholars Nomination Form'!P248)","v":""},{"$f":"IF(ISBLANK('Scholars Nomination Form'!Q248),\"\",'Scholars Nomination Form'!Q248)","v":""},{"$f":"IF(ISBLANK('Scholars Nomination Form'!R248),\"\",'Scholars Nomination Form'!R248)","v":""},{"$f":"IF(ISBLANK('Scholars Nomination Form'!S248),\"\",'Scholars Nomination Form'!S248)","v":""},{"$f":"IF(ISBLANK('Scholars Nomination Form'!T248),\"\",'Scholars Nomination Form'!T248)","v":""},{"$f":"IF(ISBLANK('Scholars Nomination Form'!U248),\"\",'Scholars Nomination Form'!U248)","v":""},{"$f":"IF(ISBLANK('Scholars Nomination Form'!V248),\"\",'Scholars Nomination Form'!V248)","v":""},{"$f":"IF(ISBLANK('Scholars Nomination Form'!W248),\"\",'Scholars Nomination Form'!W248)","v":""},{"$f":"IF(ISBLANK('Scholars Nomination Form'!X248),\"\",'Scholars Nomination Form'!X248)","v":""},{"$f":"IF(ISBLANK('Scholars Nomination Form'!Y248),\"\",'Scholars Nomination Form'!Y248)","v":""},{"$f":"IF(ISBLANK('Scholars Nomination Form'!Z248),\"\",'Scholars Nomination Form'!Z248)","v":""},{"$f":"IF(ISBLANK('Scholars Nomination Form'!AA248),\"\",'Scholars Nomination Form'!AA248)","v":""}]
[{"$f":"IF(ISBLANK('Scholars Nomination Form'!$F249),\"\",'Scholars Nomination Form'!$C$11)","v":""},{"$f":"IF(ISBLANK('Scholars Nomination Form'!$F249),\"\",'Scholars Nomination Form'!$C$12)","v":""},{"$f":"IF(ISBLANK('Scholars Nomination Form'!$F249),\"\",'Scholars Nomination Form'!$C$13)","v":""},{"$f":"IF(ISBLANK('Scholars Nomination Form'!$F249),\"\",'Scholars Nomination Form'!$C$14)","v":""},{"$f":"IF(ISBLANK('Scholars Nomination Form'!$F249),\"\",'Scholars Nomination Form'!$C$15)","v":""},{"$f":"IF(ISBLANK('Scholars Nomination Form'!$F249),\"\",'Scholars Nomination Form'!$C$16)","v":""},{"$f":"IF(ISBLANK('Scholars Nomination Form'!B249),\"\",'Scholars Nomination Form'!B249)","v":""},{"$f":"IF(ISBLANK('Scholars Nomination Form'!D249),\"\",'Scholars Nomination Form'!D249)","v":""},{"$f":"IF(ISBLANK('Scholars Nomination Form'!E249),\"\",'Scholars Nomination Form'!E249)","v":""},{"$f":"IF(ISBLANK('Scholars Nomination Form'!F249),\"\",'Scholars Nomination Form'!F249)","v":""},{"$f":"IF(ISBLANK('Scholars Nomination Form'!G249),\"\",'Scholars Nomination Form'!G249)","v":""},{"$f":"IF(ISBLANK('Scholars Nomination Form'!H249),\"\",'Scholars Nomination Form'!H249)","v":""},{"$f":"IF(ISBLANK('Scholars Nomination Form'!I249),\"\",'Scholars Nomination Form'!I249)","v":""},{"$f":"IF(ISBLANK('Scholars Nomination Form'!J249),\"\",'Scholars Nomination Form'!J249)","v":""},{"$f":"IF(ISBLANK('Scholars Nomination Form'!K249),\"\",'Scholars Nomination Form'!K249)","v":""},{"$f":"IF(ISBLANK('Scholars Nomination Form'!L249),\"\",'Scholars Nomination Form'!L249)","v":""},{"$f":"IF(ISBLANK('Scholars Nomination Form'!M249),\"\",'Scholars Nomination Form'!M249)","v":""},{"$f":"IF(ISBLANK('Scholars Nomination Form'!N249),\"\",'Scholars Nomination Form'!N249)","v":""},{"$f":"IF(ISBLANK('Scholars Nomination Form'!O249),\"\",'Scholars Nomination Form'!O249)","v":""},{"$f":"IF(ISBLANK('Scholars Nomination Form'!P249),\"\",'Scholars Nomination Form'!P249)","v":""},{"$f":"IF(ISBLANK('Scholars Nomination Form'!Q249),\"\",'Scholars Nomination Form'!Q249)","v":""},{"$f":"IF(ISBLANK('Scholars Nomination Form'!R249),\"\",'Scholars Nomination Form'!R249)","v":""},{"$f":"IF(ISBLANK('Scholars Nomination Form'!S249),\"\",'Scholars Nomination Form'!S249)","v":""},{"$f":"IF(ISBLANK('Scholars Nomination Form'!T249),\"\",'Scholars Nomination Form'!T249)","v":""},{"$f":"IF(ISBLANK('Scholars Nomination Form'!U249),\"\",'Scholars Nomination Form'!U249)","v":""},{"$f":"IF(ISBLANK('Scholars Nomination Form'!V249),\"\",'Scholars Nomination Form'!V249)","v":""},{"$f":"IF(ISBLANK('Scholars Nomination Form'!W249),\"\",'Scholars Nomination Form'!W249)","v":""},{"$f":"IF(ISBLANK('Scholars Nomination Form'!X249),\"\",'Scholars Nomination Form'!X249)","v":""},{"$f":"IF(ISBLANK('Scholars Nomination Form'!Y249),\"\",'Scholars Nomination Form'!Y249)","v":""},{"$f":"IF(ISBLANK('Scholars Nomination Form'!Z249),\"\",'Scholars Nomination Form'!Z249)","v":""},{"$f":"IF(ISBLANK('Scholars Nomination Form'!AA249),\"\",'Scholars Nomination Form'!AA249)","v":""}]
[{"$f":"IF(ISBLANK('Scholars Nomination Form'!$F250),\"\",'Scholars Nomination Form'!$C$11)","v":""},{"$f":"IF(ISBLANK('Scholars Nomination Form'!$F250),\"\",'Scholars Nomination Form'!$C$12)","v":""},{"$f":"IF(ISBLANK('Scholars Nomination Form'!$F250),\"\",'Scholars Nomination Form'!$C$13)","v":""},{"$f":"IF(ISBLANK('Scholars Nomination Form'!$F250),\"\",'Scholars Nomination Form'!$C$14)","v":""},{"$f":"IF(ISBLANK('Scholars Nomination Form'!$F250),\"\",'Scholars Nomination Form'!$C$15)","v":""},{"$f":"IF(ISBLANK('Scholars Nomination Form'!$F250),\"\",'Scholars Nomination Form'!$C$16)","v":""},{"$f":"IF(ISBLANK('Scholars Nomination Form'!B250),\"\",'Scholars Nomination Form'!B250)","v":""},{"$f":"IF(ISBLANK('Scholars Nomination Form'!D250),\"\",'Scholars Nomination Form'!D250)","v":""},{"$f":"IF(ISBLANK('Scholars Nomination Form'!E250),\"\",'Scholars Nomination Form'!E250)","v":""},{"$f":"IF(ISBLANK('Scholars Nomination Form'!F250),\"\",'Scholars Nomination Form'!F250)","v":""},{"$f":"IF(ISBLANK('Scholars Nomination Form'!G250),\"\",'Scholars Nomination Form'!G250)","v":""},{"$f":"IF(ISBLANK('Scholars Nomination Form'!H250),\"\",'Scholars Nomination Form'!H250)","v":""},{"$f":"IF(ISBLANK('Scholars Nomination Form'!I250),\"\",'Scholars Nomination Form'!I250)","v":""},{"$f":"IF(ISBLANK('Scholars Nomination Form'!J250),\"\",'Scholars Nomination Form'!J250)","v":""},{"$f":"IF(ISBLANK('Scholars Nomination Form'!K250),\"\",'Scholars Nomination Form'!K250)","v":""},{"$f":"IF(ISBLANK('Scholars Nomination Form'!L250),\"\",'Scholars Nomination Form'!L250)","v":""},{"$f":"IF(ISBLANK('Scholars Nomination Form'!M250),\"\",'Scholars Nomination Form'!M250)","v":""},{"$f":"IF(ISBLANK('Scholars Nomination Form'!N250),\"\",'Scholars Nomination Form'!N250)","v":""},{"$f":"IF(ISBLANK('Scholars Nomination Form'!O250),\"\",'Scholars Nomination Form'!O250)","v":""},{"$f":"IF(ISBLANK('Scholars Nomination Form'!P250),\"\",'Scholars Nomination Form'!P250)","v":""},{"$f":"IF(ISBLANK('Scholars Nomination Form'!Q250),\"\",'Scholars Nomination Form'!Q250)","v":""},{"$f":"IF(ISBLANK('Scholars Nomination Form'!R250),\"\",'Scholars Nomination Form'!R250)","v":""},{"$f":"IF(ISBLANK('Scholars Nomination Form'!S250),\"\",'Scholars Nomination Form'!S250)","v":""},{"$f":"IF(ISBLANK('Scholars Nomination Form'!T250),\"\",'Scholars Nomination Form'!T250)","v":""},{"$f":"IF(ISBLANK('Scholars Nomination Form'!U250),\"\",'Scholars Nomination Form'!U250)","v":""},{"$f":"IF(ISBLANK('Scholars Nomination Form'!V250),\"\",'Scholars Nomination Form'!V250)","v":""},{"$f":"IF(ISBLANK('Scholars Nomination Form'!W250),\"\",'Scholars Nomination Form'!W250)","v":""},{"$f":"IF(ISBLANK('Scholars Nomination Form'!X250),\"\",'Scholars Nomination Form'!X250)","v":""},{"$f":"IF(ISBLANK('Scholars Nomination Form'!Y250),\"\",'Scholars Nomination Form'!Y250)","v":""},{"$f":"IF(ISBLANK('Scholars Nomination Form'!Z250),\"\",'Scholars Nomination Form'!Z250)","v":""},{"$f":"IF(ISBLANK('Scholars Nomination Form'!AA250),\"\",'Scholars Nomination Form'!AA250)","v":""}]
[{"$f":"IF(ISBLANK('Scholars Nomination Form'!$F251),\"\",'Scholars Nomination Form'!$C$11)","v":""},{"$f":"IF(ISBLANK('Scholars Nomination Form'!$F251),\"\",'Scholars Nomination Form'!$C$12)","v":""},{"$f":"IF(ISBLANK('Scholars Nomination Form'!$F251),\"\",'Scholars Nomination Form'!$C$13)","v":""},{"$f":"IF(ISBLANK('Scholars Nomination Form'!$F251),\"\",'Scholars Nomination Form'!$C$14)","v":""},{"$f":"IF(ISBLANK('Scholars Nomination Form'!$F251),\"\",'Scholars Nomination Form'!$C$15)","v":""},{"$f":"IF(ISBLANK('Scholars Nomination Form'!$F251),\"\",'Scholars Nomination Form'!$C$16)","v":""},{"$f":"IF(ISBLANK('Scholars Nomination Form'!B251),\"\",'Scholars Nomination Form'!B251)","v":""},{"$f":"IF(ISBLANK('Scholars Nomination Form'!D251),\"\",'Scholars Nomination Form'!D251)","v":""},{"$f":"IF(ISBLANK('Scholars Nomination Form'!E251),\"\",'Scholars Nomination Form'!E251)","v":""},{"$f":"IF(ISBLANK('Scholars Nomination Form'!F251),\"\",'Scholars Nomination Form'!F251)","v":""},{"$f":"IF(ISBLANK('Scholars Nomination Form'!G251),\"\",'Scholars Nomination Form'!G251)","v":""},{"$f":"IF(ISBLANK('Scholars Nomination Form'!H251),\"\",'Scholars Nomination Form'!H251)","v":""},{"$f":"IF(ISBLANK('Scholars Nomination Form'!I251),\"\",'Scholars Nomination Form'!I251)","v":""},{"$f":"IF(ISBLANK('Scholars Nomination Form'!J251),\"\",'Scholars Nomination Form'!J251)","v":""},{"$f":"IF(ISBLANK('Scholars Nomination Form'!K251),\"\",'Scholars Nomination Form'!K251)","v":""},{"$f":"IF(ISBLANK('Scholars Nomination Form'!L251),\"\",'Scholars Nomination Form'!L251)","v":""},{"$f":"IF(ISBLANK('Scholars Nomination Form'!M251),\"\",'Scholars Nomination Form'!M251)","v":""},{"$f":"IF(ISBLANK('Scholars Nomination Form'!N251),\"\",'Scholars Nomination Form'!N251)","v":""},{"$f":"IF(ISBLANK('Scholars Nomination Form'!O251),\"\",'Scholars Nomination Form'!O251)","v":""},{"$f":"IF(ISBLANK('Scholars Nomination Form'!P251),\"\",'Scholars Nomination Form'!P251)","v":""},{"$f":"IF(ISBLANK('Scholars Nomination Form'!Q251),\"\",'Scholars Nomination Form'!Q251)","v":""},{"$f":"IF(ISBLANK('Scholars Nomination Form'!R251),\"\",'Scholars Nomination Form'!R251)","v":""},{"$f":"IF(ISBLANK('Scholars Nomination Form'!S251),\"\",'Scholars Nomination Form'!S251)","v":""},{"$f":"IF(ISBLANK('Scholars Nomination Form'!T251),\"\",'Scholars Nomination Form'!T251)","v":""},{"$f":"IF(ISBLANK('Scholars Nomination Form'!U251),\"\",'Scholars Nomination Form'!U251)","v":""},{"$f":"IF(ISBLANK('Scholars Nomination Form'!V251),\"\",'Scholars Nomination Form'!V251)","v":""},{"$f":"IF(ISBLANK('Scholars Nomination Form'!W251),\"\",'Scholars Nomination Form'!W251)","v":""},{"$f":"IF(ISBLANK('Scholars Nomination Form'!X251),\"\",'Scholars Nomination Form'!X251)","v":""},{"$f":"IF(ISBLANK('Scholars Nomination Form'!Y251),\"\",'Scholars Nomination Form'!Y251)","v":""},{"$f":"IF(ISBLANK('Scholars Nomination Form'!Z251),\"\",'Scholars Nomination Form'!Z251)","v":""},{"$f":"IF(ISBLANK('Scholars Nomination Form'!AA251),\"\",'Scholars Nomination Form'!AA251)","v":""}]
[{"$f":"IF(ISBLANK('Scholars Nomination Form'!$F252),\"\",'Scholars Nomination Form'!$C$11)","v":""},{"$f":"IF(ISBLANK('Scholars Nomination Form'!$F252),\"\",'Scholars Nomination Form'!$C$12)","v":""},{"$f":"IF(ISBLANK('Scholars Nomination Form'!$F252),\"\",'Scholars Nomination Form'!$C$13)","v":""},{"$f":"IF(ISBLANK('Scholars Nomination Form'!$F252),\"\",'Scholars Nomination Form'!$C$14)","v":""},{"$f":"IF(ISBLANK('Scholars Nomination Form'!$F252),\"\",'Scholars Nomination Form'!$C$15)","v":""},{"$f":"IF(ISBLANK('Scholars Nomination Form'!$F252),\"\",'Scholars Nomination Form'!$C$16)","v":""},{"$f":"IF(ISBLANK('Scholars Nomination Form'!B252),\"\",'Scholars Nomination Form'!B252)","v":""},{"$f":"IF(ISBLANK('Scholars Nomination Form'!D252),\"\",'Scholars Nomination Form'!D252)","v":""},{"$f":"IF(ISBLANK('Scholars Nomination Form'!E252),\"\",'Scholars Nomination Form'!E252)","v":""},{"$f":"IF(ISBLANK('Scholars Nomination Form'!F252),\"\",'Scholars Nomination Form'!F252)","v":""},{"$f":"IF(ISBLANK('Scholars Nomination Form'!G252),\"\",'Scholars Nomination Form'!G252)","v":""},{"$f":"IF(ISBLANK('Scholars Nomination Form'!H252),\"\",'Scholars Nomination Form'!H252)","v":""},{"$f":"IF(ISBLANK('Scholars Nomination Form'!I252),\"\",'Scholars Nomination Form'!I252)","v":""},{"$f":"IF(ISBLANK('Scholars Nomination Form'!J252),\"\",'Scholars Nomination Form'!J252)","v":""},{"$f":"IF(ISBLANK('Scholars Nomination Form'!K252),\"\",'Scholars Nomination Form'!K252)","v":""},{"$f":"IF(ISBLANK('Scholars Nomination Form'!L252),\"\",'Scholars Nomination Form'!L252)","v":""},{"$f":"IF(ISBLANK('Scholars Nomination Form'!M252),\"\",'Scholars Nomination Form'!M252)","v":""},{"$f":"IF(ISBLANK('Scholars Nomination Form'!N252),\"\",'Scholars Nomination Form'!N252)","v":""},{"$f":"IF(ISBLANK('Scholars Nomination Form'!O252),\"\",'Scholars Nomination Form'!O252)","v":""},{"$f":"IF(ISBLANK('Scholars Nomination Form'!P252),\"\",'Scholars Nomination Form'!P252)","v":""},{"$f":"IF(ISBLANK('Scholars Nomination Form'!Q252),\"\",'Scholars Nomination Form'!Q252)","v":""},{"$f":"IF(ISBLANK('Scholars Nomination Form'!R252),\"\",'Scholars Nomination Form'!R252)","v":""},{"$f":"IF(ISBLANK('Scholars Nomination Form'!S252),\"\",'Scholars Nomination Form'!S252)","v":""},{"$f":"IF(ISBLANK('Scholars Nomination Form'!T252),\"\",'Scholars Nomination Form'!T252)","v":""},{"$f":"IF(ISBLANK('Scholars Nomination Form'!U252),\"\",'Scholars Nomination Form'!U252)","v":""},{"$f":"IF(ISBLANK('Scholars Nomination Form'!V252),\"\",'Scholars Nomination Form'!V252)","v":""},{"$f":"IF(ISBLANK('Scholars Nomination Form'!W252),\"\",'Scholars Nomination Form'!W252)","v":""},{"$f":"IF(ISBLANK('Scholars Nomination Form'!X252),\"\",'Scholars Nomination Form'!X252)","v":""},{"$f":"IF(ISBLANK('Scholars Nomination Form'!Y252),\"\",'Scholars Nomination Form'!Y252)","v":""},{"$f":"IF(ISBLANK('Scholars Nomination Form'!Z252),\"\",'Scholars Nomination Form'!Z252)","v":""},{"$f":"IF(ISBLANK('Scholars Nomination Form'!AA252),\"\",'Scholars Nomination Form'!AA252)","v":""}]
[{"$f":"IF(ISBLANK('Scholars Nomination Form'!$F253),\"\",'Scholars Nomination Form'!$C$11)","v":""},{"$f":"IF(ISBLANK('Scholars Nomination Form'!$F253),\"\",'Scholars Nomination Form'!$C$12)","v":""},{"$f":"IF(ISBLANK('Scholars Nomination Form'!$F253),\"\",'Scholars Nomination Form'!$C$13)","v":""},{"$f":"IF(ISBLANK('Scholars Nomination Form'!$F253),\"\",'Scholars Nomination Form'!$C$14)","v":""},{"$f":"IF(ISBLANK('Scholars Nomination Form'!$F253),\"\",'Scholars Nomination Form'!$C$15)","v":""},{"$f":"IF(ISBLANK('Scholars Nomination Form'!$F253),\"\",'Scholars Nomination Form'!$C$16)","v":""},{"$f":"IF(ISBLANK('Scholars Nomination Form'!B253),\"\",'Scholars Nomination Form'!B253)","v":""},{"$f":"IF(ISBLANK('Scholars Nomination Form'!D253),\"\",'Scholars Nomination Form'!D253)","v":""},{"$f":"IF(ISBLANK('Scholars Nomination Form'!E253),\"\",'Scholars Nomination Form'!E253)","v":""},{"$f":"IF(ISBLANK('Scholars Nomination Form'!F253),\"\",'Scholars Nomination Form'!F253)","v":""},{"$f":"IF(ISBLANK('Scholars Nomination Form'!G253),\"\",'Scholars Nomination Form'!G253)","v":""},{"$f":"IF(ISBLANK('Scholars Nomination Form'!H253),\"\",'Scholars Nomination Form'!H253)","v":""},{"$f":"IF(ISBLANK('Scholars Nomination Form'!I253),\"\",'Scholars Nomination Form'!I253)","v":""},{"$f":"IF(ISBLANK('Scholars Nomination Form'!J253),\"\",'Scholars Nomination Form'!J253)","v":""},{"$f":"IF(ISBLANK('Scholars Nomination Form'!K253),\"\",'Scholars Nomination Form'!K253)","v":""},{"$f":"IF(ISBLANK('Scholars Nomination Form'!L253),\"\",'Scholars Nomination Form'!L253)","v":""},{"$f":"IF(ISBLANK('Scholars Nomination Form'!M253),\"\",'Scholars Nomination Form'!M253)","v":""},{"$f":"IF(ISBLANK('Scholars Nomination Form'!N253),\"\",'Scholars Nomination Form'!N253)","v":""},{"$f":"IF(ISBLANK('Scholars Nomination Form'!O253),\"\",'Scholars Nomination Form'!O253)","v":""},{"$f":"IF(ISBLANK('Scholars Nomination Form'!P253),\"\",'Scholars Nomination Form'!P253)","v":""},{"$f":"IF(ISBLANK('Scholars Nomination Form'!Q253),\"\",'Scholars Nomination Form'!Q253)","v":""},{"$f":"IF(ISBLANK('Scholars Nomination Form'!R253),\"\",'Scholars Nomination Form'!R253)","v":""},{"$f":"IF(ISBLANK('Scholars Nomination Form'!S253),\"\",'Scholars Nomination Form'!S253)","v":""},{"$f":"IF(ISBLANK('Scholars Nomination Form'!T253),\"\",'Scholars Nomination Form'!T253)","v":""},{"$f":"IF(ISBLANK('Scholars Nomination Form'!U253),\"\",'Scholars Nomination Form'!U253)","v":""},{"$f":"IF(ISBLANK('Scholars Nomination Form'!V253),\"\",'Scholars Nomination Form'!V253)","v":""},{"$f":"IF(ISBLANK('Scholars Nomination Form'!W253),\"\",'Scholars Nomination Form'!W253)","v":""},{"$f":"IF(ISBLANK('Scholars Nomination Form'!X253),\"\",'Scholars Nomination Form'!X253)","v":""},{"$f":"IF(ISBLANK('Scholars Nomination Form'!Y253),\"\",'Scholars Nomination Form'!Y253)","v":""},{"$f":"IF(ISBLANK('Scholars Nomination Form'!Z253),\"\",'Scholars Nomination Form'!Z253)","v":""},{"$f":"IF(ISBLANK('Scholars Nomination Form'!AA253),\"\",'Scholars Nomination Form'!AA253)","v":""}]
[{"$f":"IF(ISBLANK('Scholars Nomination Form'!$F254),\"\",'Scholars Nomination Form'!$C$11)","v":""},{"$f":"IF(ISBLANK('Scholars Nomination Form'!$F254),\"\",'Scholars Nomination Form'!$C$12)","v":""},{"$f":"IF(ISBLANK('Scholars Nomination Form'!$F254),\"\",'Scholars Nomination Form'!$C$13)","v":""},{"$f":"IF(ISBLANK('Scholars Nomination Form'!$F254),\"\",'Scholars Nomination Form'!$C$14)","v":""},{"$f":"IF(ISBLANK('Scholars Nomination Form'!$F254),\"\",'Scholars Nomination Form'!$C$15)","v":""},{"$f":"IF(ISBLANK('Scholars Nomination Form'!$F254),\"\",'Scholars Nomination Form'!$C$16)","v":""},{"$f":"IF(ISBLANK('Scholars Nomination Form'!B254),\"\",'Scholars Nomination Form'!B254)","v":""},{"$f":"IF(ISBLANK('Scholars Nomination Form'!D254),\"\",'Scholars Nomination Form'!D254)","v":""},{"$f":"IF(ISBLANK('Scholars Nomination Form'!E254),\"\",'Scholars Nomination Form'!E254)","v":""},{"$f":"IF(ISBLANK('Scholars Nomination Form'!F254),\"\",'Scholars Nomination Form'!F254)","v":""},{"$f":"IF(ISBLANK('Scholars Nomination Form'!G254),\"\",'Scholars Nomination Form'!G254)","v":""},{"$f":"IF(ISBLANK('Scholars Nomination Form'!H254),\"\",'Scholars Nomination Form'!H254)","v":""},{"$f":"IF(ISBLANK('Scholars Nomination Form'!I254),\"\",'Scholars Nomination Form'!I254)","v":""},{"$f":"IF(ISBLANK('Scholars Nomination Form'!J254),\"\",'Scholars Nomination Form'!J254)","v":""},{"$f":"IF(ISBLANK('Scholars Nomination Form'!K254),\"\",'Scholars Nomination Form'!K254)","v":""},{"$f":"IF(ISBLANK('Scholars Nomination Form'!L254),\"\",'Scholars Nomination Form'!L254)","v":""},{"$f":"IF(ISBLANK('Scholars Nomination Form'!M254),\"\",'Scholars Nomination Form'!M254)","v":""},{"$f":"IF(ISBLANK('Scholars Nomination Form'!N254),\"\",'Scholars Nomination Form'!N254)","v":""},{"$f":"IF(ISBLANK('Scholars Nomination Form'!O254),\"\",'Scholars Nomination Form'!O254)","v":""},{"$f":"IF(ISBLANK('Scholars Nomination Form'!P254),\"\",'Scholars Nomination Form'!P254)","v":""},{"$f":"IF(ISBLANK('Scholars Nomination Form'!Q254),\"\",'Scholars Nomination Form'!Q254)","v":""},{"$f":"IF(ISBLANK('Scholars Nomination Form'!R254),\"\",'Scholars Nomination Form'!R254)","v":""},{"$f":"IF(ISBLANK('Scholars Nomination Form'!S254),\"\",'Scholars Nomination Form'!S254)","v":""},{"$f":"IF(ISBLANK('Scholars Nomination Form'!T254),\"\",'Scholars Nomination Form'!T254)","v":""},{"$f":"IF(ISBLANK('Scholars Nomination Form'!U254),\"\",'Scholars Nomination Form'!U254)","v":""},{"$f":"IF(ISBLANK('Scholars Nomination Form'!V254),\"\",'Scholars Nomination Form'!V254)","v":""},{"$f":"IF(ISBLANK('Scholars Nomination Form'!W254),\"\",'Scholars Nomination Form'!W254)","v":""},{"$f":"IF(ISBLANK('Scholars Nomination Form'!X254),\"\",'Scholars Nomination Form'!X254)","v":""},{"$f":"IF(ISBLANK('Scholars Nomination Form'!Y254),\"\",'Scholars Nomination Form'!Y254)","v":""},{"$f":"IF(ISBLANK('Scholars Nomination Form'!Z254),\"\",'Scholars Nomination Form'!Z254)","v":""},{"$f":"IF(ISBLANK('Scholars Nomination Form'!AA254),\"\",'Scholars Nomination Form'!AA254)","v":""}]
[{"$f":"IF(ISBLANK('Scholars Nomination Form'!$F255),\"\",'Scholars Nomination Form'!$C$11)","v":""},{"$f":"IF(ISBLANK('Scholars Nomination Form'!$F255),\"\",'Scholars Nomination Form'!$C$12)","v":""},{"$f":"IF(ISBLANK('Scholars Nomination Form'!$F255),\"\",'Scholars Nomination Form'!$C$13)","v":""},{"$f":"IF(ISBLANK('Scholars Nomination Form'!$F255),\"\",'Scholars Nomination Form'!$C$14)","v":""},{"$f":"IF(ISBLANK('Scholars Nomination Form'!$F255),\"\",'Scholars Nomination Form'!$C$15)","v":""},{"$f":"IF(ISBLANK('Scholars Nomination Form'!$F255),\"\",'Scholars Nomination Form'!$C$16)","v":""},{"$f":"IF(ISBLANK('Scholars Nomination Form'!B255),\"\",'Scholars Nomination Form'!B255)","v":""},{"$f":"IF(ISBLANK('Scholars Nomination Form'!D255),\"\",'Scholars Nomination Form'!D255)","v":""},{"$f":"IF(ISBLANK('Scholars Nomination Form'!E255),\"\",'Scholars Nomination Form'!E255)","v":""},{"$f":"IF(ISBLANK('Scholars Nomination Form'!F255),\"\",'Scholars Nomination Form'!F255)","v":""},{"$f":"IF(ISBLANK('Scholars Nomination Form'!G255),\"\",'Scholars Nomination Form'!G255)","v":""},{"$f":"IF(ISBLANK('Scholars Nomination Form'!H255),\"\",'Scholars Nomination Form'!H255)","v":""},{"$f":"IF(ISBLANK('Scholars Nomination Form'!I255),\"\",'Scholars Nomination Form'!I255)","v":""},{"$f":"IF(ISBLANK('Scholars Nomination Form'!J255),\"\",'Scholars Nomination Form'!J255)","v":""},{"$f":"IF(ISBLANK('Scholars Nomination Form'!K255),\"\",'Scholars Nomination Form'!K255)","v":""},{"$f":"IF(ISBLANK('Scholars Nomination Form'!L255),\"\",'Scholars Nomination Form'!L255)","v":""},{"$f":"IF(ISBLANK('Scholars Nomination Form'!M255),\"\",'Scholars Nomination Form'!M255)","v":""},{"$f":"IF(ISBLANK('Scholars Nomination Form'!N255),\"\",'Scholars Nomination Form'!N255)","v":""},{"$f":"IF(ISBLANK('Scholars Nomination Form'!O255),\"\",'Scholars Nomination Form'!O255)","v":""},{"$f":"IF(ISBLANK('Scholars Nomination Form'!P255),\"\",'Scholars Nomination Form'!P255)","v":""},{"$f":"IF(ISBLANK('Scholars Nomination Form'!Q255),\"\",'Scholars Nomination Form'!Q255)","v":""},{"$f":"IF(ISBLANK('Scholars Nomination Form'!R255),\"\",'Scholars Nomination Form'!R255)","v":""},{"$f":"IF(ISBLANK('Scholars Nomination Form'!S255),\"\",'Scholars Nomination Form'!S255)","v":""},{"$f":"IF(ISBLANK('Scholars Nomination Form'!T255),\"\",'Scholars Nomination Form'!T255)","v":""},{"$f":"IF(ISBLANK('Scholars Nomination Form'!U255),\"\",'Scholars Nomination Form'!U255)","v":""},{"$f":"IF(ISBLANK('Scholars Nomination Form'!V255),\"\",'Scholars Nomination Form'!V255)","v":""},{"$f":"IF(ISBLANK('Scholars Nomination Form'!W255),\"\",'Scholars Nomination Form'!W255)","v":""},{"$f":"IF(ISBLANK('Scholars Nomination Form'!X255),\"\",'Scholars Nomination Form'!X255)","v":""},{"$f":"IF(ISBLANK('Scholars Nomination Form'!Y255),\"\",'Scholars Nomination Form'!Y255)","v":""},{"$f":"IF(ISBLANK('Scholars Nomination Form'!Z255),\"\",'Scholars Nomination Form'!Z255)","v":""},{"$f":"IF(ISBLANK('Scholars Nomination Form'!AA255),\"\",'Scholars Nomination Form'!AA255)","v":""}]
[{"$f":"IF(ISBLANK('Scholars Nomination Form'!$F256),\"\",'Scholars Nomination Form'!$C$11)","v":""},{"$f":"IF(ISBLANK('Scholars Nomination Form'!$F256),\"\",'Scholars Nomination Form'!$C$12)","v":""},{"$f":"IF(ISBLANK('Scholars Nomination Form'!$F256),\"\",'Scholars Nomination Form'!$C$13)","v":""},{"$f":"IF(ISBLANK('Scholars Nomination Form'!$F256),\"\",'Scholars Nomination Form'!$C$14)","v":""},{"$f":"IF(ISBLANK('Scholars Nomination Form'!$F256),\"\",'Scholars Nomination Form'!$C$15)","v":""},{"$f":"IF(ISBLANK('Scholars Nomination Form'!$F256),\"\",'Scholars Nomination Form'!$C$16)","v":""},{"$f":"IF(ISBLANK('Scholars Nomination Form'!B256),\"\",'Scholars Nomination Form'!B256)","v":""},{"$f":"IF(ISBLANK('Scholars Nomination Form'!D256),\"\",'Scholars Nomination Form'!D256)","v":""},{"$f":"IF(ISBLANK('Scholars Nomination Form'!E256),\"\",'Scholars Nomination Form'!E256)","v":""},{"$f":"IF(ISBLANK('Scholars Nomination Form'!F256),\"\",'Scholars Nomination Form'!F256)","v":""},{"$f":"IF(ISBLANK('Scholars Nomination Form'!G256),\"\",'Scholars Nomination Form'!G256)","v":""},{"$f":"IF(ISBLANK('Scholars Nomination Form'!H256),\"\",'Scholars Nomination Form'!H256)","v":""},{"$f":"IF(ISBLANK('Scholars Nomination Form'!I256),\"\",'Scholars Nomination Form'!I256)","v":""},{"$f":"IF(ISBLANK('Scholars Nomination Form'!J256),\"\",'Scholars Nomination Form'!J256)","v":""},{"$f":"IF(ISBLANK('Scholars Nomination Form'!K256),\"\",'Scholars Nomination Form'!K256)","v":""},{"$f":"IF(ISBLANK('Scholars Nomination Form'!L256),\"\",'Scholars Nomination Form'!L256)","v":""},{"$f":"IF(ISBLANK('Scholars Nomination Form'!M256),\"\",'Scholars Nomination Form'!M256)","v":""},{"$f":"IF(ISBLANK('Scholars Nomination Form'!N256),\"\",'Scholars Nomination Form'!N256)","v":""},{"$f":"IF(ISBLANK('Scholars Nomination Form'!O256),\"\",'Scholars Nomination Form'!O256)","v":""},{"$f":"IF(ISBLANK('Scholars Nomination Form'!P256),\"\",'Scholars Nomination Form'!P256)","v":""},{"$f":"IF(ISBLANK('Scholars Nomination Form'!Q256),\"\",'Scholars Nomination Form'!Q256)","v":""},{"$f":"IF(ISBLANK('Scholars Nomination Form'!R256),\"\",'Scholars Nomination Form'!R256)","v":""},{"$f":"IF(ISBLANK('Scholars Nomination Form'!S256),\"\",'Scholars Nomination Form'!S256)","v":""},{"$f":"IF(ISBLANK('Scholars Nomination Form'!T256),\"\",'Scholars Nomination Form'!T256)","v":""},{"$f":"IF(ISBLANK('Scholars Nomination Form'!U256),\"\",'Scholars Nomination Form'!U256)","v":""},{"$f":"IF(ISBLANK('Scholars Nomination Form'!V256),\"\",'Scholars Nomination Form'!V256)","v":""},{"$f":"IF(ISBLANK('Scholars Nomination Form'!W256),\"\",'Scholars Nomination Form'!W256)","v":""},{"$f":"IF(ISBLANK('Scholars Nomination Form'!X256),\"\",'Scholars Nomination Form'!X256)","v":""},{"$f":"IF(ISBLANK('Scholars Nomination Form'!Y256),\"\",'Scholars Nomination Form'!Y256)","v":""},{"$f":"IF(ISBLANK('Scholars Nomination Form'!Z256),\"\",'Scholars Nomination Form'!Z256)","v":""},{"$f":"IF(ISBLANK('Scholars Nomination Form'!AA256),\"\",'Scholars Nomination Form'!AA256)","v":""}]
[{"$f":"IF(ISBLANK('Scholars Nomination Form'!$F257),\"\",'Scholars Nomination Form'!$C$11)","v":""},{"$f":"IF(ISBLANK('Scholars Nomination Form'!$F257),\"\",'Scholars Nomination Form'!$C$12)","v":""},{"$f":"IF(ISBLANK('Scholars Nomination Form'!$F257),\"\",'Scholars Nomination Form'!$C$13)","v":""},{"$f":"IF(ISBLANK('Scholars Nomination Form'!$F257),\"\",'Scholars Nomination Form'!$C$14)","v":""},{"$f":"IF(ISBLANK('Scholars Nomination Form'!$F257),\"\",'Scholars Nomination Form'!$C$15)","v":""},{"$f":"IF(ISBLANK('Scholars Nomination Form'!$F257),\"\",'Scholars Nomination Form'!$C$16)","v":""},{"$f":"IF(ISBLANK('Scholars Nomination Form'!B257),\"\",'Scholars Nomination Form'!B257)","v":""},{"$f":"IF(ISBLANK('Scholars Nomination Form'!D257),\"\",'Scholars Nomination Form'!D257)","v":""},{"$f":"IF(ISBLANK('Scholars Nomination Form'!E257),\"\",'Scholars Nomination Form'!E257)","v":""},{"$f":"IF(ISBLANK('Scholars Nomination Form'!F257),\"\",'Scholars Nomination Form'!F257)","v":""},{"$f":"IF(ISBLANK('Scholars Nomination Form'!G257),\"\",'Scholars Nomination Form'!G257)","v":""},{"$f":"IF(ISBLANK('Scholars Nomination Form'!H257),\"\",'Scholars Nomination Form'!H257)","v":""},{"$f":"IF(ISBLANK('Scholars Nomination Form'!I257),\"\",'Scholars Nomination Form'!I257)","v":""},{"$f":"IF(ISBLANK('Scholars Nomination Form'!J257),\"\",'Scholars Nomination Form'!J257)","v":""},{"$f":"IF(ISBLANK('Scholars Nomination Form'!K257),\"\",'Scholars Nomination Form'!K257)","v":""},{"$f":"IF(ISBLANK('Scholars Nomination Form'!L257),\"\",'Scholars Nomination Form'!L257)","v":""},{"$f":"IF(ISBLANK('Scholars Nomination Form'!M257),\"\",'Scholars Nomination Form'!M257)","v":""},{"$f":"IF(ISBLANK('Scholars Nomination Form'!N257),\"\",'Scholars Nomination Form'!N257)","v":""},{"$f":"IF(ISBLANK('Scholars Nomination Form'!O257),\"\",'Scholars Nomination Form'!O257)","v":""},{"$f":"IF(ISBLANK('Scholars Nomination Form'!P257),\"\",'Scholars Nomination Form'!P257)","v":""},{"$f":"IF(ISBLANK('Scholars Nomination Form'!Q257),\"\",'Scholars Nomination Form'!Q257)","v":""},{"$f":"IF(ISBLANK('Scholars Nomination Form'!R257),\"\",'Scholars Nomination Form'!R257)","v":""},{"$f":"IF(ISBLANK('Scholars Nomination Form'!S257),\"\",'Scholars Nomination Form'!S257)","v":""},{"$f":"IF(ISBLANK('Scholars Nomination Form'!T257),\"\",'Scholars Nomination Form'!T257)","v":""},{"$f":"IF(ISBLANK('Scholars Nomination Form'!U257),\"\",'Scholars Nomination Form'!U257)","v":""},{"$f":"IF(ISBLANK('Scholars Nomination Form'!V257),\"\",'Scholars Nomination Form'!V257)","v":""},{"$f":"IF(ISBLANK('Scholars Nomination Form'!W257),\"\",'Scholars Nomination Form'!W257)","v":""},{"$f":"IF(ISBLANK('Scholars Nomination Form'!X257),\"\",'Scholars Nomination Form'!X257)","v":""},{"$f":"IF(ISBLANK('Scholars Nomination Form'!Y257),\"\",'Scholars Nomination Form'!Y257)","v":""},{"$f":"IF(ISBLANK('Scholars Nomination Form'!Z257),\"\",'Scholars Nomination Form'!Z257)","v":""},{"$f":"IF(ISBLANK('Scholars Nomination Form'!AA257),\"\",'Scholars Nomination Form'!AA257)","v":""}]
[{"$f":"IF(ISBLANK('Scholars Nomination Form'!$F258),\"\",'Scholars Nomination Form'!$C$11)","v":""},{"$f":"IF(ISBLANK('Scholars Nomination Form'!$F258),\"\",'Scholars Nomination Form'!$C$12)","v":""},{"$f":"IF(ISBLANK('Scholars Nomination Form'!$F258),\"\",'Scholars Nomination Form'!$C$13)","v":""},{"$f":"IF(ISBLANK('Scholars Nomination Form'!$F258),\"\",'Scholars Nomination Form'!$C$14)","v":""},{"$f":"IF(ISBLANK('Scholars Nomination Form'!$F258),\"\",'Scholars Nomination Form'!$C$15)","v":""},{"$f":"IF(ISBLANK('Scholars Nomination Form'!$F258),\"\",'Scholars Nomination Form'!$C$16)","v":""},{"$f":"IF(ISBLANK('Scholars Nomination Form'!B258),\"\",'Scholars Nomination Form'!B258)","v":""},{"$f":"IF(ISBLANK('Scholars Nomination Form'!D258),\"\",'Scholars Nomination Form'!D258)","v":""},{"$f":"IF(ISBLANK('Scholars Nomination Form'!E258),\"\",'Scholars Nomination Form'!E258)","v":""},{"$f":"IF(ISBLANK('Scholars Nomination Form'!F258),\"\",'Scholars Nomination Form'!F258)","v":""},{"$f":"IF(ISBLANK('Scholars Nomination Form'!G258),\"\",'Scholars Nomination Form'!G258)","v":""},{"$f":"IF(ISBLANK('Scholars Nomination Form'!H258),\"\",'Scholars Nomination Form'!H258)","v":""},{"$f":"IF(ISBLANK('Scholars Nomination Form'!I258),\"\",'Scholars Nomination Form'!I258)","v":""},{"$f":"IF(ISBLANK('Scholars Nomination Form'!J258),\"\",'Scholars Nomination Form'!J258)","v":""},{"$f":"IF(ISBLANK('Scholars Nomination Form'!K258),\"\",'Scholars Nomination Form'!K258)","v":""},{"$f":"IF(ISBLANK('Scholars Nomination Form'!L258),\"\",'Scholars Nomination Form'!L258)","v":""},{"$f":"IF(ISBLANK('Scholars Nomination Form'!M258),\"\",'Scholars Nomination Form'!M258)","v":""},{"$f":"IF(ISBLANK('Scholars Nomination Form'!N258),\"\",'Scholars Nomination Form'!N258)","v":""},{"$f":"IF(ISBLANK('Scholars Nomination Form'!O258),\"\",'Scholars Nomination Form'!O258)","v":""},{"$f":"IF(ISBLANK('Scholars Nomination Form'!P258),\"\",'Scholars Nomination Form'!P258)","v":""},{"$f":"IF(ISBLANK('Scholars Nomination Form'!Q258),\"\",'Scholars Nomination Form'!Q258)","v":""},{"$f":"IF(ISBLANK('Scholars Nomination Form'!R258),\"\",'Scholars Nomination Form'!R258)","v":""},{"$f":"IF(ISBLANK('Scholars Nomination Form'!S258),\"\",'Scholars Nomination Form'!S258)","v":""},{"$f":"IF(ISBLANK('Scholars Nomination Form'!T258),\"\",'Scholars Nomination Form'!T258)","v":""},{"$f":"IF(ISBLANK('Scholars Nomination Form'!U258),\"\",'Scholars Nomination Form'!U258)","v":""},{"$f":"IF(ISBLANK('Scholars Nomination Form'!V258),\"\",'Scholars Nomination Form'!V258)","v":""},{"$f":"IF(ISBLANK('Scholars Nomination Form'!W258),\"\",'Scholars Nomination Form'!W258)","v":""},{"$f":"IF(ISBLANK('Scholars Nomination Form'!X258),\"\",'Scholars Nomination Form'!X258)","v":""},{"$f":"IF(ISBLANK('Scholars Nomination Form'!Y258),\"\",'Scholars Nomination Form'!Y258)","v":""},{"$f":"IF(ISBLANK('Scholars Nomination Form'!Z258),\"\",'Scholars Nomination Form'!Z258)","v":""},{"$f":"IF(ISBLANK('Scholars Nomination Form'!AA258),\"\",'Scholars Nomination Form'!AA258)","v":""}]
[{"$f":"IF(ISBLANK('Scholars Nomination Form'!$F259),\"\",'Scholars Nomination Form'!$C$11)","v":""},{"$f":"IF(ISBLANK('Scholars Nomination Form'!$F259),\"\",'Scholars Nomination Form'!$C$12)","v":""},{"$f":"IF(ISBLANK('Scholars Nomination Form'!$F259),\"\",'Scholars Nomination Form'!$C$13)","v":""},{"$f":"IF(ISBLANK('Scholars Nomination Form'!$F259),\"\",'Scholars Nomination Form'!$C$14)","v":""},{"$f":"IF(ISBLANK('Scholars Nomination Form'!$F259),\"\",'Scholars Nomination Form'!$C$15)","v":""},{"$f":"IF(ISBLANK('Scholars Nomination Form'!$F259),\"\",'Scholars Nomination Form'!$C$16)","v":""},{"$f":"IF(ISBLANK('Scholars Nomination Form'!B259),\"\",'Scholars Nomination Form'!B259)","v":""},{"$f":"IF(ISBLANK('Scholars Nomination Form'!D259),\"\",'Scholars Nomination Form'!D259)","v":""},{"$f":"IF(ISBLANK('Scholars Nomination Form'!E259),\"\",'Scholars Nomination Form'!E259)","v":""},{"$f":"IF(ISBLANK('Scholars Nomination Form'!F259),\"\",'Scholars Nomination Form'!F259)","v":""},{"$f":"IF(ISBLANK('Scholars Nomination Form'!G259),\"\",'Scholars Nomination Form'!G259)","v":""},{"$f":"IF(ISBLANK('Scholars Nomination Form'!H259),\"\",'Scholars Nomination Form'!H259)","v":""},{"$f":"IF(ISBLANK('Scholars Nomination Form'!I259),\"\",'Scholars Nomination Form'!I259)","v":""},{"$f":"IF(ISBLANK('Scholars Nomination Form'!J259),\"\",'Scholars Nomination Form'!J259)","v":""},{"$f":"IF(ISBLANK('Scholars Nomination Form'!K259),\"\",'Scholars Nomination Form'!K259)","v":""},{"$f":"IF(ISBLANK('Scholars Nomination Form'!L259),\"\",'Scholars Nomination Form'!L259)","v":""},{"$f":"IF(ISBLANK('Scholars Nomination Form'!M259),\"\",'Scholars Nomination Form'!M259)","v":""},{"$f":"IF(ISBLANK('Scholars Nomination Form'!N259),\"\",'Scholars Nomination Form'!N259)","v":""},{"$f":"IF(ISBLANK('Scholars Nomination Form'!O259),\"\",'Scholars Nomination Form'!O259)","v":""},{"$f":"IF(ISBLANK('Scholars Nomination Form'!P259),\"\",'Scholars Nomination Form'!P259)","v":""},{"$f":"IF(ISBLANK('Scholars Nomination Form'!Q259),\"\",'Scholars Nomination Form'!Q259)","v":""},{"$f":"IF(ISBLANK('Scholars Nomination Form'!R259),\"\",'Scholars Nomination Form'!R259)","v":""},{"$f":"IF(ISBLANK('Scholars Nomination Form'!S259),\"\",'Scholars Nomination Form'!S259)","v":""},{"$f":"IF(ISBLANK('Scholars Nomination Form'!T259),\"\",'Scholars Nomination Form'!T259)","v":""},{"$f":"IF(ISBLANK('Scholars Nomination Form'!U259),\"\",'Scholars Nomination Form'!U259)","v":""},{"$f":"IF(ISBLANK('Scholars Nomination Form'!V259),\"\",'Scholars Nomination Form'!V259)","v":""},{"$f":"IF(ISBLANK('Scholars Nomination Form'!W259),\"\",'Scholars Nomination Form'!W259)","v":""},{"$f":"IF(ISBLANK('Scholars Nomination Form'!X259),\"\",'Scholars Nomination Form'!X259)","v":""},{"$f":"IF(ISBLANK('Scholars Nomination Form'!Y259),\"\",'Scholars Nomination Form'!Y259)","v":""},{"$f":"IF(ISBLANK('Scholars Nomination Form'!Z259),\"\",'Scholars Nomination Form'!Z259)","v":""},{"$f":"IF(ISBLANK('Scholars Nomination Form'!AA259),\"\",'Scholars Nomination Form'!AA259)","v":""}]
[{"$f":"IF(ISBLANK('Scholars Nomination Form'!$F260),\"\",'Scholars Nomination Form'!$C$11)","v":""},{"$f":"IF(ISBLANK('Scholars Nomination Form'!$F260),\"\",'Scholars Nomination Form'!$C$12)","v":""},{"$f":"IF(ISBLANK('Scholars Nomination Form'!$F260),\"\",'Scholars Nomination Form'!$C$13)","v":""},{"$f":"IF(ISBLANK('Scholars Nomination Form'!$F260),\"\",'Scholars Nomination Form'!$C$14)","v":""},{"$f":"IF(ISBLANK('Scholars Nomination Form'!$F260),\"\",'Scholars Nomination Form'!$C$15)","v":""},{"$f":"IF(ISBLANK('Scholars Nomination Form'!$F260),\"\",'Scholars Nomination Form'!$C$16)","v":""},{"$f":"IF(ISBLANK('Scholars Nomination Form'!B260),\"\",'Scholars Nomination Form'!B260)","v":""},{"$f":"IF(ISBLANK('Scholars Nomination Form'!D260),\"\",'Scholars Nomination Form'!D260)","v":""},{"$f":"IF(ISBLANK('Scholars Nomination Form'!E260),\"\",'Scholars Nomination Form'!E260)","v":""},{"$f":"IF(ISBLANK('Scholars Nomination Form'!F260),\"\",'Scholars Nomination Form'!F260)","v":""},{"$f":"IF(ISBLANK('Scholars Nomination Form'!G260),\"\",'Scholars Nomination Form'!G260)","v":""},{"$f":"IF(ISBLANK('Scholars Nomination Form'!H260),\"\",'Scholars Nomination Form'!H260)","v":""},{"$f":"IF(ISBLANK('Scholars Nomination Form'!I260),\"\",'Scholars Nomination Form'!I260)","v":""},{"$f":"IF(ISBLANK('Scholars Nomination Form'!J260),\"\",'Scholars Nomination Form'!J260)","v":""},{"$f":"IF(ISBLANK('Scholars Nomination Form'!K260),\"\",'Scholars Nomination Form'!K260)","v":""},{"$f":"IF(ISBLANK('Scholars Nomination Form'!L260),\"\",'Scholars Nomination Form'!L260)","v":""},{"$f":"IF(ISBLANK('Scholars Nomination Form'!M260),\"\",'Scholars Nomination Form'!M260)","v":""},{"$f":"IF(ISBLANK('Scholars Nomination Form'!N260),\"\",'Scholars Nomination Form'!N260)","v":""},{"$f":"IF(ISBLANK('Scholars Nomination Form'!O260),\"\",'Scholars Nomination Form'!O260)","v":""},{"$f":"IF(ISBLANK('Scholars Nomination Form'!P260),\"\",'Scholars Nomination Form'!P260)","v":""},{"$f":"IF(ISBLANK('Scholars Nomination Form'!Q260),\"\",'Scholars Nomination Form'!Q260)","v":""},{"$f":"IF(ISBLANK('Scholars Nomination Form'!R260),\"\",'Scholars Nomination Form'!R260)","v":""},{"$f":"IF(ISBLANK('Scholars Nomination Form'!S260),\"\",'Scholars Nomination Form'!S260)","v":""},{"$f":"IF(ISBLANK('Scholars Nomination Form'!T260),\"\",'Scholars Nomination Form'!T260)","v":""},{"$f":"IF(ISBLANK('Scholars Nomination Form'!U260),\"\",'Scholars Nomination Form'!U260)","v":""},{"$f":"IF(ISBLANK('Scholars Nomination Form'!V260),\"\",'Scholars Nomination Form'!V260)","v":""},{"$f":"IF(ISBLANK('Scholars Nomination Form'!W260),\"\",'Scholars Nomination Form'!W260)","v":""},{"$f":"IF(ISBLANK('Scholars Nomination Form'!X260),\"\",'Scholars Nomination Form'!X260)","v":""},{"$f":"IF(ISBLANK('Scholars Nomination Form'!Y260),\"\",'Scholars Nomination Form'!Y260)","v":""},{"$f":"IF(ISBLANK('Scholars Nomination Form'!Z260),\"\",'Scholars Nomination Form'!Z260)","v":""},{"$f":"IF(ISBLANK('Scholars Nomination Form'!AA260),\"\",'Scholars Nomination Form'!AA260)","v":""}]
[{"$f":"IF(ISBLANK('Scholars Nomination Form'!$F261),\"\",'Scholars Nomination Form'!$C$11)","v":""},{"$f":"IF(ISBLANK('Scholars Nomination Form'!$F261),\"\",'Scholars Nomination Form'!$C$12)","v":""},{"$f":"IF(ISBLANK('Scholars Nomination Form'!$F261),\"\",'Scholars Nomination Form'!$C$13)","v":""},{"$f":"IF(ISBLANK('Scholars Nomination Form'!$F261),\"\",'Scholars Nomination Form'!$C$14)","v":""},{"$f":"IF(ISBLANK('Scholars Nomination Form'!$F261),\"\",'Scholars Nomination Form'!$C$15)","v":""},{"$f":"IF(ISBLANK('Scholars Nomination Form'!$F261),\"\",'Scholars Nomination Form'!$C$16)","v":""},{"$f":"IF(ISBLANK('Scholars Nomination Form'!B261),\"\",'Scholars Nomination Form'!B261)","v":""},{"$f":"IF(ISBLANK('Scholars Nomination Form'!D261),\"\",'Scholars Nomination Form'!D261)","v":""},{"$f":"IF(ISBLANK('Scholars Nomination Form'!E261),\"\",'Scholars Nomination Form'!E261)","v":""},{"$f":"IF(ISBLANK('Scholars Nomination Form'!F261),\"\",'Scholars Nomination Form'!F261)","v":""},{"$f":"IF(ISBLANK('Scholars Nomination Form'!G261),\"\",'Scholars Nomination Form'!G261)","v":""},{"$f":"IF(ISBLANK('Scholars Nomination Form'!H261),\"\",'Scholars Nomination Form'!H261)","v":""},{"$f":"IF(ISBLANK('Scholars Nomination Form'!I261),\"\",'Scholars Nomination Form'!I261)","v":""},{"$f":"IF(ISBLANK('Scholars Nomination Form'!J261),\"\",'Scholars Nomination Form'!J261)","v":""},{"$f":"IF(ISBLANK('Scholars Nomination Form'!K261),\"\",'Scholars Nomination Form'!K261)","v":""},{"$f":"IF(ISBLANK('Scholars Nomination Form'!L261),\"\",'Scholars Nomination Form'!L261)","v":""},{"$f":"IF(ISBLANK('Scholars Nomination Form'!M261),\"\",'Scholars Nomination Form'!M261)","v":""},{"$f":"IF(ISBLANK('Scholars Nomination Form'!N261),\"\",'Scholars Nomination Form'!N261)","v":""},{"$f":"IF(ISBLANK('Scholars Nomination Form'!O261),\"\",'Scholars Nomination Form'!O261)","v":""},{"$f":"IF(ISBLANK('Scholars Nomination Form'!P261),\"\",'Scholars Nomination Form'!P261)","v":""},{"$f":"IF(ISBLANK('Scholars Nomination Form'!Q261),\"\",'Scholars Nomination Form'!Q261)","v":""},{"$f":"IF(ISBLANK('Scholars Nomination Form'!R261),\"\",'Scholars Nomination Form'!R261)","v":""},{"$f":"IF(ISBLANK('Scholars Nomination Form'!S261),\"\",'Scholars Nomination Form'!S261)","v":""},{"$f":"IF(ISBLANK('Scholars Nomination Form'!T261),\"\",'Scholars Nomination Form'!T261)","v":""},{"$f":"IF(ISBLANK('Scholars Nomination Form'!U261),\"\",'Scholars Nomination Form'!U261)","v":""},{"$f":"IF(ISBLANK('Scholars Nomination Form'!V261),\"\",'Scholars Nomination Form'!V261)","v":""},{"$f":"IF(ISBLANK('Scholars Nomination Form'!W261),\"\",'Scholars Nomination Form'!W261)","v":""},{"$f":"IF(ISBLANK('Scholars Nomination Form'!X261),\"\",'Scholars Nomination Form'!X261)","v":""},{"$f":"IF(ISBLANK('Scholars Nomination Form'!Y261),\"\",'Scholars Nomination Form'!Y261)","v":""},{"$f":"IF(ISBLANK('Scholars Nomination Form'!Z261),\"\",'Scholars Nomination Form'!Z261)","v":""},{"$f":"IF(ISBLANK('Scholars Nomination Form'!AA261),\"\",'Scholars Nomination Form'!AA261)","v":""}]
[{"$f":"IF(ISBLANK('Scholars Nomination Form'!$F262),\"\",'Scholars Nomination Form'!$C$11)","v":""},{"$f":"IF(ISBLANK('Scholars Nomination Form'!$F262),\"\",'Scholars Nomination Form'!$C$12)","v":""},{"$f":"IF(ISBLANK('Scholars Nomination Form'!$F262),\"\",'Scholars Nomination Form'!$C$13)","v":""},{"$f":"IF(ISBLANK('Scholars Nomination Form'!$F262),\"\",'Scholars Nomination Form'!$C$14)","v":""},{"$f":"IF(ISBLANK('Scholars Nomination Form'!$F262),\"\",'Scholars Nomination Form'!$C$15)","v":""},{"$f":"IF(ISBLANK('Scholars Nomination Form'!$F262),\"\",'Scholars Nomination Form'!$C$16)","v":""},{"$f":"IF(ISBLANK('Scholars Nomination Form'!B262),\"\",'Scholars Nomination Form'!B262)","v":""},{"$f":"IF(ISBLANK('Scholars Nomination Form'!D262),\"\",'Scholars Nomination Form'!D262)","v":""},{"$f":"IF(ISBLANK('Scholars Nomination Form'!E262),\"\",'Scholars Nomination Form'!E262)","v":""},{"$f":"IF(ISBLANK('Scholars Nomination Form'!F262),\"\",'Scholars Nomination Form'!F262)","v":""},{"$f":"IF(ISBLANK('Scholars Nomination Form'!G262),\"\",'Scholars Nomination Form'!G262)","v":""},{"$f":"IF(ISBLANK('Scholars Nomination Form'!H262),\"\",'Scholars Nomination Form'!H262)","v":""},{"$f":"IF(ISBLANK('Scholars Nomination Form'!I262),\"\",'Scholars Nomination Form'!I262)","v":""},{"$f":"IF(ISBLANK('Scholars Nomination Form'!J262),\"\",'Scholars Nomination Form'!J262)","v":""},{"$f":"IF(ISBLANK('Scholars Nomination Form'!K262),\"\",'Scholars Nomination Form'!K262)","v":""},{"$f":"IF(ISBLANK('Scholars Nomination Form'!L262),\"\",'Scholars Nomination Form'!L262)","v":""},{"$f":"IF(ISBLANK('Scholars Nomination Form'!M262),\"\",'Scholars Nomination Form'!M262)","v":""},{"$f":"IF(ISBLANK('Scholars Nomination Form'!N262),\"\",'Scholars Nomination Form'!N262)","v":""},{"$f":"IF(ISBLANK('Scholars Nomination Form'!O262),\"\",'Scholars Nomination Form'!O262)","v":""},{"$f":"IF(ISBLANK('Scholars Nomination Form'!P262),\"\",'Scholars Nomination Form'!P262)","v":""},{"$f":"IF(ISBLANK('Scholars Nomination Form'!Q262),\"\",'Scholars Nomination Form'!Q262)","v":""},{"$f":"IF(ISBLANK('Scholars Nomination Form'!R262),\"\",'Scholars Nomination Form'!R262)","v":""},{"$f":"IF(ISBLANK('Scholars Nomination Form'!S262),\"\",'Scholars Nomination Form'!S262)","v":""},{"$f":"IF(ISBLANK('Scholars Nomination Form'!T262),\"\",'Scholars Nomination Form'!T262)","v":""},{"$f":"IF(ISBLANK('Scholars Nomination Form'!U262),\"\",'Scholars Nomination Form'!U262)","v":""},{"$f":"IF(ISBLANK('Scholars Nomination Form'!V262),\"\",'Scholars Nomination Form'!V262)","v":""},{"$f":"IF(ISBLANK('Scholars Nomination Form'!W262),\"\",'Scholars Nomination Form'!W262)","v":""},{"$f":"IF(ISBLANK('Scholars Nomination Form'!X262),\"\",'Scholars Nomination Form'!X262)","v":""},{"$f":"IF(ISBLANK('Scholars Nomination Form'!Y262),\"\",'Scholars Nomination Form'!Y262)","v":""},{"$f":"IF(ISBLANK('Scholars Nomination Form'!Z262),\"\",'Scholars Nomination Form'!Z262)","v":""},{"$f":"IF(ISBLANK('Scholars Nomination Form'!AA262),\"\",'Scholars Nomination Form'!AA262)","v":""}]
[{"$f":"IF(ISBLANK('Scholars Nomination Form'!$F263),\"\",'Scholars Nomination Form'!$C$11)","v":""},{"$f":"IF(ISBLANK('Scholars Nomination Form'!$F263),\"\",'Scholars Nomination Form'!$C$12)","v":""},{"$f":"IF(ISBLANK('Scholars Nomination Form'!$F263),\"\",'Scholars Nomination Form'!$C$13)","v":""},{"$f":"IF(ISBLANK('Scholars Nomination Form'!$F263),\"\",'Scholars Nomination Form'!$C$14)","v":""},{"$f":"IF(ISBLANK('Scholars Nomination Form'!$F263),\"\",'Scholars Nomination Form'!$C$15)","v":""},{"$f":"IF(ISBLANK('Scholars Nomination Form'!$F263),\"\",'Scholars Nomination Form'!$C$16)","v":""},{"$f":"IF(ISBLANK('Scholars Nomination Form'!B263),\"\",'Scholars Nomination Form'!B263)","v":""},{"$f":"IF(ISBLANK('Scholars Nomination Form'!D263),\"\",'Scholars Nomination Form'!D263)","v":""},{"$f":"IF(ISBLANK('Scholars Nomination Form'!E263),\"\",'Scholars Nomination Form'!E263)","v":""},{"$f":"IF(ISBLANK('Scholars Nomination Form'!F263),\"\",'Scholars Nomination Form'!F263)","v":""},{"$f":"IF(ISBLANK('Scholars Nomination Form'!G263),\"\",'Scholars Nomination Form'!G263)","v":""},{"$f":"IF(ISBLANK('Scholars Nomination Form'!H263),\"\",'Scholars Nomination Form'!H263)","v":""},{"$f":"IF(ISBLANK('Scholars Nomination Form'!I263),\"\",'Scholars Nomination Form'!I263)","v":""},{"$f":"IF(ISBLANK('Scholars Nomination Form'!J263),\"\",'Scholars Nomination Form'!J263)","v":""},{"$f":"IF(ISBLANK('Scholars Nomination Form'!K263),\"\",'Scholars Nomination Form'!K263)","v":""},{"$f":"IF(ISBLANK('Scholars Nomination Form'!L263),\"\",'Scholars Nomination Form'!L263)","v":""},{"$f":"IF(ISBLANK('Scholars Nomination Form'!M263),\"\",'Scholars Nomination Form'!M263)","v":""},{"$f":"IF(ISBLANK('Scholars Nomination Form'!N263),\"\",'Scholars Nomination Form'!N263)","v":""},{"$f":"IF(ISBLANK('Scholars Nomination Form'!O263),\"\",'Scholars Nomination Form'!O263)","v":""},{"$f":"IF(ISBLANK('Scholars Nomination Form'!P263),\"\",'Scholars Nomination Form'!P263)","v":""},{"$f":"IF(ISBLANK('Scholars Nomination Form'!Q263),\"\",'Scholars Nomination Form'!Q263)","v":""},{"$f":"IF(ISBLANK('Scholars Nomination Form'!R263),\"\",'Scholars Nomination Form'!R263)","v":""},{"$f":"IF(ISBLANK('Scholars Nomination Form'!S263),\"\",'Scholars Nomination Form'!S263)","v":""},{"$f":"IF(ISBLANK('Scholars Nomination Form'!T263),\"\",'Scholars Nomination Form'!T263)","v":""},{"$f":"IF(ISBLANK('Scholars Nomination Form'!U263),\"\",'Scholars Nomination Form'!U263)","v":""},{"$f":"IF(ISBLANK('Scholars Nomination Form'!V263),\"\",'Scholars Nomination Form'!V263)","v":""},{"$f":"IF(ISBLANK('Scholars Nomination Form'!W263),\"\",'Scholars Nomination Form'!W263)","v":""},{"$f":"IF(ISBLANK('Scholars Nomination Form'!X263),\"\",'Scholars Nomination Form'!X263)","v":""},{"$f":"IF(ISBLANK('Scholars Nomination Form'!Y263),\"\",'Scholars Nomination Form'!Y263)","v":""},{"$f":"IF(ISBLANK('Scholars Nomination Form'!Z263),\"\",'Scholars Nomination Form'!Z263)","v":""},{"$f":"IF(ISBLANK('Scholars Nomination Form'!AA263),\"\",'Scholars Nomination Form'!AA263)","v":""}]
[{"$f":"IF(ISBLANK('Scholars Nomination Form'!$F264),\"\",'Scholars Nomination Form'!$C$11)","v":""},{"$f":"IF(ISBLANK('Scholars Nomination Form'!$F264),\"\",'Scholars Nomination Form'!$C$12)","v":""},{"$f":"IF(ISBLANK('Scholars Nomination Form'!$F264),\"\",'Scholars Nomination Form'!$C$13)","v":""},{"$f":"IF(ISBLANK('Scholars Nomination Form'!$F264),\"\",'Scholars Nomination Form'!$C$14)","v":""},{"$f":"IF(ISBLANK('Scholars Nomination Form'!$F264),\"\",'Scholars Nomination Form'!$C$15)","v":""},{"$f":"IF(ISBLANK('Scholars Nomination Form'!$F264),\"\",'Scholars Nomination Form'!$C$16)","v":""},{"$f":"IF(ISBLANK('Scholars Nomination Form'!B264),\"\",'Scholars Nomination Form'!B264)","v":""},{"$f":"IF(ISBLANK('Scholars Nomination Form'!D264),\"\",'Scholars Nomination Form'!D264)","v":""},{"$f":"IF(ISBLANK('Scholars Nomination Form'!E264),\"\",'Scholars Nomination Form'!E264)","v":""},{"$f":"IF(ISBLANK('Scholars Nomination Form'!F264),\"\",'Scholars Nomination Form'!F264)","v":""},{"$f":"IF(ISBLANK('Scholars Nomination Form'!G264),\"\",'Scholars Nomination Form'!G264)","v":""},{"$f":"IF(ISBLANK('Scholars Nomination Form'!H264),\"\",'Scholars Nomination Form'!H264)","v":""},{"$f":"IF(ISBLANK('Scholars Nomination Form'!I264),\"\",'Scholars Nomination Form'!I264)","v":""},{"$f":"IF(ISBLANK('Scholars Nomination Form'!J264),\"\",'Scholars Nomination Form'!J264)","v":""},{"$f":"IF(ISBLANK('Scholars Nomination Form'!K264),\"\",'Scholars Nomination Form'!K264)","v":""},{"$f":"IF(ISBLANK('Scholars Nomination Form'!L264),\"\",'Scholars Nomination Form'!L264)","v":""},{"$f":"IF(ISBLANK('Scholars Nomination Form'!M264),\"\",'Scholars Nomination Form'!M264)","v":""},{"$f":"IF(ISBLANK('Scholars Nomination Form'!N264),\"\",'Scholars Nomination Form'!N264)","v":""},{"$f":"IF(ISBLANK('Scholars Nomination Form'!O264),\"\",'Scholars Nomination Form'!O264)","v":""},{"$f":"IF(ISBLANK('Scholars Nomination Form'!P264),\"\",'Scholars Nomination Form'!P264)","v":""},{"$f":"IF(ISBLANK('Scholars Nomination Form'!Q264),\"\",'Scholars Nomination Form'!Q264)","v":""},{"$f":"IF(ISBLANK('Scholars Nomination Form'!R264),\"\",'Scholars Nomination Form'!R264)","v":""},{"$f":"IF(ISBLANK('Scholars Nomination Form'!S264),\"\",'Scholars Nomination Form'!S264)","v":""},{"$f":"IF(ISBLANK('Scholars Nomination Form'!T264),\"\",'Scholars Nomination Form'!T264)","v":""},{"$f":"IF(ISBLANK('Scholars Nomination Form'!U264),\"\",'Scholars Nomination Form'!U264)","v":""},{"$f":"IF(ISBLANK('Scholars Nomination Form'!V264),\"\",'Scholars Nomination Form'!V264)","v":""},{"$f":"IF(ISBLANK('Scholars Nomination Form'!W264),\"\",'Scholars Nomination Form'!W264)","v":""},{"$f":"IF(ISBLANK('Scholars Nomination Form'!X264),\"\",'Scholars Nomination Form'!X264)","v":""},{"$f":"IF(ISBLANK('Scholars Nomination Form'!Y264),\"\",'Scholars Nomination Form'!Y264)","v":""},{"$f":"IF(ISBLANK('Scholars Nomination Form'!Z264),\"\",'Scholars Nomination Form'!Z264)","v":""},{"$f":"IF(ISBLANK('Scholars Nomination Form'!AA264),\"\",'Scholars Nomination Form'!AA264)","v":""}]
[{"$f":"IF(ISBLANK('Scholars Nomination Form'!$F265),\"\",'Scholars Nomination Form'!$C$11)","v":""},{"$f":"IF(ISBLANK('Scholars Nomination Form'!$F265),\"\",'Scholars Nomination Form'!$C$12)","v":""},{"$f":"IF(ISBLANK('Scholars Nomination Form'!$F265),\"\",'Scholars Nomination Form'!$C$13)","v":""},{"$f":"IF(ISBLANK('Scholars Nomination Form'!$F265),\"\",'Scholars Nomination Form'!$C$14)","v":""},{"$f":"IF(ISBLANK('Scholars Nomination Form'!$F265),\"\",'Scholars Nomination Form'!$C$15)","v":""},{"$f":"IF(ISBLANK('Scholars Nomination Form'!$F265),\"\",'Scholars Nomination Form'!$C$16)","v":""},{"$f":"IF(ISBLANK('Scholars Nomination Form'!B265),\"\",'Scholars Nomination Form'!B265)","v":""},{"$f":"IF(ISBLANK('Scholars Nomination Form'!D265),\"\",'Scholars Nomination Form'!D265)","v":""},{"$f":"IF(ISBLANK('Scholars Nomination Form'!E265),\"\",'Scholars Nomination Form'!E265)","v":""},{"$f":"IF(ISBLANK('Scholars Nomination Form'!F265),\"\",'Scholars Nomination Form'!F265)","v":""},{"$f":"IF(ISBLANK('Scholars Nomination Form'!G265),\"\",'Scholars Nomination Form'!G265)","v":""},{"$f":"IF(ISBLANK('Scholars Nomination Form'!H265),\"\",'Scholars Nomination Form'!H265)","v":""},{"$f":"IF(ISBLANK('Scholars Nomination Form'!I265),\"\",'Scholars Nomination Form'!I265)","v":""},{"$f":"IF(ISBLANK('Scholars Nomination Form'!J265),\"\",'Scholars Nomination Form'!J265)","v":""},{"$f":"IF(ISBLANK('Scholars Nomination Form'!K265),\"\",'Scholars Nomination Form'!K265)","v":""},{"$f":"IF(ISBLANK('Scholars Nomination Form'!L265),\"\",'Scholars Nomination Form'!L265)","v":""},{"$f":"IF(ISBLANK('Scholars Nomination Form'!M265),\"\",'Scholars Nomination Form'!M265)","v":""},{"$f":"IF(ISBLANK('Scholars Nomination Form'!N265),\"\",'Scholars Nomination Form'!N265)","v":""},{"$f":"IF(ISBLANK('Scholars Nomination Form'!O265),\"\",'Scholars Nomination Form'!O265)","v":""},{"$f":"IF(ISBLANK('Scholars Nomination Form'!P265),\"\",'Scholars Nomination Form'!P265)","v":""},{"$f":"IF(ISBLANK('Scholars Nomination Form'!Q265),\"\",'Scholars Nomination Form'!Q265)","v":""},{"$f":"IF(ISBLANK('Scholars Nomination Form'!R265),\"\",'Scholars Nomination Form'!R265)","v":""},{"$f":"IF(ISBLANK('Scholars Nomination Form'!S265),\"\",'Scholars Nomination Form'!S265)","v":""},{"$f":"IF(ISBLANK('Scholars Nomination Form'!T265),\"\",'Scholars Nomination Form'!T265)","v":""},{"$f":"IF(ISBLANK('Scholars Nomination Form'!U265),\"\",'Scholars Nomination Form'!U265)","v":""},{"$f":"IF(ISBLANK('Scholars Nomination Form'!V265),\"\",'Scholars Nomination Form'!V265)","v":""},{"$f":"IF(ISBLANK('Scholars Nomination Form'!W265),\"\",'Scholars Nomination Form'!W265)","v":""},{"$f":"IF(ISBLANK('Scholars Nomination Form'!X265),\"\",'Scholars Nomination Form'!X265)","v":""},{"$f":"IF(ISBLANK('Scholars Nomination Form'!Y265),\"\",'Scholars Nomination Form'!Y265)","v":""},{"$f":"IF(ISBLANK('Scholars Nomination Form'!Z265),\"\",'Scholars Nomination Form'!Z265)","v":""},{"$f":"IF(ISBLANK('Scholars Nomination Form'!AA265),\"\",'Scholars Nomination Form'!AA265)","v":""}]
[{"$f":"IF(ISBLANK('Scholars Nomination Form'!$F266),\"\",'Scholars Nomination Form'!$C$11)","v":""},{"$f":"IF(ISBLANK('Scholars Nomination Form'!$F266),\"\",'Scholars Nomination Form'!$C$12)","v":""},{"$f":"IF(ISBLANK('Scholars Nomination Form'!$F266),\"\",'Scholars Nomination Form'!$C$13)","v":""},{"$f":"IF(ISBLANK('Scholars Nomination Form'!$F266),\"\",'Scholars Nomination Form'!$C$14)","v":""},{"$f":"IF(ISBLANK('Scholars Nomination Form'!$F266),\"\",'Scholars Nomination Form'!$C$15)","v":""},{"$f":"IF(ISBLANK('Scholars Nomination Form'!$F266),\"\",'Scholars Nomination Form'!$C$16)","v":""},{"$f":"IF(ISBLANK('Scholars Nomination Form'!B266),\"\",'Scholars Nomination Form'!B266)","v":""},{"$f":"IF(ISBLANK('Scholars Nomination Form'!D266),\"\",'Scholars Nomination Form'!D266)","v":""},{"$f":"IF(ISBLANK('Scholars Nomination Form'!E266),\"\",'Scholars Nomination Form'!E266)","v":""},{"$f":"IF(ISBLANK('Scholars Nomination Form'!F266),\"\",'Scholars Nomination Form'!F266)","v":""},{"$f":"IF(ISBLANK('Scholars Nomination Form'!G266),\"\",'Scholars Nomination Form'!G266)","v":""},{"$f":"IF(ISBLANK('Scholars Nomination Form'!H266),\"\",'Scholars Nomination Form'!H266)","v":""},{"$f":"IF(ISBLANK('Scholars Nomination Form'!I266),\"\",'Scholars Nomination Form'!I266)","v":""},{"$f":"IF(ISBLANK('Scholars Nomination Form'!J266),\"\",'Scholars Nomination Form'!J266)","v":""},{"$f":"IF(ISBLANK('Scholars Nomination Form'!K266),\"\",'Scholars Nomination Form'!K266)","v":""},{"$f":"IF(ISBLANK('Scholars Nomination Form'!L266),\"\",'Scholars Nomination Form'!L266)","v":""},{"$f":"IF(ISBLANK('Scholars Nomination Form'!M266),\"\",'Scholars Nomination Form'!M266)","v":""},{"$f":"IF(ISBLANK('Scholars Nomination Form'!N266),\"\",'Scholars Nomination Form'!N266)","v":""},{"$f":"IF(ISBLANK('Scholars Nomination Form'!O266),\"\",'Scholars Nomination Form'!O266)","v":""},{"$f":"IF(ISBLANK('Scholars Nomination Form'!P266),\"\",'Scholars Nomination Form'!P266)","v":""},{"$f":"IF(ISBLANK('Scholars Nomination Form'!Q266),\"\",'Scholars Nomination Form'!Q266)","v":""},{"$f":"IF(ISBLANK('Scholars Nomination Form'!R266),\"\",'Scholars Nomination Form'!R266)","v":""},{"$f":"IF(ISBLANK('Scholars Nomination Form'!S266),\"\",'Scholars Nomination Form'!S266)","v":""},{"$f":"IF(ISBLANK('Scholars Nomination Form'!T266),\"\",'Scholars Nomination Form'!T266)","v":""},{"$f":"IF(ISBLANK('Scholars Nomination Form'!U266),\"\",'Scholars Nomination Form'!U266)","v":""},{"$f":"IF(ISBLANK('Scholars Nomination Form'!V266),\"\",'Scholars Nomination Form'!V266)","v":""},{"$f":"IF(ISBLANK('Scholars Nomination Form'!W266),\"\",'Scholars Nomination Form'!W266)","v":""},{"$f":"IF(ISBLANK('Scholars Nomination Form'!X266),\"\",'Scholars Nomination Form'!X266)","v":""},{"$f":"IF(ISBLANK('Scholars Nomination Form'!Y266),\"\",'Scholars Nomination Form'!Y266)","v":""},{"$f":"IF(ISBLANK('Scholars Nomination Form'!Z266),\"\",'Scholars Nomination Form'!Z266)","v":""},{"$f":"IF(ISBLANK('Scholars Nomination Form'!AA266),\"\",'Scholars Nomination Form'!AA266)","v":""}]
[{"$f":"IF(ISBLANK('Scholars Nomination Form'!$F267),\"\",'Scholars Nomination Form'!$C$11)","v":""},{"$f":"IF(ISBLANK('Scholars Nomination Form'!$F267),\"\",'Scholars Nomination Form'!$C$12)","v":""},{"$f":"IF(ISBLANK('Scholars Nomination Form'!$F267),\"\",'Scholars Nomination Form'!$C$13)","v":""},{"$f":"IF(ISBLANK('Scholars Nomination Form'!$F267),\"\",'Scholars Nomination Form'!$C$14)","v":""},{"$f":"IF(ISBLANK('Scholars Nomination Form'!$F267),\"\",'Scholars Nomination Form'!$C$15)","v":""},{"$f":"IF(ISBLANK('Scholars Nomination Form'!$F267),\"\",'Scholars Nomination Form'!$C$16)","v":""},{"$f":"IF(ISBLANK('Scholars Nomination Form'!B267),\"\",'Scholars Nomination Form'!B267)","v":""},{"$f":"IF(ISBLANK('Scholars Nomination Form'!D267),\"\",'Scholars Nomination Form'!D267)","v":""},{"$f":"IF(ISBLANK('Scholars Nomination Form'!E267),\"\",'Scholars Nomination Form'!E267)","v":""},{"$f":"IF(ISBLANK('Scholars Nomination Form'!F267),\"\",'Scholars Nomination Form'!F267)","v":""},{"$f":"IF(ISBLANK('Scholars Nomination Form'!G267),\"\",'Scholars Nomination Form'!G267)","v":""},{"$f":"IF(ISBLANK('Scholars Nomination Form'!H267),\"\",'Scholars Nomination Form'!H267)","v":""},{"$f":"IF(ISBLANK('Scholars Nomination Form'!I267),\"\",'Scholars Nomination Form'!I267)","v":""},{"$f":"IF(ISBLANK('Scholars Nomination Form'!J267),\"\",'Scholars Nomination Form'!J267)","v":""},{"$f":"IF(ISBLANK('Scholars Nomination Form'!K267),\"\",'Scholars Nomination Form'!K267)","v":""},{"$f":"IF(ISBLANK('Scholars Nomination Form'!L267),\"\",'Scholars Nomination Form'!L267)","v":""},{"$f":"IF(ISBLANK('Scholars Nomination Form'!M267),\"\",'Scholars Nomination Form'!M267)","v":""},{"$f":"IF(ISBLANK('Scholars Nomination Form'!N267),\"\",'Scholars Nomination Form'!N267)","v":""},{"$f":"IF(ISBLANK('Scholars Nomination Form'!O267),\"\",'Scholars Nomination Form'!O267)","v":""},{"$f":"IF(ISBLANK('Scholars Nomination Form'!P267),\"\",'Scholars Nomination Form'!P267)","v":""},{"$f":"IF(ISBLANK('Scholars Nomination Form'!Q267),\"\",'Scholars Nomination Form'!Q267)","v":""},{"$f":"IF(ISBLANK('Scholars Nomination Form'!R267),\"\",'Scholars Nomination Form'!R267)","v":""},{"$f":"IF(ISBLANK('Scholars Nomination Form'!S267),\"\",'Scholars Nomination Form'!S267)","v":""},{"$f":"IF(ISBLANK('Scholars Nomination Form'!T267),\"\",'Scholars Nomination Form'!T267)","v":""},{"$f":"IF(ISBLANK('Scholars Nomination Form'!U267),\"\",'Scholars Nomination Form'!U267)","v":""},{"$f":"IF(ISBLANK('Scholars Nomination Form'!V267),\"\",'Scholars Nomination Form'!V267)","v":""},{"$f":"IF(ISBLANK('Scholars Nomination Form'!W267),\"\",'Scholars Nomination Form'!W267)","v":""},{"$f":"IF(ISBLANK('Scholars Nomination Form'!X267),\"\",'Scholars Nomination Form'!X267)","v":""},{"$f":"IF(ISBLANK('Scholars Nomination Form'!Y267),\"\",'Scholars Nomination Form'!Y267)","v":""},{"$f":"IF(ISBLANK('Scholars Nomination Form'!Z267),\"\",'Scholars Nomination Form'!Z267)","v":""},{"$f":"IF(ISBLANK('Scholars Nomination Form'!AA267),\"\",'Scholars Nomination Form'!AA267)","v":""}]
[{"$f":"IF(ISBLANK('Scholars Nomination Form'!$F268),\"\",'Scholars Nomination Form'!$C$11)","v":""},{"$f":"IF(ISBLANK('Scholars Nomination Form'!$F268),\"\",'Scholars Nomination Form'!$C$12)","v":""},{"$f":"IF(ISBLANK('Scholars Nomination Form'!$F268),\"\",'Scholars Nomination Form'!$C$13)","v":""},{"$f":"IF(ISBLANK('Scholars Nomination Form'!$F268),\"\",'Scholars Nomination Form'!$C$14)","v":""},{"$f":"IF(ISBLANK('Scholars Nomination Form'!$F268),\"\",'Scholars Nomination Form'!$C$15)","v":""},{"$f":"IF(ISBLANK('Scholars Nomination Form'!$F268),\"\",'Scholars Nomination Form'!$C$16)","v":""},{"$f":"IF(ISBLANK('Scholars Nomination Form'!B268),\"\",'Scholars Nomination Form'!B268)","v":""},{"$f":"IF(ISBLANK('Scholars Nomination Form'!D268),\"\",'Scholars Nomination Form'!D268)","v":""},{"$f":"IF(ISBLANK('Scholars Nomination Form'!E268),\"\",'Scholars Nomination Form'!E268)","v":""},{"$f":"IF(ISBLANK('Scholars Nomination Form'!F268),\"\",'Scholars Nomination Form'!F268)","v":""},{"$f":"IF(ISBLANK('Scholars Nomination Form'!G268),\"\",'Scholars Nomination Form'!G268)","v":""},{"$f":"IF(ISBLANK('Scholars Nomination Form'!H268),\"\",'Scholars Nomination Form'!H268)","v":""},{"$f":"IF(ISBLANK('Scholars Nomination Form'!I268),\"\",'Scholars Nomination Form'!I268)","v":""},{"$f":"IF(ISBLANK('Scholars Nomination Form'!J268),\"\",'Scholars Nomination Form'!J268)","v":""},{"$f":"IF(ISBLANK('Scholars Nomination Form'!K268),\"\",'Scholars Nomination Form'!K268)","v":""},{"$f":"IF(ISBLANK('Scholars Nomination Form'!L268),\"\",'Scholars Nomination Form'!L268)","v":""},{"$f":"IF(ISBLANK('Scholars Nomination Form'!M268),\"\",'Scholars Nomination Form'!M268)","v":""},{"$f":"IF(ISBLANK('Scholars Nomination Form'!N268),\"\",'Scholars Nomination Form'!N268)","v":""},{"$f":"IF(ISBLANK('Scholars Nomination Form'!O268),\"\",'Scholars Nomination Form'!O268)","v":""},{"$f":"IF(ISBLANK('Scholars Nomination Form'!P268),\"\",'Scholars Nomination Form'!P268)","v":""},{"$f":"IF(ISBLANK('Scholars Nomination Form'!Q268),\"\",'Scholars Nomination Form'!Q268)","v":""},{"$f":"IF(ISBLANK('Scholars Nomination Form'!R268),\"\",'Scholars Nomination Form'!R268)","v":""},{"$f":"IF(ISBLANK('Scholars Nomination Form'!S268),\"\",'Scholars Nomination Form'!S268)","v":""},{"$f":"IF(ISBLANK('Scholars Nomination Form'!T268),\"\",'Scholars Nomination Form'!T268)","v":""},{"$f":"IF(ISBLANK('Scholars Nomination Form'!U268),\"\",'Scholars Nomination Form'!U268)","v":""},{"$f":"IF(ISBLANK('Scholars Nomination Form'!V268),\"\",'Scholars Nomination Form'!V268)","v":""},{"$f":"IF(ISBLANK('Scholars Nomination Form'!W268),\"\",'Scholars Nomination Form'!W268)","v":""},{"$f":"IF(ISBLANK('Scholars Nomination Form'!X268),\"\",'Scholars Nomination Form'!X268)","v":""},{"$f":"IF(ISBLANK('Scholars Nomination Form'!Y268),\"\",'Scholars Nomination Form'!Y268)","v":""},{"$f":"IF(ISBLANK('Scholars Nomination Form'!Z268),\"\",'Scholars Nomination Form'!Z268)","v":""},{"$f":"IF(ISBLANK('Scholars Nomination Form'!AA268),\"\",'Scholars Nomination Form'!AA268)","v":""}]
[{"$f":"IF(ISBLANK('Scholars Nomination Form'!$F269),\"\",'Scholars Nomination Form'!$C$11)","v":""},{"$f":"IF(ISBLANK('Scholars Nomination Form'!$F269),\"\",'Scholars Nomination Form'!$C$12)","v":""},{"$f":"IF(ISBLANK('Scholars Nomination Form'!$F269),\"\",'Scholars Nomination Form'!$C$13)","v":""},{"$f":"IF(ISBLANK('Scholars Nomination Form'!$F269),\"\",'Scholars Nomination Form'!$C$14)","v":""},{"$f":"IF(ISBLANK('Scholars Nomination Form'!$F269),\"\",'Scholars Nomination Form'!$C$15)","v":""},{"$f":"IF(ISBLANK('Scholars Nomination Form'!$F269),\"\",'Scholars Nomination Form'!$C$16)","v":""},{"$f":"IF(ISBLANK('Scholars Nomination Form'!B269),\"\",'Scholars Nomination Form'!B269)","v":""},{"$f":"IF(ISBLANK('Scholars Nomination Form'!D269),\"\",'Scholars Nomination Form'!D269)","v":""},{"$f":"IF(ISBLANK('Scholars Nomination Form'!E269),\"\",'Scholars Nomination Form'!E269)","v":""},{"$f":"IF(ISBLANK('Scholars Nomination Form'!F269),\"\",'Scholars Nomination Form'!F269)","v":""},{"$f":"IF(ISBLANK('Scholars Nomination Form'!G269),\"\",'Scholars Nomination Form'!G269)","v":""},{"$f":"IF(ISBLANK('Scholars Nomination Form'!H269),\"\",'Scholars Nomination Form'!H269)","v":""},{"$f":"IF(ISBLANK('Scholars Nomination Form'!I269),\"\",'Scholars Nomination Form'!I269)","v":""},{"$f":"IF(ISBLANK('Scholars Nomination Form'!J269),\"\",'Scholars Nomination Form'!J269)","v":""},{"$f":"IF(ISBLANK('Scholars Nomination Form'!K269),\"\",'Scholars Nomination Form'!K269)","v":""},{"$f":"IF(ISBLANK('Scholars Nomination Form'!L269),\"\",'Scholars Nomination Form'!L269)","v":""},{"$f":"IF(ISBLANK('Scholars Nomination Form'!M269),\"\",'Scholars Nomination Form'!M269)","v":""},{"$f":"IF(ISBLANK('Scholars Nomination Form'!N269),\"\",'Scholars Nomination Form'!N269)","v":""},{"$f":"IF(ISBLANK('Scholars Nomination Form'!O269),\"\",'Scholars Nomination Form'!O269)","v":""},{"$f":"IF(ISBLANK('Scholars Nomination Form'!P269),\"\",'Scholars Nomination Form'!P269)","v":""},{"$f":"IF(ISBLANK('Scholars Nomination Form'!Q269),\"\",'Scholars Nomination Form'!Q269)","v":""},{"$f":"IF(ISBLANK('Scholars Nomination Form'!R269),\"\",'Scholars Nomination Form'!R269)","v":""},{"$f":"IF(ISBLANK('Scholars Nomination Form'!S269),\"\",'Scholars Nomination Form'!S269)","v":""},{"$f":"IF(ISBLANK('Scholars Nomination Form'!T269),\"\",'Scholars Nomination Form'!T269)","v":""},{"$f":"IF(ISBLANK('Scholars Nomination Form'!U269),\"\",'Scholars Nomination Form'!U269)","v":""},{"$f":"IF(ISBLANK('Scholars Nomination Form'!V269),\"\",'Scholars Nomination Form'!V269)","v":""},{"$f":"IF(ISBLANK('Scholars Nomination Form'!W269),\"\",'Scholars Nomination Form'!W269)","v":""},{"$f":"IF(ISBLANK('Scholars Nomination Form'!X269),\"\",'Scholars Nomination Form'!X269)","v":""},{"$f":"IF(ISBLANK('Scholars Nomination Form'!Y269),\"\",'Scholars Nomination Form'!Y269)","v":""},{"$f":"IF(ISBLANK('Scholars Nomination Form'!Z269),\"\",'Scholars Nomination Form'!Z269)","v":""},{"$f":"IF(ISBLANK('Scholars Nomination Form'!AA269),\"\",'Scholars Nomination Form'!AA269)","v":""}]
[{"$f":"IF(ISBLANK('Scholars Nomination Form'!$F270),\"\",'Scholars Nomination Form'!$C$11)","v":""},{"$f":"IF(ISBLANK('Scholars Nomination Form'!$F270),\"\",'Scholars Nomination Form'!$C$12)","v":""},{"$f":"IF(ISBLANK('Scholars Nomination Form'!$F270),\"\",'Scholars Nomination Form'!$C$13)","v":""},{"$f":"IF(ISBLANK('Scholars Nomination Form'!$F270),\"\",'Scholars Nomination Form'!$C$14)","v":""},{"$f":"IF(ISBLANK('Scholars Nomination Form'!$F270),\"\",'Scholars Nomination Form'!$C$15)","v":""},{"$f":"IF(ISBLANK('Scholars Nomination Form'!$F270),\"\",'Scholars Nomination Form'!$C$16)","v":""},{"$f":"IF(ISBLANK('Scholars Nomination Form'!B270),\"\",'Scholars Nomination Form'!B270)","v":""},{"$f":"IF(ISBLANK('Scholars Nomination Form'!D270),\"\",'Scholars Nomination Form'!D270)","v":""},{"$f":"IF(ISBLANK('Scholars Nomination Form'!E270),\"\",'Scholars Nomination Form'!E270)","v":""},{"$f":"IF(ISBLANK('Scholars Nomination Form'!F270),\"\",'Scholars Nomination Form'!F270)","v":""},{"$f":"IF(ISBLANK('Scholars Nomination Form'!G270),\"\",'Scholars Nomination Form'!G270)","v":""},{"$f":"IF(ISBLANK('Scholars Nomination Form'!H270),\"\",'Scholars Nomination Form'!H270)","v":""},{"$f":"IF(ISBLANK('Scholars Nomination Form'!I270),\"\",'Scholars Nomination Form'!I270)","v":""},{"$f":"IF(ISBLANK('Scholars Nomination Form'!J270),\"\",'Scholars Nomination Form'!J270)","v":""},{"$f":"IF(ISBLANK('Scholars Nomination Form'!K270),\"\",'Scholars Nomination Form'!K270)","v":""},{"$f":"IF(ISBLANK('Scholars Nomination Form'!L270),\"\",'Scholars Nomination Form'!L270)","v":""},{"$f":"IF(ISBLANK('Scholars Nomination Form'!M270),\"\",'Scholars Nomination Form'!M270)","v":""},{"$f":"IF(ISBLANK('Scholars Nomination Form'!N270),\"\",'Scholars Nomination Form'!N270)","v":""},{"$f":"IF(ISBLANK('Scholars Nomination Form'!O270),\"\",'Scholars Nomination Form'!O270)","v":""},{"$f":"IF(ISBLANK('Scholars Nomination Form'!P270),\"\",'Scholars Nomination Form'!P270)","v":""},{"$f":"IF(ISBLANK('Scholars Nomination Form'!Q270),\"\",'Scholars Nomination Form'!Q270)","v":""},{"$f":"IF(ISBLANK('Scholars Nomination Form'!R270),\"\",'Scholars Nomination Form'!R270)","v":""},{"$f":"IF(ISBLANK('Scholars Nomination Form'!S270),\"\",'Scholars Nomination Form'!S270)","v":""},{"$f":"IF(ISBLANK('Scholars Nomination Form'!T270),\"\",'Scholars Nomination Form'!T270)","v":""},{"$f":"IF(ISBLANK('Scholars Nomination Form'!U270),\"\",'Scholars Nomination Form'!U270)","v":""},{"$f":"IF(ISBLANK('Scholars Nomination Form'!V270),\"\",'Scholars Nomination Form'!V270)","v":""},{"$f":"IF(ISBLANK('Scholars Nomination Form'!W270),\"\",'Scholars Nomination Form'!W270)","v":""},{"$f":"IF(ISBLANK('Scholars Nomination Form'!X270),\"\",'Scholars Nomination Form'!X270)","v":""},{"$f":"IF(ISBLANK('Scholars Nomination Form'!Y270),\"\",'Scholars Nomination Form'!Y270)","v":""},{"$f":"IF(ISBLANK('Scholars Nomination Form'!Z270),\"\",'Scholars Nomination Form'!Z270)","v":""},{"$f":"IF(ISBLANK('Scholars Nomination Form'!AA270),\"\",'Scholars Nomination Form'!AA270)","v":""}]
[{"$f":"IF(ISBLANK('Scholars Nomination Form'!$F271),\"\",'Scholars Nomination Form'!$C$11)","v":""},{"$f":"IF(ISBLANK('Scholars Nomination Form'!$F271),\"\",'Scholars Nomination Form'!$C$12)","v":""},{"$f":"IF(ISBLANK('Scholars Nomination Form'!$F271),\"\",'Scholars Nomination Form'!$C$13)","v":""},{"$f":"IF(ISBLANK('Scholars Nomination Form'!$F271),\"\",'Scholars Nomination Form'!$C$14)","v":""},{"$f":"IF(ISBLANK('Scholars Nomination Form'!$F271),\"\",'Scholars Nomination Form'!$C$15)","v":""},{"$f":"IF(ISBLANK('Scholars Nomination Form'!$F271),\"\",'Scholars Nomination Form'!$C$16)","v":""},{"$f":"IF(ISBLANK('Scholars Nomination Form'!B271),\"\",'Scholars Nomination Form'!B271)","v":""},{"$f":"IF(ISBLANK('Scholars Nomination Form'!D271),\"\",'Scholars Nomination Form'!D271)","v":""},{"$f":"IF(ISBLANK('Scholars Nomination Form'!E271),\"\",'Scholars Nomination Form'!E271)","v":""},{"$f":"IF(ISBLANK('Scholars Nomination Form'!F271),\"\",'Scholars Nomination Form'!F271)","v":""},{"$f":"IF(ISBLANK('Scholars Nomination Form'!G271),\"\",'Scholars Nomination Form'!G271)","v":""},{"$f":"IF(ISBLANK('Scholars Nomination Form'!H271),\"\",'Scholars Nomination Form'!H271)","v":""},{"$f":"IF(ISBLANK('Scholars Nomination Form'!I271),\"\",'Scholars Nomination Form'!I271)","v":""},{"$f":"IF(ISBLANK('Scholars Nomination Form'!J271),\"\",'Scholars Nomination Form'!J271)","v":""},{"$f":"IF(ISBLANK('Scholars Nomination Form'!K271),\"\",'Scholars Nomination Form'!K271)","v":""},{"$f":"IF(ISBLANK('Scholars Nomination Form'!L271),\"\",'Scholars Nomination Form'!L271)","v":""},{"$f":"IF(ISBLANK('Scholars Nomination Form'!M271),\"\",'Scholars Nomination Form'!M271)","v":""},{"$f":"IF(ISBLANK('Scholars Nomination Form'!N271),\"\",'Scholars Nomination Form'!N271)","v":""},{"$f":"IF(ISBLANK('Scholars Nomination Form'!O271),\"\",'Scholars Nomination Form'!O271)","v":""},{"$f":"IF(ISBLANK('Scholars Nomination Form'!P271),\"\",'Scholars Nomination Form'!P271)","v":""},{"$f":"IF(ISBLANK('Scholars Nomination Form'!Q271),\"\",'Scholars Nomination Form'!Q271)","v":""},{"$f":"IF(ISBLANK('Scholars Nomination Form'!R271),\"\",'Scholars Nomination Form'!R271)","v":""},{"$f":"IF(ISBLANK('Scholars Nomination Form'!S271),\"\",'Scholars Nomination Form'!S271)","v":""},{"$f":"IF(ISBLANK('Scholars Nomination Form'!T271),\"\",'Scholars Nomination Form'!T271)","v":""},{"$f":"IF(ISBLANK('Scholars Nomination Form'!U271),\"\",'Scholars Nomination Form'!U271)","v":""},{"$f":"IF(ISBLANK('Scholars Nomination Form'!V271),\"\",'Scholars Nomination Form'!V271)","v":""},{"$f":"IF(ISBLANK('Scholars Nomination Form'!W271),\"\",'Scholars Nomination Form'!W271)","v":""},{"$f":"IF(ISBLANK('Scholars Nomination Form'!X271),\"\",'Scholars Nomination Form'!X271)","v":""},{"$f":"IF(ISBLANK('Scholars Nomination Form'!Y271),\"\",'Scholars Nomination Form'!Y271)","v":""},{"$f":"IF(ISBLANK('Scholars Nomination Form'!Z271),\"\",'Scholars Nomination Form'!Z271)","v":""},{"$f":"IF(ISBLANK('Scholars Nomination Form'!AA271),\"\",'Scholars Nomination Form'!AA271)","v":""}]
[{"$f":"IF(ISBLANK('Scholars Nomination Form'!$F272),\"\",'Scholars Nomination Form'!$C$11)","v":""},{"$f":"IF(ISBLANK('Scholars Nomination Form'!$F272),\"\",'Scholars Nomination Form'!$C$12)","v":""},{"$f":"IF(ISBLANK('Scholars Nomination Form'!$F272),\"\",'Scholars Nomination Form'!$C$13)","v":""},{"$f":"IF(ISBLANK('Scholars Nomination Form'!$F272),\"\",'Scholars Nomination Form'!$C$14)","v":""},{"$f":"IF(ISBLANK('Scholars Nomination Form'!$F272),\"\",'Scholars Nomination Form'!$C$15)","v":""},{"$f":"IF(ISBLANK('Scholars Nomination Form'!$F272),\"\",'Scholars Nomination Form'!$C$16)","v":""},{"$f":"IF(ISBLANK('Scholars Nomination Form'!B272),\"\",'Scholars Nomination Form'!B272)","v":""},{"$f":"IF(ISBLANK('Scholars Nomination Form'!D272),\"\",'Scholars Nomination Form'!D272)","v":""},{"$f":"IF(ISBLANK('Scholars Nomination Form'!E272),\"\",'Scholars Nomination Form'!E272)","v":""},{"$f":"IF(ISBLANK('Scholars Nomination Form'!F272),\"\",'Scholars Nomination Form'!F272)","v":""},{"$f":"IF(ISBLANK('Scholars Nomination Form'!G272),\"\",'Scholars Nomination Form'!G272)","v":""},{"$f":"IF(ISBLANK('Scholars Nomination Form'!H272),\"\",'Scholars Nomination Form'!H272)","v":""},{"$f":"IF(ISBLANK('Scholars Nomination Form'!I272),\"\",'Scholars Nomination Form'!I272)","v":""},{"$f":"IF(ISBLANK('Scholars Nomination Form'!J272),\"\",'Scholars Nomination Form'!J272)","v":""},{"$f":"IF(ISBLANK('Scholars Nomination Form'!K272),\"\",'Scholars Nomination Form'!K272)","v":""},{"$f":"IF(ISBLANK('Scholars Nomination Form'!L272),\"\",'Scholars Nomination Form'!L272)","v":""},{"$f":"IF(ISBLANK('Scholars Nomination Form'!M272),\"\",'Scholars Nomination Form'!M272)","v":""},{"$f":"IF(ISBLANK('Scholars Nomination Form'!N272),\"\",'Scholars Nomination Form'!N272)","v":""},{"$f":"IF(ISBLANK('Scholars Nomination Form'!O272),\"\",'Scholars Nomination Form'!O272)","v":""},{"$f":"IF(ISBLANK('Scholars Nomination Form'!P272),\"\",'Scholars Nomination Form'!P272)","v":""},{"$f":"IF(ISBLANK('Scholars Nomination Form'!Q272),\"\",'Scholars Nomination Form'!Q272)","v":""},{"$f":"IF(ISBLANK('Scholars Nomination Form'!R272),\"\",'Scholars Nomination Form'!R272)","v":""},{"$f":"IF(ISBLANK('Scholars Nomination Form'!S272),\"\",'Scholars Nomination Form'!S272)","v":""},{"$f":"IF(ISBLANK('Scholars Nomination Form'!T272),\"\",'Scholars Nomination Form'!T272)","v":""},{"$f":"IF(ISBLANK('Scholars Nomination Form'!U272),\"\",'Scholars Nomination Form'!U272)","v":""},{"$f":"IF(ISBLANK('Scholars Nomination Form'!V272),\"\",'Scholars Nomination Form'!V272)","v":""},{"$f":"IF(ISBLANK('Scholars Nomination Form'!W272),\"\",'Scholars Nomination Form'!W272)","v":""},{"$f":"IF(ISBLANK('Scholars Nomination Form'!X272),\"\",'Scholars Nomination Form'!X272)","v":""},{"$f":"IF(ISBLANK('Scholars Nomination Form'!Y272),\"\",'Scholars Nomination Form'!Y272)","v":""},{"$f":"IF(ISBLANK('Scholars Nomination Form'!Z272),\"\",'Scholars Nomination Form'!Z272)","v":""},{"$f":"IF(ISBLANK('Scholars Nomination Form'!AA272),\"\",'Scholars Nomination Form'!AA272)","v":""}]
[{"$f":"IF(ISBLANK('Scholars Nomination Form'!$F273),\"\",'Scholars Nomination Form'!$C$11)","v":""},{"$f":"IF(ISBLANK('Scholars Nomination Form'!$F273),\"\",'Scholars Nomination Form'!$C$12)","v":""},{"$f":"IF(ISBLANK('Scholars Nomination Form'!$F273),\"\",'Scholars Nomination Form'!$C$13)","v":""},{"$f":"IF(ISBLANK('Scholars Nomination Form'!$F273),\"\",'Scholars Nomination Form'!$C$14)","v":""},{"$f":"IF(ISBLANK('Scholars Nomination Form'!$F273),\"\",'Scholars Nomination Form'!$C$15)","v":""},{"$f":"IF(ISBLANK('Scholars Nomination Form'!$F273),\"\",'Scholars Nomination Form'!$C$16)","v":""},{"$f":"IF(ISBLANK('Scholars Nomination Form'!B273),\"\",'Scholars Nomination Form'!B273)","v":""},{"$f":"IF(ISBLANK('Scholars Nomination Form'!D273),\"\",'Scholars Nomination Form'!D273)","v":""},{"$f":"IF(ISBLANK('Scholars Nomination Form'!E273),\"\",'Scholars Nomination Form'!E273)","v":""},{"$f":"IF(ISBLANK('Scholars Nomination Form'!F273),\"\",'Scholars Nomination Form'!F273)","v":""},{"$f":"IF(ISBLANK('Scholars Nomination Form'!G273),\"\",'Scholars Nomination Form'!G273)","v":""},{"$f":"IF(ISBLANK('Scholars Nomination Form'!H273),\"\",'Scholars Nomination Form'!H273)","v":""},{"$f":"IF(ISBLANK('Scholars Nomination Form'!I273),\"\",'Scholars Nomination Form'!I273)","v":""},{"$f":"IF(ISBLANK('Scholars Nomination Form'!J273),\"\",'Scholars Nomination Form'!J273)","v":""},{"$f":"IF(ISBLANK('Scholars Nomination Form'!K273),\"\",'Scholars Nomination Form'!K273)","v":""},{"$f":"IF(ISBLANK('Scholars Nomination Form'!L273),\"\",'Scholars Nomination Form'!L273)","v":""},{"$f":"IF(ISBLANK('Scholars Nomination Form'!M273),\"\",'Scholars Nomination Form'!M273)","v":""},{"$f":"IF(ISBLANK('Scholars Nomination Form'!N273),\"\",'Scholars Nomination Form'!N273)","v":""},{"$f":"IF(ISBLANK('Scholars Nomination Form'!O273),\"\",'Scholars Nomination Form'!O273)","v":""},{"$f":"IF(ISBLANK('Scholars Nomination Form'!P273),\"\",'Scholars Nomination Form'!P273)","v":""},{"$f":"IF(ISBLANK('Scholars Nomination Form'!Q273),\"\",'Scholars Nomination Form'!Q273)","v":""},{"$f":"IF(ISBLANK('Scholars Nomination Form'!R273),\"\",'Scholars Nomination Form'!R273)","v":""},{"$f":"IF(ISBLANK('Scholars Nomination Form'!S273),\"\",'Scholars Nomination Form'!S273)","v":""},{"$f":"IF(ISBLANK('Scholars Nomination Form'!T273),\"\",'Scholars Nomination Form'!T273)","v":""},{"$f":"IF(ISBLANK('Scholars Nomination Form'!U273),\"\",'Scholars Nomination Form'!U273)","v":""},{"$f":"IF(ISBLANK('Scholars Nomination Form'!V273),\"\",'Scholars Nomination Form'!V273)","v":""},{"$f":"IF(ISBLANK('Scholars Nomination Form'!W273),\"\",'Scholars Nomination Form'!W273)","v":""},{"$f":"IF(ISBLANK('Scholars Nomination Form'!X273),\"\",'Scholars Nomination Form'!X273)","v":""},{"$f":"IF(ISBLANK('Scholars Nomination Form'!Y273),\"\",'Scholars Nomination Form'!Y273)","v":""},{"$f":"IF(ISBLANK('Scholars Nomination Form'!Z273),\"\",'Scholars Nomination Form'!Z273)","v":""},{"$f":"IF(ISBLANK('Scholars Nomination Form'!AA273),\"\",'Scholars Nomination Form'!AA273)","v":""}]
[{"$f":"IF(ISBLANK('Scholars Nomination Form'!$F274),\"\",'Scholars Nomination Form'!$C$11)","v":""},{"$f":"IF(ISBLANK('Scholars Nomination Form'!$F274),\"\",'Scholars Nomination Form'!$C$12)","v":""},{"$f":"IF(ISBLANK('Scholars Nomination Form'!$F274),\"\",'Scholars Nomination Form'!$C$13)","v":""},{"$f":"IF(ISBLANK('Scholars Nomination Form'!$F274),\"\",'Scholars Nomination Form'!$C$14)","v":""},{"$f":"IF(ISBLANK('Scholars Nomination Form'!$F274),\"\",'Scholars Nomination Form'!$C$15)","v":""},{"$f":"IF(ISBLANK('Scholars Nomination Form'!$F274),\"\",'Scholars Nomination Form'!$C$16)","v":""},{"$f":"IF(ISBLANK('Scholars Nomination Form'!B274),\"\",'Scholars Nomination Form'!B274)","v":""},{"$f":"IF(ISBLANK('Scholars Nomination Form'!D274),\"\",'Scholars Nomination Form'!D274)","v":""},{"$f":"IF(ISBLANK('Scholars Nomination Form'!E274),\"\",'Scholars Nomination Form'!E274)","v":""},{"$f":"IF(ISBLANK('Scholars Nomination Form'!F274),\"\",'Scholars Nomination Form'!F274)","v":""},{"$f":"IF(ISBLANK('Scholars Nomination Form'!G274),\"\",'Scholars Nomination Form'!G274)","v":""},{"$f":"IF(ISBLANK('Scholars Nomination Form'!H274),\"\",'Scholars Nomination Form'!H274)","v":""},{"$f":"IF(ISBLANK('Scholars Nomination Form'!I274),\"\",'Scholars Nomination Form'!I274)","v":""},{"$f":"IF(ISBLANK('Scholars Nomination Form'!J274),\"\",'Scholars Nomination Form'!J274)","v":""},{"$f":"IF(ISBLANK('Scholars Nomination Form'!K274),\"\",'Scholars Nomination Form'!K274)","v":""},{"$f":"IF(ISBLANK('Scholars Nomination Form'!L274),\"\",'Scholars Nomination Form'!L274)","v":""},{"$f":"IF(ISBLANK('Scholars Nomination Form'!M274),\"\",'Scholars Nomination Form'!M274)","v":""},{"$f":"IF(ISBLANK('Scholars Nomination Form'!N274),\"\",'Scholars Nomination Form'!N274)","v":""},{"$f":"IF(ISBLANK('Scholars Nomination Form'!O274),\"\",'Scholars Nomination Form'!O274)","v":""},{"$f":"IF(ISBLANK('Scholars Nomination Form'!P274),\"\",'Scholars Nomination Form'!P274)","v":""},{"$f":"IF(ISBLANK('Scholars Nomination Form'!Q274),\"\",'Scholars Nomination Form'!Q274)","v":""},{"$f":"IF(ISBLANK('Scholars Nomination Form'!R274),\"\",'Scholars Nomination Form'!R274)","v":""},{"$f":"IF(ISBLANK('Scholars Nomination Form'!S274),\"\",'Scholars Nomination Form'!S274)","v":""},{"$f":"IF(ISBLANK('Scholars Nomination Form'!T274),\"\",'Scholars Nomination Form'!T274)","v":""},{"$f":"IF(ISBLANK('Scholars Nomination Form'!U274),\"\",'Scholars Nomination Form'!U274)","v":""},{"$f":"IF(ISBLANK('Scholars Nomination Form'!V274),\"\",'Scholars Nomination Form'!V274)","v":""},{"$f":"IF(ISBLANK('Scholars Nomination Form'!W274),\"\",'Scholars Nomination Form'!W274)","v":""},{"$f":"IF(ISBLANK('Scholars Nomination Form'!X274),\"\",'Scholars Nomination Form'!X274)","v":""},{"$f":"IF(ISBLANK('Scholars Nomination Form'!Y274),\"\",'Scholars Nomination Form'!Y274)","v":""},{"$f":"IF(ISBLANK('Scholars Nomination Form'!Z274),\"\",'Scholars Nomination Form'!Z274)","v":""},{"$f":"IF(ISBLANK('Scholars Nomination Form'!AA274),\"\",'Scholars Nomination Form'!AA274)","v":""}]
[{"$f":"IF(ISBLANK('Scholars Nomination Form'!$F275),\"\",'Scholars Nomination Form'!$C$11)","v":""},{"$f":"IF(ISBLANK('Scholars Nomination Form'!$F275),\"\",'Scholars Nomination Form'!$C$12)","v":""},{"$f":"IF(ISBLANK('Scholars Nomination Form'!$F275),\"\",'Scholars Nomination Form'!$C$13)","v":""},{"$f":"IF(ISBLANK('Scholars Nomination Form'!$F275),\"\",'Scholars Nomination Form'!$C$14)","v":""},{"$f":"IF(ISBLANK('Scholars Nomination Form'!$F275),\"\",'Scholars Nomination Form'!$C$15)","v":""},{"$f":"IF(ISBLANK('Scholars Nomination Form'!$F275),\"\",'Scholars Nomination Form'!$C$16)","v":""},{"$f":"IF(ISBLANK('Scholars Nomination Form'!B275),\"\",'Scholars Nomination Form'!B275)","v":""},{"$f":"IF(ISBLANK('Scholars Nomination Form'!D275),\"\",'Scholars Nomination Form'!D275)","v":""},{"$f":"IF(ISBLANK('Scholars Nomination Form'!E275),\"\",'Scholars Nomination Form'!E275)","v":""},{"$f":"IF(ISBLANK('Scholars Nomination Form'!F275),\"\",'Scholars Nomination Form'!F275)","v":""},{"$f":"IF(ISBLANK('Scholars Nomination Form'!G275),\"\",'Scholars Nomination Form'!G275)","v":""},{"$f":"IF(ISBLANK('Scholars Nomination Form'!H275),\"\",'Scholars Nomination Form'!H275)","v":""},{"$f":"IF(ISBLANK('Scholars Nomination Form'!I275),\"\",'Scholars Nomination Form'!I275)","v":""},{"$f":"IF(ISBLANK('Scholars Nomination Form'!J275),\"\",'Scholars Nomination Form'!J275)","v":""},{"$f":"IF(ISBLANK('Scholars Nomination Form'!K275),\"\",'Scholars Nomination Form'!K275)","v":""},{"$f":"IF(ISBLANK('Scholars Nomination Form'!L275),\"\",'Scholars Nomination Form'!L275)","v":""},{"$f":"IF(ISBLANK('Scholars Nomination Form'!M275),\"\",'Scholars Nomination Form'!M275)","v":""},{"$f":"IF(ISBLANK('Scholars Nomination Form'!N275),\"\",'Scholars Nomination Form'!N275)","v":""},{"$f":"IF(ISBLANK('Scholars Nomination Form'!O275),\"\",'Scholars Nomination Form'!O275)","v":""},{"$f":"IF(ISBLANK('Scholars Nomination Form'!P275),\"\",'Scholars Nomination Form'!P275)","v":""},{"$f":"IF(ISBLANK('Scholars Nomination Form'!Q275),\"\",'Scholars Nomination Form'!Q275)","v":""},{"$f":"IF(ISBLANK('Scholars Nomination Form'!R275),\"\",'Scholars Nomination Form'!R275)","v":""},{"$f":"IF(ISBLANK('Scholars Nomination Form'!S275),\"\",'Scholars Nomination Form'!S275)","v":""},{"$f":"IF(ISBLANK('Scholars Nomination Form'!T275),\"\",'Scholars Nomination Form'!T275)","v":""},{"$f":"IF(ISBLANK('Scholars Nomination Form'!U275),\"\",'Scholars Nomination Form'!U275)","v":""},{"$f":"IF(ISBLANK('Scholars Nomination Form'!V275),\"\",'Scholars Nomination Form'!V275)","v":""},{"$f":"IF(ISBLANK('Scholars Nomination Form'!W275),\"\",'Scholars Nomination Form'!W275)","v":""},{"$f":"IF(ISBLANK('Scholars Nomination Form'!X275),\"\",'Scholars Nomination Form'!X275)","v":""},{"$f":"IF(ISBLANK('Scholars Nomination Form'!Y275),\"\",'Scholars Nomination Form'!Y275)","v":""},{"$f":"IF(ISBLANK('Scholars Nomination Form'!Z275),\"\",'Scholars Nomination Form'!Z275)","v":""},{"$f":"IF(ISBLANK('Scholars Nomination Form'!AA275),\"\",'Scholars Nomination Form'!AA275)","v":""}]
[{"$f":"IF(ISBLANK('Scholars Nomination Form'!$F276),\"\",'Scholars Nomination Form'!$C$11)","v":""},{"$f":"IF(ISBLANK('Scholars Nomination Form'!$F276),\"\",'Scholars Nomination Form'!$C$12)","v":""},{"$f":"IF(ISBLANK('Scholars Nomination Form'!$F276),\"\",'Scholars Nomination Form'!$C$13)","v":""},{"$f":"IF(ISBLANK('Scholars Nomination Form'!$F276),\"\",'Scholars Nomination Form'!$C$14)","v":""},{"$f":"IF(ISBLANK('Scholars Nomination Form'!$F276),\"\",'Scholars Nomination Form'!$C$15)","v":""},{"$f":"IF(ISBLANK('Scholars Nomination Form'!$F276),\"\",'Scholars Nomination Form'!$C$16)","v":""},{"$f":"IF(ISBLANK('Scholars Nomination Form'!B276),\"\",'Scholars Nomination Form'!B276)","v":""},{"$f":"IF(ISBLANK('Scholars Nomination Form'!D276),\"\",'Scholars Nomination Form'!D276)","v":""},{"$f":"IF(ISBLANK('Scholars Nomination Form'!E276),\"\",'Scholars Nomination Form'!E276)","v":""},{"$f":"IF(ISBLANK('Scholars Nomination Form'!F276),\"\",'Scholars Nomination Form'!F276)","v":""},{"$f":"IF(ISBLANK('Scholars Nomination Form'!G276),\"\",'Scholars Nomination Form'!G276)","v":""},{"$f":"IF(ISBLANK('Scholars Nomination Form'!H276),\"\",'Scholars Nomination Form'!H276)","v":""},{"$f":"IF(ISBLANK('Scholars Nomination Form'!I276),\"\",'Scholars Nomination Form'!I276)","v":""},{"$f":"IF(ISBLANK('Scholars Nomination Form'!J276),\"\",'Scholars Nomination Form'!J276)","v":""},{"$f":"IF(ISBLANK('Scholars Nomination Form'!K276),\"\",'Scholars Nomination Form'!K276)","v":""},{"$f":"IF(ISBLANK('Scholars Nomination Form'!L276),\"\",'Scholars Nomination Form'!L276)","v":""},{"$f":"IF(ISBLANK('Scholars Nomination Form'!M276),\"\",'Scholars Nomination Form'!M276)","v":""},{"$f":"IF(ISBLANK('Scholars Nomination Form'!N276),\"\",'Scholars Nomination Form'!N276)","v":""},{"$f":"IF(ISBLANK('Scholars Nomination Form'!O276),\"\",'Scholars Nomination Form'!O276)","v":""},{"$f":"IF(ISBLANK('Scholars Nomination Form'!P276),\"\",'Scholars Nomination Form'!P276)","v":""},{"$f":"IF(ISBLANK('Scholars Nomination Form'!Q276),\"\",'Scholars Nomination Form'!Q276)","v":""},{"$f":"IF(ISBLANK('Scholars Nomination Form'!R276),\"\",'Scholars Nomination Form'!R276)","v":""},{"$f":"IF(ISBLANK('Scholars Nomination Form'!S276),\"\",'Scholars Nomination Form'!S276)","v":""},{"$f":"IF(ISBLANK('Scholars Nomination Form'!T276),\"\",'Scholars Nomination Form'!T276)","v":""},{"$f":"IF(ISBLANK('Scholars Nomination Form'!U276),\"\",'Scholars Nomination Form'!U276)","v":""},{"$f":"IF(ISBLANK('Scholars Nomination Form'!V276),\"\",'Scholars Nomination Form'!V276)","v":""},{"$f":"IF(ISBLANK('Scholars Nomination Form'!W276),\"\",'Scholars Nomination Form'!W276)","v":""},{"$f":"IF(ISBLANK('Scholars Nomination Form'!X276),\"\",'Scholars Nomination Form'!X276)","v":""},{"$f":"IF(ISBLANK('Scholars Nomination Form'!Y276),\"\",'Scholars Nomination Form'!Y276)","v":""},{"$f":"IF(ISBLANK('Scholars Nomination Form'!Z276),\"\",'Scholars Nomination Form'!Z276)","v":""},{"$f":"IF(ISBLANK('Scholars Nomination Form'!AA276),\"\",'Scholars Nomination Form'!AA276)","v":""}]
[{"$f":"IF(ISBLANK('Scholars Nomination Form'!$F277),\"\",'Scholars Nomination Form'!$C$11)","v":""},{"$f":"IF(ISBLANK('Scholars Nomination Form'!$F277),\"\",'Scholars Nomination Form'!$C$12)","v":""},{"$f":"IF(ISBLANK('Scholars Nomination Form'!$F277),\"\",'Scholars Nomination Form'!$C$13)","v":""},{"$f":"IF(ISBLANK('Scholars Nomination Form'!$F277),\"\",'Scholars Nomination Form'!$C$14)","v":""},{"$f":"IF(ISBLANK('Scholars Nomination Form'!$F277),\"\",'Scholars Nomination Form'!$C$15)","v":""},{"$f":"IF(ISBLANK('Scholars Nomination Form'!$F277),\"\",'Scholars Nomination Form'!$C$16)","v":""},{"$f":"IF(ISBLANK('Scholars Nomination Form'!B277),\"\",'Scholars Nomination Form'!B277)","v":""},{"$f":"IF(ISBLANK('Scholars Nomination Form'!D277),\"\",'Scholars Nomination Form'!D277)","v":""},{"$f":"IF(ISBLANK('Scholars Nomination Form'!E277),\"\",'Scholars Nomination Form'!E277)","v":""},{"$f":"IF(ISBLANK('Scholars Nomination Form'!F277),\"\",'Scholars Nomination Form'!F277)","v":""},{"$f":"IF(ISBLANK('Scholars Nomination Form'!G277),\"\",'Scholars Nomination Form'!G277)","v":""},{"$f":"IF(ISBLANK('Scholars Nomination Form'!H277),\"\",'Scholars Nomination Form'!H277)","v":""},{"$f":"IF(ISBLANK('Scholars Nomination Form'!I277),\"\",'Scholars Nomination Form'!I277)","v":""},{"$f":"IF(ISBLANK('Scholars Nomination Form'!J277),\"\",'Scholars Nomination Form'!J277)","v":""},{"$f":"IF(ISBLANK('Scholars Nomination Form'!K277),\"\",'Scholars Nomination Form'!K277)","v":""},{"$f":"IF(ISBLANK('Scholars Nomination Form'!L277),\"\",'Scholars Nomination Form'!L277)","v":""},{"$f":"IF(ISBLANK('Scholars Nomination Form'!M277),\"\",'Scholars Nomination Form'!M277)","v":""},{"$f":"IF(ISBLANK('Scholars Nomination Form'!N277),\"\",'Scholars Nomination Form'!N277)","v":""},{"$f":"IF(ISBLANK('Scholars Nomination Form'!O277),\"\",'Scholars Nomination Form'!O277)","v":""},{"$f":"IF(ISBLANK('Scholars Nomination Form'!P277),\"\",'Scholars Nomination Form'!P277)","v":""},{"$f":"IF(ISBLANK('Scholars Nomination Form'!Q277),\"\",'Scholars Nomination Form'!Q277)","v":""},{"$f":"IF(ISBLANK('Scholars Nomination Form'!R277),\"\",'Scholars Nomination Form'!R277)","v":""},{"$f":"IF(ISBLANK('Scholars Nomination Form'!S277),\"\",'Scholars Nomination Form'!S277)","v":""},{"$f":"IF(ISBLANK('Scholars Nomination Form'!T277),\"\",'Scholars Nomination Form'!T277)","v":""},{"$f":"IF(ISBLANK('Scholars Nomination Form'!U277),\"\",'Scholars Nomination Form'!U277)","v":""},{"$f":"IF(ISBLANK('Scholars Nomination Form'!V277),\"\",'Scholars Nomination Form'!V277)","v":""},{"$f":"IF(ISBLANK('Scholars Nomination Form'!W277),\"\",'Scholars Nomination Form'!W277)","v":""},{"$f":"IF(ISBLANK('Scholars Nomination Form'!X277),\"\",'Scholars Nomination Form'!X277)","v":""},{"$f":"IF(ISBLANK('Scholars Nomination Form'!Y277),\"\",'Scholars Nomination Form'!Y277)","v":""},{"$f":"IF(ISBLANK('Scholars Nomination Form'!Z277),\"\",'Scholars Nomination Form'!Z277)","v":""},{"$f":"IF(ISBLANK('Scholars Nomination Form'!AA277),\"\",'Scholars Nomination Form'!AA277)","v":""}]
[{"$f":"IF(ISBLANK('Scholars Nomination Form'!$F278),\"\",'Scholars Nomination Form'!$C$11)","v":""},{"$f":"IF(ISBLANK('Scholars Nomination Form'!$F278),\"\",'Scholars Nomination Form'!$C$12)","v":""},{"$f":"IF(ISBLANK('Scholars Nomination Form'!$F278),\"\",'Scholars Nomination Form'!$C$13)","v":""},{"$f":"IF(ISBLANK('Scholars Nomination Form'!$F278),\"\",'Scholars Nomination Form'!$C$14)","v":""},{"$f":"IF(ISBLANK('Scholars Nomination Form'!$F278),\"\",'Scholars Nomination Form'!$C$15)","v":""},{"$f":"IF(ISBLANK('Scholars Nomination Form'!$F278),\"\",'Scholars Nomination Form'!$C$16)","v":""},{"$f":"IF(ISBLANK('Scholars Nomination Form'!B278),\"\",'Scholars Nomination Form'!B278)","v":""},{"$f":"IF(ISBLANK('Scholars Nomination Form'!D278),\"\",'Scholars Nomination Form'!D278)","v":""},{"$f":"IF(ISBLANK('Scholars Nomination Form'!E278),\"\",'Scholars Nomination Form'!E278)","v":""},{"$f":"IF(ISBLANK('Scholars Nomination Form'!F278),\"\",'Scholars Nomination Form'!F278)","v":""},{"$f":"IF(ISBLANK('Scholars Nomination Form'!G278),\"\",'Scholars Nomination Form'!G278)","v":""},{"$f":"IF(ISBLANK('Scholars Nomination Form'!H278),\"\",'Scholars Nomination Form'!H278)","v":""},{"$f":"IF(ISBLANK('Scholars Nomination Form'!I278),\"\",'Scholars Nomination Form'!I278)","v":""},{"$f":"IF(ISBLANK('Scholars Nomination Form'!J278),\"\",'Scholars Nomination Form'!J278)","v":""},{"$f":"IF(ISBLANK('Scholars Nomination Form'!K278),\"\",'Scholars Nomination Form'!K278)","v":""},{"$f":"IF(ISBLANK('Scholars Nomination Form'!L278),\"\",'Scholars Nomination Form'!L278)","v":""},{"$f":"IF(ISBLANK('Scholars Nomination Form'!M278),\"\",'Scholars Nomination Form'!M278)","v":""},{"$f":"IF(ISBLANK('Scholars Nomination Form'!N278),\"\",'Scholars Nomination Form'!N278)","v":""},{"$f":"IF(ISBLANK('Scholars Nomination Form'!O278),\"\",'Scholars Nomination Form'!O278)","v":""},{"$f":"IF(ISBLANK('Scholars Nomination Form'!P278),\"\",'Scholars Nomination Form'!P278)","v":""},{"$f":"IF(ISBLANK('Scholars Nomination Form'!Q278),\"\",'Scholars Nomination Form'!Q278)","v":""},{"$f":"IF(ISBLANK('Scholars Nomination Form'!R278),\"\",'Scholars Nomination Form'!R278)","v":""},{"$f":"IF(ISBLANK('Scholars Nomination Form'!S278),\"\",'Scholars Nomination Form'!S278)","v":""},{"$f":"IF(ISBLANK('Scholars Nomination Form'!T278),\"\",'Scholars Nomination Form'!T278)","v":""},{"$f":"IF(ISBLANK('Scholars Nomination Form'!U278),\"\",'Scholars Nomination Form'!U278)","v":""},{"$f":"IF(ISBLANK('Scholars Nomination Form'!V278),\"\",'Scholars Nomination Form'!V278)","v":""},{"$f":"IF(ISBLANK('Scholars Nomination Form'!W278),\"\",'Scholars Nomination Form'!W278)","v":""},{"$f":"IF(ISBLANK('Scholars Nomination Form'!X278),\"\",'Scholars Nomination Form'!X278)","v":""},{"$f":"IF(ISBLANK('Scholars Nomination Form'!Y278),\"\",'Scholars Nomination Form'!Y278)","v":""},{"$f":"IF(ISBLANK('Scholars Nomination Form'!Z278),\"\",'Scholars Nomination Form'!Z278)","v":""},{"$f":"IF(ISBLANK('Scholars Nomination Form'!AA278),\"\",'Scholars Nomination Form'!AA278)","v":""}]
[{"$f":"IF(ISBLANK('Scholars Nomination Form'!$F279),\"\",'Scholars Nomination Form'!$C$11)","v":""},{"$f":"IF(ISBLANK('Scholars Nomination Form'!$F279),\"\",'Scholars Nomination Form'!$C$12)","v":""},{"$f":"IF(ISBLANK('Scholars Nomination Form'!$F279),\"\",'Scholars Nomination Form'!$C$13)","v":""},{"$f":"IF(ISBLANK('Scholars Nomination Form'!$F279),\"\",'Scholars Nomination Form'!$C$14)","v":""},{"$f":"IF(ISBLANK('Scholars Nomination Form'!$F279),\"\",'Scholars Nomination Form'!$C$15)","v":""},{"$f":"IF(ISBLANK('Scholars Nomination Form'!$F279),\"\",'Scholars Nomination Form'!$C$16)","v":""},{"$f":"IF(ISBLANK('Scholars Nomination Form'!B279),\"\",'Scholars Nomination Form'!B279)","v":""},{"$f":"IF(ISBLANK('Scholars Nomination Form'!D279),\"\",'Scholars Nomination Form'!D279)","v":""},{"$f":"IF(ISBLANK('Scholars Nomination Form'!E279),\"\",'Scholars Nomination Form'!E279)","v":""},{"$f":"IF(ISBLANK('Scholars Nomination Form'!F279),\"\",'Scholars Nomination Form'!F279)","v":""},{"$f":"IF(ISBLANK('Scholars Nomination Form'!G279),\"\",'Scholars Nomination Form'!G279)","v":""},{"$f":"IF(ISBLANK('Scholars Nomination Form'!H279),\"\",'Scholars Nomination Form'!H279)","v":""},{"$f":"IF(ISBLANK('Scholars Nomination Form'!I279),\"\",'Scholars Nomination Form'!I279)","v":""},{"$f":"IF(ISBLANK('Scholars Nomination Form'!J279),\"\",'Scholars Nomination Form'!J279)","v":""},{"$f":"IF(ISBLANK('Scholars Nomination Form'!K279),\"\",'Scholars Nomination Form'!K279)","v":""},{"$f":"IF(ISBLANK('Scholars Nomination Form'!L279),\"\",'Scholars Nomination Form'!L279)","v":""},{"$f":"IF(ISBLANK('Scholars Nomination Form'!M279),\"\",'Scholars Nomination Form'!M279)","v":""},{"$f":"IF(ISBLANK('Scholars Nomination Form'!N279),\"\",'Scholars Nomination Form'!N279)","v":""},{"$f":"IF(ISBLANK('Scholars Nomination Form'!O279),\"\",'Scholars Nomination Form'!O279)","v":""},{"$f":"IF(ISBLANK('Scholars Nomination Form'!P279),\"\",'Scholars Nomination Form'!P279)","v":""},{"$f":"IF(ISBLANK('Scholars Nomination Form'!Q279),\"\",'Scholars Nomination Form'!Q279)","v":""},{"$f":"IF(ISBLANK('Scholars Nomination Form'!R279),\"\",'Scholars Nomination Form'!R279)","v":""},{"$f":"IF(ISBLANK('Scholars Nomination Form'!S279),\"\",'Scholars Nomination Form'!S279)","v":""},{"$f":"IF(ISBLANK('Scholars Nomination Form'!T279),\"\",'Scholars Nomination Form'!T279)","v":""},{"$f":"IF(ISBLANK('Scholars Nomination Form'!U279),\"\",'Scholars Nomination Form'!U279)","v":""},{"$f":"IF(ISBLANK('Scholars Nomination Form'!V279),\"\",'Scholars Nomination Form'!V279)","v":""},{"$f":"IF(ISBLANK('Scholars Nomination Form'!W279),\"\",'Scholars Nomination Form'!W279)","v":""},{"$f":"IF(ISBLANK('Scholars Nomination Form'!X279),\"\",'Scholars Nomination Form'!X279)","v":""},{"$f":"IF(ISBLANK('Scholars Nomination Form'!Y279),\"\",'Scholars Nomination Form'!Y279)","v":""},{"$f":"IF(ISBLANK('Scholars Nomination Form'!Z279),\"\",'Scholars Nomination Form'!Z279)","v":""},{"$f":"IF(ISBLANK('Scholars Nomination Form'!AA279),\"\",'Scholars Nomination Form'!AA279)","v":""}]
[{"$f":"IF(ISBLANK('Scholars Nomination Form'!$F280),\"\",'Scholars Nomination Form'!$C$11)","v":""},{"$f":"IF(ISBLANK('Scholars Nomination Form'!$F280),\"\",'Scholars Nomination Form'!$C$12)","v":""},{"$f":"IF(ISBLANK('Scholars Nomination Form'!$F280),\"\",'Scholars Nomination Form'!$C$13)","v":""},{"$f":"IF(ISBLANK('Scholars Nomination Form'!$F280),\"\",'Scholars Nomination Form'!$C$14)","v":""},{"$f":"IF(ISBLANK('Scholars Nomination Form'!$F280),\"\",'Scholars Nomination Form'!$C$15)","v":""},{"$f":"IF(ISBLANK('Scholars Nomination Form'!$F280),\"\",'Scholars Nomination Form'!$C$16)","v":""},{"$f":"IF(ISBLANK('Scholars Nomination Form'!B280),\"\",'Scholars Nomination Form'!B280)","v":""},{"$f":"IF(ISBLANK('Scholars Nomination Form'!D280),\"\",'Scholars Nomination Form'!D280)","v":""},{"$f":"IF(ISBLANK('Scholars Nomination Form'!E280),\"\",'Scholars Nomination Form'!E280)","v":""},{"$f":"IF(ISBLANK('Scholars Nomination Form'!F280),\"\",'Scholars Nomination Form'!F280)","v":""},{"$f":"IF(ISBLANK('Scholars Nomination Form'!G280),\"\",'Scholars Nomination Form'!G280)","v":""},{"$f":"IF(ISBLANK('Scholars Nomination Form'!H280),\"\",'Scholars Nomination Form'!H280)","v":""},{"$f":"IF(ISBLANK('Scholars Nomination Form'!I280),\"\",'Scholars Nomination Form'!I280)","v":""},{"$f":"IF(ISBLANK('Scholars Nomination Form'!J280),\"\",'Scholars Nomination Form'!J280)","v":""},{"$f":"IF(ISBLANK('Scholars Nomination Form'!K280),\"\",'Scholars Nomination Form'!K280)","v":""},{"$f":"IF(ISBLANK('Scholars Nomination Form'!L280),\"\",'Scholars Nomination Form'!L280)","v":""},{"$f":"IF(ISBLANK('Scholars Nomination Form'!M280),\"\",'Scholars Nomination Form'!M280)","v":""},{"$f":"IF(ISBLANK('Scholars Nomination Form'!N280),\"\",'Scholars Nomination Form'!N280)","v":""},{"$f":"IF(ISBLANK('Scholars Nomination Form'!O280),\"\",'Scholars Nomination Form'!O280)","v":""},{"$f":"IF(ISBLANK('Scholars Nomination Form'!P280),\"\",'Scholars Nomination Form'!P280)","v":""},{"$f":"IF(ISBLANK('Scholars Nomination Form'!Q280),\"\",'Scholars Nomination Form'!Q280)","v":""},{"$f":"IF(ISBLANK('Scholars Nomination Form'!R280),\"\",'Scholars Nomination Form'!R280)","v":""},{"$f":"IF(ISBLANK('Scholars Nomination Form'!S280),\"\",'Scholars Nomination Form'!S280)","v":""},{"$f":"IF(ISBLANK('Scholars Nomination Form'!T280),\"\",'Scholars Nomination Form'!T280)","v":""},{"$f":"IF(ISBLANK('Scholars Nomination Form'!U280),\"\",'Scholars Nomination Form'!U280)","v":""},{"$f":"IF(ISBLANK('Scholars Nomination Form'!V280),\"\",'Scholars Nomination Form'!V280)","v":""},{"$f":"IF(ISBLANK('Scholars Nomination Form'!W280),\"\",'Scholars Nomination Form'!W280)","v":""},{"$f":"IF(ISBLANK('Scholars Nomination Form'!X280),\"\",'Scholars Nomination Form'!X280)","v":""},{"$f":"IF(ISBLANK('Scholars Nomination Form'!Y280),\"\",'Scholars Nomination Form'!Y280)","v":""},{"$f":"IF(ISBLANK('Scholars Nomination Form'!Z280),\"\",'Scholars Nomination Form'!Z280)","v":""},{"$f":"IF(ISBLANK('Scholars Nomination Form'!AA280),\"\",'Scholars Nomination Form'!AA280)","v":""}]
[{"$f":"IF(ISBLANK('Scholars Nomination Form'!$F281),\"\",'Scholars Nomination Form'!$C$11)","v":""},{"$f":"IF(ISBLANK('Scholars Nomination Form'!$F281),\"\",'Scholars Nomination Form'!$C$12)","v":""},{"$f":"IF(ISBLANK('Scholars Nomination Form'!$F281),\"\",'Scholars Nomination Form'!$C$13)","v":""},{"$f":"IF(ISBLANK('Scholars Nomination Form'!$F281),\"\",'Scholars Nomination Form'!$C$14)","v":""},{"$f":"IF(ISBLANK('Scholars Nomination Form'!$F281),\"\",'Scholars Nomination Form'!$C$15)","v":""},{"$f":"IF(ISBLANK('Scholars Nomination Form'!$F281),\"\",'Scholars Nomination Form'!$C$16)","v":""},{"$f":"IF(ISBLANK('Scholars Nomination Form'!B281),\"\",'Scholars Nomination Form'!B281)","v":""},{"$f":"IF(ISBLANK('Scholars Nomination Form'!D281),\"\",'Scholars Nomination Form'!D281)","v":""},{"$f":"IF(ISBLANK('Scholars Nomination Form'!E281),\"\",'Scholars Nomination Form'!E281)","v":""},{"$f":"IF(ISBLANK('Scholars Nomination Form'!F281),\"\",'Scholars Nomination Form'!F281)","v":""},{"$f":"IF(ISBLANK('Scholars Nomination Form'!G281),\"\",'Scholars Nomination Form'!G281)","v":""},{"$f":"IF(ISBLANK('Scholars Nomination Form'!H281),\"\",'Scholars Nomination Form'!H281)","v":""},{"$f":"IF(ISBLANK('Scholars Nomination Form'!I281),\"\",'Scholars Nomination Form'!I281)","v":""},{"$f":"IF(ISBLANK('Scholars Nomination Form'!J281),\"\",'Scholars Nomination Form'!J281)","v":""},{"$f":"IF(ISBLANK('Scholars Nomination Form'!K281),\"\",'Scholars Nomination Form'!K281)","v":""},{"$f":"IF(ISBLANK('Scholars Nomination Form'!L281),\"\",'Scholars Nomination Form'!L281)","v":""},{"$f":"IF(ISBLANK('Scholars Nomination Form'!M281),\"\",'Scholars Nomination Form'!M281)","v":""},{"$f":"IF(ISBLANK('Scholars Nomination Form'!N281),\"\",'Scholars Nomination Form'!N281)","v":""},{"$f":"IF(ISBLANK('Scholars Nomination Form'!O281),\"\",'Scholars Nomination Form'!O281)","v":""},{"$f":"IF(ISBLANK('Scholars Nomination Form'!P281),\"\",'Scholars Nomination Form'!P281)","v":""},{"$f":"IF(ISBLANK('Scholars Nomination Form'!Q281),\"\",'Scholars Nomination Form'!Q281)","v":""},{"$f":"IF(ISBLANK('Scholars Nomination Form'!R281),\"\",'Scholars Nomination Form'!R281)","v":""},{"$f":"IF(ISBLANK('Scholars Nomination Form'!S281),\"\",'Scholars Nomination Form'!S281)","v":""},{"$f":"IF(ISBLANK('Scholars Nomination Form'!T281),\"\",'Scholars Nomination Form'!T281)","v":""},{"$f":"IF(ISBLANK('Scholars Nomination Form'!U281),\"\",'Scholars Nomination Form'!U281)","v":""},{"$f":"IF(ISBLANK('Scholars Nomination Form'!V281),\"\",'Scholars Nomination Form'!V281)","v":""},{"$f":"IF(ISBLANK('Scholars Nomination Form'!W281),\"\",'Scholars Nomination Form'!W281)","v":""},{"$f":"IF(ISBLANK('Scholars Nomination Form'!X281),\"\",'Scholars Nomination Form'!X281)","v":""},{"$f":"IF(ISBLANK('Scholars Nomination Form'!Y281),\"\",'Scholars Nomination Form'!Y281)","v":""},{"$f":"IF(ISBLANK('Scholars Nomination Form'!Z281),\"\",'Scholars Nomination Form'!Z281)","v":""},{"$f":"IF(ISBLANK('Scholars Nomination Form'!AA281),\"\",'Scholars Nomination Form'!AA281)","v":""}]
[{"$f":"IF(ISBLANK('Scholars Nomination Form'!$F282),\"\",'Scholars Nomination Form'!$C$11)","v":""},{"$f":"IF(ISBLANK('Scholars Nomination Form'!$F282),\"\",'Scholars Nomination Form'!$C$12)","v":""},{"$f":"IF(ISBLANK('Scholars Nomination Form'!$F282),\"\",'Scholars Nomination Form'!$C$13)","v":""},{"$f":"IF(ISBLANK('Scholars Nomination Form'!$F282),\"\",'Scholars Nomination Form'!$C$14)","v":""},{"$f":"IF(ISBLANK('Scholars Nomination Form'!$F282),\"\",'Scholars Nomination Form'!$C$15)","v":""},{"$f":"IF(ISBLANK('Scholars Nomination Form'!$F282),\"\",'Scholars Nomination Form'!$C$16)","v":""},{"$f":"IF(ISBLANK('Scholars Nomination Form'!B282),\"\",'Scholars Nomination Form'!B282)","v":""},{"$f":"IF(ISBLANK('Scholars Nomination Form'!D282),\"\",'Scholars Nomination Form'!D282)","v":""},{"$f":"IF(ISBLANK('Scholars Nomination Form'!E282),\"\",'Scholars Nomination Form'!E282)","v":""},{"$f":"IF(ISBLANK('Scholars Nomination Form'!F282),\"\",'Scholars Nomination Form'!F282)","v":""},{"$f":"IF(ISBLANK('Scholars Nomination Form'!G282),\"\",'Scholars Nomination Form'!G282)","v":""},{"$f":"IF(ISBLANK('Scholars Nomination Form'!H282),\"\",'Scholars Nomination Form'!H282)","v":""},{"$f":"IF(ISBLANK('Scholars Nomination Form'!I282),\"\",'Scholars Nomination Form'!I282)","v":""},{"$f":"IF(ISBLANK('Scholars Nomination Form'!J282),\"\",'Scholars Nomination Form'!J282)","v":""},{"$f":"IF(ISBLANK('Scholars Nomination Form'!K282),\"\",'Scholars Nomination Form'!K282)","v":""},{"$f":"IF(ISBLANK('Scholars Nomination Form'!L282),\"\",'Scholars Nomination Form'!L282)","v":""},{"$f":"IF(ISBLANK('Scholars Nomination Form'!M282),\"\",'Scholars Nomination Form'!M282)","v":""},{"$f":"IF(ISBLANK('Scholars Nomination Form'!N282),\"\",'Scholars Nomination Form'!N282)","v":""},{"$f":"IF(ISBLANK('Scholars Nomination Form'!O282),\"\",'Scholars Nomination Form'!O282)","v":""},{"$f":"IF(ISBLANK('Scholars Nomination Form'!P282),\"\",'Scholars Nomination Form'!P282)","v":""},{"$f":"IF(ISBLANK('Scholars Nomination Form'!Q282),\"\",'Scholars Nomination Form'!Q282)","v":""},{"$f":"IF(ISBLANK('Scholars Nomination Form'!R282),\"\",'Scholars Nomination Form'!R282)","v":""},{"$f":"IF(ISBLANK('Scholars Nomination Form'!S282),\"\",'Scholars Nomination Form'!S282)","v":""},{"$f":"IF(ISBLANK('Scholars Nomination Form'!T282),\"\",'Scholars Nomination Form'!T282)","v":""},{"$f":"IF(ISBLANK('Scholars Nomination Form'!U282),\"\",'Scholars Nomination Form'!U282)","v":""},{"$f":"IF(ISBLANK('Scholars Nomination Form'!V282),\"\",'Scholars Nomination Form'!V282)","v":""},{"$f":"IF(ISBLANK('Scholars Nomination Form'!W282),\"\",'Scholars Nomination Form'!W282)","v":""},{"$f":"IF(ISBLANK('Scholars Nomination Form'!X282),\"\",'Scholars Nomination Form'!X282)","v":""},{"$f":"IF(ISBLANK('Scholars Nomination Form'!Y282),\"\",'Scholars Nomination Form'!Y282)","v":""},{"$f":"IF(ISBLANK('Scholars Nomination Form'!Z282),\"\",'Scholars Nomination Form'!Z282)","v":""},{"$f":"IF(ISBLANK('Scholars Nomination Form'!AA282),\"\",'Scholars Nomination Form'!AA282)","v":""}]
[{"$f":"IF(ISBLANK('Scholars Nomination Form'!$F283),\"\",'Scholars Nomination Form'!$C$11)","v":""},{"$f":"IF(ISBLANK('Scholars Nomination Form'!$F283),\"\",'Scholars Nomination Form'!$C$12)","v":""},{"$f":"IF(ISBLANK('Scholars Nomination Form'!$F283),\"\",'Scholars Nomination Form'!$C$13)","v":""},{"$f":"IF(ISBLANK('Scholars Nomination Form'!$F283),\"\",'Scholars Nomination Form'!$C$14)","v":""},{"$f":"IF(ISBLANK('Scholars Nomination Form'!$F283),\"\",'Scholars Nomination Form'!$C$15)","v":""},{"$f":"IF(ISBLANK('Scholars Nomination Form'!$F283),\"\",'Scholars Nomination Form'!$C$16)","v":""},{"$f":"IF(ISBLANK('Scholars Nomination Form'!B283),\"\",'Scholars Nomination Form'!B283)","v":""},{"$f":"IF(ISBLANK('Scholars Nomination Form'!D283),\"\",'Scholars Nomination Form'!D283)","v":""},{"$f":"IF(ISBLANK('Scholars Nomination Form'!E283),\"\",'Scholars Nomination Form'!E283)","v":""},{"$f":"IF(ISBLANK('Scholars Nomination Form'!F283),\"\",'Scholars Nomination Form'!F283)","v":""},{"$f":"IF(ISBLANK('Scholars Nomination Form'!G283),\"\",'Scholars Nomination Form'!G283)","v":""},{"$f":"IF(ISBLANK('Scholars Nomination Form'!H283),\"\",'Scholars Nomination Form'!H283)","v":""},{"$f":"IF(ISBLANK('Scholars Nomination Form'!I283),\"\",'Scholars Nomination Form'!I283)","v":""},{"$f":"IF(ISBLANK('Scholars Nomination Form'!J283),\"\",'Scholars Nomination Form'!J283)","v":""},{"$f":"IF(ISBLANK('Scholars Nomination Form'!K283),\"\",'Scholars Nomination Form'!K283)","v":""},{"$f":"IF(ISBLANK('Scholars Nomination Form'!L283),\"\",'Scholars Nomination Form'!L283)","v":""},{"$f":"IF(ISBLANK('Scholars Nomination Form'!M283),\"\",'Scholars Nomination Form'!M283)","v":""},{"$f":"IF(ISBLANK('Scholars Nomination Form'!N283),\"\",'Scholars Nomination Form'!N283)","v":""},{"$f":"IF(ISBLANK('Scholars Nomination Form'!O283),\"\",'Scholars Nomination Form'!O283)","v":""},{"$f":"IF(ISBLANK('Scholars Nomination Form'!P283),\"\",'Scholars Nomination Form'!P283)","v":""},{"$f":"IF(ISBLANK('Scholars Nomination Form'!Q283),\"\",'Scholars Nomination Form'!Q283)","v":""},{"$f":"IF(ISBLANK('Scholars Nomination Form'!R283),\"\",'Scholars Nomination Form'!R283)","v":""},{"$f":"IF(ISBLANK('Scholars Nomination Form'!S283),\"\",'Scholars Nomination Form'!S283)","v":""},{"$f":"IF(ISBLANK('Scholars Nomination Form'!T283),\"\",'Scholars Nomination Form'!T283)","v":""},{"$f":"IF(ISBLANK('Scholars Nomination Form'!U283),\"\",'Scholars Nomination Form'!U283)","v":""},{"$f":"IF(ISBLANK('Scholars Nomination Form'!V283),\"\",'Scholars Nomination Form'!V283)","v":""},{"$f":"IF(ISBLANK('Scholars Nomination Form'!W283),\"\",'Scholars Nomination Form'!W283)","v":""},{"$f":"IF(ISBLANK('Scholars Nomination Form'!X283),\"\",'Scholars Nomination Form'!X283)","v":""},{"$f":"IF(ISBLANK('Scholars Nomination Form'!Y283),\"\",'Scholars Nomination Form'!Y283)","v":""},{"$f":"IF(ISBLANK('Scholars Nomination Form'!Z283),\"\",'Scholars Nomination Form'!Z283)","v":""},{"$f":"IF(ISBLANK('Scholars Nomination Form'!AA283),\"\",'Scholars Nomination Form'!AA283)","v":""}]
[{"$f":"IF(ISBLANK('Scholars Nomination Form'!$F284),\"\",'Scholars Nomination Form'!$C$11)","v":""},{"$f":"IF(ISBLANK('Scholars Nomination Form'!$F284),\"\",'Scholars Nomination Form'!$C$12)","v":""},{"$f":"IF(ISBLANK('Scholars Nomination Form'!$F284),\"\",'Scholars Nomination Form'!$C$13)","v":""},{"$f":"IF(ISBLANK('Scholars Nomination Form'!$F284),\"\",'Scholars Nomination Form'!$C$14)","v":""},{"$f":"IF(ISBLANK('Scholars Nomination Form'!$F284),\"\",'Scholars Nomination Form'!$C$15)","v":""},{"$f":"IF(ISBLANK('Scholars Nomination Form'!$F284),\"\",'Scholars Nomination Form'!$C$16)","v":""},{"$f":"IF(ISBLANK('Scholars Nomination Form'!B284),\"\",'Scholars Nomination Form'!B284)","v":""},{"$f":"IF(ISBLANK('Scholars Nomination Form'!D284),\"\",'Scholars Nomination Form'!D284)","v":""},{"$f":"IF(ISBLANK('Scholars Nomination Form'!E284),\"\",'Scholars Nomination Form'!E284)","v":""},{"$f":"IF(ISBLANK('Scholars Nomination Form'!F284),\"\",'Scholars Nomination Form'!F284)","v":""},{"$f":"IF(ISBLANK('Scholars Nomination Form'!G284),\"\",'Scholars Nomination Form'!G284)","v":""},{"$f":"IF(ISBLANK('Scholars Nomination Form'!H284),\"\",'Scholars Nomination Form'!H284)","v":""},{"$f":"IF(ISBLANK('Scholars Nomination Form'!I284),\"\",'Scholars Nomination Form'!I284)","v":""},{"$f":"IF(ISBLANK('Scholars Nomination Form'!J284),\"\",'Scholars Nomination Form'!J284)","v":""},{"$f":"IF(ISBLANK('Scholars Nomination Form'!K284),\"\",'Scholars Nomination Form'!K284)","v":""},{"$f":"IF(ISBLANK('Scholars Nomination Form'!L284),\"\",'Scholars Nomination Form'!L284)","v":""},{"$f":"IF(ISBLANK('Scholars Nomination Form'!M284),\"\",'Scholars Nomination Form'!M284)","v":""},{"$f":"IF(ISBLANK('Scholars Nomination Form'!N284),\"\",'Scholars Nomination Form'!N284)","v":""},{"$f":"IF(ISBLANK('Scholars Nomination Form'!O284),\"\",'Scholars Nomination Form'!O284)","v":""},{"$f":"IF(ISBLANK('Scholars Nomination Form'!P284),\"\",'Scholars Nomination Form'!P284)","v":""},{"$f":"IF(ISBLANK('Scholars Nomination Form'!Q284),\"\",'Scholars Nomination Form'!Q284)","v":""},{"$f":"IF(ISBLANK('Scholars Nomination Form'!R284),\"\",'Scholars Nomination Form'!R284)","v":""},{"$f":"IF(ISBLANK('Scholars Nomination Form'!S284),\"\",'Scholars Nomination Form'!S284)","v":""},{"$f":"IF(ISBLANK('Scholars Nomination Form'!T284),\"\",'Scholars Nomination Form'!T284)","v":""},{"$f":"IF(ISBLANK('Scholars Nomination Form'!U284),\"\",'Scholars Nomination Form'!U284)","v":""},{"$f":"IF(ISBLANK('Scholars Nomination Form'!V284),\"\",'Scholars Nomination Form'!V284)","v":""},{"$f":"IF(ISBLANK('Scholars Nomination Form'!W284),\"\",'Scholars Nomination Form'!W284)","v":""},{"$f":"IF(ISBLANK('Scholars Nomination Form'!X284),\"\",'Scholars Nomination Form'!X284)","v":""},{"$f":"IF(ISBLANK('Scholars Nomination Form'!Y284),\"\",'Scholars Nomination Form'!Y284)","v":""},{"$f":"IF(ISBLANK('Scholars Nomination Form'!Z284),\"\",'Scholars Nomination Form'!Z284)","v":""},{"$f":"IF(ISBLANK('Scholars Nomination Form'!AA284),\"\",'Scholars Nomination Form'!AA284)","v":""}]
[{"$f":"IF(ISBLANK('Scholars Nomination Form'!$F285),\"\",'Scholars Nomination Form'!$C$11)","v":""},{"$f":"IF(ISBLANK('Scholars Nomination Form'!$F285),\"\",'Scholars Nomination Form'!$C$12)","v":""},{"$f":"IF(ISBLANK('Scholars Nomination Form'!$F285),\"\",'Scholars Nomination Form'!$C$13)","v":""},{"$f":"IF(ISBLANK('Scholars Nomination Form'!$F285),\"\",'Scholars Nomination Form'!$C$14)","v":""},{"$f":"IF(ISBLANK('Scholars Nomination Form'!$F285),\"\",'Scholars Nomination Form'!$C$15)","v":""},{"$f":"IF(ISBLANK('Scholars Nomination Form'!$F285),\"\",'Scholars Nomination Form'!$C$16)","v":""},{"$f":"IF(ISBLANK('Scholars Nomination Form'!B285),\"\",'Scholars Nomination Form'!B285)","v":""},{"$f":"IF(ISBLANK('Scholars Nomination Form'!D285),\"\",'Scholars Nomination Form'!D285)","v":""},{"$f":"IF(ISBLANK('Scholars Nomination Form'!E285),\"\",'Scholars Nomination Form'!E285)","v":""},{"$f":"IF(ISBLANK('Scholars Nomination Form'!F285),\"\",'Scholars Nomination Form'!F285)","v":""},{"$f":"IF(ISBLANK('Scholars Nomination Form'!G285),\"\",'Scholars Nomination Form'!G285)","v":""},{"$f":"IF(ISBLANK('Scholars Nomination Form'!H285),\"\",'Scholars Nomination Form'!H285)","v":""},{"$f":"IF(ISBLANK('Scholars Nomination Form'!I285),\"\",'Scholars Nomination Form'!I285)","v":""},{"$f":"IF(ISBLANK('Scholars Nomination Form'!J285),\"\",'Scholars Nomination Form'!J285)","v":""},{"$f":"IF(ISBLANK('Scholars Nomination Form'!K285),\"\",'Scholars Nomination Form'!K285)","v":""},{"$f":"IF(ISBLANK('Scholars Nomination Form'!L285),\"\",'Scholars Nomination Form'!L285)","v":""},{"$f":"IF(ISBLANK('Scholars Nomination Form'!M285),\"\",'Scholars Nomination Form'!M285)","v":""},{"$f":"IF(ISBLANK('Scholars Nomination Form'!N285),\"\",'Scholars Nomination Form'!N285)","v":""},{"$f":"IF(ISBLANK('Scholars Nomination Form'!O285),\"\",'Scholars Nomination Form'!O285)","v":""},{"$f":"IF(ISBLANK('Scholars Nomination Form'!P285),\"\",'Scholars Nomination Form'!P285)","v":""},{"$f":"IF(ISBLANK('Scholars Nomination Form'!Q285),\"\",'Scholars Nomination Form'!Q285)","v":""},{"$f":"IF(ISBLANK('Scholars Nomination Form'!R285),\"\",'Scholars Nomination Form'!R285)","v":""},{"$f":"IF(ISBLANK('Scholars Nomination Form'!S285),\"\",'Scholars Nomination Form'!S285)","v":""},{"$f":"IF(ISBLANK('Scholars Nomination Form'!T285),\"\",'Scholars Nomination Form'!T285)","v":""},{"$f":"IF(ISBLANK('Scholars Nomination Form'!U285),\"\",'Scholars Nomination Form'!U285)","v":""},{"$f":"IF(ISBLANK('Scholars Nomination Form'!V285),\"\",'Scholars Nomination Form'!V285)","v":""},{"$f":"IF(ISBLANK('Scholars Nomination Form'!W285),\"\",'Scholars Nomination Form'!W285)","v":""},{"$f":"IF(ISBLANK('Scholars Nomination Form'!X285),\"\",'Scholars Nomination Form'!X285)","v":""},{"$f":"IF(ISBLANK('Scholars Nomination Form'!Y285),\"\",'Scholars Nomination Form'!Y285)","v":""},{"$f":"IF(ISBLANK('Scholars Nomination Form'!Z285),\"\",'Scholars Nomination Form'!Z285)","v":""},{"$f":"IF(ISBLANK('Scholars Nomination Form'!AA285),\"\",'Scholars Nomination Form'!AA285)","v":""}]
[{"$f":"IF(ISBLANK('Scholars Nomination Form'!$F286),\"\",'Scholars Nomination Form'!$C$11)","v":""},{"$f":"IF(ISBLANK('Scholars Nomination Form'!$F286),\"\",'Scholars Nomination Form'!$C$12)","v":""},{"$f":"IF(ISBLANK('Scholars Nomination Form'!$F286),\"\",'Scholars Nomination Form'!$C$13)","v":""},{"$f":"IF(ISBLANK('Scholars Nomination Form'!$F286),\"\",'Scholars Nomination Form'!$C$14)","v":""},{"$f":"IF(ISBLANK('Scholars Nomination Form'!$F286),\"\",'Scholars Nomination Form'!$C$15)","v":""},{"$f":"IF(ISBLANK('Scholars Nomination Form'!$F286),\"\",'Scholars Nomination Form'!$C$16)","v":""},{"$f":"IF(ISBLANK('Scholars Nomination Form'!B286),\"\",'Scholars Nomination Form'!B286)","v":""},{"$f":"IF(ISBLANK('Scholars Nomination Form'!D286),\"\",'Scholars Nomination Form'!D286)","v":""},{"$f":"IF(ISBLANK('Scholars Nomination Form'!E286),\"\",'Scholars Nomination Form'!E286)","v":""},{"$f":"IF(ISBLANK('Scholars Nomination Form'!F286),\"\",'Scholars Nomination Form'!F286)","v":""},{"$f":"IF(ISBLANK('Scholars Nomination Form'!G286),\"\",'Scholars Nomination Form'!G286)","v":""},{"$f":"IF(ISBLANK('Scholars Nomination Form'!H286),\"\",'Scholars Nomination Form'!H286)","v":""},{"$f":"IF(ISBLANK('Scholars Nomination Form'!I286),\"\",'Scholars Nomination Form'!I286)","v":""},{"$f":"IF(ISBLANK('Scholars Nomination Form'!J286),\"\",'Scholars Nomination Form'!J286)","v":""},{"$f":"IF(ISBLANK('Scholars Nomination Form'!K286),\"\",'Scholars Nomination Form'!K286)","v":""},{"$f":"IF(ISBLANK('Scholars Nomination Form'!L286),\"\",'Scholars Nomination Form'!L286)","v":""},{"$f":"IF(ISBLANK('Scholars Nomination Form'!M286),\"\",'Scholars Nomination Form'!M286)","v":""},{"$f":"IF(ISBLANK('Scholars Nomination Form'!N286),\"\",'Scholars Nomination Form'!N286)","v":""},{"$f":"IF(ISBLANK('Scholars Nomination Form'!O286),\"\",'Scholars Nomination Form'!O286)","v":""},{"$f":"IF(ISBLANK('Scholars Nomination Form'!P286),\"\",'Scholars Nomination Form'!P286)","v":""},{"$f":"IF(ISBLANK('Scholars Nomination Form'!Q286),\"\",'Scholars Nomination Form'!Q286)","v":""},{"$f":"IF(ISBLANK('Scholars Nomination Form'!R286),\"\",'Scholars Nomination Form'!R286)","v":""},{"$f":"IF(ISBLANK('Scholars Nomination Form'!S286),\"\",'Scholars Nomination Form'!S286)","v":""},{"$f":"IF(ISBLANK('Scholars Nomination Form'!T286),\"\",'Scholars Nomination Form'!T286)","v":""},{"$f":"IF(ISBLANK('Scholars Nomination Form'!U286),\"\",'Scholars Nomination Form'!U286)","v":""},{"$f":"IF(ISBLANK('Scholars Nomination Form'!V286),\"\",'Scholars Nomination Form'!V286)","v":""},{"$f":"IF(ISBLANK('Scholars Nomination Form'!W286),\"\",'Scholars Nomination Form'!W286)","v":""},{"$f":"IF(ISBLANK('Scholars Nomination Form'!X286),\"\",'Scholars Nomination Form'!X286)","v":""},{"$f":"IF(ISBLANK('Scholars Nomination Form'!Y286),\"\",'Scholars Nomination Form'!Y286)","v":""},{"$f":"IF(ISBLANK('Scholars Nomination Form'!Z286),\"\",'Scholars Nomination Form'!Z286)","v":""},{"$f":"IF(ISBLANK('Scholars Nomination Form'!AA286),\"\",'Scholars Nomination Form'!AA286)","v":""}]
[{"$f":"IF(ISBLANK('Scholars Nomination Form'!$F287),\"\",'Scholars Nomination Form'!$C$11)","v":""},{"$f":"IF(ISBLANK('Scholars Nomination Form'!$F287),\"\",'Scholars Nomination Form'!$C$12)","v":""},{"$f":"IF(ISBLANK('Scholars Nomination Form'!$F287),\"\",'Scholars Nomination Form'!$C$13)","v":""},{"$f":"IF(ISBLANK('Scholars Nomination Form'!$F287),\"\",'Scholars Nomination Form'!$C$14)","v":""},{"$f":"IF(ISBLANK('Scholars Nomination Form'!$F287),\"\",'Scholars Nomination Form'!$C$15)","v":""},{"$f":"IF(ISBLANK('Scholars Nomination Form'!$F287),\"\",'Scholars Nomination Form'!$C$16)","v":""},{"$f":"IF(ISBLANK('Scholars Nomination Form'!B287),\"\",'Scholars Nomination Form'!B287)","v":""},{"$f":"IF(ISBLANK('Scholars Nomination Form'!D287),\"\",'Scholars Nomination Form'!D287)","v":""},{"$f":"IF(ISBLANK('Scholars Nomination Form'!E287),\"\",'Scholars Nomination Form'!E287)","v":""},{"$f":"IF(ISBLANK('Scholars Nomination Form'!F287),\"\",'Scholars Nomination Form'!F287)","v":""},{"$f":"IF(ISBLANK('Scholars Nomination Form'!G287),\"\",'Scholars Nomination Form'!G287)","v":""},{"$f":"IF(ISBLANK('Scholars Nomination Form'!H287),\"\",'Scholars Nomination Form'!H287)","v":""},{"$f":"IF(ISBLANK('Scholars Nomination Form'!I287),\"\",'Scholars Nomination Form'!I287)","v":""},{"$f":"IF(ISBLANK('Scholars Nomination Form'!J287),\"\",'Scholars Nomination Form'!J287)","v":""},{"$f":"IF(ISBLANK('Scholars Nomination Form'!K287),\"\",'Scholars Nomination Form'!K287)","v":""},{"$f":"IF(ISBLANK('Scholars Nomination Form'!L287),\"\",'Scholars Nomination Form'!L287)","v":""},{"$f":"IF(ISBLANK('Scholars Nomination Form'!M287),\"\",'Scholars Nomination Form'!M287)","v":""},{"$f":"IF(ISBLANK('Scholars Nomination Form'!N287),\"\",'Scholars Nomination Form'!N287)","v":""},{"$f":"IF(ISBLANK('Scholars Nomination Form'!O287),\"\",'Scholars Nomination Form'!O287)","v":""},{"$f":"IF(ISBLANK('Scholars Nomination Form'!P287),\"\",'Scholars Nomination Form'!P287)","v":""},{"$f":"IF(ISBLANK('Scholars Nomination Form'!Q287),\"\",'Scholars Nomination Form'!Q287)","v":""},{"$f":"IF(ISBLANK('Scholars Nomination Form'!R287),\"\",'Scholars Nomination Form'!R287)","v":""},{"$f":"IF(ISBLANK('Scholars Nomination Form'!S287),\"\",'Scholars Nomination Form'!S287)","v":""},{"$f":"IF(ISBLANK('Scholars Nomination Form'!T287),\"\",'Scholars Nomination Form'!T287)","v":""},{"$f":"IF(ISBLANK('Scholars Nomination Form'!U287),\"\",'Scholars Nomination Form'!U287)","v":""},{"$f":"IF(ISBLANK('Scholars Nomination Form'!V287),\"\",'Scholars Nomination Form'!V287)","v":""},{"$f":"IF(ISBLANK('Scholars Nomination Form'!W287),\"\",'Scholars Nomination Form'!W287)","v":""},{"$f":"IF(ISBLANK('Scholars Nomination Form'!X287),\"\",'Scholars Nomination Form'!X287)","v":""},{"$f":"IF(ISBLANK('Scholars Nomination Form'!Y287),\"\",'Scholars Nomination Form'!Y287)","v":""},{"$f":"IF(ISBLANK('Scholars Nomination Form'!Z287),\"\",'Scholars Nomination Form'!Z287)","v":""},{"$f":"IF(ISBLANK('Scholars Nomination Form'!AA287),\"\",'Scholars Nomination Form'!AA287)","v":""}]
[{"$f":"IF(ISBLANK('Scholars Nomination Form'!$F288),\"\",'Scholars Nomination Form'!$C$11)","v":""},{"$f":"IF(ISBLANK('Scholars Nomination Form'!$F288),\"\",'Scholars Nomination Form'!$C$12)","v":""},{"$f":"IF(ISBLANK('Scholars Nomination Form'!$F288),\"\",'Scholars Nomination Form'!$C$13)","v":""},{"$f":"IF(ISBLANK('Scholars Nomination Form'!$F288),\"\",'Scholars Nomination Form'!$C$14)","v":""},{"$f":"IF(ISBLANK('Scholars Nomination Form'!$F288),\"\",'Scholars Nomination Form'!$C$15)","v":""},{"$f":"IF(ISBLANK('Scholars Nomination Form'!$F288),\"\",'Scholars Nomination Form'!$C$16)","v":""},{"$f":"IF(ISBLANK('Scholars Nomination Form'!B288),\"\",'Scholars Nomination Form'!B288)","v":""},{"$f":"IF(ISBLANK('Scholars Nomination Form'!D288),\"\",'Scholars Nomination Form'!D288)","v":""},{"$f":"IF(ISBLANK('Scholars Nomination Form'!E288),\"\",'Scholars Nomination Form'!E288)","v":""},{"$f":"IF(ISBLANK('Scholars Nomination Form'!F288),\"\",'Scholars Nomination Form'!F288)","v":""},{"$f":"IF(ISBLANK('Scholars Nomination Form'!G288),\"\",'Scholars Nomination Form'!G288)","v":""},{"$f":"IF(ISBLANK('Scholars Nomination Form'!H288),\"\",'Scholars Nomination Form'!H288)","v":""},{"$f":"IF(ISBLANK('Scholars Nomination Form'!I288),\"\",'Scholars Nomination Form'!I288)","v":""},{"$f":"IF(ISBLANK('Scholars Nomination Form'!J288),\"\",'Scholars Nomination Form'!J288)","v":""},{"$f":"IF(ISBLANK('Scholars Nomination Form'!K288),\"\",'Scholars Nomination Form'!K288)","v":""},{"$f":"IF(ISBLANK('Scholars Nomination Form'!L288),\"\",'Scholars Nomination Form'!L288)","v":""},{"$f":"IF(ISBLANK('Scholars Nomination Form'!M288),\"\",'Scholars Nomination Form'!M288)","v":""},{"$f":"IF(ISBLANK('Scholars Nomination Form'!N288),\"\",'Scholars Nomination Form'!N288)","v":""},{"$f":"IF(ISBLANK('Scholars Nomination Form'!O288),\"\",'Scholars Nomination Form'!O288)","v":""},{"$f":"IF(ISBLANK('Scholars Nomination Form'!P288),\"\",'Scholars Nomination Form'!P288)","v":""},{"$f":"IF(ISBLANK('Scholars Nomination Form'!Q288),\"\",'Scholars Nomination Form'!Q288)","v":""},{"$f":"IF(ISBLANK('Scholars Nomination Form'!R288),\"\",'Scholars Nomination Form'!R288)","v":""},{"$f":"IF(ISBLANK('Scholars Nomination Form'!S288),\"\",'Scholars Nomination Form'!S288)","v":""},{"$f":"IF(ISBLANK('Scholars Nomination Form'!T288),\"\",'Scholars Nomination Form'!T288)","v":""},{"$f":"IF(ISBLANK('Scholars Nomination Form'!U288),\"\",'Scholars Nomination Form'!U288)","v":""},{"$f":"IF(ISBLANK('Scholars Nomination Form'!V288),\"\",'Scholars Nomination Form'!V288)","v":""},{"$f":"IF(ISBLANK('Scholars Nomination Form'!W288),\"\",'Scholars Nomination Form'!W288)","v":""},{"$f":"IF(ISBLANK('Scholars Nomination Form'!X288),\"\",'Scholars Nomination Form'!X288)","v":""},{"$f":"IF(ISBLANK('Scholars Nomination Form'!Y288),\"\",'Scholars Nomination Form'!Y288)","v":""},{"$f":"IF(ISBLANK('Scholars Nomination Form'!Z288),\"\",'Scholars Nomination Form'!Z288)","v":""},{"$f":"IF(ISBLANK('Scholars Nomination Form'!AA288),\"\",'Scholars Nomination Form'!AA288)","v":""}]
[{"$f":"IF(ISBLANK('Scholars Nomination Form'!$F289),\"\",'Scholars Nomination Form'!$C$11)","v":""},{"$f":"IF(ISBLANK('Scholars Nomination Form'!$F289),\"\",'Scholars Nomination Form'!$C$12)","v":""},{"$f":"IF(ISBLANK('Scholars Nomination Form'!$F289),\"\",'Scholars Nomination Form'!$C$13)","v":""},{"$f":"IF(ISBLANK('Scholars Nomination Form'!$F289),\"\",'Scholars Nomination Form'!$C$14)","v":""},{"$f":"IF(ISBLANK('Scholars Nomination Form'!$F289),\"\",'Scholars Nomination Form'!$C$15)","v":""},{"$f":"IF(ISBLANK('Scholars Nomination Form'!$F289),\"\",'Scholars Nomination Form'!$C$16)","v":""},{"$f":"IF(ISBLANK('Scholars Nomination Form'!B289),\"\",'Scholars Nomination Form'!B289)","v":""},{"$f":"IF(ISBLANK('Scholars Nomination Form'!D289),\"\",'Scholars Nomination Form'!D289)","v":""},{"$f":"IF(ISBLANK('Scholars Nomination Form'!E289),\"\",'Scholars Nomination Form'!E289)","v":""},{"$f":"IF(ISBLANK('Scholars Nomination Form'!F289),\"\",'Scholars Nomination Form'!F289)","v":""},{"$f":"IF(ISBLANK('Scholars Nomination Form'!G289),\"\",'Scholars Nomination Form'!G289)","v":""},{"$f":"IF(ISBLANK('Scholars Nomination Form'!H289),\"\",'Scholars Nomination Form'!H289)","v":""},{"$f":"IF(ISBLANK('Scholars Nomination Form'!I289),\"\",'Scholars Nomination Form'!I289)","v":""},{"$f":"IF(ISBLANK('Scholars Nomination Form'!J289),\"\",'Scholars Nomination Form'!J289)","v":""},{"$f":"IF(ISBLANK('Scholars Nomination Form'!K289),\"\",'Scholars Nomination Form'!K289)","v":""},{"$f":"IF(ISBLANK('Scholars Nomination Form'!L289),\"\",'Scholars Nomination Form'!L289)","v":""},{"$f":"IF(ISBLANK('Scholars Nomination Form'!M289),\"\",'Scholars Nomination Form'!M289)","v":""},{"$f":"IF(ISBLANK('Scholars Nomination Form'!N289),\"\",'Scholars Nomination Form'!N289)","v":""},{"$f":"IF(ISBLANK('Scholars Nomination Form'!O289),\"\",'Scholars Nomination Form'!O289)","v":""},{"$f":"IF(ISBLANK('Scholars Nomination Form'!P289),\"\",'Scholars Nomination Form'!P289)","v":""},{"$f":"IF(ISBLANK('Scholars Nomination Form'!Q289),\"\",'Scholars Nomination Form'!Q289)","v":""},{"$f":"IF(ISBLANK('Scholars Nomination Form'!R289),\"\",'Scholars Nomination Form'!R289)","v":""},{"$f":"IF(ISBLANK('Scholars Nomination Form'!S289),\"\",'Scholars Nomination Form'!S289)","v":""},{"$f":"IF(ISBLANK('Scholars Nomination Form'!T289),\"\",'Scholars Nomination Form'!T289)","v":""},{"$f":"IF(ISBLANK('Scholars Nomination Form'!U289),\"\",'Scholars Nomination Form'!U289)","v":""},{"$f":"IF(ISBLANK('Scholars Nomination Form'!V289),\"\",'Scholars Nomination Form'!V289)","v":""},{"$f":"IF(ISBLANK('Scholars Nomination Form'!W289),\"\",'Scholars Nomination Form'!W289)","v":""},{"$f":"IF(ISBLANK('Scholars Nomination Form'!X289),\"\",'Scholars Nomination Form'!X289)","v":""},{"$f":"IF(ISBLANK('Scholars Nomination Form'!Y289),\"\",'Scholars Nomination Form'!Y289)","v":""},{"$f":"IF(ISBLANK('Scholars Nomination Form'!Z289),\"\",'Scholars Nomination Form'!Z289)","v":""},{"$f":"IF(ISBLANK('Scholars Nomination Form'!AA289),\"\",'Scholars Nomination Form'!AA289)","v":""}]
[{"$f":"IF(ISBLANK('Scholars Nomination Form'!$F290),\"\",'Scholars Nomination Form'!$C$11)","v":""},{"$f":"IF(ISBLANK('Scholars Nomination Form'!$F290),\"\",'Scholars Nomination Form'!$C$12)","v":""},{"$f":"IF(ISBLANK('Scholars Nomination Form'!$F290),\"\",'Scholars Nomination Form'!$C$13)","v":""},{"$f":"IF(ISBLANK('Scholars Nomination Form'!$F290),\"\",'Scholars Nomination Form'!$C$14)","v":""},{"$f":"IF(ISBLANK('Scholars Nomination Form'!$F290),\"\",'Scholars Nomination Form'!$C$15)","v":""},{"$f":"IF(ISBLANK('Scholars Nomination Form'!$F290),\"\",'Scholars Nomination Form'!$C$16)","v":""},{"$f":"IF(ISBLANK('Scholars Nomination Form'!B290),\"\",'Scholars Nomination Form'!B290)","v":""},{"$f":"IF(ISBLANK('Scholars Nomination Form'!D290),\"\",'Scholars Nomination Form'!D290)","v":""},{"$f":"IF(ISBLANK('Scholars Nomination Form'!E290),\"\",'Scholars Nomination Form'!E290)","v":""},{"$f":"IF(ISBLANK('Scholars Nomination Form'!F290),\"\",'Scholars Nomination Form'!F290)","v":""},{"$f":"IF(ISBLANK('Scholars Nomination Form'!G290),\"\",'Scholars Nomination Form'!G290)","v":""},{"$f":"IF(ISBLANK('Scholars Nomination Form'!H290),\"\",'Scholars Nomination Form'!H290)","v":""},{"$f":"IF(ISBLANK('Scholars Nomination Form'!I290),\"\",'Scholars Nomination Form'!I290)","v":""},{"$f":"IF(ISBLANK('Scholars Nomination Form'!J290),\"\",'Scholars Nomination Form'!J290)","v":""},{"$f":"IF(ISBLANK('Scholars Nomination Form'!K290),\"\",'Scholars Nomination Form'!K290)","v":""},{"$f":"IF(ISBLANK('Scholars Nomination Form'!L290),\"\",'Scholars Nomination Form'!L290)","v":""},{"$f":"IF(ISBLANK('Scholars Nomination Form'!M290),\"\",'Scholars Nomination Form'!M290)","v":""},{"$f":"IF(ISBLANK('Scholars Nomination Form'!N290),\"\",'Scholars Nomination Form'!N290)","v":""},{"$f":"IF(ISBLANK('Scholars Nomination Form'!O290),\"\",'Scholars Nomination Form'!O290)","v":""},{"$f":"IF(ISBLANK('Scholars Nomination Form'!P290),\"\",'Scholars Nomination Form'!P290)","v":""},{"$f":"IF(ISBLANK('Scholars Nomination Form'!Q290),\"\",'Scholars Nomination Form'!Q290)","v":""},{"$f":"IF(ISBLANK('Scholars Nomination Form'!R290),\"\",'Scholars Nomination Form'!R290)","v":""},{"$f":"IF(ISBLANK('Scholars Nomination Form'!S290),\"\",'Scholars Nomination Form'!S290)","v":""},{"$f":"IF(ISBLANK('Scholars Nomination Form'!T290),\"\",'Scholars Nomination Form'!T290)","v":""},{"$f":"IF(ISBLANK('Scholars Nomination Form'!U290),\"\",'Scholars Nomination Form'!U290)","v":""},{"$f":"IF(ISBLANK('Scholars Nomination Form'!V290),\"\",'Scholars Nomination Form'!V290)","v":""},{"$f":"IF(ISBLANK('Scholars Nomination Form'!W290),\"\",'Scholars Nomination Form'!W290)","v":""},{"$f":"IF(ISBLANK('Scholars Nomination Form'!X290),\"\",'Scholars Nomination Form'!X290)","v":""},{"$f":"IF(ISBLANK('Scholars Nomination Form'!Y290),\"\",'Scholars Nomination Form'!Y290)","v":""},{"$f":"IF(ISBLANK('Scholars Nomination Form'!Z290),\"\",'Scholars Nomination Form'!Z290)","v":""},{"$f":"IF(ISBLANK('Scholars Nomination Form'!AA290),\"\",'Scholars Nomination Form'!AA290)","v":""}]
[{"$f":"IF(ISBLANK('Scholars Nomination Form'!$F291),\"\",'Scholars Nomination Form'!$C$11)","v":""},{"$f":"IF(ISBLANK('Scholars Nomination Form'!$F291),\"\",'Scholars Nomination Form'!$C$12)","v":""},{"$f":"IF(ISBLANK('Scholars Nomination Form'!$F291),\"\",'Scholars Nomination Form'!$C$13)","v":""},{"$f":"IF(ISBLANK('Scholars Nomination Form'!$F291),\"\",'Scholars Nomination Form'!$C$14)","v":""},{"$f":"IF(ISBLANK('Scholars Nomination Form'!$F291),\"\",'Scholars Nomination Form'!$C$15)","v":""},{"$f":"IF(ISBLANK('Scholars Nomination Form'!$F291),\"\",'Scholars Nomination Form'!$C$16)","v":""},{"$f":"IF(ISBLANK('Scholars Nomination Form'!B291),\"\",'Scholars Nomination Form'!B291)","v":""},{"$f":"IF(ISBLANK('Scholars Nomination Form'!D291),\"\",'Scholars Nomination Form'!D291)","v":""},{"$f":"IF(ISBLANK('Scholars Nomination Form'!E291),\"\",'Scholars Nomination Form'!E291)","v":""},{"$f":"IF(ISBLANK('Scholars Nomination Form'!F291),\"\",'Scholars Nomination Form'!F291)","v":""},{"$f":"IF(ISBLANK('Scholars Nomination Form'!G291),\"\",'Scholars Nomination Form'!G291)","v":""},{"$f":"IF(ISBLANK('Scholars Nomination Form'!H291),\"\",'Scholars Nomination Form'!H291)","v":""},{"$f":"IF(ISBLANK('Scholars Nomination Form'!I291),\"\",'Scholars Nomination Form'!I291)","v":""},{"$f":"IF(ISBLANK('Scholars Nomination Form'!J291),\"\",'Scholars Nomination Form'!J291)","v":""},{"$f":"IF(ISBLANK('Scholars Nomination Form'!K291),\"\",'Scholars Nomination Form'!K291)","v":""},{"$f":"IF(ISBLANK('Scholars Nomination Form'!L291),\"\",'Scholars Nomination Form'!L291)","v":""},{"$f":"IF(ISBLANK('Scholars Nomination Form'!M291),\"\",'Scholars Nomination Form'!M291)","v":""},{"$f":"IF(ISBLANK('Scholars Nomination Form'!N291),\"\",'Scholars Nomination Form'!N291)","v":""},{"$f":"IF(ISBLANK('Scholars Nomination Form'!O291),\"\",'Scholars Nomination Form'!O291)","v":""},{"$f":"IF(ISBLANK('Scholars Nomination Form'!P291),\"\",'Scholars Nomination Form'!P291)","v":""},{"$f":"IF(ISBLANK('Scholars Nomination Form'!Q291),\"\",'Scholars Nomination Form'!Q291)","v":""},{"$f":"IF(ISBLANK('Scholars Nomination Form'!R291),\"\",'Scholars Nomination Form'!R291)","v":""},{"$f":"IF(ISBLANK('Scholars Nomination Form'!S291),\"\",'Scholars Nomination Form'!S291)","v":""},{"$f":"IF(ISBLANK('Scholars Nomination Form'!T291),\"\",'Scholars Nomination Form'!T291)","v":""},{"$f":"IF(ISBLANK('Scholars Nomination Form'!U291),\"\",'Scholars Nomination Form'!U291)","v":""},{"$f":"IF(ISBLANK('Scholars Nomination Form'!V291),\"\",'Scholars Nomination Form'!V291)","v":""},{"$f":"IF(ISBLANK('Scholars Nomination Form'!W291),\"\",'Scholars Nomination Form'!W291)","v":""},{"$f":"IF(ISBLANK('Scholars Nomination Form'!X291),\"\",'Scholars Nomination Form'!X291)","v":""},{"$f":"IF(ISBLANK('Scholars Nomination Form'!Y291),\"\",'Scholars Nomination Form'!Y291)","v":""},{"$f":"IF(ISBLANK('Scholars Nomination Form'!Z291),\"\",'Scholars Nomination Form'!Z291)","v":""},{"$f":"IF(ISBLANK('Scholars Nomination Form'!AA291),\"\",'Scholars Nomination Form'!AA291)","v":""}]
[{"$f":"IF(ISBLANK('Scholars Nomination Form'!$F292),\"\",'Scholars Nomination Form'!$C$11)","v":""},{"$f":"IF(ISBLANK('Scholars Nomination Form'!$F292),\"\",'Scholars Nomination Form'!$C$12)","v":""},{"$f":"IF(ISBLANK('Scholars Nomination Form'!$F292),\"\",'Scholars Nomination Form'!$C$13)","v":""},{"$f":"IF(ISBLANK('Scholars Nomination Form'!$F292),\"\",'Scholars Nomination Form'!$C$14)","v":""},{"$f":"IF(ISBLANK('Scholars Nomination Form'!$F292),\"\",'Scholars Nomination Form'!$C$15)","v":""},{"$f":"IF(ISBLANK('Scholars Nomination Form'!$F292),\"\",'Scholars Nomination Form'!$C$16)","v":""},{"$f":"IF(ISBLANK('Scholars Nomination Form'!B292),\"\",'Scholars Nomination Form'!B292)","v":""},{"$f":"IF(ISBLANK('Scholars Nomination Form'!D292),\"\",'Scholars Nomination Form'!D292)","v":""},{"$f":"IF(ISBLANK('Scholars Nomination Form'!E292),\"\",'Scholars Nomination Form'!E292)","v":""},{"$f":"IF(ISBLANK('Scholars Nomination Form'!F292),\"\",'Scholars Nomination Form'!F292)","v":""},{"$f":"IF(ISBLANK('Scholars Nomination Form'!G292),\"\",'Scholars Nomination Form'!G292)","v":""},{"$f":"IF(ISBLANK('Scholars Nomination Form'!H292),\"\",'Scholars Nomination Form'!H292)","v":""},{"$f":"IF(ISBLANK('Scholars Nomination Form'!I292),\"\",'Scholars Nomination Form'!I292)","v":""},{"$f":"IF(ISBLANK('Scholars Nomination Form'!J292),\"\",'Scholars Nomination Form'!J292)","v":""},{"$f":"IF(ISBLANK('Scholars Nomination Form'!K292),\"\",'Scholars Nomination Form'!K292)","v":""},{"$f":"IF(ISBLANK('Scholars Nomination Form'!L292),\"\",'Scholars Nomination Form'!L292)","v":""},{"$f":"IF(ISBLANK('Scholars Nomination Form'!M292),\"\",'Scholars Nomination Form'!M292)","v":""},{"$f":"IF(ISBLANK('Scholars Nomination Form'!N292),\"\",'Scholars Nomination Form'!N292)","v":""},{"$f":"IF(ISBLANK('Scholars Nomination Form'!O292),\"\",'Scholars Nomination Form'!O292)","v":""},{"$f":"IF(ISBLANK('Scholars Nomination Form'!P292),\"\",'Scholars Nomination Form'!P292)","v":""},{"$f":"IF(ISBLANK('Scholars Nomination Form'!Q292),\"\",'Scholars Nomination Form'!Q292)","v":""},{"$f":"IF(ISBLANK('Scholars Nomination Form'!R292),\"\",'Scholars Nomination Form'!R292)","v":""},{"$f":"IF(ISBLANK('Scholars Nomination Form'!S292),\"\",'Scholars Nomination Form'!S292)","v":""},{"$f":"IF(ISBLANK('Scholars Nomination Form'!T292),\"\",'Scholars Nomination Form'!T292)","v":""},{"$f":"IF(ISBLANK('Scholars Nomination Form'!U292),\"\",'Scholars Nomination Form'!U292)","v":""},{"$f":"IF(ISBLANK('Scholars Nomination Form'!V292),\"\",'Scholars Nomination Form'!V292)","v":""},{"$f":"IF(ISBLANK('Scholars Nomination Form'!W292),\"\",'Scholars Nomination Form'!W292)","v":""},{"$f":"IF(ISBLANK('Scholars Nomination Form'!X292),\"\",'Scholars Nomination Form'!X292)","v":""},{"$f":"IF(ISBLANK('Scholars Nomination Form'!Y292),\"\",'Scholars Nomination Form'!Y292)","v":""},{"$f":"IF(ISBLANK('Scholars Nomination Form'!Z292),\"\",'Scholars Nomination Form'!Z292)","v":""},{"$f":"IF(ISBLANK('Scholars Nomination Form'!AA292),\"\",'Scholars Nomination Form'!AA292)","v":""}]
[{"$f":"IF(ISBLANK('Scholars Nomination Form'!$F293),\"\",'Scholars Nomination Form'!$C$11)","v":""},{"$f":"IF(ISBLANK('Scholars Nomination Form'!$F293),\"\",'Scholars Nomination Form'!$C$12)","v":""},{"$f":"IF(ISBLANK('Scholars Nomination Form'!$F293),\"\",'Scholars Nomination Form'!$C$13)","v":""},{"$f":"IF(ISBLANK('Scholars Nomination Form'!$F293),\"\",'Scholars Nomination Form'!$C$14)","v":""},{"$f":"IF(ISBLANK('Scholars Nomination Form'!$F293),\"\",'Scholars Nomination Form'!$C$15)","v":""},{"$f":"IF(ISBLANK('Scholars Nomination Form'!$F293),\"\",'Scholars Nomination Form'!$C$16)","v":""},{"$f":"IF(ISBLANK('Scholars Nomination Form'!B293),\"\",'Scholars Nomination Form'!B293)","v":""},{"$f":"IF(ISBLANK('Scholars Nomination Form'!D293),\"\",'Scholars Nomination Form'!D293)","v":""},{"$f":"IF(ISBLANK('Scholars Nomination Form'!E293),\"\",'Scholars Nomination Form'!E293)","v":""},{"$f":"IF(ISBLANK('Scholars Nomination Form'!F293),\"\",'Scholars Nomination Form'!F293)","v":""},{"$f":"IF(ISBLANK('Scholars Nomination Form'!G293),\"\",'Scholars Nomination Form'!G293)","v":""},{"$f":"IF(ISBLANK('Scholars Nomination Form'!H293),\"\",'Scholars Nomination Form'!H293)","v":""},{"$f":"IF(ISBLANK('Scholars Nomination Form'!I293),\"\",'Scholars Nomination Form'!I293)","v":""},{"$f":"IF(ISBLANK('Scholars Nomination Form'!J293),\"\",'Scholars Nomination Form'!J293)","v":""},{"$f":"IF(ISBLANK('Scholars Nomination Form'!K293),\"\",'Scholars Nomination Form'!K293)","v":""},{"$f":"IF(ISBLANK('Scholars Nomination Form'!L293),\"\",'Scholars Nomination Form'!L293)","v":""},{"$f":"IF(ISBLANK('Scholars Nomination Form'!M293),\"\",'Scholars Nomination Form'!M293)","v":""},{"$f":"IF(ISBLANK('Scholars Nomination Form'!N293),\"\",'Scholars Nomination Form'!N293)","v":""},{"$f":"IF(ISBLANK('Scholars Nomination Form'!O293),\"\",'Scholars Nomination Form'!O293)","v":""},{"$f":"IF(ISBLANK('Scholars Nomination Form'!P293),\"\",'Scholars Nomination Form'!P293)","v":""},{"$f":"IF(ISBLANK('Scholars Nomination Form'!Q293),\"\",'Scholars Nomination Form'!Q293)","v":""},{"$f":"IF(ISBLANK('Scholars Nomination Form'!R293),\"\",'Scholars Nomination Form'!R293)","v":""},{"$f":"IF(ISBLANK('Scholars Nomination Form'!S293),\"\",'Scholars Nomination Form'!S293)","v":""},{"$f":"IF(ISBLANK('Scholars Nomination Form'!T293),\"\",'Scholars Nomination Form'!T293)","v":""},{"$f":"IF(ISBLANK('Scholars Nomination Form'!U293),\"\",'Scholars Nomination Form'!U293)","v":""},{"$f":"IF(ISBLANK('Scholars Nomination Form'!V293),\"\",'Scholars Nomination Form'!V293)","v":""},{"$f":"IF(ISBLANK('Scholars Nomination Form'!W293),\"\",'Scholars Nomination Form'!W293)","v":""},{"$f":"IF(ISBLANK('Scholars Nomination Form'!X293),\"\",'Scholars Nomination Form'!X293)","v":""},{"$f":"IF(ISBLANK('Scholars Nomination Form'!Y293),\"\",'Scholars Nomination Form'!Y293)","v":""},{"$f":"IF(ISBLANK('Scholars Nomination Form'!Z293),\"\",'Scholars Nomination Form'!Z293)","v":""},{"$f":"IF(ISBLANK('Scholars Nomination Form'!AA293),\"\",'Scholars Nomination Form'!AA293)","v":""}]
[{"$f":"IF(ISBLANK('Scholars Nomination Form'!$F294),\"\",'Scholars Nomination Form'!$C$11)","v":""},{"$f":"IF(ISBLANK('Scholars Nomination Form'!$F294),\"\",'Scholars Nomination Form'!$C$12)","v":""},{"$f":"IF(ISBLANK('Scholars Nomination Form'!$F294),\"\",'Scholars Nomination Form'!$C$13)","v":""},{"$f":"IF(ISBLANK('Scholars Nomination Form'!$F294),\"\",'Scholars Nomination Form'!$C$14)","v":""},{"$f":"IF(ISBLANK('Scholars Nomination Form'!$F294),\"\",'Scholars Nomination Form'!$C$15)","v":""},{"$f":"IF(ISBLANK('Scholars Nomination Form'!$F294),\"\",'Scholars Nomination Form'!$C$16)","v":""},{"$f":"IF(ISBLANK('Scholars Nomination Form'!B294),\"\",'Scholars Nomination Form'!B294)","v":""},{"$f":"IF(ISBLANK('Scholars Nomination Form'!D294),\"\",'Scholars Nomination Form'!D294)","v":""},{"$f":"IF(ISBLANK('Scholars Nomination Form'!E294),\"\",'Scholars Nomination Form'!E294)","v":""},{"$f":"IF(ISBLANK('Scholars Nomination Form'!F294),\"\",'Scholars Nomination Form'!F294)","v":""},{"$f":"IF(ISBLANK('Scholars Nomination Form'!G294),\"\",'Scholars Nomination Form'!G294)","v":""},{"$f":"IF(ISBLANK('Scholars Nomination Form'!H294),\"\",'Scholars Nomination Form'!H294)","v":""},{"$f":"IF(ISBLANK('Scholars Nomination Form'!I294),\"\",'Scholars Nomination Form'!I294)","v":""},{"$f":"IF(ISBLANK('Scholars Nomination Form'!J294),\"\",'Scholars Nomination Form'!J294)","v":""},{"$f":"IF(ISBLANK('Scholars Nomination Form'!K294),\"\",'Scholars Nomination Form'!K294)","v":""},{"$f":"IF(ISBLANK('Scholars Nomination Form'!L294),\"\",'Scholars Nomination Form'!L294)","v":""},{"$f":"IF(ISBLANK('Scholars Nomination Form'!M294),\"\",'Scholars Nomination Form'!M294)","v":""},{"$f":"IF(ISBLANK('Scholars Nomination Form'!N294),\"\",'Scholars Nomination Form'!N294)","v":""},{"$f":"IF(ISBLANK('Scholars Nomination Form'!O294),\"\",'Scholars Nomination Form'!O294)","v":""},{"$f":"IF(ISBLANK('Scholars Nomination Form'!P294),\"\",'Scholars Nomination Form'!P294)","v":""},{"$f":"IF(ISBLANK('Scholars Nomination Form'!Q294),\"\",'Scholars Nomination Form'!Q294)","v":""},{"$f":"IF(ISBLANK('Scholars Nomination Form'!R294),\"\",'Scholars Nomination Form'!R294)","v":""},{"$f":"IF(ISBLANK('Scholars Nomination Form'!S294),\"\",'Scholars Nomination Form'!S294)","v":""},{"$f":"IF(ISBLANK('Scholars Nomination Form'!T294),\"\",'Scholars Nomination Form'!T294)","v":""},{"$f":"IF(ISBLANK('Scholars Nomination Form'!U294),\"\",'Scholars Nomination Form'!U294)","v":""},{"$f":"IF(ISBLANK('Scholars Nomination Form'!V294),\"\",'Scholars Nomination Form'!V294)","v":""},{"$f":"IF(ISBLANK('Scholars Nomination Form'!W294),\"\",'Scholars Nomination Form'!W294)","v":""},{"$f":"IF(ISBLANK('Scholars Nomination Form'!X294),\"\",'Scholars Nomination Form'!X294)","v":""},{"$f":"IF(ISBLANK('Scholars Nomination Form'!Y294),\"\",'Scholars Nomination Form'!Y294)","v":""},{"$f":"IF(ISBLANK('Scholars Nomination Form'!Z294),\"\",'Scholars Nomination Form'!Z294)","v":""},{"$f":"IF(ISBLANK('Scholars Nomination Form'!AA294),\"\",'Scholars Nomination Form'!AA294)","v":""}]
[{"$f":"IF(ISBLANK('Scholars Nomination Form'!$F295),\"\",'Scholars Nomination Form'!$C$11)","v":""},{"$f":"IF(ISBLANK('Scholars Nomination Form'!$F295),\"\",'Scholars Nomination Form'!$C$12)","v":""},{"$f":"IF(ISBLANK('Scholars Nomination Form'!$F295),\"\",'Scholars Nomination Form'!$C$13)","v":""},{"$f":"IF(ISBLANK('Scholars Nomination Form'!$F295),\"\",'Scholars Nomination Form'!$C$14)","v":""},{"$f":"IF(ISBLANK('Scholars Nomination Form'!$F295),\"\",'Scholars Nomination Form'!$C$15)","v":""},{"$f":"IF(ISBLANK('Scholars Nomination Form'!$F295),\"\",'Scholars Nomination Form'!$C$16)","v":""},{"$f":"IF(ISBLANK('Scholars Nomination Form'!B295),\"\",'Scholars Nomination Form'!B295)","v":""},{"$f":"IF(ISBLANK('Scholars Nomination Form'!D295),\"\",'Scholars Nomination Form'!D295)","v":""},{"$f":"IF(ISBLANK('Scholars Nomination Form'!E295),\"\",'Scholars Nomination Form'!E295)","v":""},{"$f":"IF(ISBLANK('Scholars Nomination Form'!F295),\"\",'Scholars Nomination Form'!F295)","v":""},{"$f":"IF(ISBLANK('Scholars Nomination Form'!G295),\"\",'Scholars Nomination Form'!G295)","v":""},{"$f":"IF(ISBLANK('Scholars Nomination Form'!H295),\"\",'Scholars Nomination Form'!H295)","v":""},{"$f":"IF(ISBLANK('Scholars Nomination Form'!I295),\"\",'Scholars Nomination Form'!I295)","v":""},{"$f":"IF(ISBLANK('Scholars Nomination Form'!J295),\"\",'Scholars Nomination Form'!J295)","v":""},{"$f":"IF(ISBLANK('Scholars Nomination Form'!K295),\"\",'Scholars Nomination Form'!K295)","v":""},{"$f":"IF(ISBLANK('Scholars Nomination Form'!L295),\"\",'Scholars Nomination Form'!L295)","v":""},{"$f":"IF(ISBLANK('Scholars Nomination Form'!M295),\"\",'Scholars Nomination Form'!M295)","v":""},{"$f":"IF(ISBLANK('Scholars Nomination Form'!N295),\"\",'Scholars Nomination Form'!N295)","v":""},{"$f":"IF(ISBLANK('Scholars Nomination Form'!O295),\"\",'Scholars Nomination Form'!O295)","v":""},{"$f":"IF(ISBLANK('Scholars Nomination Form'!P295),\"\",'Scholars Nomination Form'!P295)","v":""},{"$f":"IF(ISBLANK('Scholars Nomination Form'!Q295),\"\",'Scholars Nomination Form'!Q295)","v":""},{"$f":"IF(ISBLANK('Scholars Nomination Form'!R295),\"\",'Scholars Nomination Form'!R295)","v":""},{"$f":"IF(ISBLANK('Scholars Nomination Form'!S295),\"\",'Scholars Nomination Form'!S295)","v":""},{"$f":"IF(ISBLANK('Scholars Nomination Form'!T295),\"\",'Scholars Nomination Form'!T295)","v":""},{"$f":"IF(ISBLANK('Scholars Nomination Form'!U295),\"\",'Scholars Nomination Form'!U295)","v":""},{"$f":"IF(ISBLANK('Scholars Nomination Form'!V295),\"\",'Scholars Nomination Form'!V295)","v":""},{"$f":"IF(ISBLANK('Scholars Nomination Form'!W295),\"\",'Scholars Nomination Form'!W295)","v":""},{"$f":"IF(ISBLANK('Scholars Nomination Form'!X295),\"\",'Scholars Nomination Form'!X295)","v":""},{"$f":"IF(ISBLANK('Scholars Nomination Form'!Y295),\"\",'Scholars Nomination Form'!Y295)","v":""},{"$f":"IF(ISBLANK('Scholars Nomination Form'!Z295),\"\",'Scholars Nomination Form'!Z295)","v":""},{"$f":"IF(ISBLANK('Scholars Nomination Form'!AA295),\"\",'Scholars Nomination Form'!AA295)","v":""}]
[{"$f":"IF(ISBLANK('Scholars Nomination Form'!$F296),\"\",'Scholars Nomination Form'!$C$11)","v":""},{"$f":"IF(ISBLANK('Scholars Nomination Form'!$F296),\"\",'Scholars Nomination Form'!$C$12)","v":""},{"$f":"IF(ISBLANK('Scholars Nomination Form'!$F296),\"\",'Scholars Nomination Form'!$C$13)","v":""},{"$f":"IF(ISBLANK('Scholars Nomination Form'!$F296),\"\",'Scholars Nomination Form'!$C$14)","v":""},{"$f":"IF(ISBLANK('Scholars Nomination Form'!$F296),\"\",'Scholars Nomination Form'!$C$15)","v":""},{"$f":"IF(ISBLANK('Scholars Nomination Form'!$F296),\"\",'Scholars Nomination Form'!$C$16)","v":""},{"$f":"IF(ISBLANK('Scholars Nomination Form'!B296),\"\",'Scholars Nomination Form'!B296)","v":""},{"$f":"IF(ISBLANK('Scholars Nomination Form'!D296),\"\",'Scholars Nomination Form'!D296)","v":""},{"$f":"IF(ISBLANK('Scholars Nomination Form'!E296),\"\",'Scholars Nomination Form'!E296)","v":""},{"$f":"IF(ISBLANK('Scholars Nomination Form'!F296),\"\",'Scholars Nomination Form'!F296)","v":""},{"$f":"IF(ISBLANK('Scholars Nomination Form'!G296),\"\",'Scholars Nomination Form'!G296)","v":""},{"$f":"IF(ISBLANK('Scholars Nomination Form'!H296),\"\",'Scholars Nomination Form'!H296)","v":""},{"$f":"IF(ISBLANK('Scholars Nomination Form'!I296),\"\",'Scholars Nomination Form'!I296)","v":""},{"$f":"IF(ISBLANK('Scholars Nomination Form'!J296),\"\",'Scholars Nomination Form'!J296)","v":""},{"$f":"IF(ISBLANK('Scholars Nomination Form'!K296),\"\",'Scholars Nomination Form'!K296)","v":""},{"$f":"IF(ISBLANK('Scholars Nomination Form'!L296),\"\",'Scholars Nomination Form'!L296)","v":""},{"$f":"IF(ISBLANK('Scholars Nomination Form'!M296),\"\",'Scholars Nomination Form'!M296)","v":""},{"$f":"IF(ISBLANK('Scholars Nomination Form'!N296),\"\",'Scholars Nomination Form'!N296)","v":""},{"$f":"IF(ISBLANK('Scholars Nomination Form'!O296),\"\",'Scholars Nomination Form'!O296)","v":""},{"$f":"IF(ISBLANK('Scholars Nomination Form'!P296),\"\",'Scholars Nomination Form'!P296)","v":""},{"$f":"IF(ISBLANK('Scholars Nomination Form'!Q296),\"\",'Scholars Nomination Form'!Q296)","v":""},{"$f":"IF(ISBLANK('Scholars Nomination Form'!R296),\"\",'Scholars Nomination Form'!R296)","v":""},{"$f":"IF(ISBLANK('Scholars Nomination Form'!S296),\"\",'Scholars Nomination Form'!S296)","v":""},{"$f":"IF(ISBLANK('Scholars Nomination Form'!T296),\"\",'Scholars Nomination Form'!T296)","v":""},{"$f":"IF(ISBLANK('Scholars Nomination Form'!U296),\"\",'Scholars Nomination Form'!U296)","v":""},{"$f":"IF(ISBLANK('Scholars Nomination Form'!V296),\"\",'Scholars Nomination Form'!V296)","v":""},{"$f":"IF(ISBLANK('Scholars Nomination Form'!W296),\"\",'Scholars Nomination Form'!W296)","v":""},{"$f":"IF(ISBLANK('Scholars Nomination Form'!X296),\"\",'Scholars Nomination Form'!X296)","v":""},{"$f":"IF(ISBLANK('Scholars Nomination Form'!Y296),\"\",'Scholars Nomination Form'!Y296)","v":""},{"$f":"IF(ISBLANK('Scholars Nomination Form'!Z296),\"\",'Scholars Nomination Form'!Z296)","v":""},{"$f":"IF(ISBLANK('Scholars Nomination Form'!AA296),\"\",'Scholars Nomination Form'!AA296)","v":""}]
[{"$f":"IF(ISBLANK('Scholars Nomination Form'!$F297),\"\",'Scholars Nomination Form'!$C$11)","v":""},{"$f":"IF(ISBLANK('Scholars Nomination Form'!$F297),\"\",'Scholars Nomination Form'!$C$12)","v":""},{"$f":"IF(ISBLANK('Scholars Nomination Form'!$F297),\"\",'Scholars Nomination Form'!$C$13)","v":""},{"$f":"IF(ISBLANK('Scholars Nomination Form'!$F297),\"\",'Scholars Nomination Form'!$C$14)","v":""},{"$f":"IF(ISBLANK('Scholars Nomination Form'!$F297),\"\",'Scholars Nomination Form'!$C$15)","v":""},{"$f":"IF(ISBLANK('Scholars Nomination Form'!$F297),\"\",'Scholars Nomination Form'!$C$16)","v":""},{"$f":"IF(ISBLANK('Scholars Nomination Form'!B297),\"\",'Scholars Nomination Form'!B297)","v":""},{"$f":"IF(ISBLANK('Scholars Nomination Form'!D297),\"\",'Scholars Nomination Form'!D297)","v":""},{"$f":"IF(ISBLANK('Scholars Nomination Form'!E297),\"\",'Scholars Nomination Form'!E297)","v":""},{"$f":"IF(ISBLANK('Scholars Nomination Form'!F297),\"\",'Scholars Nomination Form'!F297)","v":""},{"$f":"IF(ISBLANK('Scholars Nomination Form'!G297),\"\",'Scholars Nomination Form'!G297)","v":""},{"$f":"IF(ISBLANK('Scholars Nomination Form'!H297),\"\",'Scholars Nomination Form'!H297)","v":""},{"$f":"IF(ISBLANK('Scholars Nomination Form'!I297),\"\",'Scholars Nomination Form'!I297)","v":""},{"$f":"IF(ISBLANK('Scholars Nomination Form'!J297),\"\",'Scholars Nomination Form'!J297)","v":""},{"$f":"IF(ISBLANK('Scholars Nomination Form'!K297),\"\",'Scholars Nomination Form'!K297)","v":""},{"$f":"IF(ISBLANK('Scholars Nomination Form'!L297),\"\",'Scholars Nomination Form'!L297)","v":""},{"$f":"IF(ISBLANK('Scholars Nomination Form'!M297),\"\",'Scholars Nomination Form'!M297)","v":""},{"$f":"IF(ISBLANK('Scholars Nomination Form'!N297),\"\",'Scholars Nomination Form'!N297)","v":""},{"$f":"IF(ISBLANK('Scholars Nomination Form'!O297),\"\",'Scholars Nomination Form'!O297)","v":""},{"$f":"IF(ISBLANK('Scholars Nomination Form'!P297),\"\",'Scholars Nomination Form'!P297)","v":""},{"$f":"IF(ISBLANK('Scholars Nomination Form'!Q297),\"\",'Scholars Nomination Form'!Q297)","v":""},{"$f":"IF(ISBLANK('Scholars Nomination Form'!R297),\"\",'Scholars Nomination Form'!R297)","v":""},{"$f":"IF(ISBLANK('Scholars Nomination Form'!S297),\"\",'Scholars Nomination Form'!S297)","v":""},{"$f":"IF(ISBLANK('Scholars Nomination Form'!T297),\"\",'Scholars Nomination Form'!T297)","v":""},{"$f":"IF(ISBLANK('Scholars Nomination Form'!U297),\"\",'Scholars Nomination Form'!U297)","v":""},{"$f":"IF(ISBLANK('Scholars Nomination Form'!V297),\"\",'Scholars Nomination Form'!V297)","v":""},{"$f":"IF(ISBLANK('Scholars Nomination Form'!W297),\"\",'Scholars Nomination Form'!W297)","v":""},{"$f":"IF(ISBLANK('Scholars Nomination Form'!X297),\"\",'Scholars Nomination Form'!X297)","v":""},{"$f":"IF(ISBLANK('Scholars Nomination Form'!Y297),\"\",'Scholars Nomination Form'!Y297)","v":""},{"$f":"IF(ISBLANK('Scholars Nomination Form'!Z297),\"\",'Scholars Nomination Form'!Z297)","v":""},{"$f":"IF(ISBLANK('Scholars Nomination Form'!AA297),\"\",'Scholars Nomination Form'!AA297)","v":""}]
[{"$f":"IF(ISBLANK('Scholars Nomination Form'!$F298),\"\",'Scholars Nomination Form'!$C$11)","v":""},{"$f":"IF(ISBLANK('Scholars Nomination Form'!$F298),\"\",'Scholars Nomination Form'!$C$12)","v":""},{"$f":"IF(ISBLANK('Scholars Nomination Form'!$F298),\"\",'Scholars Nomination Form'!$C$13)","v":""},{"$f":"IF(ISBLANK('Scholars Nomination Form'!$F298),\"\",'Scholars Nomination Form'!$C$14)","v":""},{"$f":"IF(ISBLANK('Scholars Nomination Form'!$F298),\"\",'Scholars Nomination Form'!$C$15)","v":""},{"$f":"IF(ISBLANK('Scholars Nomination Form'!$F298),\"\",'Scholars Nomination Form'!$C$16)","v":""},{"$f":"IF(ISBLANK('Scholars Nomination Form'!B298),\"\",'Scholars Nomination Form'!B298)","v":""},{"$f":"IF(ISBLANK('Scholars Nomination Form'!D298),\"\",'Scholars Nomination Form'!D298)","v":""},{"$f":"IF(ISBLANK('Scholars Nomination Form'!E298),\"\",'Scholars Nomination Form'!E298)","v":""},{"$f":"IF(ISBLANK('Scholars Nomination Form'!F298),\"\",'Scholars Nomination Form'!F298)","v":""},{"$f":"IF(ISBLANK('Scholars Nomination Form'!G298),\"\",'Scholars Nomination Form'!G298)","v":""},{"$f":"IF(ISBLANK('Scholars Nomination Form'!H298),\"\",'Scholars Nomination Form'!H298)","v":""},{"$f":"IF(ISBLANK('Scholars Nomination Form'!I298),\"\",'Scholars Nomination Form'!I298)","v":""},{"$f":"IF(ISBLANK('Scholars Nomination Form'!J298),\"\",'Scholars Nomination Form'!J298)","v":""},{"$f":"IF(ISBLANK('Scholars Nomination Form'!K298),\"\",'Scholars Nomination Form'!K298)","v":""},{"$f":"IF(ISBLANK('Scholars Nomination Form'!L298),\"\",'Scholars Nomination Form'!L298)","v":""},{"$f":"IF(ISBLANK('Scholars Nomination Form'!M298),\"\",'Scholars Nomination Form'!M298)","v":""},{"$f":"IF(ISBLANK('Scholars Nomination Form'!N298),\"\",'Scholars Nomination Form'!N298)","v":""},{"$f":"IF(ISBLANK('Scholars Nomination Form'!O298),\"\",'Scholars Nomination Form'!O298)","v":""},{"$f":"IF(ISBLANK('Scholars Nomination Form'!P298),\"\",'Scholars Nomination Form'!P298)","v":""},{"$f":"IF(ISBLANK('Scholars Nomination Form'!Q298),\"\",'Scholars Nomination Form'!Q298)","v":""},{"$f":"IF(ISBLANK('Scholars Nomination Form'!R298),\"\",'Scholars Nomination Form'!R298)","v":""},{"$f":"IF(ISBLANK('Scholars Nomination Form'!S298),\"\",'Scholars Nomination Form'!S298)","v":""},{"$f":"IF(ISBLANK('Scholars Nomination Form'!T298),\"\",'Scholars Nomination Form'!T298)","v":""},{"$f":"IF(ISBLANK('Scholars Nomination Form'!U298),\"\",'Scholars Nomination Form'!U298)","v":""},{"$f":"IF(ISBLANK('Scholars Nomination Form'!V298),\"\",'Scholars Nomination Form'!V298)","v":""},{"$f":"IF(ISBLANK('Scholars Nomination Form'!W298),\"\",'Scholars Nomination Form'!W298)","v":""},{"$f":"IF(ISBLANK('Scholars Nomination Form'!X298),\"\",'Scholars Nomination Form'!X298)","v":""},{"$f":"IF(ISBLANK('Scholars Nomination Form'!Y298),\"\",'Scholars Nomination Form'!Y298)","v":""},{"$f":"IF(ISBLANK('Scholars Nomination Form'!Z298),\"\",'Scholars Nomination Form'!Z298)","v":""},{"$f":"IF(ISBLANK('Scholars Nomination Form'!AA298),\"\",'Scholars Nomination Form'!AA298)","v":""}]
[{"$f":"IF(ISBLANK('Scholars Nomination Form'!$F299),\"\",'Scholars Nomination Form'!$C$11)","v":""},{"$f":"IF(ISBLANK('Scholars Nomination Form'!$F299),\"\",'Scholars Nomination Form'!$C$12)","v":""},{"$f":"IF(ISBLANK('Scholars Nomination Form'!$F299),\"\",'Scholars Nomination Form'!$C$13)","v":""},{"$f":"IF(ISBLANK('Scholars Nomination Form'!$F299),\"\",'Scholars Nomination Form'!$C$14)","v":""},{"$f":"IF(ISBLANK('Scholars Nomination Form'!$F299),\"\",'Scholars Nomination Form'!$C$15)","v":""},{"$f":"IF(ISBLANK('Scholars Nomination Form'!$F299),\"\",'Scholars Nomination Form'!$C$16)","v":""},{"$f":"IF(ISBLANK('Scholars Nomination Form'!B299),\"\",'Scholars Nomination Form'!B299)","v":""},{"$f":"IF(ISBLANK('Scholars Nomination Form'!D299),\"\",'Scholars Nomination Form'!D299)","v":""},{"$f":"IF(ISBLANK('Scholars Nomination Form'!E299),\"\",'Scholars Nomination Form'!E299)","v":""},{"$f":"IF(ISBLANK('Scholars Nomination Form'!F299),\"\",'Scholars Nomination Form'!F299)","v":""},{"$f":"IF(ISBLANK('Scholars Nomination Form'!G299),\"\",'Scholars Nomination Form'!G299)","v":""},{"$f":"IF(ISBLANK('Scholars Nomination Form'!H299),\"\",'Scholars Nomination Form'!H299)","v":""},{"$f":"IF(ISBLANK('Scholars Nomination Form'!I299),\"\",'Scholars Nomination Form'!I299)","v":""},{"$f":"IF(ISBLANK('Scholars Nomination Form'!J299),\"\",'Scholars Nomination Form'!J299)","v":""},{"$f":"IF(ISBLANK('Scholars Nomination Form'!K299),\"\",'Scholars Nomination Form'!K299)","v":""},{"$f":"IF(ISBLANK('Scholars Nomination Form'!L299),\"\",'Scholars Nomination Form'!L299)","v":""},{"$f":"IF(ISBLANK('Scholars Nomination Form'!M299),\"\",'Scholars Nomination Form'!M299)","v":""},{"$f":"IF(ISBLANK('Scholars Nomination Form'!N299),\"\",'Scholars Nomination Form'!N299)","v":""},{"$f":"IF(ISBLANK('Scholars Nomination Form'!O299),\"\",'Scholars Nomination Form'!O299)","v":""},{"$f":"IF(ISBLANK('Scholars Nomination Form'!P299),\"\",'Scholars Nomination Form'!P299)","v":""},{"$f":"IF(ISBLANK('Scholars Nomination Form'!Q299),\"\",'Scholars Nomination Form'!Q299)","v":""},{"$f":"IF(ISBLANK('Scholars Nomination Form'!R299),\"\",'Scholars Nomination Form'!R299)","v":""},{"$f":"IF(ISBLANK('Scholars Nomination Form'!S299),\"\",'Scholars Nomination Form'!S299)","v":""},{"$f":"IF(ISBLANK('Scholars Nomination Form'!T299),\"\",'Scholars Nomination Form'!T299)","v":""},{"$f":"IF(ISBLANK('Scholars Nomination Form'!U299),\"\",'Scholars Nomination Form'!U299)","v":""},{"$f":"IF(ISBLANK('Scholars Nomination Form'!V299),\"\",'Scholars Nomination Form'!V299)","v":""},{"$f":"IF(ISBLANK('Scholars Nomination Form'!W299),\"\",'Scholars Nomination Form'!W299)","v":""},{"$f":"IF(ISBLANK('Scholars Nomination Form'!X299),\"\",'Scholars Nomination Form'!X299)","v":""},{"$f":"IF(ISBLANK('Scholars Nomination Form'!Y299),\"\",'Scholars Nomination Form'!Y299)","v":""},{"$f":"IF(ISBLANK('Scholars Nomination Form'!Z299),\"\",'Scholars Nomination Form'!Z299)","v":""},{"$f":"IF(ISBLANK('Scholars Nomination Form'!AA299),\"\",'Scholars Nomination Form'!AA299)","v":""}]
[{"$f":"IF(ISBLANK('Scholars Nomination Form'!$F300),\"\",'Scholars Nomination Form'!$C$11)","v":""},{"$f":"IF(ISBLANK('Scholars Nomination Form'!$F300),\"\",'Scholars Nomination Form'!$C$12)","v":""},{"$f":"IF(ISBLANK('Scholars Nomination Form'!$F300),\"\",'Scholars Nomination Form'!$C$13)","v":""},{"$f":"IF(ISBLANK('Scholars Nomination Form'!$F300),\"\",'Scholars Nomination Form'!$C$14)","v":""},{"$f":"IF(ISBLANK('Scholars Nomination Form'!$F300),\"\",'Scholars Nomination Form'!$C$15)","v":""},{"$f":"IF(ISBLANK('Scholars Nomination Form'!$F300),\"\",'Scholars Nomination Form'!$C$16)","v":""},{"$f":"IF(ISBLANK('Scholars Nomination Form'!B300),\"\",'Scholars Nomination Form'!B300)","v":""},{"$f":"IF(ISBLANK('Scholars Nomination Form'!D300),\"\",'Scholars Nomination Form'!D300)","v":""},{"$f":"IF(ISBLANK('Scholars Nomination Form'!E300),\"\",'Scholars Nomination Form'!E300)","v":""},{"$f":"IF(ISBLANK('Scholars Nomination Form'!F300),\"\",'Scholars Nomination Form'!F300)","v":""},{"$f":"IF(ISBLANK('Scholars Nomination Form'!G300),\"\",'Scholars Nomination Form'!G300)","v":""},{"$f":"IF(ISBLANK('Scholars Nomination Form'!H300),\"\",'Scholars Nomination Form'!H300)","v":""},{"$f":"IF(ISBLANK('Scholars Nomination Form'!I300),\"\",'Scholars Nomination Form'!I300)","v":""},{"$f":"IF(ISBLANK('Scholars Nomination Form'!J300),\"\",'Scholars Nomination Form'!J300)","v":""},{"$f":"IF(ISBLANK('Scholars Nomination Form'!K300),\"\",'Scholars Nomination Form'!K300)","v":""},{"$f":"IF(ISBLANK('Scholars Nomination Form'!L300),\"\",'Scholars Nomination Form'!L300)","v":""},{"$f":"IF(ISBLANK('Scholars Nomination Form'!M300),\"\",'Scholars Nomination Form'!M300)","v":""},{"$f":"IF(ISBLANK('Scholars Nomination Form'!N300),\"\",'Scholars Nomination Form'!N300)","v":""},{"$f":"IF(ISBLANK('Scholars Nomination Form'!O300),\"\",'Scholars Nomination Form'!O300)","v":""},{"$f":"IF(ISBLANK('Scholars Nomination Form'!P300),\"\",'Scholars Nomination Form'!P300)","v":""},{"$f":"IF(ISBLANK('Scholars Nomination Form'!Q300),\"\",'Scholars Nomination Form'!Q300)","v":""},{"$f":"IF(ISBLANK('Scholars Nomination Form'!R300),\"\",'Scholars Nomination Form'!R300)","v":""},{"$f":"IF(ISBLANK('Scholars Nomination Form'!S300),\"\",'Scholars Nomination Form'!S300)","v":""},{"$f":"IF(ISBLANK('Scholars Nomination Form'!T300),\"\",'Scholars Nomination Form'!T300)","v":""},{"$f":"IF(ISBLANK('Scholars Nomination Form'!U300),\"\",'Scholars Nomination Form'!U300)","v":""},{"$f":"IF(ISBLANK('Scholars Nomination Form'!V300),\"\",'Scholars Nomination Form'!V300)","v":""},{"$f":"IF(ISBLANK('Scholars Nomination Form'!W300),\"\",'Scholars Nomination Form'!W300)","v":""},{"$f":"IF(ISBLANK('Scholars Nomination Form'!X300),\"\",'Scholars Nomination Form'!X300)","v":""},{"$f":"IF(ISBLANK('Scholars Nomination Form'!Y300),\"\",'Scholars Nomination Form'!Y300)","v":""},{"$f":"IF(ISBLANK('Scholars Nomination Form'!Z300),\"\",'Scholars Nomination Form'!Z300)","v":""},{"$f":"IF(ISBLANK('Scholars Nomination Form'!AA300),\"\",'Scholars Nomination Form'!AA300)","v":""}]
[{"$f":"IF(ISBLANK('Scholars Nomination Form'!$F301),\"\",'Scholars Nomination Form'!$C$11)","v":""},{"$f":"IF(ISBLANK('Scholars Nomination Form'!$F301),\"\",'Scholars Nomination Form'!$C$12)","v":""},{"$f":"IF(ISBLANK('Scholars Nomination Form'!$F301),\"\",'Scholars Nomination Form'!$C$13)","v":""},{"$f":"IF(ISBLANK('Scholars Nomination Form'!$F301),\"\",'Scholars Nomination Form'!$C$14)","v":""},{"$f":"IF(ISBLANK('Scholars Nomination Form'!$F301),\"\",'Scholars Nomination Form'!$C$15)","v":""},{"$f":"IF(ISBLANK('Scholars Nomination Form'!$F301),\"\",'Scholars Nomination Form'!$C$16)","v":""},{"$f":"IF(ISBLANK('Scholars Nomination Form'!B301),\"\",'Scholars Nomination Form'!B301)","v":""},{"$f":"IF(ISBLANK('Scholars Nomination Form'!D301),\"\",'Scholars Nomination Form'!D301)","v":""},{"$f":"IF(ISBLANK('Scholars Nomination Form'!E301),\"\",'Scholars Nomination Form'!E301)","v":""},{"$f":"IF(ISBLANK('Scholars Nomination Form'!F301),\"\",'Scholars Nomination Form'!F301)","v":""},{"$f":"IF(ISBLANK('Scholars Nomination Form'!G301),\"\",'Scholars Nomination Form'!G301)","v":""},{"$f":"IF(ISBLANK('Scholars Nomination Form'!H301),\"\",'Scholars Nomination Form'!H301)","v":""},{"$f":"IF(ISBLANK('Scholars Nomination Form'!I301),\"\",'Scholars Nomination Form'!I301)","v":""},{"$f":"IF(ISBLANK('Scholars Nomination Form'!J301),\"\",'Scholars Nomination Form'!J301)","v":""},{"$f":"IF(ISBLANK('Scholars Nomination Form'!K301),\"\",'Scholars Nomination Form'!K301)","v":""},{"$f":"IF(ISBLANK('Scholars Nomination Form'!L301),\"\",'Scholars Nomination Form'!L301)","v":""},{"$f":"IF(ISBLANK('Scholars Nomination Form'!M301),\"\",'Scholars Nomination Form'!M301)","v":""},{"$f":"IF(ISBLANK('Scholars Nomination Form'!N301),\"\",'Scholars Nomination Form'!N301)","v":""},{"$f":"IF(ISBLANK('Scholars Nomination Form'!O301),\"\",'Scholars Nomination Form'!O301)","v":""},{"$f":"IF(ISBLANK('Scholars Nomination Form'!P301),\"\",'Scholars Nomination Form'!P301)","v":""},{"$f":"IF(ISBLANK('Scholars Nomination Form'!Q301),\"\",'Scholars Nomination Form'!Q301)","v":""},{"$f":"IF(ISBLANK('Scholars Nomination Form'!R301),\"\",'Scholars Nomination Form'!R301)","v":""},{"$f":"IF(ISBLANK('Scholars Nomination Form'!S301),\"\",'Scholars Nomination Form'!S301)","v":""},{"$f":"IF(ISBLANK('Scholars Nomination Form'!T301),\"\",'Scholars Nomination Form'!T301)","v":""},{"$f":"IF(ISBLANK('Scholars Nomination Form'!U301),\"\",'Scholars Nomination Form'!U301)","v":""},{"$f":"IF(ISBLANK('Scholars Nomination Form'!V301),\"\",'Scholars Nomination Form'!V301)","v":""},{"$f":"IF(ISBLANK('Scholars Nomination Form'!W301),\"\",'Scholars Nomination Form'!W301)","v":""},{"$f":"IF(ISBLANK('Scholars Nomination Form'!X301),\"\",'Scholars Nomination Form'!X301)","v":""},{"$f":"IF(ISBLANK('Scholars Nomination Form'!Y301),\"\",'Scholars Nomination Form'!Y301)","v":""},{"$f":"IF(ISBLANK('Scholars Nomination Form'!Z301),\"\",'Scholars Nomination Form'!Z301)","v":""},{"$f":"IF(ISBLANK('Scholars Nomination Form'!AA301),\"\",'Scholars Nomination Form'!AA301)","v":""}]
[{"$f":"IF(ISBLANK('Scholars Nomination Form'!$F302),\"\",'Scholars Nomination Form'!$C$11)","v":""},{"$f":"IF(ISBLANK('Scholars Nomination Form'!$F302),\"\",'Scholars Nomination Form'!$C$12)","v":""},{"$f":"IF(ISBLANK('Scholars Nomination Form'!$F302),\"\",'Scholars Nomination Form'!$C$13)","v":""},{"$f":"IF(ISBLANK('Scholars Nomination Form'!$F302),\"\",'Scholars Nomination Form'!$C$14)","v":""},{"$f":"IF(ISBLANK('Scholars Nomination Form'!$F302),\"\",'Scholars Nomination Form'!$C$15)","v":""},{"$f":"IF(ISBLANK('Scholars Nomination Form'!$F302),\"\",'Scholars Nomination Form'!$C$16)","v":""},{"$f":"IF(ISBLANK('Scholars Nomination Form'!B302),\"\",'Scholars Nomination Form'!B302)","v":""},{"$f":"IF(ISBLANK('Scholars Nomination Form'!D302),\"\",'Scholars Nomination Form'!D302)","v":""},{"$f":"IF(ISBLANK('Scholars Nomination Form'!E302),\"\",'Scholars Nomination Form'!E302)","v":""},{"$f":"IF(ISBLANK('Scholars Nomination Form'!F302),\"\",'Scholars Nomination Form'!F302)","v":""},{"$f":"IF(ISBLANK('Scholars Nomination Form'!G302),\"\",'Scholars Nomination Form'!G302)","v":""},{"$f":"IF(ISBLANK('Scholars Nomination Form'!H302),\"\",'Scholars Nomination Form'!H302)","v":""},{"$f":"IF(ISBLANK('Scholars Nomination Form'!I302),\"\",'Scholars Nomination Form'!I302)","v":""},{"$f":"IF(ISBLANK('Scholars Nomination Form'!J302),\"\",'Scholars Nomination Form'!J302)","v":""},{"$f":"IF(ISBLANK('Scholars Nomination Form'!K302),\"\",'Scholars Nomination Form'!K302)","v":""},{"$f":"IF(ISBLANK('Scholars Nomination Form'!L302),\"\",'Scholars Nomination Form'!L302)","v":""},{"$f":"IF(ISBLANK('Scholars Nomination Form'!M302),\"\",'Scholars Nomination Form'!M302)","v":""},{"$f":"IF(ISBLANK('Scholars Nomination Form'!N302),\"\",'Scholars Nomination Form'!N302)","v":""},{"$f":"IF(ISBLANK('Scholars Nomination Form'!O302),\"\",'Scholars Nomination Form'!O302)","v":""},{"$f":"IF(ISBLANK('Scholars Nomination Form'!P302),\"\",'Scholars Nomination Form'!P302)","v":""},{"$f":"IF(ISBLANK('Scholars Nomination Form'!Q302),\"\",'Scholars Nomination Form'!Q302)","v":""},{"$f":"IF(ISBLANK('Scholars Nomination Form'!R302),\"\",'Scholars Nomination Form'!R302)","v":""},{"$f":"IF(ISBLANK('Scholars Nomination Form'!S302),\"\",'Scholars Nomination Form'!S302)","v":""},{"$f":"IF(ISBLANK('Scholars Nomination Form'!T302),\"\",'Scholars Nomination Form'!T302)","v":""},{"$f":"IF(ISBLANK('Scholars Nomination Form'!U302),\"\",'Scholars Nomination Form'!U302)","v":""},{"$f":"IF(ISBLANK('Scholars Nomination Form'!V302),\"\",'Scholars Nomination Form'!V302)","v":""},{"$f":"IF(ISBLANK('Scholars Nomination Form'!W302),\"\",'Scholars Nomination Form'!W302)","v":""},{"$f":"IF(ISBLANK('Scholars Nomination Form'!X302),\"\",'Scholars Nomination Form'!X302)","v":""},{"$f":"IF(ISBLANK('Scholars Nomination Form'!Y302),\"\",'Scholars Nomination Form'!Y302)","v":""},{"$f":"IF(ISBLANK('Scholars Nomination Form'!Z302),\"\",'Scholars Nomination Form'!Z302)","v":""},{"$f":"IF(ISBLANK('Scholars Nomination Form'!AA302),\"\",'Scholars Nomination Form'!AA302)","v":""}]
[{"$f":"IF(ISBLANK('Scholars Nomination Form'!$F303),\"\",'Scholars Nomination Form'!$C$11)","v":""},{"$f":"IF(ISBLANK('Scholars Nomination Form'!$F303),\"\",'Scholars Nomination Form'!$C$12)","v":""},{"$f":"IF(ISBLANK('Scholars Nomination Form'!$F303),\"\",'Scholars Nomination Form'!$C$13)","v":""},{"$f":"IF(ISBLANK('Scholars Nomination Form'!$F303),\"\",'Scholars Nomination Form'!$C$14)","v":""},{"$f":"IF(ISBLANK('Scholars Nomination Form'!$F303),\"\",'Scholars Nomination Form'!$C$15)","v":""},{"$f":"IF(ISBLANK('Scholars Nomination Form'!$F303),\"\",'Scholars Nomination Form'!$C$16)","v":""},{"$f":"IF(ISBLANK('Scholars Nomination Form'!B303),\"\",'Scholars Nomination Form'!B303)","v":""},{"$f":"IF(ISBLANK('Scholars Nomination Form'!D303),\"\",'Scholars Nomination Form'!D303)","v":""},{"$f":"IF(ISBLANK('Scholars Nomination Form'!E303),\"\",'Scholars Nomination Form'!E303)","v":""},{"$f":"IF(ISBLANK('Scholars Nomination Form'!F303),\"\",'Scholars Nomination Form'!F303)","v":""},{"$f":"IF(ISBLANK('Scholars Nomination Form'!G303),\"\",'Scholars Nomination Form'!G303)","v":""},{"$f":"IF(ISBLANK('Scholars Nomination Form'!H303),\"\",'Scholars Nomination Form'!H303)","v":""},{"$f":"IF(ISBLANK('Scholars Nomination Form'!I303),\"\",'Scholars Nomination Form'!I303)","v":""},{"$f":"IF(ISBLANK('Scholars Nomination Form'!J303),\"\",'Scholars Nomination Form'!J303)","v":""},{"$f":"IF(ISBLANK('Scholars Nomination Form'!K303),\"\",'Scholars Nomination Form'!K303)","v":""},{"$f":"IF(ISBLANK('Scholars Nomination Form'!L303),\"\",'Scholars Nomination Form'!L303)","v":""},{"$f":"IF(ISBLANK('Scholars Nomination Form'!M303),\"\",'Scholars Nomination Form'!M303)","v":""},{"$f":"IF(ISBLANK('Scholars Nomination Form'!N303),\"\",'Scholars Nomination Form'!N303)","v":""},{"$f":"IF(ISBLANK('Scholars Nomination Form'!O303),\"\",'Scholars Nomination Form'!O303)","v":""},{"$f":"IF(ISBLANK('Scholars Nomination Form'!P303),\"\",'Scholars Nomination Form'!P303)","v":""},{"$f":"IF(ISBLANK('Scholars Nomination Form'!Q303),\"\",'Scholars Nomination Form'!Q303)","v":""},{"$f":"IF(ISBLANK('Scholars Nomination Form'!R303),\"\",'Scholars Nomination Form'!R303)","v":""},{"$f":"IF(ISBLANK('Scholars Nomination Form'!S303),\"\",'Scholars Nomination Form'!S303)","v":""},{"$f":"IF(ISBLANK('Scholars Nomination Form'!T303),\"\",'Scholars Nomination Form'!T303)","v":""},{"$f":"IF(ISBLANK('Scholars Nomination Form'!U303),\"\",'Scholars Nomination Form'!U303)","v":""},{"$f":"IF(ISBLANK('Scholars Nomination Form'!V303),\"\",'Scholars Nomination Form'!V303)","v":""},{"$f":"IF(ISBLANK('Scholars Nomination Form'!W303),\"\",'Scholars Nomination Form'!W303)","v":""},{"$f":"IF(ISBLANK('Scholars Nomination Form'!X303),\"\",'Scholars Nomination Form'!X303)","v":""},{"$f":"IF(ISBLANK('Scholars Nomination Form'!Y303),\"\",'Scholars Nomination Form'!Y303)","v":""},{"$f":"IF(ISBLANK('Scholars Nomination Form'!Z303),\"\",'Scholars Nomination Form'!Z303)","v":""},{"$f":"IF(ISBLANK('Scholars Nomination Form'!AA303),\"\",'Scholars Nomination Form'!AA303)","v":""}]
[{"$f":"IF(ISBLANK('Scholars Nomination Form'!$F304),\"\",'Scholars Nomination Form'!$C$11)","v":""},{"$f":"IF(ISBLANK('Scholars Nomination Form'!$F304),\"\",'Scholars Nomination Form'!$C$12)","v":""},{"$f":"IF(ISBLANK('Scholars Nomination Form'!$F304),\"\",'Scholars Nomination Form'!$C$13)","v":""},{"$f":"IF(ISBLANK('Scholars Nomination Form'!$F304),\"\",'Scholars Nomination Form'!$C$14)","v":""},{"$f":"IF(ISBLANK('Scholars Nomination Form'!$F304),\"\",'Scholars Nomination Form'!$C$15)","v":""},{"$f":"IF(ISBLANK('Scholars Nomination Form'!$F304),\"\",'Scholars Nomination Form'!$C$16)","v":""},{"$f":"IF(ISBLANK('Scholars Nomination Form'!B304),\"\",'Scholars Nomination Form'!B304)","v":""},{"$f":"IF(ISBLANK('Scholars Nomination Form'!D304),\"\",'Scholars Nomination Form'!D304)","v":""},{"$f":"IF(ISBLANK('Scholars Nomination Form'!E304),\"\",'Scholars Nomination Form'!E304)","v":""},{"$f":"IF(ISBLANK('Scholars Nomination Form'!F304),\"\",'Scholars Nomination Form'!F304)","v":""},{"$f":"IF(ISBLANK('Scholars Nomination Form'!G304),\"\",'Scholars Nomination Form'!G304)","v":""},{"$f":"IF(ISBLANK('Scholars Nomination Form'!H304),\"\",'Scholars Nomination Form'!H304)","v":""},{"$f":"IF(ISBLANK('Scholars Nomination Form'!I304),\"\",'Scholars Nomination Form'!I304)","v":""},{"$f":"IF(ISBLANK('Scholars Nomination Form'!J304),\"\",'Scholars Nomination Form'!J304)","v":""},{"$f":"IF(ISBLANK('Scholars Nomination Form'!K304),\"\",'Scholars Nomination Form'!K304)","v":""},{"$f":"IF(ISBLANK('Scholars Nomination Form'!L304),\"\",'Scholars Nomination Form'!L304)","v":""},{"$f":"IF(ISBLANK('Scholars Nomination Form'!M304),\"\",'Scholars Nomination Form'!M304)","v":""},{"$f":"IF(ISBLANK('Scholars Nomination Form'!N304),\"\",'Scholars Nomination Form'!N304)","v":""},{"$f":"IF(ISBLANK('Scholars Nomination Form'!O304),\"\",'Scholars Nomination Form'!O304)","v":""},{"$f":"IF(ISBLANK('Scholars Nomination Form'!P304),\"\",'Scholars Nomination Form'!P304)","v":""},{"$f":"IF(ISBLANK('Scholars Nomination Form'!Q304),\"\",'Scholars Nomination Form'!Q304)","v":""},{"$f":"IF(ISBLANK('Scholars Nomination Form'!R304),\"\",'Scholars Nomination Form'!R304)","v":""},{"$f":"IF(ISBLANK('Scholars Nomination Form'!S304),\"\",'Scholars Nomination Form'!S304)","v":""},{"$f":"IF(ISBLANK('Scholars Nomination Form'!T304),\"\",'Scholars Nomination Form'!T304)","v":""},{"$f":"IF(ISBLANK('Scholars Nomination Form'!U304),\"\",'Scholars Nomination Form'!U304)","v":""},{"$f":"IF(ISBLANK('Scholars Nomination Form'!V304),\"\",'Scholars Nomination Form'!V304)","v":""},{"$f":"IF(ISBLANK('Scholars Nomination Form'!W304),\"\",'Scholars Nomination Form'!W304)","v":""},{"$f":"IF(ISBLANK('Scholars Nomination Form'!X304),\"\",'Scholars Nomination Form'!X304)","v":""},{"$f":"IF(ISBLANK('Scholars Nomination Form'!Y304),\"\",'Scholars Nomination Form'!Y304)","v":""},{"$f":"IF(ISBLANK('Scholars Nomination Form'!Z304),\"\",'Scholars Nomination Form'!Z304)","v":""},{"$f":"IF(ISBLANK('Scholars Nomination Form'!AA304),\"\",'Scholars Nomination Form'!AA304)","v":""}]
[{"$f":"IF(ISBLANK('Scholars Nomination Form'!$F305),\"\",'Scholars Nomination Form'!$C$11)","v":""},{"$f":"IF(ISBLANK('Scholars Nomination Form'!$F305),\"\",'Scholars Nomination Form'!$C$12)","v":""},{"$f":"IF(ISBLANK('Scholars Nomination Form'!$F305),\"\",'Scholars Nomination Form'!$C$13)","v":""},{"$f":"IF(ISBLANK('Scholars Nomination Form'!$F305),\"\",'Scholars Nomination Form'!$C$14)","v":""},{"$f":"IF(ISBLANK('Scholars Nomination Form'!$F305),\"\",'Scholars Nomination Form'!$C$15)","v":""},{"$f":"IF(ISBLANK('Scholars Nomination Form'!$F305),\"\",'Scholars Nomination Form'!$C$16)","v":""},{"$f":"IF(ISBLANK('Scholars Nomination Form'!B305),\"\",'Scholars Nomination Form'!B305)","v":""},{"$f":"IF(ISBLANK('Scholars Nomination Form'!D305),\"\",'Scholars Nomination Form'!D305)","v":""},{"$f":"IF(ISBLANK('Scholars Nomination Form'!E305),\"\",'Scholars Nomination Form'!E305)","v":""},{"$f":"IF(ISBLANK('Scholars Nomination Form'!F305),\"\",'Scholars Nomination Form'!F305)","v":""},{"$f":"IF(ISBLANK('Scholars Nomination Form'!G305),\"\",'Scholars Nomination Form'!G305)","v":""},{"$f":"IF(ISBLANK('Scholars Nomination Form'!H305),\"\",'Scholars Nomination Form'!H305)","v":""},{"$f":"IF(ISBLANK('Scholars Nomination Form'!I305),\"\",'Scholars Nomination Form'!I305)","v":""},{"$f":"IF(ISBLANK('Scholars Nomination Form'!J305),\"\",'Scholars Nomination Form'!J305)","v":""},{"$f":"IF(ISBLANK('Scholars Nomination Form'!K305),\"\",'Scholars Nomination Form'!K305)","v":""},{"$f":"IF(ISBLANK('Scholars Nomination Form'!L305),\"\",'Scholars Nomination Form'!L305)","v":""},{"$f":"IF(ISBLANK('Scholars Nomination Form'!M305),\"\",'Scholars Nomination Form'!M305)","v":""},{"$f":"IF(ISBLANK('Scholars Nomination Form'!N305),\"\",'Scholars Nomination Form'!N305)","v":""},{"$f":"IF(ISBLANK('Scholars Nomination Form'!O305),\"\",'Scholars Nomination Form'!O305)","v":""},{"$f":"IF(ISBLANK('Scholars Nomination Form'!P305),\"\",'Scholars Nomination Form'!P305)","v":""},{"$f":"IF(ISBLANK('Scholars Nomination Form'!Q305),\"\",'Scholars Nomination Form'!Q305)","v":""},{"$f":"IF(ISBLANK('Scholars Nomination Form'!R305),\"\",'Scholars Nomination Form'!R305)","v":""},{"$f":"IF(ISBLANK('Scholars Nomination Form'!S305),\"\",'Scholars Nomination Form'!S305)","v":""},{"$f":"IF(ISBLANK('Scholars Nomination Form'!T305),\"\",'Scholars Nomination Form'!T305)","v":""},{"$f":"IF(ISBLANK('Scholars Nomination Form'!U305),\"\",'Scholars Nomination Form'!U305)","v":""},{"$f":"IF(ISBLANK('Scholars Nomination Form'!V305),\"\",'Scholars Nomination Form'!V305)","v":""},{"$f":"IF(ISBLANK('Scholars Nomination Form'!W305),\"\",'Scholars Nomination Form'!W305)","v":""},{"$f":"IF(ISBLANK('Scholars Nomination Form'!X305),\"\",'Scholars Nomination Form'!X305)","v":""},{"$f":"IF(ISBLANK('Scholars Nomination Form'!Y305),\"\",'Scholars Nomination Form'!Y305)","v":""},{"$f":"IF(ISBLANK('Scholars Nomination Form'!Z305),\"\",'Scholars Nomination Form'!Z305)","v":""},{"$f":"IF(ISBLANK('Scholars Nomination Form'!AA305),\"\",'Scholars Nomination Form'!AA305)","v":""}]
[{"$f":"IF(ISBLANK('Scholars Nomination Form'!$F306),\"\",'Scholars Nomination Form'!$C$11)","v":""},{"$f":"IF(ISBLANK('Scholars Nomination Form'!$F306),\"\",'Scholars Nomination Form'!$C$12)","v":""},{"$f":"IF(ISBLANK('Scholars Nomination Form'!$F306),\"\",'Scholars Nomination Form'!$C$13)","v":""},{"$f":"IF(ISBLANK('Scholars Nomination Form'!$F306),\"\",'Scholars Nomination Form'!$C$14)","v":""},{"$f":"IF(ISBLANK('Scholars Nomination Form'!$F306),\"\",'Scholars Nomination Form'!$C$15)","v":""},{"$f":"IF(ISBLANK('Scholars Nomination Form'!$F306),\"\",'Scholars Nomination Form'!$C$16)","v":""},{"$f":"IF(ISBLANK('Scholars Nomination Form'!B306),\"\",'Scholars Nomination Form'!B306)","v":""},{"$f":"IF(ISBLANK('Scholars Nomination Form'!D306),\"\",'Scholars Nomination Form'!D306)","v":""},{"$f":"IF(ISBLANK('Scholars Nomination Form'!E306),\"\",'Scholars Nomination Form'!E306)","v":""},{"$f":"IF(ISBLANK('Scholars Nomination Form'!F306),\"\",'Scholars Nomination Form'!F306)","v":""},{"$f":"IF(ISBLANK('Scholars Nomination Form'!G306),\"\",'Scholars Nomination Form'!G306)","v":""},{"$f":"IF(ISBLANK('Scholars Nomination Form'!H306),\"\",'Scholars Nomination Form'!H306)","v":""},{"$f":"IF(ISBLANK('Scholars Nomination Form'!I306),\"\",'Scholars Nomination Form'!I306)","v":""},{"$f":"IF(ISBLANK('Scholars Nomination Form'!J306),\"\",'Scholars Nomination Form'!J306)","v":""},{"$f":"IF(ISBLANK('Scholars Nomination Form'!K306),\"\",'Scholars Nomination Form'!K306)","v":""},{"$f":"IF(ISBLANK('Scholars Nomination Form'!L306),\"\",'Scholars Nomination Form'!L306)","v":""},{"$f":"IF(ISBLANK('Scholars Nomination Form'!M306),\"\",'Scholars Nomination Form'!M306)","v":""},{"$f":"IF(ISBLANK('Scholars Nomination Form'!N306),\"\",'Scholars Nomination Form'!N306)","v":""},{"$f":"IF(ISBLANK('Scholars Nomination Form'!O306),\"\",'Scholars Nomination Form'!O306)","v":""},{"$f":"IF(ISBLANK('Scholars Nomination Form'!P306),\"\",'Scholars Nomination Form'!P306)","v":""},{"$f":"IF(ISBLANK('Scholars Nomination Form'!Q306),\"\",'Scholars Nomination Form'!Q306)","v":""},{"$f":"IF(ISBLANK('Scholars Nomination Form'!R306),\"\",'Scholars Nomination Form'!R306)","v":""},{"$f":"IF(ISBLANK('Scholars Nomination Form'!S306),\"\",'Scholars Nomination Form'!S306)","v":""},{"$f":"IF(ISBLANK('Scholars Nomination Form'!T306),\"\",'Scholars Nomination Form'!T306)","v":""},{"$f":"IF(ISBLANK('Scholars Nomination Form'!U306),\"\",'Scholars Nomination Form'!U306)","v":""},{"$f":"IF(ISBLANK('Scholars Nomination Form'!V306),\"\",'Scholars Nomination Form'!V306)","v":""},{"$f":"IF(ISBLANK('Scholars Nomination Form'!W306),\"\",'Scholars Nomination Form'!W306)","v":""},{"$f":"IF(ISBLANK('Scholars Nomination Form'!X306),\"\",'Scholars Nomination Form'!X306)","v":""},{"$f":"IF(ISBLANK('Scholars Nomination Form'!Y306),\"\",'Scholars Nomination Form'!Y306)","v":""},{"$f":"IF(ISBLANK('Scholars Nomination Form'!Z306),\"\",'Scholars Nomination Form'!Z306)","v":""},{"$f":"IF(ISBLANK('Scholars Nomination Form'!AA306),\"\",'Scholars Nomination Form'!AA306)","v":""}]
[{"$f":"IF(ISBLANK('Scholars Nomination Form'!$F307),\"\",'Scholars Nomination Form'!$C$11)","v":""},{"$f":"IF(ISBLANK('Scholars Nomination Form'!$F307),\"\",'Scholars Nomination Form'!$C$12)","v":""},{"$f":"IF(ISBLANK('Scholars Nomination Form'!$F307),\"\",'Scholars Nomination Form'!$C$13)","v":""},{"$f":"IF(ISBLANK('Scholars Nomination Form'!$F307),\"\",'Scholars Nomination Form'!$C$14)","v":""},{"$f":"IF(ISBLANK('Scholars Nomination Form'!$F307),\"\",'Scholars Nomination Form'!$C$15)","v":""},{"$f":"IF(ISBLANK('Scholars Nomination Form'!$F307),\"\",'Scholars Nomination Form'!$C$16)","v":""},{"$f":"IF(ISBLANK('Scholars Nomination Form'!B307),\"\",'Scholars Nomination Form'!B307)","v":""},{"$f":"IF(ISBLANK('Scholars Nomination Form'!D307),\"\",'Scholars Nomination Form'!D307)","v":""},{"$f":"IF(ISBLANK('Scholars Nomination Form'!E307),\"\",'Scholars Nomination Form'!E307)","v":""},{"$f":"IF(ISBLANK('Scholars Nomination Form'!F307),\"\",'Scholars Nomination Form'!F307)","v":""},{"$f":"IF(ISBLANK('Scholars Nomination Form'!G307),\"\",'Scholars Nomination Form'!G307)","v":""},{"$f":"IF(ISBLANK('Scholars Nomination Form'!H307),\"\",'Scholars Nomination Form'!H307)","v":""},{"$f":"IF(ISBLANK('Scholars Nomination Form'!I307),\"\",'Scholars Nomination Form'!I307)","v":""},{"$f":"IF(ISBLANK('Scholars Nomination Form'!J307),\"\",'Scholars Nomination Form'!J307)","v":""},{"$f":"IF(ISBLANK('Scholars Nomination Form'!K307),\"\",'Scholars Nomination Form'!K307)","v":""},{"$f":"IF(ISBLANK('Scholars Nomination Form'!L307),\"\",'Scholars Nomination Form'!L307)","v":""},{"$f":"IF(ISBLANK('Scholars Nomination Form'!M307),\"\",'Scholars Nomination Form'!M307)","v":""},{"$f":"IF(ISBLANK('Scholars Nomination Form'!N307),\"\",'Scholars Nomination Form'!N307)","v":""},{"$f":"IF(ISBLANK('Scholars Nomination Form'!O307),\"\",'Scholars Nomination Form'!O307)","v":""},{"$f":"IF(ISBLANK('Scholars Nomination Form'!P307),\"\",'Scholars Nomination Form'!P307)","v":""},{"$f":"IF(ISBLANK('Scholars Nomination Form'!Q307),\"\",'Scholars Nomination Form'!Q307)","v":""},{"$f":"IF(ISBLANK('Scholars Nomination Form'!R307),\"\",'Scholars Nomination Form'!R307)","v":""},{"$f":"IF(ISBLANK('Scholars Nomination Form'!S307),\"\",'Scholars Nomination Form'!S307)","v":""},{"$f":"IF(ISBLANK('Scholars Nomination Form'!T307),\"\",'Scholars Nomination Form'!T307)","v":""},{"$f":"IF(ISBLANK('Scholars Nomination Form'!U307),\"\",'Scholars Nomination Form'!U307)","v":""},{"$f":"IF(ISBLANK('Scholars Nomination Form'!V307),\"\",'Scholars Nomination Form'!V307)","v":""},{"$f":"IF(ISBLANK('Scholars Nomination Form'!W307),\"\",'Scholars Nomination Form'!W307)","v":""},{"$f":"IF(ISBLANK('Scholars Nomination Form'!X307),\"\",'Scholars Nomination Form'!X307)","v":""},{"$f":"IF(ISBLANK('Scholars Nomination Form'!Y307),\"\",'Scholars Nomination Form'!Y307)","v":""},{"$f":"IF(ISBLANK('Scholars Nomination Form'!Z307),\"\",'Scholars Nomination Form'!Z307)","v":""},{"$f":"IF(ISBLANK('Scholars Nomination Form'!AA307),\"\",'Scholars Nomination Form'!AA307)","v":""}]
[{"$f":"IF(ISBLANK('Scholars Nomination Form'!$F308),\"\",'Scholars Nomination Form'!$C$11)","v":""},{"$f":"IF(ISBLANK('Scholars Nomination Form'!$F308),\"\",'Scholars Nomination Form'!$C$12)","v":""},{"$f":"IF(ISBLANK('Scholars Nomination Form'!$F308),\"\",'Scholars Nomination Form'!$C$13)","v":""},{"$f":"IF(ISBLANK('Scholars Nomination Form'!$F308),\"\",'Scholars Nomination Form'!$C$14)","v":""},{"$f":"IF(ISBLANK('Scholars Nomination Form'!$F308),\"\",'Scholars Nomination Form'!$C$15)","v":""},{"$f":"IF(ISBLANK('Scholars Nomination Form'!$F308),\"\",'Scholars Nomination Form'!$C$16)","v":""},{"$f":"IF(ISBLANK('Scholars Nomination Form'!B308),\"\",'Scholars Nomination Form'!B308)","v":""},{"$f":"IF(ISBLANK('Scholars Nomination Form'!D308),\"\",'Scholars Nomination Form'!D308)","v":""},{"$f":"IF(ISBLANK('Scholars Nomination Form'!E308),\"\",'Scholars Nomination Form'!E308)","v":""},{"$f":"IF(ISBLANK('Scholars Nomination Form'!F308),\"\",'Scholars Nomination Form'!F308)","v":""},{"$f":"IF(ISBLANK('Scholars Nomination Form'!G308),\"\",'Scholars Nomination Form'!G308)","v":""},{"$f":"IF(ISBLANK('Scholars Nomination Form'!H308),\"\",'Scholars Nomination Form'!H308)","v":""},{"$f":"IF(ISBLANK('Scholars Nomination Form'!I308),\"\",'Scholars Nomination Form'!I308)","v":""},{"$f":"IF(ISBLANK('Scholars Nomination Form'!J308),\"\",'Scholars Nomination Form'!J308)","v":""},{"$f":"IF(ISBLANK('Scholars Nomination Form'!K308),\"\",'Scholars Nomination Form'!K308)","v":""},{"$f":"IF(ISBLANK('Scholars Nomination Form'!L308),\"\",'Scholars Nomination Form'!L308)","v":""},{"$f":"IF(ISBLANK('Scholars Nomination Form'!M308),\"\",'Scholars Nomination Form'!M308)","v":""},{"$f":"IF(ISBLANK('Scholars Nomination Form'!N308),\"\",'Scholars Nomination Form'!N308)","v":""},{"$f":"IF(ISBLANK('Scholars Nomination Form'!O308),\"\",'Scholars Nomination Form'!O308)","v":""},{"$f":"IF(ISBLANK('Scholars Nomination Form'!P308),\"\",'Scholars Nomination Form'!P308)","v":""},{"$f":"IF(ISBLANK('Scholars Nomination Form'!Q308),\"\",'Scholars Nomination Form'!Q308)","v":""},{"$f":"IF(ISBLANK('Scholars Nomination Form'!R308),\"\",'Scholars Nomination Form'!R308)","v":""},{"$f":"IF(ISBLANK('Scholars Nomination Form'!S308),\"\",'Scholars Nomination Form'!S308)","v":""},{"$f":"IF(ISBLANK('Scholars Nomination Form'!T308),\"\",'Scholars Nomination Form'!T308)","v":""},{"$f":"IF(ISBLANK('Scholars Nomination Form'!U308),\"\",'Scholars Nomination Form'!U308)","v":""},{"$f":"IF(ISBLANK('Scholars Nomination Form'!V308),\"\",'Scholars Nomination Form'!V308)","v":""},{"$f":"IF(ISBLANK('Scholars Nomination Form'!W308),\"\",'Scholars Nomination Form'!W308)","v":""},{"$f":"IF(ISBLANK('Scholars Nomination Form'!X308),\"\",'Scholars Nomination Form'!X308)","v":""},{"$f":"IF(ISBLANK('Scholars Nomination Form'!Y308),\"\",'Scholars Nomination Form'!Y308)","v":""},{"$f":"IF(ISBLANK('Scholars Nomination Form'!Z308),\"\",'Scholars Nomination Form'!Z308)","v":""},{"$f":"IF(ISBLANK('Scholars Nomination Form'!AA308),\"\",'Scholars Nomination Form'!AA308)","v":""}]
[{"$f":"IF(ISBLANK('Scholars Nomination Form'!$F309),\"\",'Scholars Nomination Form'!$C$11)","v":""},{"$f":"IF(ISBLANK('Scholars Nomination Form'!$F309),\"\",'Scholars Nomination Form'!$C$12)","v":""},{"$f":"IF(ISBLANK('Scholars Nomination Form'!$F309),\"\",'Scholars Nomination Form'!$C$13)","v":""},{"$f":"IF(ISBLANK('Scholars Nomination Form'!$F309),\"\",'Scholars Nomination Form'!$C$14)","v":""},{"$f":"IF(ISBLANK('Scholars Nomination Form'!$F309),\"\",'Scholars Nomination Form'!$C$15)","v":""},{"$f":"IF(ISBLANK('Scholars Nomination Form'!$F309),\"\",'Scholars Nomination Form'!$C$16)","v":""},{"$f":"IF(ISBLANK('Scholars Nomination Form'!B309),\"\",'Scholars Nomination Form'!B309)","v":""},{"$f":"IF(ISBLANK('Scholars Nomination Form'!D309),\"\",'Scholars Nomination Form'!D309)","v":""},{"$f":"IF(ISBLANK('Scholars Nomination Form'!E309),\"\",'Scholars Nomination Form'!E309)","v":""},{"$f":"IF(ISBLANK('Scholars Nomination Form'!F309),\"\",'Scholars Nomination Form'!F309)","v":""},{"$f":"IF(ISBLANK('Scholars Nomination Form'!G309),\"\",'Scholars Nomination Form'!G309)","v":""},{"$f":"IF(ISBLANK('Scholars Nomination Form'!H309),\"\",'Scholars Nomination Form'!H309)","v":""},{"$f":"IF(ISBLANK('Scholars Nomination Form'!I309),\"\",'Scholars Nomination Form'!I309)","v":""},{"$f":"IF(ISBLANK('Scholars Nomination Form'!J309),\"\",'Scholars Nomination Form'!J309)","v":""},{"$f":"IF(ISBLANK('Scholars Nomination Form'!K309),\"\",'Scholars Nomination Form'!K309)","v":""},{"$f":"IF(ISBLANK('Scholars Nomination Form'!L309),\"\",'Scholars Nomination Form'!L309)","v":""},{"$f":"IF(ISBLANK('Scholars Nomination Form'!M309),\"\",'Scholars Nomination Form'!M309)","v":""},{"$f":"IF(ISBLANK('Scholars Nomination Form'!N309),\"\",'Scholars Nomination Form'!N309)","v":""},{"$f":"IF(ISBLANK('Scholars Nomination Form'!O309),\"\",'Scholars Nomination Form'!O309)","v":""},{"$f":"IF(ISBLANK('Scholars Nomination Form'!P309),\"\",'Scholars Nomination Form'!P309)","v":""},{"$f":"IF(ISBLANK('Scholars Nomination Form'!Q309),\"\",'Scholars Nomination Form'!Q309)","v":""},{"$f":"IF(ISBLANK('Scholars Nomination Form'!R309),\"\",'Scholars Nomination Form'!R309)","v":""},{"$f":"IF(ISBLANK('Scholars Nomination Form'!S309),\"\",'Scholars Nomination Form'!S309)","v":""},{"$f":"IF(ISBLANK('Scholars Nomination Form'!T309),\"\",'Scholars Nomination Form'!T309)","v":""},{"$f":"IF(ISBLANK('Scholars Nomination Form'!U309),\"\",'Scholars Nomination Form'!U309)","v":""},{"$f":"IF(ISBLANK('Scholars Nomination Form'!V309),\"\",'Scholars Nomination Form'!V309)","v":""},{"$f":"IF(ISBLANK('Scholars Nomination Form'!W309),\"\",'Scholars Nomination Form'!W309)","v":""},{"$f":"IF(ISBLANK('Scholars Nomination Form'!X309),\"\",'Scholars Nomination Form'!X309)","v":""},{"$f":"IF(ISBLANK('Scholars Nomination Form'!Y309),\"\",'Scholars Nomination Form'!Y309)","v":""},{"$f":"IF(ISBLANK('Scholars Nomination Form'!Z309),\"\",'Scholars Nomination Form'!Z309)","v":""},{"$f":"IF(ISBLANK('Scholars Nomination Form'!AA309),\"\",'Scholars Nomination Form'!AA309)","v":""}]
[{"$f":"IF(ISBLANK('Scholars Nomination Form'!$F310),\"\",'Scholars Nomination Form'!$C$11)","v":""},{"$f":"IF(ISBLANK('Scholars Nomination Form'!$F310),\"\",'Scholars Nomination Form'!$C$12)","v":""},{"$f":"IF(ISBLANK('Scholars Nomination Form'!$F310),\"\",'Scholars Nomination Form'!$C$13)","v":""},{"$f":"IF(ISBLANK('Scholars Nomination Form'!$F310),\"\",'Scholars Nomination Form'!$C$14)","v":""},{"$f":"IF(ISBLANK('Scholars Nomination Form'!$F310),\"\",'Scholars Nomination Form'!$C$15)","v":""},{"$f":"IF(ISBLANK('Scholars Nomination Form'!$F310),\"\",'Scholars Nomination Form'!$C$16)","v":""},{"$f":"IF(ISBLANK('Scholars Nomination Form'!B310),\"\",'Scholars Nomination Form'!B310)","v":""},{"$f":"IF(ISBLANK('Scholars Nomination Form'!D310),\"\",'Scholars Nomination Form'!D310)","v":""},{"$f":"IF(ISBLANK('Scholars Nomination Form'!E310),\"\",'Scholars Nomination Form'!E310)","v":""},{"$f":"IF(ISBLANK('Scholars Nomination Form'!F310),\"\",'Scholars Nomination Form'!F310)","v":""},{"$f":"IF(ISBLANK('Scholars Nomination Form'!G310),\"\",'Scholars Nomination Form'!G310)","v":""},{"$f":"IF(ISBLANK('Scholars Nomination Form'!H310),\"\",'Scholars Nomination Form'!H310)","v":""},{"$f":"IF(ISBLANK('Scholars Nomination Form'!I310),\"\",'Scholars Nomination Form'!I310)","v":""},{"$f":"IF(ISBLANK('Scholars Nomination Form'!J310),\"\",'Scholars Nomination Form'!J310)","v":""},{"$f":"IF(ISBLANK('Scholars Nomination Form'!K310),\"\",'Scholars Nomination Form'!K310)","v":""},{"$f":"IF(ISBLANK('Scholars Nomination Form'!L310),\"\",'Scholars Nomination Form'!L310)","v":""},{"$f":"IF(ISBLANK('Scholars Nomination Form'!M310),\"\",'Scholars Nomination Form'!M310)","v":""},{"$f":"IF(ISBLANK('Scholars Nomination Form'!N310),\"\",'Scholars Nomination Form'!N310)","v":""},{"$f":"IF(ISBLANK('Scholars Nomination Form'!O310),\"\",'Scholars Nomination Form'!O310)","v":""},{"$f":"IF(ISBLANK('Scholars Nomination Form'!P310),\"\",'Scholars Nomination Form'!P310)","v":""},{"$f":"IF(ISBLANK('Scholars Nomination Form'!Q310),\"\",'Scholars Nomination Form'!Q310)","v":""},{"$f":"IF(ISBLANK('Scholars Nomination Form'!R310),\"\",'Scholars Nomination Form'!R310)","v":""},{"$f":"IF(ISBLANK('Scholars Nomination Form'!S310),\"\",'Scholars Nomination Form'!S310)","v":""},{"$f":"IF(ISBLANK('Scholars Nomination Form'!T310),\"\",'Scholars Nomination Form'!T310)","v":""},{"$f":"IF(ISBLANK('Scholars Nomination Form'!U310),\"\",'Scholars Nomination Form'!U310)","v":""},{"$f":"IF(ISBLANK('Scholars Nomination Form'!V310),\"\",'Scholars Nomination Form'!V310)","v":""},{"$f":"IF(ISBLANK('Scholars Nomination Form'!W310),\"\",'Scholars Nomination Form'!W310)","v":""},{"$f":"IF(ISBLANK('Scholars Nomination Form'!X310),\"\",'Scholars Nomination Form'!X310)","v":""},{"$f":"IF(ISBLANK('Scholars Nomination Form'!Y310),\"\",'Scholars Nomination Form'!Y310)","v":""},{"$f":"IF(ISBLANK('Scholars Nomination Form'!Z310),\"\",'Scholars Nomination Form'!Z310)","v":""},{"$f":"IF(ISBLANK('Scholars Nomination Form'!AA310),\"\",'Scholars Nomination Form'!AA310)","v":""}]
[{"$f":"IF(ISBLANK('Scholars Nomination Form'!$F311),\"\",'Scholars Nomination Form'!$C$11)","v":""},{"$f":"IF(ISBLANK('Scholars Nomination Form'!$F311),\"\",'Scholars Nomination Form'!$C$12)","v":""},{"$f":"IF(ISBLANK('Scholars Nomination Form'!$F311),\"\",'Scholars Nomination Form'!$C$13)","v":""},{"$f":"IF(ISBLANK('Scholars Nomination Form'!$F311),\"\",'Scholars Nomination Form'!$C$14)","v":""},{"$f":"IF(ISBLANK('Scholars Nomination Form'!$F311),\"\",'Scholars Nomination Form'!$C$15)","v":""},{"$f":"IF(ISBLANK('Scholars Nomination Form'!$F311),\"\",'Scholars Nomination Form'!$C$16)","v":""},{"$f":"IF(ISBLANK('Scholars Nomination Form'!B311),\"\",'Scholars Nomination Form'!B311)","v":""},{"$f":"IF(ISBLANK('Scholars Nomination Form'!D311),\"\",'Scholars Nomination Form'!D311)","v":""},{"$f":"IF(ISBLANK('Scholars Nomination Form'!E311),\"\",'Scholars Nomination Form'!E311)","v":""},{"$f":"IF(ISBLANK('Scholars Nomination Form'!F311),\"\",'Scholars Nomination Form'!F311)","v":""},{"$f":"IF(ISBLANK('Scholars Nomination Form'!G311),\"\",'Scholars Nomination Form'!G311)","v":""},{"$f":"IF(ISBLANK('Scholars Nomination Form'!H311),\"\",'Scholars Nomination Form'!H311)","v":""},{"$f":"IF(ISBLANK('Scholars Nomination Form'!I311),\"\",'Scholars Nomination Form'!I311)","v":""},{"$f":"IF(ISBLANK('Scholars Nomination Form'!J311),\"\",'Scholars Nomination Form'!J311)","v":""},{"$f":"IF(ISBLANK('Scholars Nomination Form'!K311),\"\",'Scholars Nomination Form'!K311)","v":""},{"$f":"IF(ISBLANK('Scholars Nomination Form'!L311),\"\",'Scholars Nomination Form'!L311)","v":""},{"$f":"IF(ISBLANK('Scholars Nomination Form'!M311),\"\",'Scholars Nomination Form'!M311)","v":""},{"$f":"IF(ISBLANK('Scholars Nomination Form'!N311),\"\",'Scholars Nomination Form'!N311)","v":""},{"$f":"IF(ISBLANK('Scholars Nomination Form'!O311),\"\",'Scholars Nomination Form'!O311)","v":""},{"$f":"IF(ISBLANK('Scholars Nomination Form'!P311),\"\",'Scholars Nomination Form'!P311)","v":""},{"$f":"IF(ISBLANK('Scholars Nomination Form'!Q311),\"\",'Scholars Nomination Form'!Q311)","v":""},{"$f":"IF(ISBLANK('Scholars Nomination Form'!R311),\"\",'Scholars Nomination Form'!R311)","v":""},{"$f":"IF(ISBLANK('Scholars Nomination Form'!S311),\"\",'Scholars Nomination Form'!S311)","v":""},{"$f":"IF(ISBLANK('Scholars Nomination Form'!T311),\"\",'Scholars Nomination Form'!T311)","v":""},{"$f":"IF(ISBLANK('Scholars Nomination Form'!U311),\"\",'Scholars Nomination Form'!U311)","v":""},{"$f":"IF(ISBLANK('Scholars Nomination Form'!V311),\"\",'Scholars Nomination Form'!V311)","v":""},{"$f":"IF(ISBLANK('Scholars Nomination Form'!W311),\"\",'Scholars Nomination Form'!W311)","v":""},{"$f":"IF(ISBLANK('Scholars Nomination Form'!X311),\"\",'Scholars Nomination Form'!X311)","v":""},{"$f":"IF(ISBLANK('Scholars Nomination Form'!Y311),\"\",'Scholars Nomination Form'!Y311)","v":""},{"$f":"IF(ISBLANK('Scholars Nomination Form'!Z311),\"\",'Scholars Nomination Form'!Z311)","v":""},{"$f":"IF(ISBLANK('Scholars Nomination Form'!AA311),\"\",'Scholars Nomination Form'!AA311)","v":""}]
[{"$f":"IF(ISBLANK('Scholars Nomination Form'!$F312),\"\",'Scholars Nomination Form'!$C$11)","v":""},{"$f":"IF(ISBLANK('Scholars Nomination Form'!$F312),\"\",'Scholars Nomination Form'!$C$12)","v":""},{"$f":"IF(ISBLANK('Scholars Nomination Form'!$F312),\"\",'Scholars Nomination Form'!$C$13)","v":""},{"$f":"IF(ISBLANK('Scholars Nomination Form'!$F312),\"\",'Scholars Nomination Form'!$C$14)","v":""},{"$f":"IF(ISBLANK('Scholars Nomination Form'!$F312),\"\",'Scholars Nomination Form'!$C$15)","v":""},{"$f":"IF(ISBLANK('Scholars Nomination Form'!$F312),\"\",'Scholars Nomination Form'!$C$16)","v":""},{"$f":"IF(ISBLANK('Scholars Nomination Form'!B312),\"\",'Scholars Nomination Form'!B312)","v":""},{"$f":"IF(ISBLANK('Scholars Nomination Form'!D312),\"\",'Scholars Nomination Form'!D312)","v":""},{"$f":"IF(ISBLANK('Scholars Nomination Form'!E312),\"\",'Scholars Nomination Form'!E312)","v":""},{"$f":"IF(ISBLANK('Scholars Nomination Form'!F312),\"\",'Scholars Nomination Form'!F312)","v":""},{"$f":"IF(ISBLANK('Scholars Nomination Form'!G312),\"\",'Scholars Nomination Form'!G312)","v":""},{"$f":"IF(ISBLANK('Scholars Nomination Form'!H312),\"\",'Scholars Nomination Form'!H312)","v":""},{"$f":"IF(ISBLANK('Scholars Nomination Form'!I312),\"\",'Scholars Nomination Form'!I312)","v":""},{"$f":"IF(ISBLANK('Scholars Nomination Form'!J312),\"\",'Scholars Nomination Form'!J312)","v":""},{"$f":"IF(ISBLANK('Scholars Nomination Form'!K312),\"\",'Scholars Nomination Form'!K312)","v":""},{"$f":"IF(ISBLANK('Scholars Nomination Form'!L312),\"\",'Scholars Nomination Form'!L312)","v":""},{"$f":"IF(ISBLANK('Scholars Nomination Form'!M312),\"\",'Scholars Nomination Form'!M312)","v":""},{"$f":"IF(ISBLANK('Scholars Nomination Form'!N312),\"\",'Scholars Nomination Form'!N312)","v":""},{"$f":"IF(ISBLANK('Scholars Nomination Form'!O312),\"\",'Scholars Nomination Form'!O312)","v":""},{"$f":"IF(ISBLANK('Scholars Nomination Form'!P312),\"\",'Scholars Nomination Form'!P312)","v":""},{"$f":"IF(ISBLANK('Scholars Nomination Form'!Q312),\"\",'Scholars Nomination Form'!Q312)","v":""},{"$f":"IF(ISBLANK('Scholars Nomination Form'!R312),\"\",'Scholars Nomination Form'!R312)","v":""},{"$f":"IF(ISBLANK('Scholars Nomination Form'!S312),\"\",'Scholars Nomination Form'!S312)","v":""},{"$f":"IF(ISBLANK('Scholars Nomination Form'!T312),\"\",'Scholars Nomination Form'!T312)","v":""},{"$f":"IF(ISBLANK('Scholars Nomination Form'!U312),\"\",'Scholars Nomination Form'!U312)","v":""},{"$f":"IF(ISBLANK('Scholars Nomination Form'!V312),\"\",'Scholars Nomination Form'!V312)","v":""},{"$f":"IF(ISBLANK('Scholars Nomination Form'!W312),\"\",'Scholars Nomination Form'!W312)","v":""},{"$f":"IF(ISBLANK('Scholars Nomination Form'!X312),\"\",'Scholars Nomination Form'!X312)","v":""},{"$f":"IF(ISBLANK('Scholars Nomination Form'!Y312),\"\",'Scholars Nomination Form'!Y312)","v":""},{"$f":"IF(ISBLANK('Scholars Nomination Form'!Z312),\"\",'Scholars Nomination Form'!Z312)","v":""},{"$f":"IF(ISBLANK('Scholars Nomination Form'!AA312),\"\",'Scholars Nomination Form'!AA312)","v":""}]
[{"$f":"IF(ISBLANK('Scholars Nomination Form'!$F313),\"\",'Scholars Nomination Form'!$C$11)","v":""},{"$f":"IF(ISBLANK('Scholars Nomination Form'!$F313),\"\",'Scholars Nomination Form'!$C$12)","v":""},{"$f":"IF(ISBLANK('Scholars Nomination Form'!$F313),\"\",'Scholars Nomination Form'!$C$13)","v":""},{"$f":"IF(ISBLANK('Scholars Nomination Form'!$F313),\"\",'Scholars Nomination Form'!$C$14)","v":""},{"$f":"IF(ISBLANK('Scholars Nomination Form'!$F313),\"\",'Scholars Nomination Form'!$C$15)","v":""},{"$f":"IF(ISBLANK('Scholars Nomination Form'!$F313),\"\",'Scholars Nomination Form'!$C$16)","v":""},{"$f":"IF(ISBLANK('Scholars Nomination Form'!B313),\"\",'Scholars Nomination Form'!B313)","v":""},{"$f":"IF(ISBLANK('Scholars Nomination Form'!D313),\"\",'Scholars Nomination Form'!D313)","v":""},{"$f":"IF(ISBLANK('Scholars Nomination Form'!E313),\"\",'Scholars Nomination Form'!E313)","v":""},{"$f":"IF(ISBLANK('Scholars Nomination Form'!F313),\"\",'Scholars Nomination Form'!F313)","v":""},{"$f":"IF(ISBLANK('Scholars Nomination Form'!G313),\"\",'Scholars Nomination Form'!G313)","v":""},{"$f":"IF(ISBLANK('Scholars Nomination Form'!H313),\"\",'Scholars Nomination Form'!H313)","v":""},{"$f":"IF(ISBLANK('Scholars Nomination Form'!I313),\"\",'Scholars Nomination Form'!I313)","v":""},{"$f":"IF(ISBLANK('Scholars Nomination Form'!J313),\"\",'Scholars Nomination Form'!J313)","v":""},{"$f":"IF(ISBLANK('Scholars Nomination Form'!K313),\"\",'Scholars Nomination Form'!K313)","v":""},{"$f":"IF(ISBLANK('Scholars Nomination Form'!L313),\"\",'Scholars Nomination Form'!L313)","v":""},{"$f":"IF(ISBLANK('Scholars Nomination Form'!M313),\"\",'Scholars Nomination Form'!M313)","v":""},{"$f":"IF(ISBLANK('Scholars Nomination Form'!N313),\"\",'Scholars Nomination Form'!N313)","v":""},{"$f":"IF(ISBLANK('Scholars Nomination Form'!O313),\"\",'Scholars Nomination Form'!O313)","v":""},{"$f":"IF(ISBLANK('Scholars Nomination Form'!P313),\"\",'Scholars Nomination Form'!P313)","v":""},{"$f":"IF(ISBLANK('Scholars Nomination Form'!Q313),\"\",'Scholars Nomination Form'!Q313)","v":""},{"$f":"IF(ISBLANK('Scholars Nomination Form'!R313),\"\",'Scholars Nomination Form'!R313)","v":""},{"$f":"IF(ISBLANK('Scholars Nomination Form'!S313),\"\",'Scholars Nomination Form'!S313)","v":""},{"$f":"IF(ISBLANK('Scholars Nomination Form'!T313),\"\",'Scholars Nomination Form'!T313)","v":""},{"$f":"IF(ISBLANK('Scholars Nomination Form'!U313),\"\",'Scholars Nomination Form'!U313)","v":""},{"$f":"IF(ISBLANK('Scholars Nomination Form'!V313),\"\",'Scholars Nomination Form'!V313)","v":""},{"$f":"IF(ISBLANK('Scholars Nomination Form'!W313),\"\",'Scholars Nomination Form'!W313)","v":""},{"$f":"IF(ISBLANK('Scholars Nomination Form'!X313),\"\",'Scholars Nomination Form'!X313)","v":""},{"$f":"IF(ISBLANK('Scholars Nomination Form'!Y313),\"\",'Scholars Nomination Form'!Y313)","v":""},{"$f":"IF(ISBLANK('Scholars Nomination Form'!Z313),\"\",'Scholars Nomination Form'!Z313)","v":""},{"$f":"IF(ISBLANK('Scholars Nomination Form'!AA313),\"\",'Scholars Nomination Form'!AA313)","v":""}]
[{"$f":"IF(ISBLANK('Scholars Nomination Form'!$F314),\"\",'Scholars Nomination Form'!$C$11)","v":""},{"$f":"IF(ISBLANK('Scholars Nomination Form'!$F314),\"\",'Scholars Nomination Form'!$C$12)","v":""},{"$f":"IF(ISBLANK('Scholars Nomination Form'!$F314),\"\",'Scholars Nomination Form'!$C$13)","v":""},{"$f":"IF(ISBLANK('Scholars Nomination Form'!$F314),\"\",'Scholars Nomination Form'!$C$14)","v":""},{"$f":"IF(ISBLANK('Scholars Nomination Form'!$F314),\"\",'Scholars Nomination Form'!$C$15)","v":""},{"$f":"IF(ISBLANK('Scholars Nomination Form'!$F314),\"\",'Scholars Nomination Form'!$C$16)","v":""},{"$f":"IF(ISBLANK('Scholars Nomination Form'!B314),\"\",'Scholars Nomination Form'!B314)","v":""},{"$f":"IF(ISBLANK('Scholars Nomination Form'!D314),\"\",'Scholars Nomination Form'!D314)","v":""},{"$f":"IF(ISBLANK('Scholars Nomination Form'!E314),\"\",'Scholars Nomination Form'!E314)","v":""},{"$f":"IF(ISBLANK('Scholars Nomination Form'!F314),\"\",'Scholars Nomination Form'!F314)","v":""},{"$f":"IF(ISBLANK('Scholars Nomination Form'!G314),\"\",'Scholars Nomination Form'!G314)","v":""},{"$f":"IF(ISBLANK('Scholars Nomination Form'!H314),\"\",'Scholars Nomination Form'!H314)","v":""},{"$f":"IF(ISBLANK('Scholars Nomination Form'!I314),\"\",'Scholars Nomination Form'!I314)","v":""},{"$f":"IF(ISBLANK('Scholars Nomination Form'!J314),\"\",'Scholars Nomination Form'!J314)","v":""},{"$f":"IF(ISBLANK('Scholars Nomination Form'!K314),\"\",'Scholars Nomination Form'!K314)","v":""},{"$f":"IF(ISBLANK('Scholars Nomination Form'!L314),\"\",'Scholars Nomination Form'!L314)","v":""},{"$f":"IF(ISBLANK('Scholars Nomination Form'!M314),\"\",'Scholars Nomination Form'!M314)","v":""},{"$f":"IF(ISBLANK('Scholars Nomination Form'!N314),\"\",'Scholars Nomination Form'!N314)","v":""},{"$f":"IF(ISBLANK('Scholars Nomination Form'!O314),\"\",'Scholars Nomination Form'!O314)","v":""},{"$f":"IF(ISBLANK('Scholars Nomination Form'!P314),\"\",'Scholars Nomination Form'!P314)","v":""},{"$f":"IF(ISBLANK('Scholars Nomination Form'!Q314),\"\",'Scholars Nomination Form'!Q314)","v":""},{"$f":"IF(ISBLANK('Scholars Nomination Form'!R314),\"\",'Scholars Nomination Form'!R314)","v":""},{"$f":"IF(ISBLANK('Scholars Nomination Form'!S314),\"\",'Scholars Nomination Form'!S314)","v":""},{"$f":"IF(ISBLANK('Scholars Nomination Form'!T314),\"\",'Scholars Nomination Form'!T314)","v":""},{"$f":"IF(ISBLANK('Scholars Nomination Form'!U314),\"\",'Scholars Nomination Form'!U314)","v":""},{"$f":"IF(ISBLANK('Scholars Nomination Form'!V314),\"\",'Scholars Nomination Form'!V314)","v":""},{"$f":"IF(ISBLANK('Scholars Nomination Form'!W314),\"\",'Scholars Nomination Form'!W314)","v":""},{"$f":"IF(ISBLANK('Scholars Nomination Form'!X314),\"\",'Scholars Nomination Form'!X314)","v":""},{"$f":"IF(ISBLANK('Scholars Nomination Form'!Y314),\"\",'Scholars Nomination Form'!Y314)","v":""},{"$f":"IF(ISBLANK('Scholars Nomination Form'!Z314),\"\",'Scholars Nomination Form'!Z314)","v":""},{"$f":"IF(ISBLANK('Scholars Nomination Form'!AA314),\"\",'Scholars Nomination Form'!AA314)","v":""}]
[{"$f":"IF(ISBLANK('Scholars Nomination Form'!$F315),\"\",'Scholars Nomination Form'!$C$11)","v":""},{"$f":"IF(ISBLANK('Scholars Nomination Form'!$F315),\"\",'Scholars Nomination Form'!$C$12)","v":""},{"$f":"IF(ISBLANK('Scholars Nomination Form'!$F315),\"\",'Scholars Nomination Form'!$C$13)","v":""},{"$f":"IF(ISBLANK('Scholars Nomination Form'!$F315),\"\",'Scholars Nomination Form'!$C$14)","v":""},{"$f":"IF(ISBLANK('Scholars Nomination Form'!$F315),\"\",'Scholars Nomination Form'!$C$15)","v":""},{"$f":"IF(ISBLANK('Scholars Nomination Form'!$F315),\"\",'Scholars Nomination Form'!$C$16)","v":""},{"$f":"IF(ISBLANK('Scholars Nomination Form'!B315),\"\",'Scholars Nomination Form'!B315)","v":""},{"$f":"IF(ISBLANK('Scholars Nomination Form'!D315),\"\",'Scholars Nomination Form'!D315)","v":""},{"$f":"IF(ISBLANK('Scholars Nomination Form'!E315),\"\",'Scholars Nomination Form'!E315)","v":""},{"$f":"IF(ISBLANK('Scholars Nomination Form'!F315),\"\",'Scholars Nomination Form'!F315)","v":""},{"$f":"IF(ISBLANK('Scholars Nomination Form'!G315),\"\",'Scholars Nomination Form'!G315)","v":""},{"$f":"IF(ISBLANK('Scholars Nomination Form'!H315),\"\",'Scholars Nomination Form'!H315)","v":""},{"$f":"IF(ISBLANK('Scholars Nomination Form'!I315),\"\",'Scholars Nomination Form'!I315)","v":""},{"$f":"IF(ISBLANK('Scholars Nomination Form'!J315),\"\",'Scholars Nomination Form'!J315)","v":""},{"$f":"IF(ISBLANK('Scholars Nomination Form'!K315),\"\",'Scholars Nomination Form'!K315)","v":""},{"$f":"IF(ISBLANK('Scholars Nomination Form'!L315),\"\",'Scholars Nomination Form'!L315)","v":""},{"$f":"IF(ISBLANK('Scholars Nomination Form'!M315),\"\",'Scholars Nomination Form'!M315)","v":""},{"$f":"IF(ISBLANK('Scholars Nomination Form'!N315),\"\",'Scholars Nomination Form'!N315)","v":""},{"$f":"IF(ISBLANK('Scholars Nomination Form'!O315),\"\",'Scholars Nomination Form'!O315)","v":""},{"$f":"IF(ISBLANK('Scholars Nomination Form'!P315),\"\",'Scholars Nomination Form'!P315)","v":""},{"$f":"IF(ISBLANK('Scholars Nomination Form'!Q315),\"\",'Scholars Nomination Form'!Q315)","v":""},{"$f":"IF(ISBLANK('Scholars Nomination Form'!R315),\"\",'Scholars Nomination Form'!R315)","v":""},{"$f":"IF(ISBLANK('Scholars Nomination Form'!S315),\"\",'Scholars Nomination Form'!S315)","v":""},{"$f":"IF(ISBLANK('Scholars Nomination Form'!T315),\"\",'Scholars Nomination Form'!T315)","v":""},{"$f":"IF(ISBLANK('Scholars Nomination Form'!U315),\"\",'Scholars Nomination Form'!U315)","v":""},{"$f":"IF(ISBLANK('Scholars Nomination Form'!V315),\"\",'Scholars Nomination Form'!V315)","v":""},{"$f":"IF(ISBLANK('Scholars Nomination Form'!W315),\"\",'Scholars Nomination Form'!W315)","v":""},{"$f":"IF(ISBLANK('Scholars Nomination Form'!X315),\"\",'Scholars Nomination Form'!X315)","v":""},{"$f":"IF(ISBLANK('Scholars Nomination Form'!Y315),\"\",'Scholars Nomination Form'!Y315)","v":""},{"$f":"IF(ISBLANK('Scholars Nomination Form'!Z315),\"\",'Scholars Nomination Form'!Z315)","v":""},{"$f":"IF(ISBLANK('Scholars Nomination Form'!AA315),\"\",'Scholars Nomination Form'!AA315)","v":""}]
[{"$f":"IF(ISBLANK('Scholars Nomination Form'!$F316),\"\",'Scholars Nomination Form'!$C$11)","v":""},{"$f":"IF(ISBLANK('Scholars Nomination Form'!$F316),\"\",'Scholars Nomination Form'!$C$12)","v":""},{"$f":"IF(ISBLANK('Scholars Nomination Form'!$F316),\"\",'Scholars Nomination Form'!$C$13)","v":""},{"$f":"IF(ISBLANK('Scholars Nomination Form'!$F316),\"\",'Scholars Nomination Form'!$C$14)","v":""},{"$f":"IF(ISBLANK('Scholars Nomination Form'!$F316),\"\",'Scholars Nomination Form'!$C$15)","v":""},{"$f":"IF(ISBLANK('Scholars Nomination Form'!$F316),\"\",'Scholars Nomination Form'!$C$16)","v":""},{"$f":"IF(ISBLANK('Scholars Nomination Form'!B316),\"\",'Scholars Nomination Form'!B316)","v":""},{"$f":"IF(ISBLANK('Scholars Nomination Form'!D316),\"\",'Scholars Nomination Form'!D316)","v":""},{"$f":"IF(ISBLANK('Scholars Nomination Form'!E316),\"\",'Scholars Nomination Form'!E316)","v":""},{"$f":"IF(ISBLANK('Scholars Nomination Form'!F316),\"\",'Scholars Nomination Form'!F316)","v":""},{"$f":"IF(ISBLANK('Scholars Nomination Form'!G316),\"\",'Scholars Nomination Form'!G316)","v":""},{"$f":"IF(ISBLANK('Scholars Nomination Form'!H316),\"\",'Scholars Nomination Form'!H316)","v":""},{"$f":"IF(ISBLANK('Scholars Nomination Form'!I316),\"\",'Scholars Nomination Form'!I316)","v":""},{"$f":"IF(ISBLANK('Scholars Nomination Form'!J316),\"\",'Scholars Nomination Form'!J316)","v":""},{"$f":"IF(ISBLANK('Scholars Nomination Form'!K316),\"\",'Scholars Nomination Form'!K316)","v":""},{"$f":"IF(ISBLANK('Scholars Nomination Form'!L316),\"\",'Scholars Nomination Form'!L316)","v":""},{"$f":"IF(ISBLANK('Scholars Nomination Form'!M316),\"\",'Scholars Nomination Form'!M316)","v":""},{"$f":"IF(ISBLANK('Scholars Nomination Form'!N316),\"\",'Scholars Nomination Form'!N316)","v":""},{"$f":"IF(ISBLANK('Scholars Nomination Form'!O316),\"\",'Scholars Nomination Form'!O316)","v":""},{"$f":"IF(ISBLANK('Scholars Nomination Form'!P316),\"\",'Scholars Nomination Form'!P316)","v":""},{"$f":"IF(ISBLANK('Scholars Nomination Form'!Q316),\"\",'Scholars Nomination Form'!Q316)","v":""},{"$f":"IF(ISBLANK('Scholars Nomination Form'!R316),\"\",'Scholars Nomination Form'!R316)","v":""},{"$f":"IF(ISBLANK('Scholars Nomination Form'!S316),\"\",'Scholars Nomination Form'!S316)","v":""},{"$f":"IF(ISBLANK('Scholars Nomination Form'!T316),\"\",'Scholars Nomination Form'!T316)","v":""},{"$f":"IF(ISBLANK('Scholars Nomination Form'!U316),\"\",'Scholars Nomination Form'!U316)","v":""},{"$f":"IF(ISBLANK('Scholars Nomination Form'!V316),\"\",'Scholars Nomination Form'!V316)","v":""},{"$f":"IF(ISBLANK('Scholars Nomination Form'!W316),\"\",'Scholars Nomination Form'!W316)","v":""},{"$f":"IF(ISBLANK('Scholars Nomination Form'!X316),\"\",'Scholars Nomination Form'!X316)","v":""},{"$f":"IF(ISBLANK('Scholars Nomination Form'!Y316),\"\",'Scholars Nomination Form'!Y316)","v":""},{"$f":"IF(ISBLANK('Scholars Nomination Form'!Z316),\"\",'Scholars Nomination Form'!Z316)","v":""},{"$f":"IF(ISBLANK('Scholars Nomination Form'!AA316),\"\",'Scholars Nomination Form'!AA316)","v":""}]
[{"$f":"IF(ISBLANK('Scholars Nomination Form'!$F317),\"\",'Scholars Nomination Form'!$C$11)","v":""},{"$f":"IF(ISBLANK('Scholars Nomination Form'!$F317),\"\",'Scholars Nomination Form'!$C$12)","v":""},{"$f":"IF(ISBLANK('Scholars Nomination Form'!$F317),\"\",'Scholars Nomination Form'!$C$13)","v":""},{"$f":"IF(ISBLANK('Scholars Nomination Form'!$F317),\"\",'Scholars Nomination Form'!$C$14)","v":""},{"$f":"IF(ISBLANK('Scholars Nomination Form'!$F317),\"\",'Scholars Nomination Form'!$C$15)","v":""},{"$f":"IF(ISBLANK('Scholars Nomination Form'!$F317),\"\",'Scholars Nomination Form'!$C$16)","v":""},{"$f":"IF(ISBLANK('Scholars Nomination Form'!B317),\"\",'Scholars Nomination Form'!B317)","v":""},{"$f":"IF(ISBLANK('Scholars Nomination Form'!D317),\"\",'Scholars Nomination Form'!D317)","v":""},{"$f":"IF(ISBLANK('Scholars Nomination Form'!E317),\"\",'Scholars Nomination Form'!E317)","v":""},{"$f":"IF(ISBLANK('Scholars Nomination Form'!F317),\"\",'Scholars Nomination Form'!F317)","v":""},{"$f":"IF(ISBLANK('Scholars Nomination Form'!G317),\"\",'Scholars Nomination Form'!G317)","v":""},{"$f":"IF(ISBLANK('Scholars Nomination Form'!H317),\"\",'Scholars Nomination Form'!H317)","v":""},{"$f":"IF(ISBLANK('Scholars Nomination Form'!I317),\"\",'Scholars Nomination Form'!I317)","v":""},{"$f":"IF(ISBLANK('Scholars Nomination Form'!J317),\"\",'Scholars Nomination Form'!J317)","v":""},{"$f":"IF(ISBLANK('Scholars Nomination Form'!K317),\"\",'Scholars Nomination Form'!K317)","v":""},{"$f":"IF(ISBLANK('Scholars Nomination Form'!L317),\"\",'Scholars Nomination Form'!L317)","v":""},{"$f":"IF(ISBLANK('Scholars Nomination Form'!M317),\"\",'Scholars Nomination Form'!M317)","v":""},{"$f":"IF(ISBLANK('Scholars Nomination Form'!N317),\"\",'Scholars Nomination Form'!N317)","v":""},{"$f":"IF(ISBLANK('Scholars Nomination Form'!O317),\"\",'Scholars Nomination Form'!O317)","v":""},{"$f":"IF(ISBLANK('Scholars Nomination Form'!P317),\"\",'Scholars Nomination Form'!P317)","v":""},{"$f":"IF(ISBLANK('Scholars Nomination Form'!Q317),\"\",'Scholars Nomination Form'!Q317)","v":""},{"$f":"IF(ISBLANK('Scholars Nomination Form'!R317),\"\",'Scholars Nomination Form'!R317)","v":""},{"$f":"IF(ISBLANK('Scholars Nomination Form'!S317),\"\",'Scholars Nomination Form'!S317)","v":""},{"$f":"IF(ISBLANK('Scholars Nomination Form'!T317),\"\",'Scholars Nomination Form'!T317)","v":""},{"$f":"IF(ISBLANK('Scholars Nomination Form'!U317),\"\",'Scholars Nomination Form'!U317)","v":""},{"$f":"IF(ISBLANK('Scholars Nomination Form'!V317),\"\",'Scholars Nomination Form'!V317)","v":""},{"$f":"IF(ISBLANK('Scholars Nomination Form'!W317),\"\",'Scholars Nomination Form'!W317)","v":""},{"$f":"IF(ISBLANK('Scholars Nomination Form'!X317),\"\",'Scholars Nomination Form'!X317)","v":""},{"$f":"IF(ISBLANK('Scholars Nomination Form'!Y317),\"\",'Scholars Nomination Form'!Y317)","v":""},{"$f":"IF(ISBLANK('Scholars Nomination Form'!Z317),\"\",'Scholars Nomination Form'!Z317)","v":""},{"$f":"IF(ISBLANK('Scholars Nomination Form'!AA317),\"\",'Scholars Nomination Form'!AA317)","v":""}]
[{"$f":"IF(ISBLANK('Scholars Nomination Form'!$F318),\"\",'Scholars Nomination Form'!$C$11)","v":""},{"$f":"IF(ISBLANK('Scholars Nomination Form'!$F318),\"\",'Scholars Nomination Form'!$C$12)","v":""},{"$f":"IF(ISBLANK('Scholars Nomination Form'!$F318),\"\",'Scholars Nomination Form'!$C$13)","v":""},{"$f":"IF(ISBLANK('Scholars Nomination Form'!$F318),\"\",'Scholars Nomination Form'!$C$14)","v":""},{"$f":"IF(ISBLANK('Scholars Nomination Form'!$F318),\"\",'Scholars Nomination Form'!$C$15)","v":""},{"$f":"IF(ISBLANK('Scholars Nomination Form'!$F318),\"\",'Scholars Nomination Form'!$C$16)","v":""},{"$f":"IF(ISBLANK('Scholars Nomination Form'!B318),\"\",'Scholars Nomination Form'!B318)","v":""},{"$f":"IF(ISBLANK('Scholars Nomination Form'!D318),\"\",'Scholars Nomination Form'!D318)","v":""},{"$f":"IF(ISBLANK('Scholars Nomination Form'!E318),\"\",'Scholars Nomination Form'!E318)","v":""},{"$f":"IF(ISBLANK('Scholars Nomination Form'!F318),\"\",'Scholars Nomination Form'!F318)","v":""},{"$f":"IF(ISBLANK('Scholars Nomination Form'!G318),\"\",'Scholars Nomination Form'!G318)","v":""},{"$f":"IF(ISBLANK('Scholars Nomination Form'!H318),\"\",'Scholars Nomination Form'!H318)","v":""},{"$f":"IF(ISBLANK('Scholars Nomination Form'!I318),\"\",'Scholars Nomination Form'!I318)","v":""},{"$f":"IF(ISBLANK('Scholars Nomination Form'!J318),\"\",'Scholars Nomination Form'!J318)","v":""},{"$f":"IF(ISBLANK('Scholars Nomination Form'!K318),\"\",'Scholars Nomination Form'!K318)","v":""},{"$f":"IF(ISBLANK('Scholars Nomination Form'!L318),\"\",'Scholars Nomination Form'!L318)","v":""},{"$f":"IF(ISBLANK('Scholars Nomination Form'!M318),\"\",'Scholars Nomination Form'!M318)","v":""},{"$f":"IF(ISBLANK('Scholars Nomination Form'!N318),\"\",'Scholars Nomination Form'!N318)","v":""},{"$f":"IF(ISBLANK('Scholars Nomination Form'!O318),\"\",'Scholars Nomination Form'!O318)","v":""},{"$f":"IF(ISBLANK('Scholars Nomination Form'!P318),\"\",'Scholars Nomination Form'!P318)","v":""},{"$f":"IF(ISBLANK('Scholars Nomination Form'!Q318),\"\",'Scholars Nomination Form'!Q318)","v":""},{"$f":"IF(ISBLANK('Scholars Nomination Form'!R318),\"\",'Scholars Nomination Form'!R318)","v":""},{"$f":"IF(ISBLANK('Scholars Nomination Form'!S318),\"\",'Scholars Nomination Form'!S318)","v":""},{"$f":"IF(ISBLANK('Scholars Nomination Form'!T318),\"\",'Scholars Nomination Form'!T318)","v":""},{"$f":"IF(ISBLANK('Scholars Nomination Form'!U318),\"\",'Scholars Nomination Form'!U318)","v":""},{"$f":"IF(ISBLANK('Scholars Nomination Form'!V318),\"\",'Scholars Nomination Form'!V318)","v":""},{"$f":"IF(ISBLANK('Scholars Nomination Form'!W318),\"\",'Scholars Nomination Form'!W318)","v":""},{"$f":"IF(ISBLANK('Scholars Nomination Form'!X318),\"\",'Scholars Nomination Form'!X318)","v":""},{"$f":"IF(ISBLANK('Scholars Nomination Form'!Y318),\"\",'Scholars Nomination Form'!Y318)","v":""},{"$f":"IF(ISBLANK('Scholars Nomination Form'!Z318),\"\",'Scholars Nomination Form'!Z318)","v":""},{"$f":"IF(ISBLANK('Scholars Nomination Form'!AA318),\"\",'Scholars Nomination Form'!AA318)","v":""}]
[{"$f":"IF(ISBLANK('Scholars Nomination Form'!$F319),\"\",'Scholars Nomination Form'!$C$11)","v":""},{"$f":"IF(ISBLANK('Scholars Nomination Form'!$F319),\"\",'Scholars Nomination Form'!$C$12)","v":""},{"$f":"IF(ISBLANK('Scholars Nomination Form'!$F319),\"\",'Scholars Nomination Form'!$C$13)","v":""},{"$f":"IF(ISBLANK('Scholars Nomination Form'!$F319),\"\",'Scholars Nomination Form'!$C$14)","v":""},{"$f":"IF(ISBLANK('Scholars Nomination Form'!$F319),\"\",'Scholars Nomination Form'!$C$15)","v":""},{"$f":"IF(ISBLANK('Scholars Nomination Form'!$F319),\"\",'Scholars Nomination Form'!$C$16)","v":""},{"$f":"IF(ISBLANK('Scholars Nomination Form'!B319),\"\",'Scholars Nomination Form'!B319)","v":""},{"$f":"IF(ISBLANK('Scholars Nomination Form'!D319),\"\",'Scholars Nomination Form'!D319)","v":""},{"$f":"IF(ISBLANK('Scholars Nomination Form'!E319),\"\",'Scholars Nomination Form'!E319)","v":""},{"$f":"IF(ISBLANK('Scholars Nomination Form'!F319),\"\",'Scholars Nomination Form'!F319)","v":""},{"$f":"IF(ISBLANK('Scholars Nomination Form'!G319),\"\",'Scholars Nomination Form'!G319)","v":""},{"$f":"IF(ISBLANK('Scholars Nomination Form'!H319),\"\",'Scholars Nomination Form'!H319)","v":""},{"$f":"IF(ISBLANK('Scholars Nomination Form'!I319),\"\",'Scholars Nomination Form'!I319)","v":""},{"$f":"IF(ISBLANK('Scholars Nomination Form'!J319),\"\",'Scholars Nomination Form'!J319)","v":""},{"$f":"IF(ISBLANK('Scholars Nomination Form'!K319),\"\",'Scholars Nomination Form'!K319)","v":""},{"$f":"IF(ISBLANK('Scholars Nomination Form'!L319),\"\",'Scholars Nomination Form'!L319)","v":""},{"$f":"IF(ISBLANK('Scholars Nomination Form'!M319),\"\",'Scholars Nomination Form'!M319)","v":""},{"$f":"IF(ISBLANK('Scholars Nomination Form'!N319),\"\",'Scholars Nomination Form'!N319)","v":""},{"$f":"IF(ISBLANK('Scholars Nomination Form'!O319),\"\",'Scholars Nomination Form'!O319)","v":""},{"$f":"IF(ISBLANK('Scholars Nomination Form'!P319),\"\",'Scholars Nomination Form'!P319)","v":""},{"$f":"IF(ISBLANK('Scholars Nomination Form'!Q319),\"\",'Scholars Nomination Form'!Q319)","v":""},{"$f":"IF(ISBLANK('Scholars Nomination Form'!R319),\"\",'Scholars Nomination Form'!R319)","v":""},{"$f":"IF(ISBLANK('Scholars Nomination Form'!S319),\"\",'Scholars Nomination Form'!S319)","v":""},{"$f":"IF(ISBLANK('Scholars Nomination Form'!T319),\"\",'Scholars Nomination Form'!T319)","v":""},{"$f":"IF(ISBLANK('Scholars Nomination Form'!U319),\"\",'Scholars Nomination Form'!U319)","v":""},{"$f":"IF(ISBLANK('Scholars Nomination Form'!V319),\"\",'Scholars Nomination Form'!V319)","v":""},{"$f":"IF(ISBLANK('Scholars Nomination Form'!W319),\"\",'Scholars Nomination Form'!W319)","v":""},{"$f":"IF(ISBLANK('Scholars Nomination Form'!X319),\"\",'Scholars Nomination Form'!X319)","v":""},{"$f":"IF(ISBLANK('Scholars Nomination Form'!Y319),\"\",'Scholars Nomination Form'!Y319)","v":""},{"$f":"IF(ISBLANK('Scholars Nomination Form'!Z319),\"\",'Scholars Nomination Form'!Z319)","v":""},{"$f":"IF(ISBLANK('Scholars Nomination Form'!AA319),\"\",'Scholars Nomination Form'!AA319)","v":""}]
[{"$f":"IF(ISBLANK('Scholars Nomination Form'!$F320),\"\",'Scholars Nomination Form'!$C$11)","v":""},{"$f":"IF(ISBLANK('Scholars Nomination Form'!$F320),\"\",'Scholars Nomination Form'!$C$12)","v":""},{"$f":"IF(ISBLANK('Scholars Nomination Form'!$F320),\"\",'Scholars Nomination Form'!$C$13)","v":""},{"$f":"IF(ISBLANK('Scholars Nomination Form'!$F320),\"\",'Scholars Nomination Form'!$C$14)","v":""},{"$f":"IF(ISBLANK('Scholars Nomination Form'!$F320),\"\",'Scholars Nomination Form'!$C$15)","v":""},{"$f":"IF(ISBLANK('Scholars Nomination Form'!$F320),\"\",'Scholars Nomination Form'!$C$16)","v":""},{"$f":"IF(ISBLANK('Scholars Nomination Form'!B320),\"\",'Scholars Nomination Form'!B320)","v":""},{"$f":"IF(ISBLANK('Scholars Nomination Form'!D320),\"\",'Scholars Nomination Form'!D320)","v":""},{"$f":"IF(ISBLANK('Scholars Nomination Form'!E320),\"\",'Scholars Nomination Form'!E320)","v":""},{"$f":"IF(ISBLANK('Scholars Nomination Form'!F320),\"\",'Scholars Nomination Form'!F320)","v":""},{"$f":"IF(ISBLANK('Scholars Nomination Form'!G320),\"\",'Scholars Nomination Form'!G320)","v":""},{"$f":"IF(ISBLANK('Scholars Nomination Form'!H320),\"\",'Scholars Nomination Form'!H320)","v":""},{"$f":"IF(ISBLANK('Scholars Nomination Form'!I320),\"\",'Scholars Nomination Form'!I320)","v":""},{"$f":"IF(ISBLANK('Scholars Nomination Form'!J320),\"\",'Scholars Nomination Form'!J320)","v":""},{"$f":"IF(ISBLANK('Scholars Nomination Form'!K320),\"\",'Scholars Nomination Form'!K320)","v":""},{"$f":"IF(ISBLANK('Scholars Nomination Form'!L320),\"\",'Scholars Nomination Form'!L320)","v":""},{"$f":"IF(ISBLANK('Scholars Nomination Form'!M320),\"\",'Scholars Nomination Form'!M320)","v":""},{"$f":"IF(ISBLANK('Scholars Nomination Form'!N320),\"\",'Scholars Nomination Form'!N320)","v":""},{"$f":"IF(ISBLANK('Scholars Nomination Form'!O320),\"\",'Scholars Nomination Form'!O320)","v":""},{"$f":"IF(ISBLANK('Scholars Nomination Form'!P320),\"\",'Scholars Nomination Form'!P320)","v":""},{"$f":"IF(ISBLANK('Scholars Nomination Form'!Q320),\"\",'Scholars Nomination Form'!Q320)","v":""},{"$f":"IF(ISBLANK('Scholars Nomination Form'!R320),\"\",'Scholars Nomination Form'!R320)","v":""},{"$f":"IF(ISBLANK('Scholars Nomination Form'!S320),\"\",'Scholars Nomination Form'!S320)","v":""},{"$f":"IF(ISBLANK('Scholars Nomination Form'!T320),\"\",'Scholars Nomination Form'!T320)","v":""},{"$f":"IF(ISBLANK('Scholars Nomination Form'!U320),\"\",'Scholars Nomination Form'!U320)","v":""},{"$f":"IF(ISBLANK('Scholars Nomination Form'!V320),\"\",'Scholars Nomination Form'!V320)","v":""},{"$f":"IF(ISBLANK('Scholars Nomination Form'!W320),\"\",'Scholars Nomination Form'!W320)","v":""},{"$f":"IF(ISBLANK('Scholars Nomination Form'!X320),\"\",'Scholars Nomination Form'!X320)","v":""},{"$f":"IF(ISBLANK('Scholars Nomination Form'!Y320),\"\",'Scholars Nomination Form'!Y320)","v":""},{"$f":"IF(ISBLANK('Scholars Nomination Form'!Z320),\"\",'Scholars Nomination Form'!Z320)","v":""},{"$f":"IF(ISBLANK('Scholars Nomination Form'!AA320),\"\",'Scholars Nomination Form'!AA320)","v":""}]
[{"$f":"IF(ISBLANK('Scholars Nomination Form'!$F321),\"\",'Scholars Nomination Form'!$C$11)","v":""},{"$f":"IF(ISBLANK('Scholars Nomination Form'!$F321),\"\",'Scholars Nomination Form'!$C$12)","v":""},{"$f":"IF(ISBLANK('Scholars Nomination Form'!$F321),\"\",'Scholars Nomination Form'!$C$13)","v":""},{"$f":"IF(ISBLANK('Scholars Nomination Form'!$F321),\"\",'Scholars Nomination Form'!$C$14)","v":""},{"$f":"IF(ISBLANK('Scholars Nomination Form'!$F321),\"\",'Scholars Nomination Form'!$C$15)","v":""},{"$f":"IF(ISBLANK('Scholars Nomination Form'!$F321),\"\",'Scholars Nomination Form'!$C$16)","v":""},{"$f":"IF(ISBLANK('Scholars Nomination Form'!B321),\"\",'Scholars Nomination Form'!B321)","v":""},{"$f":"IF(ISBLANK('Scholars Nomination Form'!D321),\"\",'Scholars Nomination Form'!D321)","v":""},{"$f":"IF(ISBLANK('Scholars Nomination Form'!E321),\"\",'Scholars Nomination Form'!E321)","v":""},{"$f":"IF(ISBLANK('Scholars Nomination Form'!F321),\"\",'Scholars Nomination Form'!F321)","v":""},{"$f":"IF(ISBLANK('Scholars Nomination Form'!G321),\"\",'Scholars Nomination Form'!G321)","v":""},{"$f":"IF(ISBLANK('Scholars Nomination Form'!H321),\"\",'Scholars Nomination Form'!H321)","v":""},{"$f":"IF(ISBLANK('Scholars Nomination Form'!I321),\"\",'Scholars Nomination Form'!I321)","v":""},{"$f":"IF(ISBLANK('Scholars Nomination Form'!J321),\"\",'Scholars Nomination Form'!J321)","v":""},{"$f":"IF(ISBLANK('Scholars Nomination Form'!K321),\"\",'Scholars Nomination Form'!K321)","v":""},{"$f":"IF(ISBLANK('Scholars Nomination Form'!L321),\"\",'Scholars Nomination Form'!L321)","v":""},{"$f":"IF(ISBLANK('Scholars Nomination Form'!M321),\"\",'Scholars Nomination Form'!M321)","v":""},{"$f":"IF(ISBLANK('Scholars Nomination Form'!N321),\"\",'Scholars Nomination Form'!N321)","v":""},{"$f":"IF(ISBLANK('Scholars Nomination Form'!O321),\"\",'Scholars Nomination Form'!O321)","v":""},{"$f":"IF(ISBLANK('Scholars Nomination Form'!P321),\"\",'Scholars Nomination Form'!P321)","v":""},{"$f":"IF(ISBLANK('Scholars Nomination Form'!Q321),\"\",'Scholars Nomination Form'!Q321)","v":""},{"$f":"IF(ISBLANK('Scholars Nomination Form'!R321),\"\",'Scholars Nomination Form'!R321)","v":""},{"$f":"IF(ISBLANK('Scholars Nomination Form'!S321),\"\",'Scholars Nomination Form'!S321)","v":""},{"$f":"IF(ISBLANK('Scholars Nomination Form'!T321),\"\",'Scholars Nomination Form'!T321)","v":""},{"$f":"IF(ISBLANK('Scholars Nomination Form'!U321),\"\",'Scholars Nomination Form'!U321)","v":""},{"$f":"IF(ISBLANK('Scholars Nomination Form'!V321),\"\",'Scholars Nomination Form'!V321)","v":""},{"$f":"IF(ISBLANK('Scholars Nomination Form'!W321),\"\",'Scholars Nomination Form'!W321)","v":""},{"$f":"IF(ISBLANK('Scholars Nomination Form'!X321),\"\",'Scholars Nomination Form'!X321)","v":""},{"$f":"IF(ISBLANK('Scholars Nomination Form'!Y321),\"\",'Scholars Nomination Form'!Y321)","v":""},{"$f":"IF(ISBLANK('Scholars Nomination Form'!Z321),\"\",'Scholars Nomination Form'!Z321)","v":""},{"$f":"IF(ISBLANK('Scholars Nomination Form'!AA321),\"\",'Scholars Nomination Form'!AA321)","v":""}]
[{"$f":"IF(ISBLANK('Scholars Nomination Form'!$F322),\"\",'Scholars Nomination Form'!$C$11)","v":""},{"$f":"IF(ISBLANK('Scholars Nomination Form'!$F322),\"\",'Scholars Nomination Form'!$C$12)","v":""},{"$f":"IF(ISBLANK('Scholars Nomination Form'!$F322),\"\",'Scholars Nomination Form'!$C$13)","v":""},{"$f":"IF(ISBLANK('Scholars Nomination Form'!$F322),\"\",'Scholars Nomination Form'!$C$14)","v":""},{"$f":"IF(ISBLANK('Scholars Nomination Form'!$F322),\"\",'Scholars Nomination Form'!$C$15)","v":""},{"$f":"IF(ISBLANK('Scholars Nomination Form'!$F322),\"\",'Scholars Nomination Form'!$C$16)","v":""},{"$f":"IF(ISBLANK('Scholars Nomination Form'!B322),\"\",'Scholars Nomination Form'!B322)","v":""},{"$f":"IF(ISBLANK('Scholars Nomination Form'!D322),\"\",'Scholars Nomination Form'!D322)","v":""},{"$f":"IF(ISBLANK('Scholars Nomination Form'!E322),\"\",'Scholars Nomination Form'!E322)","v":""},{"$f":"IF(ISBLANK('Scholars Nomination Form'!F322),\"\",'Scholars Nomination Form'!F322)","v":""},{"$f":"IF(ISBLANK('Scholars Nomination Form'!G322),\"\",'Scholars Nomination Form'!G322)","v":""},{"$f":"IF(ISBLANK('Scholars Nomination Form'!H322),\"\",'Scholars Nomination Form'!H322)","v":""},{"$f":"IF(ISBLANK('Scholars Nomination Form'!I322),\"\",'Scholars Nomination Form'!I322)","v":""},{"$f":"IF(ISBLANK('Scholars Nomination Form'!J322),\"\",'Scholars Nomination Form'!J322)","v":""},{"$f":"IF(ISBLANK('Scholars Nomination Form'!K322),\"\",'Scholars Nomination Form'!K322)","v":""},{"$f":"IF(ISBLANK('Scholars Nomination Form'!L322),\"\",'Scholars Nomination Form'!L322)","v":""},{"$f":"IF(ISBLANK('Scholars Nomination Form'!M322),\"\",'Scholars Nomination Form'!M322)","v":""},{"$f":"IF(ISBLANK('Scholars Nomination Form'!N322),\"\",'Scholars Nomination Form'!N322)","v":""},{"$f":"IF(ISBLANK('Scholars Nomination Form'!O322),\"\",'Scholars Nomination Form'!O322)","v":""},{"$f":"IF(ISBLANK('Scholars Nomination Form'!P322),\"\",'Scholars Nomination Form'!P322)","v":""},{"$f":"IF(ISBLANK('Scholars Nomination Form'!Q322),\"\",'Scholars Nomination Form'!Q322)","v":""},{"$f":"IF(ISBLANK('Scholars Nomination Form'!R322),\"\",'Scholars Nomination Form'!R322)","v":""},{"$f":"IF(ISBLANK('Scholars Nomination Form'!S322),\"\",'Scholars Nomination Form'!S322)","v":""},{"$f":"IF(ISBLANK('Scholars Nomination Form'!T322),\"\",'Scholars Nomination Form'!T322)","v":""},{"$f":"IF(ISBLANK('Scholars Nomination Form'!U322),\"\",'Scholars Nomination Form'!U322)","v":""},{"$f":"IF(ISBLANK('Scholars Nomination Form'!V322),\"\",'Scholars Nomination Form'!V322)","v":""},{"$f":"IF(ISBLANK('Scholars Nomination Form'!W322),\"\",'Scholars Nomination Form'!W322)","v":""},{"$f":"IF(ISBLANK('Scholars Nomination Form'!X322),\"\",'Scholars Nomination Form'!X322)","v":""},{"$f":"IF(ISBLANK('Scholars Nomination Form'!Y322),\"\",'Scholars Nomination Form'!Y322)","v":""},{"$f":"IF(ISBLANK('Scholars Nomination Form'!Z322),\"\",'Scholars Nomination Form'!Z322)","v":""},{"$f":"IF(ISBLANK('Scholars Nomination Form'!AA322),\"\",'Scholars Nomination Form'!AA322)","v":""}]
[{"$f":"IF(ISBLANK('Scholars Nomination Form'!$F323),\"\",'Scholars Nomination Form'!$C$11)","v":""},{"$f":"IF(ISBLANK('Scholars Nomination Form'!$F323),\"\",'Scholars Nomination Form'!$C$12)","v":""},{"$f":"IF(ISBLANK('Scholars Nomination Form'!$F323),\"\",'Scholars Nomination Form'!$C$13)","v":""},{"$f":"IF(ISBLANK('Scholars Nomination Form'!$F323),\"\",'Scholars Nomination Form'!$C$14)","v":""},{"$f":"IF(ISBLANK('Scholars Nomination Form'!$F323),\"\",'Scholars Nomination Form'!$C$15)","v":""},{"$f":"IF(ISBLANK('Scholars Nomination Form'!$F323),\"\",'Scholars Nomination Form'!$C$16)","v":""},{"$f":"IF(ISBLANK('Scholars Nomination Form'!B323),\"\",'Scholars Nomination Form'!B323)","v":""},{"$f":"IF(ISBLANK('Scholars Nomination Form'!D323),\"\",'Scholars Nomination Form'!D323)","v":""},{"$f":"IF(ISBLANK('Scholars Nomination Form'!E323),\"\",'Scholars Nomination Form'!E323)","v":""},{"$f":"IF(ISBLANK('Scholars Nomination Form'!F323),\"\",'Scholars Nomination Form'!F323)","v":""},{"$f":"IF(ISBLANK('Scholars Nomination Form'!G323),\"\",'Scholars Nomination Form'!G323)","v":""},{"$f":"IF(ISBLANK('Scholars Nomination Form'!H323),\"\",'Scholars Nomination Form'!H323)","v":""},{"$f":"IF(ISBLANK('Scholars Nomination Form'!I323),\"\",'Scholars Nomination Form'!I323)","v":""},{"$f":"IF(ISBLANK('Scholars Nomination Form'!J323),\"\",'Scholars Nomination Form'!J323)","v":""},{"$f":"IF(ISBLANK('Scholars Nomination Form'!K323),\"\",'Scholars Nomination Form'!K323)","v":""},{"$f":"IF(ISBLANK('Scholars Nomination Form'!L323),\"\",'Scholars Nomination Form'!L323)","v":""},{"$f":"IF(ISBLANK('Scholars Nomination Form'!M323),\"\",'Scholars Nomination Form'!M323)","v":""},{"$f":"IF(ISBLANK('Scholars Nomination Form'!N323),\"\",'Scholars Nomination Form'!N323)","v":""},{"$f":"IF(ISBLANK('Scholars Nomination Form'!O323),\"\",'Scholars Nomination Form'!O323)","v":""},{"$f":"IF(ISBLANK('Scholars Nomination Form'!P323),\"\",'Scholars Nomination Form'!P323)","v":""},{"$f":"IF(ISBLANK('Scholars Nomination Form'!Q323),\"\",'Scholars Nomination Form'!Q323)","v":""},{"$f":"IF(ISBLANK('Scholars Nomination Form'!R323),\"\",'Scholars Nomination Form'!R323)","v":""},{"$f":"IF(ISBLANK('Scholars Nomination Form'!S323),\"\",'Scholars Nomination Form'!S323)","v":""},{"$f":"IF(ISBLANK('Scholars Nomination Form'!T323),\"\",'Scholars Nomination Form'!T323)","v":""},{"$f":"IF(ISBLANK('Scholars Nomination Form'!U323),\"\",'Scholars Nomination Form'!U323)","v":""},{"$f":"IF(ISBLANK('Scholars Nomination Form'!V323),\"\",'Scholars Nomination Form'!V323)","v":""},{"$f":"IF(ISBLANK('Scholars Nomination Form'!W323),\"\",'Scholars Nomination Form'!W323)","v":""},{"$f":"IF(ISBLANK('Scholars Nomination Form'!X323),\"\",'Scholars Nomination Form'!X323)","v":""},{"$f":"IF(ISBLANK('Scholars Nomination Form'!Y323),\"\",'Scholars Nomination Form'!Y323)","v":""},{"$f":"IF(ISBLANK('Scholars Nomination Form'!Z323),\"\",'Scholars Nomination Form'!Z323)","v":""},{"$f":"IF(ISBLANK('Scholars Nomination Form'!AA323),\"\",'Scholars Nomination Form'!AA323)","v":""}]
[{"$f":"IF(ISBLANK('Scholars Nomination Form'!$F324),\"\",'Scholars Nomination Form'!$C$11)","v":""},{"$f":"IF(ISBLANK('Scholars Nomination Form'!$F324),\"\",'Scholars Nomination Form'!$C$12)","v":""},{"$f":"IF(ISBLANK('Scholars Nomination Form'!$F324),\"\",'Scholars Nomination Form'!$C$13)","v":""},{"$f":"IF(ISBLANK('Scholars Nomination Form'!$F324),\"\",'Scholars Nomination Form'!$C$14)","v":""},{"$f":"IF(ISBLANK('Scholars Nomination Form'!$F324),\"\",'Scholars Nomination Form'!$C$15)","v":""},{"$f":"IF(ISBLANK('Scholars Nomination Form'!$F324),\"\",'Scholars Nomination Form'!$C$16)","v":""},{"$f":"IF(ISBLANK('Scholars Nomination Form'!B324),\"\",'Scholars Nomination Form'!B324)","v":""},{"$f":"IF(ISBLANK('Scholars Nomination Form'!D324),\"\",'Scholars Nomination Form'!D324)","v":""},{"$f":"IF(ISBLANK('Scholars Nomination Form'!E324),\"\",'Scholars Nomination Form'!E324)","v":""},{"$f":"IF(ISBLANK('Scholars Nomination Form'!F324),\"\",'Scholars Nomination Form'!F324)","v":""},{"$f":"IF(ISBLANK('Scholars Nomination Form'!G324),\"\",'Scholars Nomination Form'!G324)","v":""},{"$f":"IF(ISBLANK('Scholars Nomination Form'!H324),\"\",'Scholars Nomination Form'!H324)","v":""},{"$f":"IF(ISBLANK('Scholars Nomination Form'!I324),\"\",'Scholars Nomination Form'!I324)","v":""},{"$f":"IF(ISBLANK('Scholars Nomination Form'!J324),\"\",'Scholars Nomination Form'!J324)","v":""},{"$f":"IF(ISBLANK('Scholars Nomination Form'!K324),\"\",'Scholars Nomination Form'!K324)","v":""},{"$f":"IF(ISBLANK('Scholars Nomination Form'!L324),\"\",'Scholars Nomination Form'!L324)","v":""},{"$f":"IF(ISBLANK('Scholars Nomination Form'!M324),\"\",'Scholars Nomination Form'!M324)","v":""},{"$f":"IF(ISBLANK('Scholars Nomination Form'!N324),\"\",'Scholars Nomination Form'!N324)","v":""},{"$f":"IF(ISBLANK('Scholars Nomination Form'!O324),\"\",'Scholars Nomination Form'!O324)","v":""},{"$f":"IF(ISBLANK('Scholars Nomination Form'!P324),\"\",'Scholars Nomination Form'!P324)","v":""},{"$f":"IF(ISBLANK('Scholars Nomination Form'!Q324),\"\",'Scholars Nomination Form'!Q324)","v":""},{"$f":"IF(ISBLANK('Scholars Nomination Form'!R324),\"\",'Scholars Nomination Form'!R324)","v":""},{"$f":"IF(ISBLANK('Scholars Nomination Form'!S324),\"\",'Scholars Nomination Form'!S324)","v":""},{"$f":"IF(ISBLANK('Scholars Nomination Form'!T324),\"\",'Scholars Nomination Form'!T324)","v":""},{"$f":"IF(ISBLANK('Scholars Nomination Form'!U324),\"\",'Scholars Nomination Form'!U324)","v":""},{"$f":"IF(ISBLANK('Scholars Nomination Form'!V324),\"\",'Scholars Nomination Form'!V324)","v":""},{"$f":"IF(ISBLANK('Scholars Nomination Form'!W324),\"\",'Scholars Nomination Form'!W324)","v":""},{"$f":"IF(ISBLANK('Scholars Nomination Form'!X324),\"\",'Scholars Nomination Form'!X324)","v":""},{"$f":"IF(ISBLANK('Scholars Nomination Form'!Y324),\"\",'Scholars Nomination Form'!Y324)","v":""},{"$f":"IF(ISBLANK('Scholars Nomination Form'!Z324),\"\",'Scholars Nomination Form'!Z324)","v":""},{"$f":"IF(ISBLANK('Scholars Nomination Form'!AA324),\"\",'Scholars Nomination Form'!AA324)","v":""}]
[{"$f":"IF(ISBLANK('Scholars Nomination Form'!$F325),\"\",'Scholars Nomination Form'!$C$11)","v":""},{"$f":"IF(ISBLANK('Scholars Nomination Form'!$F325),\"\",'Scholars Nomination Form'!$C$12)","v":""},{"$f":"IF(ISBLANK('Scholars Nomination Form'!$F325),\"\",'Scholars Nomination Form'!$C$13)","v":""},{"$f":"IF(ISBLANK('Scholars Nomination Form'!$F325),\"\",'Scholars Nomination Form'!$C$14)","v":""},{"$f":"IF(ISBLANK('Scholars Nomination Form'!$F325),\"\",'Scholars Nomination Form'!$C$15)","v":""},{"$f":"IF(ISBLANK('Scholars Nomination Form'!$F325),\"\",'Scholars Nomination Form'!$C$16)","v":""},{"$f":"IF(ISBLANK('Scholars Nomination Form'!B325),\"\",'Scholars Nomination Form'!B325)","v":""},{"$f":"IF(ISBLANK('Scholars Nomination Form'!D325),\"\",'Scholars Nomination Form'!D325)","v":""},{"$f":"IF(ISBLANK('Scholars Nomination Form'!E325),\"\",'Scholars Nomination Form'!E325)","v":""},{"$f":"IF(ISBLANK('Scholars Nomination Form'!F325),\"\",'Scholars Nomination Form'!F325)","v":""},{"$f":"IF(ISBLANK('Scholars Nomination Form'!G325),\"\",'Scholars Nomination Form'!G325)","v":""},{"$f":"IF(ISBLANK('Scholars Nomination Form'!H325),\"\",'Scholars Nomination Form'!H325)","v":""},{"$f":"IF(ISBLANK('Scholars Nomination Form'!I325),\"\",'Scholars Nomination Form'!I325)","v":""},{"$f":"IF(ISBLANK('Scholars Nomination Form'!J325),\"\",'Scholars Nomination Form'!J325)","v":""},{"$f":"IF(ISBLANK('Scholars Nomination Form'!K325),\"\",'Scholars Nomination Form'!K325)","v":""},{"$f":"IF(ISBLANK('Scholars Nomination Form'!L325),\"\",'Scholars Nomination Form'!L325)","v":""},{"$f":"IF(ISBLANK('Scholars Nomination Form'!M325),\"\",'Scholars Nomination Form'!M325)","v":""},{"$f":"IF(ISBLANK('Scholars Nomination Form'!N325),\"\",'Scholars Nomination Form'!N325)","v":""},{"$f":"IF(ISBLANK('Scholars Nomination Form'!O325),\"\",'Scholars Nomination Form'!O325)","v":""},{"$f":"IF(ISBLANK('Scholars Nomination Form'!P325),\"\",'Scholars Nomination Form'!P325)","v":""},{"$f":"IF(ISBLANK('Scholars Nomination Form'!Q325),\"\",'Scholars Nomination Form'!Q325)","v":""},{"$f":"IF(ISBLANK('Scholars Nomination Form'!R325),\"\",'Scholars Nomination Form'!R325)","v":""},{"$f":"IF(ISBLANK('Scholars Nomination Form'!S325),\"\",'Scholars Nomination Form'!S325)","v":""},{"$f":"IF(ISBLANK('Scholars Nomination Form'!T325),\"\",'Scholars Nomination Form'!T325)","v":""},{"$f":"IF(ISBLANK('Scholars Nomination Form'!U325),\"\",'Scholars Nomination Form'!U325)","v":""},{"$f":"IF(ISBLANK('Scholars Nomination Form'!V325),\"\",'Scholars Nomination Form'!V325)","v":""},{"$f":"IF(ISBLANK('Scholars Nomination Form'!W325),\"\",'Scholars Nomination Form'!W325)","v":""},{"$f":"IF(ISBLANK('Scholars Nomination Form'!X325),\"\",'Scholars Nomination Form'!X325)","v":""},{"$f":"IF(ISBLANK('Scholars Nomination Form'!Y325),\"\",'Scholars Nomination Form'!Y325)","v":""},{"$f":"IF(ISBLANK('Scholars Nomination Form'!Z325),\"\",'Scholars Nomination Form'!Z325)","v":""},{"$f":"IF(ISBLANK('Scholars Nomination Form'!AA325),\"\",'Scholars Nomination Form'!AA325)","v":""}]
[{"$f":"IF(ISBLANK('Scholars Nomination Form'!$F326),\"\",'Scholars Nomination Form'!$C$11)","v":""},{"$f":"IF(ISBLANK('Scholars Nomination Form'!$F326),\"\",'Scholars Nomination Form'!$C$12)","v":""},{"$f":"IF(ISBLANK('Scholars Nomination Form'!$F326),\"\",'Scholars Nomination Form'!$C$13)","v":""},{"$f":"IF(ISBLANK('Scholars Nomination Form'!$F326),\"\",'Scholars Nomination Form'!$C$14)","v":""},{"$f":"IF(ISBLANK('Scholars Nomination Form'!$F326),\"\",'Scholars Nomination Form'!$C$15)","v":""},{"$f":"IF(ISBLANK('Scholars Nomination Form'!$F326),\"\",'Scholars Nomination Form'!$C$16)","v":""},{"$f":"IF(ISBLANK('Scholars Nomination Form'!B326),\"\",'Scholars Nomination Form'!B326)","v":""},{"$f":"IF(ISBLANK('Scholars Nomination Form'!D326),\"\",'Scholars Nomination Form'!D326)","v":""},{"$f":"IF(ISBLANK('Scholars Nomination Form'!E326),\"\",'Scholars Nomination Form'!E326)","v":""},{"$f":"IF(ISBLANK('Scholars Nomination Form'!F326),\"\",'Scholars Nomination Form'!F326)","v":""},{"$f":"IF(ISBLANK('Scholars Nomination Form'!G326),\"\",'Scholars Nomination Form'!G326)","v":""},{"$f":"IF(ISBLANK('Scholars Nomination Form'!H326),\"\",'Scholars Nomination Form'!H326)","v":""},{"$f":"IF(ISBLANK('Scholars Nomination Form'!I326),\"\",'Scholars Nomination Form'!I326)","v":""},{"$f":"IF(ISBLANK('Scholars Nomination Form'!J326),\"\",'Scholars Nomination Form'!J326)","v":""},{"$f":"IF(ISBLANK('Scholars Nomination Form'!K326),\"\",'Scholars Nomination Form'!K326)","v":""},{"$f":"IF(ISBLANK('Scholars Nomination Form'!L326),\"\",'Scholars Nomination Form'!L326)","v":""},{"$f":"IF(ISBLANK('Scholars Nomination Form'!M326),\"\",'Scholars Nomination Form'!M326)","v":""},{"$f":"IF(ISBLANK('Scholars Nomination Form'!N326),\"\",'Scholars Nomination Form'!N326)","v":""},{"$f":"IF(ISBLANK('Scholars Nomination Form'!O326),\"\",'Scholars Nomination Form'!O326)","v":""},{"$f":"IF(ISBLANK('Scholars Nomination Form'!P326),\"\",'Scholars Nomination Form'!P326)","v":""},{"$f":"IF(ISBLANK('Scholars Nomination Form'!Q326),\"\",'Scholars Nomination Form'!Q326)","v":""},{"$f":"IF(ISBLANK('Scholars Nomination Form'!R326),\"\",'Scholars Nomination Form'!R326)","v":""},{"$f":"IF(ISBLANK('Scholars Nomination Form'!S326),\"\",'Scholars Nomination Form'!S326)","v":""},{"$f":"IF(ISBLANK('Scholars Nomination Form'!T326),\"\",'Scholars Nomination Form'!T326)","v":""},{"$f":"IF(ISBLANK('Scholars Nomination Form'!U326),\"\",'Scholars Nomination Form'!U326)","v":""},{"$f":"IF(ISBLANK('Scholars Nomination Form'!V326),\"\",'Scholars Nomination Form'!V326)","v":""},{"$f":"IF(ISBLANK('Scholars Nomination Form'!W326),\"\",'Scholars Nomination Form'!W326)","v":""},{"$f":"IF(ISBLANK('Scholars Nomination Form'!X326),\"\",'Scholars Nomination Form'!X326)","v":""},{"$f":"IF(ISBLANK('Scholars Nomination Form'!Y326),\"\",'Scholars Nomination Form'!Y326)","v":""},{"$f":"IF(ISBLANK('Scholars Nomination Form'!Z326),\"\",'Scholars Nomination Form'!Z326)","v":""},{"$f":"IF(ISBLANK('Scholars Nomination Form'!AA326),\"\",'Scholars Nomination Form'!AA326)","v":""}]
[{"$f":"IF(ISBLANK('Scholars Nomination Form'!$F327),\"\",'Scholars Nomination Form'!$C$11)","v":""},{"$f":"IF(ISBLANK('Scholars Nomination Form'!$F327),\"\",'Scholars Nomination Form'!$C$12)","v":""},{"$f":"IF(ISBLANK('Scholars Nomination Form'!$F327),\"\",'Scholars Nomination Form'!$C$13)","v":""},{"$f":"IF(ISBLANK('Scholars Nomination Form'!$F327),\"\",'Scholars Nomination Form'!$C$14)","v":""},{"$f":"IF(ISBLANK('Scholars Nomination Form'!$F327),\"\",'Scholars Nomination Form'!$C$15)","v":""},{"$f":"IF(ISBLANK('Scholars Nomination Form'!$F327),\"\",'Scholars Nomination Form'!$C$16)","v":""},{"$f":"IF(ISBLANK('Scholars Nomination Form'!B327),\"\",'Scholars Nomination Form'!B327)","v":""},{"$f":"IF(ISBLANK('Scholars Nomination Form'!D327),\"\",'Scholars Nomination Form'!D327)","v":""},{"$f":"IF(ISBLANK('Scholars Nomination Form'!E327),\"\",'Scholars Nomination Form'!E327)","v":""},{"$f":"IF(ISBLANK('Scholars Nomination Form'!F327),\"\",'Scholars Nomination Form'!F327)","v":""},{"$f":"IF(ISBLANK('Scholars Nomination Form'!G327),\"\",'Scholars Nomination Form'!G327)","v":""},{"$f":"IF(ISBLANK('Scholars Nomination Form'!H327),\"\",'Scholars Nomination Form'!H327)","v":""},{"$f":"IF(ISBLANK('Scholars Nomination Form'!I327),\"\",'Scholars Nomination Form'!I327)","v":""},{"$f":"IF(ISBLANK('Scholars Nomination Form'!J327),\"\",'Scholars Nomination Form'!J327)","v":""},{"$f":"IF(ISBLANK('Scholars Nomination Form'!K327),\"\",'Scholars Nomination Form'!K327)","v":""},{"$f":"IF(ISBLANK('Scholars Nomination Form'!L327),\"\",'Scholars Nomination Form'!L327)","v":""},{"$f":"IF(ISBLANK('Scholars Nomination Form'!M327),\"\",'Scholars Nomination Form'!M327)","v":""},{"$f":"IF(ISBLANK('Scholars Nomination Form'!N327),\"\",'Scholars Nomination Form'!N327)","v":""},{"$f":"IF(ISBLANK('Scholars Nomination Form'!O327),\"\",'Scholars Nomination Form'!O327)","v":""},{"$f":"IF(ISBLANK('Scholars Nomination Form'!P327),\"\",'Scholars Nomination Form'!P327)","v":""},{"$f":"IF(ISBLANK('Scholars Nomination Form'!Q327),\"\",'Scholars Nomination Form'!Q327)","v":""},{"$f":"IF(ISBLANK('Scholars Nomination Form'!R327),\"\",'Scholars Nomination Form'!R327)","v":""},{"$f":"IF(ISBLANK('Scholars Nomination Form'!S327),\"\",'Scholars Nomination Form'!S327)","v":""},{"$f":"IF(ISBLANK('Scholars Nomination Form'!T327),\"\",'Scholars Nomination Form'!T327)","v":""},{"$f":"IF(ISBLANK('Scholars Nomination Form'!U327),\"\",'Scholars Nomination Form'!U327)","v":""},{"$f":"IF(ISBLANK('Scholars Nomination Form'!V327),\"\",'Scholars Nomination Form'!V327)","v":""},{"$f":"IF(ISBLANK('Scholars Nomination Form'!W327),\"\",'Scholars Nomination Form'!W327)","v":""},{"$f":"IF(ISBLANK('Scholars Nomination Form'!X327),\"\",'Scholars Nomination Form'!X327)","v":""},{"$f":"IF(ISBLANK('Scholars Nomination Form'!Y327),\"\",'Scholars Nomination Form'!Y327)","v":""},{"$f":"IF(ISBLANK('Scholars Nomination Form'!Z327),\"\",'Scholars Nomination Form'!Z327)","v":""},{"$f":"IF(ISBLANK('Scholars Nomination Form'!AA327),\"\",'Scholars Nomination Form'!AA327)","v":""}]
[{"$f":"IF(ISBLANK('Scholars Nomination Form'!$F328),\"\",'Scholars Nomination Form'!$C$11)","v":""},{"$f":"IF(ISBLANK('Scholars Nomination Form'!$F328),\"\",'Scholars Nomination Form'!$C$12)","v":""},{"$f":"IF(ISBLANK('Scholars Nomination Form'!$F328),\"\",'Scholars Nomination Form'!$C$13)","v":""},{"$f":"IF(ISBLANK('Scholars Nomination Form'!$F328),\"\",'Scholars Nomination Form'!$C$14)","v":""},{"$f":"IF(ISBLANK('Scholars Nomination Form'!$F328),\"\",'Scholars Nomination Form'!$C$15)","v":""},{"$f":"IF(ISBLANK('Scholars Nomination Form'!$F328),\"\",'Scholars Nomination Form'!$C$16)","v":""},{"$f":"IF(ISBLANK('Scholars Nomination Form'!B328),\"\",'Scholars Nomination Form'!B328)","v":""},{"$f":"IF(ISBLANK('Scholars Nomination Form'!D328),\"\",'Scholars Nomination Form'!D328)","v":""},{"$f":"IF(ISBLANK('Scholars Nomination Form'!E328),\"\",'Scholars Nomination Form'!E328)","v":""},{"$f":"IF(ISBLANK('Scholars Nomination Form'!F328),\"\",'Scholars Nomination Form'!F328)","v":""},{"$f":"IF(ISBLANK('Scholars Nomination Form'!G328),\"\",'Scholars Nomination Form'!G328)","v":""},{"$f":"IF(ISBLANK('Scholars Nomination Form'!H328),\"\",'Scholars Nomination Form'!H328)","v":""},{"$f":"IF(ISBLANK('Scholars Nomination Form'!I328),\"\",'Scholars Nomination Form'!I328)","v":""},{"$f":"IF(ISBLANK('Scholars Nomination Form'!J328),\"\",'Scholars Nomination Form'!J328)","v":""},{"$f":"IF(ISBLANK('Scholars Nomination Form'!K328),\"\",'Scholars Nomination Form'!K328)","v":""},{"$f":"IF(ISBLANK('Scholars Nomination Form'!L328),\"\",'Scholars Nomination Form'!L328)","v":""},{"$f":"IF(ISBLANK('Scholars Nomination Form'!M328),\"\",'Scholars Nomination Form'!M328)","v":""},{"$f":"IF(ISBLANK('Scholars Nomination Form'!N328),\"\",'Scholars Nomination Form'!N328)","v":""},{"$f":"IF(ISBLANK('Scholars Nomination Form'!O328),\"\",'Scholars Nomination Form'!O328)","v":""},{"$f":"IF(ISBLANK('Scholars Nomination Form'!P328),\"\",'Scholars Nomination Form'!P328)","v":""},{"$f":"IF(ISBLANK('Scholars Nomination Form'!Q328),\"\",'Scholars Nomination Form'!Q328)","v":""},{"$f":"IF(ISBLANK('Scholars Nomination Form'!R328),\"\",'Scholars Nomination Form'!R328)","v":""},{"$f":"IF(ISBLANK('Scholars Nomination Form'!S328),\"\",'Scholars Nomination Form'!S328)","v":""},{"$f":"IF(ISBLANK('Scholars Nomination Form'!T328),\"\",'Scholars Nomination Form'!T328)","v":""},{"$f":"IF(ISBLANK('Scholars Nomination Form'!U328),\"\",'Scholars Nomination Form'!U328)","v":""},{"$f":"IF(ISBLANK('Scholars Nomination Form'!V328),\"\",'Scholars Nomination Form'!V328)","v":""},{"$f":"IF(ISBLANK('Scholars Nomination Form'!W328),\"\",'Scholars Nomination Form'!W328)","v":""},{"$f":"IF(ISBLANK('Scholars Nomination Form'!X328),\"\",'Scholars Nomination Form'!X328)","v":""},{"$f":"IF(ISBLANK('Scholars Nomination Form'!Y328),\"\",'Scholars Nomination Form'!Y328)","v":""},{"$f":"IF(ISBLANK('Scholars Nomination Form'!Z328),\"\",'Scholars Nomination Form'!Z328)","v":""},{"$f":"IF(ISBLANK('Scholars Nomination Form'!AA328),\"\",'Scholars Nomination Form'!AA328)","v":""}]
[{"$f":"IF(ISBLANK('Scholars Nomination Form'!$F329),\"\",'Scholars Nomination Form'!$C$11)","v":""},{"$f":"IF(ISBLANK('Scholars Nomination Form'!$F329),\"\",'Scholars Nomination Form'!$C$12)","v":""},{"$f":"IF(ISBLANK('Scholars Nomination Form'!$F329),\"\",'Scholars Nomination Form'!$C$13)","v":""},{"$f":"IF(ISBLANK('Scholars Nomination Form'!$F329),\"\",'Scholars Nomination Form'!$C$14)","v":""},{"$f":"IF(ISBLANK('Scholars Nomination Form'!$F329),\"\",'Scholars Nomination Form'!$C$15)","v":""},{"$f":"IF(ISBLANK('Scholars Nomination Form'!$F329),\"\",'Scholars Nomination Form'!$C$16)","v":""},{"$f":"IF(ISBLANK('Scholars Nomination Form'!B329),\"\",'Scholars Nomination Form'!B329)","v":""},{"$f":"IF(ISBLANK('Scholars Nomination Form'!D329),\"\",'Scholars Nomination Form'!D329)","v":""},{"$f":"IF(ISBLANK('Scholars Nomination Form'!E329),\"\",'Scholars Nomination Form'!E329)","v":""},{"$f":"IF(ISBLANK('Scholars Nomination Form'!F329),\"\",'Scholars Nomination Form'!F329)","v":""},{"$f":"IF(ISBLANK('Scholars Nomination Form'!G329),\"\",'Scholars Nomination Form'!G329)","v":""},{"$f":"IF(ISBLANK('Scholars Nomination Form'!H329),\"\",'Scholars Nomination Form'!H329)","v":""},{"$f":"IF(ISBLANK('Scholars Nomination Form'!I329),\"\",'Scholars Nomination Form'!I329)","v":""},{"$f":"IF(ISBLANK('Scholars Nomination Form'!J329),\"\",'Scholars Nomination Form'!J329)","v":""},{"$f":"IF(ISBLANK('Scholars Nomination Form'!K329),\"\",'Scholars Nomination Form'!K329)","v":""},{"$f":"IF(ISBLANK('Scholars Nomination Form'!L329),\"\",'Scholars Nomination Form'!L329)","v":""},{"$f":"IF(ISBLANK('Scholars Nomination Form'!M329),\"\",'Scholars Nomination Form'!M329)","v":""},{"$f":"IF(ISBLANK('Scholars Nomination Form'!N329),\"\",'Scholars Nomination Form'!N329)","v":""},{"$f":"IF(ISBLANK('Scholars Nomination Form'!O329),\"\",'Scholars Nomination Form'!O329)","v":""},{"$f":"IF(ISBLANK('Scholars Nomination Form'!P329),\"\",'Scholars Nomination Form'!P329)","v":""},{"$f":"IF(ISBLANK('Scholars Nomination Form'!Q329),\"\",'Scholars Nomination Form'!Q329)","v":""},{"$f":"IF(ISBLANK('Scholars Nomination Form'!R329),\"\",'Scholars Nomination Form'!R329)","v":""},{"$f":"IF(ISBLANK('Scholars Nomination Form'!S329),\"\",'Scholars Nomination Form'!S329)","v":""},{"$f":"IF(ISBLANK('Scholars Nomination Form'!T329),\"\",'Scholars Nomination Form'!T329)","v":""},{"$f":"IF(ISBLANK('Scholars Nomination Form'!U329),\"\",'Scholars Nomination Form'!U329)","v":""},{"$f":"IF(ISBLANK('Scholars Nomination Form'!V329),\"\",'Scholars Nomination Form'!V329)","v":""},{"$f":"IF(ISBLANK('Scholars Nomination Form'!W329),\"\",'Scholars Nomination Form'!W329)","v":""},{"$f":"IF(ISBLANK('Scholars Nomination Form'!X329),\"\",'Scholars Nomination Form'!X329)","v":""},{"$f":"IF(ISBLANK('Scholars Nomination Form'!Y329),\"\",'Scholars Nomination Form'!Y329)","v":""},{"$f":"IF(ISBLANK('Scholars Nomination Form'!Z329),\"\",'Scholars Nomination Form'!Z329)","v":""},{"$f":"IF(ISBLANK('Scholars Nomination Form'!AA329),\"\",'Scholars Nomination Form'!AA329)","v":""}]
[{"$f":"IF(ISBLANK('Scholars Nomination Form'!$F330),\"\",'Scholars Nomination Form'!$C$11)","v":""},{"$f":"IF(ISBLANK('Scholars Nomination Form'!$F330),\"\",'Scholars Nomination Form'!$C$12)","v":""},{"$f":"IF(ISBLANK('Scholars Nomination Form'!$F330),\"\",'Scholars Nomination Form'!$C$13)","v":""},{"$f":"IF(ISBLANK('Scholars Nomination Form'!$F330),\"\",'Scholars Nomination Form'!$C$14)","v":""},{"$f":"IF(ISBLANK('Scholars Nomination Form'!$F330),\"\",'Scholars Nomination Form'!$C$15)","v":""},{"$f":"IF(ISBLANK('Scholars Nomination Form'!$F330),\"\",'Scholars Nomination Form'!$C$16)","v":""},{"$f":"IF(ISBLANK('Scholars Nomination Form'!B330),\"\",'Scholars Nomination Form'!B330)","v":""},{"$f":"IF(ISBLANK('Scholars Nomination Form'!D330),\"\",'Scholars Nomination Form'!D330)","v":""},{"$f":"IF(ISBLANK('Scholars Nomination Form'!E330),\"\",'Scholars Nomination Form'!E330)","v":""},{"$f":"IF(ISBLANK('Scholars Nomination Form'!F330),\"\",'Scholars Nomination Form'!F330)","v":""},{"$f":"IF(ISBLANK('Scholars Nomination Form'!G330),\"\",'Scholars Nomination Form'!G330)","v":""},{"$f":"IF(ISBLANK('Scholars Nomination Form'!H330),\"\",'Scholars Nomination Form'!H330)","v":""},{"$f":"IF(ISBLANK('Scholars Nomination Form'!I330),\"\",'Scholars Nomination Form'!I330)","v":""},{"$f":"IF(ISBLANK('Scholars Nomination Form'!J330),\"\",'Scholars Nomination Form'!J330)","v":""},{"$f":"IF(ISBLANK('Scholars Nomination Form'!K330),\"\",'Scholars Nomination Form'!K330)","v":""},{"$f":"IF(ISBLANK('Scholars Nomination Form'!L330),\"\",'Scholars Nomination Form'!L330)","v":""},{"$f":"IF(ISBLANK('Scholars Nomination Form'!M330),\"\",'Scholars Nomination Form'!M330)","v":""},{"$f":"IF(ISBLANK('Scholars Nomination Form'!N330),\"\",'Scholars Nomination Form'!N330)","v":""},{"$f":"IF(ISBLANK('Scholars Nomination Form'!O330),\"\",'Scholars Nomination Form'!O330)","v":""},{"$f":"IF(ISBLANK('Scholars Nomination Form'!P330),\"\",'Scholars Nomination Form'!P330)","v":""},{"$f":"IF(ISBLANK('Scholars Nomination Form'!Q330),\"\",'Scholars Nomination Form'!Q330)","v":""},{"$f":"IF(ISBLANK('Scholars Nomination Form'!R330),\"\",'Scholars Nomination Form'!R330)","v":""},{"$f":"IF(ISBLANK('Scholars Nomination Form'!S330),\"\",'Scholars Nomination Form'!S330)","v":""},{"$f":"IF(ISBLANK('Scholars Nomination Form'!T330),\"\",'Scholars Nomination Form'!T330)","v":""},{"$f":"IF(ISBLANK('Scholars Nomination Form'!U330),\"\",'Scholars Nomination Form'!U330)","v":""},{"$f":"IF(ISBLANK('Scholars Nomination Form'!V330),\"\",'Scholars Nomination Form'!V330)","v":""},{"$f":"IF(ISBLANK('Scholars Nomination Form'!W330),\"\",'Scholars Nomination Form'!W330)","v":""},{"$f":"IF(ISBLANK('Scholars Nomination Form'!X330),\"\",'Scholars Nomination Form'!X330)","v":""},{"$f":"IF(ISBLANK('Scholars Nomination Form'!Y330),\"\",'Scholars Nomination Form'!Y330)","v":""},{"$f":"IF(ISBLANK('Scholars Nomination Form'!Z330),\"\",'Scholars Nomination Form'!Z330)","v":""},{"$f":"IF(ISBLANK('Scholars Nomination Form'!AA330),\"\",'Scholars Nomination Form'!AA330)","v":""}]
[{"$f":"IF(ISBLANK('Scholars Nomination Form'!$F331),\"\",'Scholars Nomination Form'!$C$11)","v":""},{"$f":"IF(ISBLANK('Scholars Nomination Form'!$F331),\"\",'Scholars Nomination Form'!$C$12)","v":""},{"$f":"IF(ISBLANK('Scholars Nomination Form'!$F331),\"\",'Scholars Nomination Form'!$C$13)","v":""},{"$f":"IF(ISBLANK('Scholars Nomination Form'!$F331),\"\",'Scholars Nomination Form'!$C$14)","v":""},{"$f":"IF(ISBLANK('Scholars Nomination Form'!$F331),\"\",'Scholars Nomination Form'!$C$15)","v":""},{"$f":"IF(ISBLANK('Scholars Nomination Form'!$F331),\"\",'Scholars Nomination Form'!$C$16)","v":""},{"$f":"IF(ISBLANK('Scholars Nomination Form'!B331),\"\",'Scholars Nomination Form'!B331)","v":""},{"$f":"IF(ISBLANK('Scholars Nomination Form'!D331),\"\",'Scholars Nomination Form'!D331)","v":""},{"$f":"IF(ISBLANK('Scholars Nomination Form'!E331),\"\",'Scholars Nomination Form'!E331)","v":""},{"$f":"IF(ISBLANK('Scholars Nomination Form'!F331),\"\",'Scholars Nomination Form'!F331)","v":""},{"$f":"IF(ISBLANK('Scholars Nomination Form'!G331),\"\",'Scholars Nomination Form'!G331)","v":""},{"$f":"IF(ISBLANK('Scholars Nomination Form'!H331),\"\",'Scholars Nomination Form'!H331)","v":""},{"$f":"IF(ISBLANK('Scholars Nomination Form'!I331),\"\",'Scholars Nomination Form'!I331)","v":""},{"$f":"IF(ISBLANK('Scholars Nomination Form'!J331),\"\",'Scholars Nomination Form'!J331)","v":""},{"$f":"IF(ISBLANK('Scholars Nomination Form'!K331),\"\",'Scholars Nomination Form'!K331)","v":""},{"$f":"IF(ISBLANK('Scholars Nomination Form'!L331),\"\",'Scholars Nomination Form'!L331)","v":""},{"$f":"IF(ISBLANK('Scholars Nomination Form'!M331),\"\",'Scholars Nomination Form'!M331)","v":""},{"$f":"IF(ISBLANK('Scholars Nomination Form'!N331),\"\",'Scholars Nomination Form'!N331)","v":""},{"$f":"IF(ISBLANK('Scholars Nomination Form'!O331),\"\",'Scholars Nomination Form'!O331)","v":""},{"$f":"IF(ISBLANK('Scholars Nomination Form'!P331),\"\",'Scholars Nomination Form'!P331)","v":""},{"$f":"IF(ISBLANK('Scholars Nomination Form'!Q331),\"\",'Scholars Nomination Form'!Q331)","v":""},{"$f":"IF(ISBLANK('Scholars Nomination Form'!R331),\"\",'Scholars Nomination Form'!R331)","v":""},{"$f":"IF(ISBLANK('Scholars Nomination Form'!S331),\"\",'Scholars Nomination Form'!S331)","v":""},{"$f":"IF(ISBLANK('Scholars Nomination Form'!T331),\"\",'Scholars Nomination Form'!T331)","v":""},{"$f":"IF(ISBLANK('Scholars Nomination Form'!U331),\"\",'Scholars Nomination Form'!U331)","v":""},{"$f":"IF(ISBLANK('Scholars Nomination Form'!V331),\"\",'Scholars Nomination Form'!V331)","v":""},{"$f":"IF(ISBLANK('Scholars Nomination Form'!W331),\"\",'Scholars Nomination Form'!W331)","v":""},{"$f":"IF(ISBLANK('Scholars Nomination Form'!X331),\"\",'Scholars Nomination Form'!X331)","v":""},{"$f":"IF(ISBLANK('Scholars Nomination Form'!Y331),\"\",'Scholars Nomination Form'!Y331)","v":""},{"$f":"IF(ISBLANK('Scholars Nomination Form'!Z331),\"\",'Scholars Nomination Form'!Z331)","v":""},{"$f":"IF(ISBLANK('Scholars Nomination Form'!AA331),\"\",'Scholars Nomination Form'!AA331)","v":""}]
[{"$f":"IF(ISBLANK('Scholars Nomination Form'!$F332),\"\",'Scholars Nomination Form'!$C$11)","v":""},{"$f":"IF(ISBLANK('Scholars Nomination Form'!$F332),\"\",'Scholars Nomination Form'!$C$12)","v":""},{"$f":"IF(ISBLANK('Scholars Nomination Form'!$F332),\"\",'Scholars Nomination Form'!$C$13)","v":""},{"$f":"IF(ISBLANK('Scholars Nomination Form'!$F332),\"\",'Scholars Nomination Form'!$C$14)","v":""},{"$f":"IF(ISBLANK('Scholars Nomination Form'!$F332),\"\",'Scholars Nomination Form'!$C$15)","v":""},{"$f":"IF(ISBLANK('Scholars Nomination Form'!$F332),\"\",'Scholars Nomination Form'!$C$16)","v":""},{"$f":"IF(ISBLANK('Scholars Nomination Form'!B332),\"\",'Scholars Nomination Form'!B332)","v":""},{"$f":"IF(ISBLANK('Scholars Nomination Form'!D332),\"\",'Scholars Nomination Form'!D332)","v":""},{"$f":"IF(ISBLANK('Scholars Nomination Form'!E332),\"\",'Scholars Nomination Form'!E332)","v":""},{"$f":"IF(ISBLANK('Scholars Nomination Form'!F332),\"\",'Scholars Nomination Form'!F332)","v":""},{"$f":"IF(ISBLANK('Scholars Nomination Form'!G332),\"\",'Scholars Nomination Form'!G332)","v":""},{"$f":"IF(ISBLANK('Scholars Nomination Form'!H332),\"\",'Scholars Nomination Form'!H332)","v":""},{"$f":"IF(ISBLANK('Scholars Nomination Form'!I332),\"\",'Scholars Nomination Form'!I332)","v":""},{"$f":"IF(ISBLANK('Scholars Nomination Form'!J332),\"\",'Scholars Nomination Form'!J332)","v":""},{"$f":"IF(ISBLANK('Scholars Nomination Form'!K332),\"\",'Scholars Nomination Form'!K332)","v":""},{"$f":"IF(ISBLANK('Scholars Nomination Form'!L332),\"\",'Scholars Nomination Form'!L332)","v":""},{"$f":"IF(ISBLANK('Scholars Nomination Form'!M332),\"\",'Scholars Nomination Form'!M332)","v":""},{"$f":"IF(ISBLANK('Scholars Nomination Form'!N332),\"\",'Scholars Nomination Form'!N332)","v":""},{"$f":"IF(ISBLANK('Scholars Nomination Form'!O332),\"\",'Scholars Nomination Form'!O332)","v":""},{"$f":"IF(ISBLANK('Scholars Nomination Form'!P332),\"\",'Scholars Nomination Form'!P332)","v":""},{"$f":"IF(ISBLANK('Scholars Nomination Form'!Q332),\"\",'Scholars Nomination Form'!Q332)","v":""},{"$f":"IF(ISBLANK('Scholars Nomination Form'!R332),\"\",'Scholars Nomination Form'!R332)","v":""},{"$f":"IF(ISBLANK('Scholars Nomination Form'!S332),\"\",'Scholars Nomination Form'!S332)","v":""},{"$f":"IF(ISBLANK('Scholars Nomination Form'!T332),\"\",'Scholars Nomination Form'!T332)","v":""},{"$f":"IF(ISBLANK('Scholars Nomination Form'!U332),\"\",'Scholars Nomination Form'!U332)","v":""},{"$f":"IF(ISBLANK('Scholars Nomination Form'!V332),\"\",'Scholars Nomination Form'!V332)","v":""},{"$f":"IF(ISBLANK('Scholars Nomination Form'!W332),\"\",'Scholars Nomination Form'!W332)","v":""},{"$f":"IF(ISBLANK('Scholars Nomination Form'!X332),\"\",'Scholars Nomination Form'!X332)","v":""},{"$f":"IF(ISBLANK('Scholars Nomination Form'!Y332),\"\",'Scholars Nomination Form'!Y332)","v":""},{"$f":"IF(ISBLANK('Scholars Nomination Form'!Z332),\"\",'Scholars Nomination Form'!Z332)","v":""},{"$f":"IF(ISBLANK('Scholars Nomination Form'!AA332),\"\",'Scholars Nomination Form'!AA332)","v":""}]
[{"$f":"IF(ISBLANK('Scholars Nomination Form'!$F333),\"\",'Scholars Nomination Form'!$C$11)","v":""},{"$f":"IF(ISBLANK('Scholars Nomination Form'!$F333),\"\",'Scholars Nomination Form'!$C$12)","v":""},{"$f":"IF(ISBLANK('Scholars Nomination Form'!$F333),\"\",'Scholars Nomination Form'!$C$13)","v":""},{"$f":"IF(ISBLANK('Scholars Nomination Form'!$F333),\"\",'Scholars Nomination Form'!$C$14)","v":""},{"$f":"IF(ISBLANK('Scholars Nomination Form'!$F333),\"\",'Scholars Nomination Form'!$C$15)","v":""},{"$f":"IF(ISBLANK('Scholars Nomination Form'!$F333),\"\",'Scholars Nomination Form'!$C$16)","v":""},{"$f":"IF(ISBLANK('Scholars Nomination Form'!B333),\"\",'Scholars Nomination Form'!B333)","v":""},{"$f":"IF(ISBLANK('Scholars Nomination Form'!D333),\"\",'Scholars Nomination Form'!D333)","v":""},{"$f":"IF(ISBLANK('Scholars Nomination Form'!E333),\"\",'Scholars Nomination Form'!E333)","v":""},{"$f":"IF(ISBLANK('Scholars Nomination Form'!F333),\"\",'Scholars Nomination Form'!F333)","v":""},{"$f":"IF(ISBLANK('Scholars Nomination Form'!G333),\"\",'Scholars Nomination Form'!G333)","v":""},{"$f":"IF(ISBLANK('Scholars Nomination Form'!H333),\"\",'Scholars Nomination Form'!H333)","v":""},{"$f":"IF(ISBLANK('Scholars Nomination Form'!I333),\"\",'Scholars Nomination Form'!I333)","v":""},{"$f":"IF(ISBLANK('Scholars Nomination Form'!J333),\"\",'Scholars Nomination Form'!J333)","v":""},{"$f":"IF(ISBLANK('Scholars Nomination Form'!K333),\"\",'Scholars Nomination Form'!K333)","v":""},{"$f":"IF(ISBLANK('Scholars Nomination Form'!L333),\"\",'Scholars Nomination Form'!L333)","v":""},{"$f":"IF(ISBLANK('Scholars Nomination Form'!M333),\"\",'Scholars Nomination Form'!M333)","v":""},{"$f":"IF(ISBLANK('Scholars Nomination Form'!N333),\"\",'Scholars Nomination Form'!N333)","v":""},{"$f":"IF(ISBLANK('Scholars Nomination Form'!O333),\"\",'Scholars Nomination Form'!O333)","v":""},{"$f":"IF(ISBLANK('Scholars Nomination Form'!P333),\"\",'Scholars Nomination Form'!P333)","v":""},{"$f":"IF(ISBLANK('Scholars Nomination Form'!Q333),\"\",'Scholars Nomination Form'!Q333)","v":""},{"$f":"IF(ISBLANK('Scholars Nomination Form'!R333),\"\",'Scholars Nomination Form'!R333)","v":""},{"$f":"IF(ISBLANK('Scholars Nomination Form'!S333),\"\",'Scholars Nomination Form'!S333)","v":""},{"$f":"IF(ISBLANK('Scholars Nomination Form'!T333),\"\",'Scholars Nomination Form'!T333)","v":""},{"$f":"IF(ISBLANK('Scholars Nomination Form'!U333),\"\",'Scholars Nomination Form'!U333)","v":""},{"$f":"IF(ISBLANK('Scholars Nomination Form'!V333),\"\",'Scholars Nomination Form'!V333)","v":""},{"$f":"IF(ISBLANK('Scholars Nomination Form'!W333),\"\",'Scholars Nomination Form'!W333)","v":""},{"$f":"IF(ISBLANK('Scholars Nomination Form'!X333),\"\",'Scholars Nomination Form'!X333)","v":""},{"$f":"IF(ISBLANK('Scholars Nomination Form'!Y333),\"\",'Scholars Nomination Form'!Y333)","v":""},{"$f":"IF(ISBLANK('Scholars Nomination Form'!Z333),\"\",'Scholars Nomination Form'!Z333)","v":""},{"$f":"IF(ISBLANK('Scholars Nomination Form'!AA333),\"\",'Scholars Nomination Form'!AA333)","v":""}]
[{"$f":"IF(ISBLANK('Scholars Nomination Form'!$F334),\"\",'Scholars Nomination Form'!$C$11)","v":""},{"$f":"IF(ISBLANK('Scholars Nomination Form'!$F334),\"\",'Scholars Nomination Form'!$C$12)","v":""},{"$f":"IF(ISBLANK('Scholars Nomination Form'!$F334),\"\",'Scholars Nomination Form'!$C$13)","v":""},{"$f":"IF(ISBLANK('Scholars Nomination Form'!$F334),\"\",'Scholars Nomination Form'!$C$14)","v":""},{"$f":"IF(ISBLANK('Scholars Nomination Form'!$F334),\"\",'Scholars Nomination Form'!$C$15)","v":""},{"$f":"IF(ISBLANK('Scholars Nomination Form'!$F334),\"\",'Scholars Nomination Form'!$C$16)","v":""},{"$f":"IF(ISBLANK('Scholars Nomination Form'!B334),\"\",'Scholars Nomination Form'!B334)","v":""},{"$f":"IF(ISBLANK('Scholars Nomination Form'!D334),\"\",'Scholars Nomination Form'!D334)","v":""},{"$f":"IF(ISBLANK('Scholars Nomination Form'!E334),\"\",'Scholars Nomination Form'!E334)","v":""},{"$f":"IF(ISBLANK('Scholars Nomination Form'!F334),\"\",'Scholars Nomination Form'!F334)","v":""},{"$f":"IF(ISBLANK('Scholars Nomination Form'!G334),\"\",'Scholars Nomination Form'!G334)","v":""},{"$f":"IF(ISBLANK('Scholars Nomination Form'!H334),\"\",'Scholars Nomination Form'!H334)","v":""},{"$f":"IF(ISBLANK('Scholars Nomination Form'!I334),\"\",'Scholars Nomination Form'!I334)","v":""},{"$f":"IF(ISBLANK('Scholars Nomination Form'!J334),\"\",'Scholars Nomination Form'!J334)","v":""},{"$f":"IF(ISBLANK('Scholars Nomination Form'!K334),\"\",'Scholars Nomination Form'!K334)","v":""},{"$f":"IF(ISBLANK('Scholars Nomination Form'!L334),\"\",'Scholars Nomination Form'!L334)","v":""},{"$f":"IF(ISBLANK('Scholars Nomination Form'!M334),\"\",'Scholars Nomination Form'!M334)","v":""},{"$f":"IF(ISBLANK('Scholars Nomination Form'!N334),\"\",'Scholars Nomination Form'!N334)","v":""},{"$f":"IF(ISBLANK('Scholars Nomination Form'!O334),\"\",'Scholars Nomination Form'!O334)","v":""},{"$f":"IF(ISBLANK('Scholars Nomination Form'!P334),\"\",'Scholars Nomination Form'!P334)","v":""},{"$f":"IF(ISBLANK('Scholars Nomination Form'!Q334),\"\",'Scholars Nomination Form'!Q334)","v":""},{"$f":"IF(ISBLANK('Scholars Nomination Form'!R334),\"\",'Scholars Nomination Form'!R334)","v":""},{"$f":"IF(ISBLANK('Scholars Nomination Form'!S334),\"\",'Scholars Nomination Form'!S334)","v":""},{"$f":"IF(ISBLANK('Scholars Nomination Form'!T334),\"\",'Scholars Nomination Form'!T334)","v":""},{"$f":"IF(ISBLANK('Scholars Nomination Form'!U334),\"\",'Scholars Nomination Form'!U334)","v":""},{"$f":"IF(ISBLANK('Scholars Nomination Form'!V334),\"\",'Scholars Nomination Form'!V334)","v":""},{"$f":"IF(ISBLANK('Scholars Nomination Form'!W334),\"\",'Scholars Nomination Form'!W334)","v":""},{"$f":"IF(ISBLANK('Scholars Nomination Form'!X334),\"\",'Scholars Nomination Form'!X334)","v":""},{"$f":"IF(ISBLANK('Scholars Nomination Form'!Y334),\"\",'Scholars Nomination Form'!Y334)","v":""},{"$f":"IF(ISBLANK('Scholars Nomination Form'!Z334),\"\",'Scholars Nomination Form'!Z334)","v":""},{"$f":"IF(ISBLANK('Scholars Nomination Form'!AA334),\"\",'Scholars Nomination Form'!AA334)","v":""}]
[{"$f":"IF(ISBLANK('Scholars Nomination Form'!$F335),\"\",'Scholars Nomination Form'!$C$11)","v":""},{"$f":"IF(ISBLANK('Scholars Nomination Form'!$F335),\"\",'Scholars Nomination Form'!$C$12)","v":""},{"$f":"IF(ISBLANK('Scholars Nomination Form'!$F335),\"\",'Scholars Nomination Form'!$C$13)","v":""},{"$f":"IF(ISBLANK('Scholars Nomination Form'!$F335),\"\",'Scholars Nomination Form'!$C$14)","v":""},{"$f":"IF(ISBLANK('Scholars Nomination Form'!$F335),\"\",'Scholars Nomination Form'!$C$15)","v":""},{"$f":"IF(ISBLANK('Scholars Nomination Form'!$F335),\"\",'Scholars Nomination Form'!$C$16)","v":""},{"$f":"IF(ISBLANK('Scholars Nomination Form'!B335),\"\",'Scholars Nomination Form'!B335)","v":""},{"$f":"IF(ISBLANK('Scholars Nomination Form'!D335),\"\",'Scholars Nomination Form'!D335)","v":""},{"$f":"IF(ISBLANK('Scholars Nomination Form'!E335),\"\",'Scholars Nomination Form'!E335)","v":""},{"$f":"IF(ISBLANK('Scholars Nomination Form'!F335),\"\",'Scholars Nomination Form'!F335)","v":""},{"$f":"IF(ISBLANK('Scholars Nomination Form'!G335),\"\",'Scholars Nomination Form'!G335)","v":""},{"$f":"IF(ISBLANK('Scholars Nomination Form'!H335),\"\",'Scholars Nomination Form'!H335)","v":""},{"$f":"IF(ISBLANK('Scholars Nomination Form'!I335),\"\",'Scholars Nomination Form'!I335)","v":""},{"$f":"IF(ISBLANK('Scholars Nomination Form'!J335),\"\",'Scholars Nomination Form'!J335)","v":""},{"$f":"IF(ISBLANK('Scholars Nomination Form'!K335),\"\",'Scholars Nomination Form'!K335)","v":""},{"$f":"IF(ISBLANK('Scholars Nomination Form'!L335),\"\",'Scholars Nomination Form'!L335)","v":""},{"$f":"IF(ISBLANK('Scholars Nomination Form'!M335),\"\",'Scholars Nomination Form'!M335)","v":""},{"$f":"IF(ISBLANK('Scholars Nomination Form'!N335),\"\",'Scholars Nomination Form'!N335)","v":""},{"$f":"IF(ISBLANK('Scholars Nomination Form'!O335),\"\",'Scholars Nomination Form'!O335)","v":""},{"$f":"IF(ISBLANK('Scholars Nomination Form'!P335),\"\",'Scholars Nomination Form'!P335)","v":""},{"$f":"IF(ISBLANK('Scholars Nomination Form'!Q335),\"\",'Scholars Nomination Form'!Q335)","v":""},{"$f":"IF(ISBLANK('Scholars Nomination Form'!R335),\"\",'Scholars Nomination Form'!R335)","v":""},{"$f":"IF(ISBLANK('Scholars Nomination Form'!S335),\"\",'Scholars Nomination Form'!S335)","v":""},{"$f":"IF(ISBLANK('Scholars Nomination Form'!T335),\"\",'Scholars Nomination Form'!T335)","v":""},{"$f":"IF(ISBLANK('Scholars Nomination Form'!U335),\"\",'Scholars Nomination Form'!U335)","v":""},{"$f":"IF(ISBLANK('Scholars Nomination Form'!V335),\"\",'Scholars Nomination Form'!V335)","v":""},{"$f":"IF(ISBLANK('Scholars Nomination Form'!W335),\"\",'Scholars Nomination Form'!W335)","v":""},{"$f":"IF(ISBLANK('Scholars Nomination Form'!X335),\"\",'Scholars Nomination Form'!X335)","v":""},{"$f":"IF(ISBLANK('Scholars Nomination Form'!Y335),\"\",'Scholars Nomination Form'!Y335)","v":""},{"$f":"IF(ISBLANK('Scholars Nomination Form'!Z335),\"\",'Scholars Nomination Form'!Z335)","v":""},{"$f":"IF(ISBLANK('Scholars Nomination Form'!AA335),\"\",'Scholars Nomination Form'!AA335)","v":""}]
[{"$f":"IF(ISBLANK('Scholars Nomination Form'!$F336),\"\",'Scholars Nomination Form'!$C$11)","v":""},{"$f":"IF(ISBLANK('Scholars Nomination Form'!$F336),\"\",'Scholars Nomination Form'!$C$12)","v":""},{"$f":"IF(ISBLANK('Scholars Nomination Form'!$F336),\"\",'Scholars Nomination Form'!$C$13)","v":""},{"$f":"IF(ISBLANK('Scholars Nomination Form'!$F336),\"\",'Scholars Nomination Form'!$C$14)","v":""},{"$f":"IF(ISBLANK('Scholars Nomination Form'!$F336),\"\",'Scholars Nomination Form'!$C$15)","v":""},{"$f":"IF(ISBLANK('Scholars Nomination Form'!$F336),\"\",'Scholars Nomination Form'!$C$16)","v":""},{"$f":"IF(ISBLANK('Scholars Nomination Form'!B336),\"\",'Scholars Nomination Form'!B336)","v":""},{"$f":"IF(ISBLANK('Scholars Nomination Form'!D336),\"\",'Scholars Nomination Form'!D336)","v":""},{"$f":"IF(ISBLANK('Scholars Nomination Form'!E336),\"\",'Scholars Nomination Form'!E336)","v":""},{"$f":"IF(ISBLANK('Scholars Nomination Form'!F336),\"\",'Scholars Nomination Form'!F336)","v":""},{"$f":"IF(ISBLANK('Scholars Nomination Form'!G336),\"\",'Scholars Nomination Form'!G336)","v":""},{"$f":"IF(ISBLANK('Scholars Nomination Form'!H336),\"\",'Scholars Nomination Form'!H336)","v":""},{"$f":"IF(ISBLANK('Scholars Nomination Form'!I336),\"\",'Scholars Nomination Form'!I336)","v":""},{"$f":"IF(ISBLANK('Scholars Nomination Form'!J336),\"\",'Scholars Nomination Form'!J336)","v":""},{"$f":"IF(ISBLANK('Scholars Nomination Form'!K336),\"\",'Scholars Nomination Form'!K336)","v":""},{"$f":"IF(ISBLANK('Scholars Nomination Form'!L336),\"\",'Scholars Nomination Form'!L336)","v":""},{"$f":"IF(ISBLANK('Scholars Nomination Form'!M336),\"\",'Scholars Nomination Form'!M336)","v":""},{"$f":"IF(ISBLANK('Scholars Nomination Form'!N336),\"\",'Scholars Nomination Form'!N336)","v":""},{"$f":"IF(ISBLANK('Scholars Nomination Form'!O336),\"\",'Scholars Nomination Form'!O336)","v":""},{"$f":"IF(ISBLANK('Scholars Nomination Form'!P336),\"\",'Scholars Nomination Form'!P336)","v":""},{"$f":"IF(ISBLANK('Scholars Nomination Form'!Q336),\"\",'Scholars Nomination Form'!Q336)","v":""},{"$f":"IF(ISBLANK('Scholars Nomination Form'!R336),\"\",'Scholars Nomination Form'!R336)","v":""},{"$f":"IF(ISBLANK('Scholars Nomination Form'!S336),\"\",'Scholars Nomination Form'!S336)","v":""},{"$f":"IF(ISBLANK('Scholars Nomination Form'!T336),\"\",'Scholars Nomination Form'!T336)","v":""},{"$f":"IF(ISBLANK('Scholars Nomination Form'!U336),\"\",'Scholars Nomination Form'!U336)","v":""},{"$f":"IF(ISBLANK('Scholars Nomination Form'!V336),\"\",'Scholars Nomination Form'!V336)","v":""},{"$f":"IF(ISBLANK('Scholars Nomination Form'!W336),\"\",'Scholars Nomination Form'!W336)","v":""},{"$f":"IF(ISBLANK('Scholars Nomination Form'!X336),\"\",'Scholars Nomination Form'!X336)","v":""},{"$f":"IF(ISBLANK('Scholars Nomination Form'!Y336),\"\",'Scholars Nomination Form'!Y336)","v":""},{"$f":"IF(ISBLANK('Scholars Nomination Form'!Z336),\"\",'Scholars Nomination Form'!Z336)","v":""},{"$f":"IF(ISBLANK('Scholars Nomination Form'!AA336),\"\",'Scholars Nomination Form'!AA336)","v":""}]
[{"$f":"IF(ISBLANK('Scholars Nomination Form'!$F337),\"\",'Scholars Nomination Form'!$C$11)","v":""},{"$f":"IF(ISBLANK('Scholars Nomination Form'!$F337),\"\",'Scholars Nomination Form'!$C$12)","v":""},{"$f":"IF(ISBLANK('Scholars Nomination Form'!$F337),\"\",'Scholars Nomination Form'!$C$13)","v":""},{"$f":"IF(ISBLANK('Scholars Nomination Form'!$F337),\"\",'Scholars Nomination Form'!$C$14)","v":""},{"$f":"IF(ISBLANK('Scholars Nomination Form'!$F337),\"\",'Scholars Nomination Form'!$C$15)","v":""},{"$f":"IF(ISBLANK('Scholars Nomination Form'!$F337),\"\",'Scholars Nomination Form'!$C$16)","v":""},{"$f":"IF(ISBLANK('Scholars Nomination Form'!B337),\"\",'Scholars Nomination Form'!B337)","v":""},{"$f":"IF(ISBLANK('Scholars Nomination Form'!D337),\"\",'Scholars Nomination Form'!D337)","v":""},{"$f":"IF(ISBLANK('Scholars Nomination Form'!E337),\"\",'Scholars Nomination Form'!E337)","v":""},{"$f":"IF(ISBLANK('Scholars Nomination Form'!F337),\"\",'Scholars Nomination Form'!F337)","v":""},{"$f":"IF(ISBLANK('Scholars Nomination Form'!G337),\"\",'Scholars Nomination Form'!G337)","v":""},{"$f":"IF(ISBLANK('Scholars Nomination Form'!H337),\"\",'Scholars Nomination Form'!H337)","v":""},{"$f":"IF(ISBLANK('Scholars Nomination Form'!I337),\"\",'Scholars Nomination Form'!I337)","v":""},{"$f":"IF(ISBLANK('Scholars Nomination Form'!J337),\"\",'Scholars Nomination Form'!J337)","v":""},{"$f":"IF(ISBLANK('Scholars Nomination Form'!K337),\"\",'Scholars Nomination Form'!K337)","v":""},{"$f":"IF(ISBLANK('Scholars Nomination Form'!L337),\"\",'Scholars Nomination Form'!L337)","v":""},{"$f":"IF(ISBLANK('Scholars Nomination Form'!M337),\"\",'Scholars Nomination Form'!M337)","v":""},{"$f":"IF(ISBLANK('Scholars Nomination Form'!N337),\"\",'Scholars Nomination Form'!N337)","v":""},{"$f":"IF(ISBLANK('Scholars Nomination Form'!O337),\"\",'Scholars Nomination Form'!O337)","v":""},{"$f":"IF(ISBLANK('Scholars Nomination Form'!P337),\"\",'Scholars Nomination Form'!P337)","v":""},{"$f":"IF(ISBLANK('Scholars Nomination Form'!Q337),\"\",'Scholars Nomination Form'!Q337)","v":""},{"$f":"IF(ISBLANK('Scholars Nomination Form'!R337),\"\",'Scholars Nomination Form'!R337)","v":""},{"$f":"IF(ISBLANK('Scholars Nomination Form'!S337),\"\",'Scholars Nomination Form'!S337)","v":""},{"$f":"IF(ISBLANK('Scholars Nomination Form'!T337),\"\",'Scholars Nomination Form'!T337)","v":""},{"$f":"IF(ISBLANK('Scholars Nomination Form'!U337),\"\",'Scholars Nomination Form'!U337)","v":""},{"$f":"IF(ISBLANK('Scholars Nomination Form'!V337),\"\",'Scholars Nomination Form'!V337)","v":""},{"$f":"IF(ISBLANK('Scholars Nomination Form'!W337),\"\",'Scholars Nomination Form'!W337)","v":""},{"$f":"IF(ISBLANK('Scholars Nomination Form'!X337),\"\",'Scholars Nomination Form'!X337)","v":""},{"$f":"IF(ISBLANK('Scholars Nomination Form'!Y337),\"\",'Scholars Nomination Form'!Y337)","v":""},{"$f":"IF(ISBLANK('Scholars Nomination Form'!Z337),\"\",'Scholars Nomination Form'!Z337)","v":""},{"$f":"IF(ISBLANK('Scholars Nomination Form'!AA337),\"\",'Scholars Nomination Form'!AA337)","v":""}]
[{"$f":"IF(ISBLANK('Scholars Nomination Form'!$F338),\"\",'Scholars Nomination Form'!$C$11)","v":""},{"$f":"IF(ISBLANK('Scholars Nomination Form'!$F338),\"\",'Scholars Nomination Form'!$C$12)","v":""},{"$f":"IF(ISBLANK('Scholars Nomination Form'!$F338),\"\",'Scholars Nomination Form'!$C$13)","v":""},{"$f":"IF(ISBLANK('Scholars Nomination Form'!$F338),\"\",'Scholars Nomination Form'!$C$14)","v":""},{"$f":"IF(ISBLANK('Scholars Nomination Form'!$F338),\"\",'Scholars Nomination Form'!$C$15)","v":""},{"$f":"IF(ISBLANK('Scholars Nomination Form'!$F338),\"\",'Scholars Nomination Form'!$C$16)","v":""},{"$f":"IF(ISBLANK('Scholars Nomination Form'!B338),\"\",'Scholars Nomination Form'!B338)","v":""},{"$f":"IF(ISBLANK('Scholars Nomination Form'!D338),\"\",'Scholars Nomination Form'!D338)","v":""},{"$f":"IF(ISBLANK('Scholars Nomination Form'!E338),\"\",'Scholars Nomination Form'!E338)","v":""},{"$f":"IF(ISBLANK('Scholars Nomination Form'!F338),\"\",'Scholars Nomination Form'!F338)","v":""},{"$f":"IF(ISBLANK('Scholars Nomination Form'!G338),\"\",'Scholars Nomination Form'!G338)","v":""},{"$f":"IF(ISBLANK('Scholars Nomination Form'!H338),\"\",'Scholars Nomination Form'!H338)","v":""},{"$f":"IF(ISBLANK('Scholars Nomination Form'!I338),\"\",'Scholars Nomination Form'!I338)","v":""},{"$f":"IF(ISBLANK('Scholars Nomination Form'!J338),\"\",'Scholars Nomination Form'!J338)","v":""},{"$f":"IF(ISBLANK('Scholars Nomination Form'!K338),\"\",'Scholars Nomination Form'!K338)","v":""},{"$f":"IF(ISBLANK('Scholars Nomination Form'!L338),\"\",'Scholars Nomination Form'!L338)","v":""},{"$f":"IF(ISBLANK('Scholars Nomination Form'!M338),\"\",'Scholars Nomination Form'!M338)","v":""},{"$f":"IF(ISBLANK('Scholars Nomination Form'!N338),\"\",'Scholars Nomination Form'!N338)","v":""},{"$f":"IF(ISBLANK('Scholars Nomination Form'!O338),\"\",'Scholars Nomination Form'!O338)","v":""},{"$f":"IF(ISBLANK('Scholars Nomination Form'!P338),\"\",'Scholars Nomination Form'!P338)","v":""},{"$f":"IF(ISBLANK('Scholars Nomination Form'!Q338),\"\",'Scholars Nomination Form'!Q338)","v":""},{"$f":"IF(ISBLANK('Scholars Nomination Form'!R338),\"\",'Scholars Nomination Form'!R338)","v":""},{"$f":"IF(ISBLANK('Scholars Nomination Form'!S338),\"\",'Scholars Nomination Form'!S338)","v":""},{"$f":"IF(ISBLANK('Scholars Nomination Form'!T338),\"\",'Scholars Nomination Form'!T338)","v":""},{"$f":"IF(ISBLANK('Scholars Nomination Form'!U338),\"\",'Scholars Nomination Form'!U338)","v":""},{"$f":"IF(ISBLANK('Scholars Nomination Form'!V338),\"\",'Scholars Nomination Form'!V338)","v":""},{"$f":"IF(ISBLANK('Scholars Nomination Form'!W338),\"\",'Scholars Nomination Form'!W338)","v":""},{"$f":"IF(ISBLANK('Scholars Nomination Form'!X338),\"\",'Scholars Nomination Form'!X338)","v":""},{"$f":"IF(ISBLANK('Scholars Nomination Form'!Y338),\"\",'Scholars Nomination Form'!Y338)","v":""},{"$f":"IF(ISBLANK('Scholars Nomination Form'!Z338),\"\",'Scholars Nomination Form'!Z338)","v":""},{"$f":"IF(ISBLANK('Scholars Nomination Form'!AA338),\"\",'Scholars Nomination Form'!AA338)","v":""}]
[{"$f":"IF(ISBLANK('Scholars Nomination Form'!$F339),\"\",'Scholars Nomination Form'!$C$11)","v":""},{"$f":"IF(ISBLANK('Scholars Nomination Form'!$F339),\"\",'Scholars Nomination Form'!$C$12)","v":""},{"$f":"IF(ISBLANK('Scholars Nomination Form'!$F339),\"\",'Scholars Nomination Form'!$C$13)","v":""},{"$f":"IF(ISBLANK('Scholars Nomination Form'!$F339),\"\",'Scholars Nomination Form'!$C$14)","v":""},{"$f":"IF(ISBLANK('Scholars Nomination Form'!$F339),\"\",'Scholars Nomination Form'!$C$15)","v":""},{"$f":"IF(ISBLANK('Scholars Nomination Form'!$F339),\"\",'Scholars Nomination Form'!$C$16)","v":""},{"$f":"IF(ISBLANK('Scholars Nomination Form'!B339),\"\",'Scholars Nomination Form'!B339)","v":""},{"$f":"IF(ISBLANK('Scholars Nomination Form'!D339),\"\",'Scholars Nomination Form'!D339)","v":""},{"$f":"IF(ISBLANK('Scholars Nomination Form'!E339),\"\",'Scholars Nomination Form'!E339)","v":""},{"$f":"IF(ISBLANK('Scholars Nomination Form'!F339),\"\",'Scholars Nomination Form'!F339)","v":""},{"$f":"IF(ISBLANK('Scholars Nomination Form'!G339),\"\",'Scholars Nomination Form'!G339)","v":""},{"$f":"IF(ISBLANK('Scholars Nomination Form'!H339),\"\",'Scholars Nomination Form'!H339)","v":""},{"$f":"IF(ISBLANK('Scholars Nomination Form'!I339),\"\",'Scholars Nomination Form'!I339)","v":""},{"$f":"IF(ISBLANK('Scholars Nomination Form'!J339),\"\",'Scholars Nomination Form'!J339)","v":""},{"$f":"IF(ISBLANK('Scholars Nomination Form'!K339),\"\",'Scholars Nomination Form'!K339)","v":""},{"$f":"IF(ISBLANK('Scholars Nomination Form'!L339),\"\",'Scholars Nomination Form'!L339)","v":""},{"$f":"IF(ISBLANK('Scholars Nomination Form'!M339),\"\",'Scholars Nomination Form'!M339)","v":""},{"$f":"IF(ISBLANK('Scholars Nomination Form'!N339),\"\",'Scholars Nomination Form'!N339)","v":""},{"$f":"IF(ISBLANK('Scholars Nomination Form'!O339),\"\",'Scholars Nomination Form'!O339)","v":""},{"$f":"IF(ISBLANK('Scholars Nomination Form'!P339),\"\",'Scholars Nomination Form'!P339)","v":""},{"$f":"IF(ISBLANK('Scholars Nomination Form'!Q339),\"\",'Scholars Nomination Form'!Q339)","v":""},{"$f":"IF(ISBLANK('Scholars Nomination Form'!R339),\"\",'Scholars Nomination Form'!R339)","v":""},{"$f":"IF(ISBLANK('Scholars Nomination Form'!S339),\"\",'Scholars Nomination Form'!S339)","v":""},{"$f":"IF(ISBLANK('Scholars Nomination Form'!T339),\"\",'Scholars Nomination Form'!T339)","v":""},{"$f":"IF(ISBLANK('Scholars Nomination Form'!U339),\"\",'Scholars Nomination Form'!U339)","v":""},{"$f":"IF(ISBLANK('Scholars Nomination Form'!V339),\"\",'Scholars Nomination Form'!V339)","v":""},{"$f":"IF(ISBLANK('Scholars Nomination Form'!W339),\"\",'Scholars Nomination Form'!W339)","v":""},{"$f":"IF(ISBLANK('Scholars Nomination Form'!X339),\"\",'Scholars Nomination Form'!X339)","v":""},{"$f":"IF(ISBLANK('Scholars Nomination Form'!Y339),\"\",'Scholars Nomination Form'!Y339)","v":""},{"$f":"IF(ISBLANK('Scholars Nomination Form'!Z339),\"\",'Scholars Nomination Form'!Z339)","v":""},{"$f":"IF(ISBLANK('Scholars Nomination Form'!AA339),\"\",'Scholars Nomination Form'!AA339)","v":""}]
[{"$f":"IF(ISBLANK('Scholars Nomination Form'!$F340),\"\",'Scholars Nomination Form'!$C$11)","v":""},{"$f":"IF(ISBLANK('Scholars Nomination Form'!$F340),\"\",'Scholars Nomination Form'!$C$12)","v":""},{"$f":"IF(ISBLANK('Scholars Nomination Form'!$F340),\"\",'Scholars Nomination Form'!$C$13)","v":""},{"$f":"IF(ISBLANK('Scholars Nomination Form'!$F340),\"\",'Scholars Nomination Form'!$C$14)","v":""},{"$f":"IF(ISBLANK('Scholars Nomination Form'!$F340),\"\",'Scholars Nomination Form'!$C$15)","v":""},{"$f":"IF(ISBLANK('Scholars Nomination Form'!$F340),\"\",'Scholars Nomination Form'!$C$16)","v":""},{"$f":"IF(ISBLANK('Scholars Nomination Form'!B340),\"\",'Scholars Nomination Form'!B340)","v":""},{"$f":"IF(ISBLANK('Scholars Nomination Form'!D340),\"\",'Scholars Nomination Form'!D340)","v":""},{"$f":"IF(ISBLANK('Scholars Nomination Form'!E340),\"\",'Scholars Nomination Form'!E340)","v":""},{"$f":"IF(ISBLANK('Scholars Nomination Form'!F340),\"\",'Scholars Nomination Form'!F340)","v":""},{"$f":"IF(ISBLANK('Scholars Nomination Form'!G340),\"\",'Scholars Nomination Form'!G340)","v":""},{"$f":"IF(ISBLANK('Scholars Nomination Form'!H340),\"\",'Scholars Nomination Form'!H340)","v":""},{"$f":"IF(ISBLANK('Scholars Nomination Form'!I340),\"\",'Scholars Nomination Form'!I340)","v":""},{"$f":"IF(ISBLANK('Scholars Nomination Form'!J340),\"\",'Scholars Nomination Form'!J340)","v":""},{"$f":"IF(ISBLANK('Scholars Nomination Form'!K340),\"\",'Scholars Nomination Form'!K340)","v":""},{"$f":"IF(ISBLANK('Scholars Nomination Form'!L340),\"\",'Scholars Nomination Form'!L340)","v":""},{"$f":"IF(ISBLANK('Scholars Nomination Form'!M340),\"\",'Scholars Nomination Form'!M340)","v":""},{"$f":"IF(ISBLANK('Scholars Nomination Form'!N340),\"\",'Scholars Nomination Form'!N340)","v":""},{"$f":"IF(ISBLANK('Scholars Nomination Form'!O340),\"\",'Scholars Nomination Form'!O340)","v":""},{"$f":"IF(ISBLANK('Scholars Nomination Form'!P340),\"\",'Scholars Nomination Form'!P340)","v":""},{"$f":"IF(ISBLANK('Scholars Nomination Form'!Q340),\"\",'Scholars Nomination Form'!Q340)","v":""},{"$f":"IF(ISBLANK('Scholars Nomination Form'!R340),\"\",'Scholars Nomination Form'!R340)","v":""},{"$f":"IF(ISBLANK('Scholars Nomination Form'!S340),\"\",'Scholars Nomination Form'!S340)","v":""},{"$f":"IF(ISBLANK('Scholars Nomination Form'!T340),\"\",'Scholars Nomination Form'!T340)","v":""},{"$f":"IF(ISBLANK('Scholars Nomination Form'!U340),\"\",'Scholars Nomination Form'!U340)","v":""},{"$f":"IF(ISBLANK('Scholars Nomination Form'!V340),\"\",'Scholars Nomination Form'!V340)","v":""},{"$f":"IF(ISBLANK('Scholars Nomination Form'!W340),\"\",'Scholars Nomination Form'!W340)","v":""},{"$f":"IF(ISBLANK('Scholars Nomination Form'!X340),\"\",'Scholars Nomination Form'!X340)","v":""},{"$f":"IF(ISBLANK('Scholars Nomination Form'!Y340),\"\",'Scholars Nomination Form'!Y340)","v":""},{"$f":"IF(ISBLANK('Scholars Nomination Form'!Z340),\"\",'Scholars Nomination Form'!Z340)","v":""},{"$f":"IF(ISBLANK('Scholars Nomination Form'!AA340),\"\",'Scholars Nomination Form'!AA340)","v":""}]
[{"$f":"IF(ISBLANK('Scholars Nomination Form'!$F341),\"\",'Scholars Nomination Form'!$C$11)","v":""},{"$f":"IF(ISBLANK('Scholars Nomination Form'!$F341),\"\",'Scholars Nomination Form'!$C$12)","v":""},{"$f":"IF(ISBLANK('Scholars Nomination Form'!$F341),\"\",'Scholars Nomination Form'!$C$13)","v":""},{"$f":"IF(ISBLANK('Scholars Nomination Form'!$F341),\"\",'Scholars Nomination Form'!$C$14)","v":""},{"$f":"IF(ISBLANK('Scholars Nomination Form'!$F341),\"\",'Scholars Nomination Form'!$C$15)","v":""},{"$f":"IF(ISBLANK('Scholars Nomination Form'!$F341),\"\",'Scholars Nomination Form'!$C$16)","v":""},{"$f":"IF(ISBLANK('Scholars Nomination Form'!B341),\"\",'Scholars Nomination Form'!B341)","v":""},{"$f":"IF(ISBLANK('Scholars Nomination Form'!D341),\"\",'Scholars Nomination Form'!D341)","v":""},{"$f":"IF(ISBLANK('Scholars Nomination Form'!E341),\"\",'Scholars Nomination Form'!E341)","v":""},{"$f":"IF(ISBLANK('Scholars Nomination Form'!F341),\"\",'Scholars Nomination Form'!F341)","v":""},{"$f":"IF(ISBLANK('Scholars Nomination Form'!G341),\"\",'Scholars Nomination Form'!G341)","v":""},{"$f":"IF(ISBLANK('Scholars Nomination Form'!H341),\"\",'Scholars Nomination Form'!H341)","v":""},{"$f":"IF(ISBLANK('Scholars Nomination Form'!I341),\"\",'Scholars Nomination Form'!I341)","v":""},{"$f":"IF(ISBLANK('Scholars Nomination Form'!J341),\"\",'Scholars Nomination Form'!J341)","v":""},{"$f":"IF(ISBLANK('Scholars Nomination Form'!K341),\"\",'Scholars Nomination Form'!K341)","v":""},{"$f":"IF(ISBLANK('Scholars Nomination Form'!L341),\"\",'Scholars Nomination Form'!L341)","v":""},{"$f":"IF(ISBLANK('Scholars Nomination Form'!M341),\"\",'Scholars Nomination Form'!M341)","v":""},{"$f":"IF(ISBLANK('Scholars Nomination Form'!N341),\"\",'Scholars Nomination Form'!N341)","v":""},{"$f":"IF(ISBLANK('Scholars Nomination Form'!O341),\"\",'Scholars Nomination Form'!O341)","v":""},{"$f":"IF(ISBLANK('Scholars Nomination Form'!P341),\"\",'Scholars Nomination Form'!P341)","v":""},{"$f":"IF(ISBLANK('Scholars Nomination Form'!Q341),\"\",'Scholars Nomination Form'!Q341)","v":""},{"$f":"IF(ISBLANK('Scholars Nomination Form'!R341),\"\",'Scholars Nomination Form'!R341)","v":""},{"$f":"IF(ISBLANK('Scholars Nomination Form'!S341),\"\",'Scholars Nomination Form'!S341)","v":""},{"$f":"IF(ISBLANK('Scholars Nomination Form'!T341),\"\",'Scholars Nomination Form'!T341)","v":""},{"$f":"IF(ISBLANK('Scholars Nomination Form'!U341),\"\",'Scholars Nomination Form'!U341)","v":""},{"$f":"IF(ISBLANK('Scholars Nomination Form'!V341),\"\",'Scholars Nomination Form'!V341)","v":""},{"$f":"IF(ISBLANK('Scholars Nomination Form'!W341),\"\",'Scholars Nomination Form'!W341)","v":""},{"$f":"IF(ISBLANK('Scholars Nomination Form'!X341),\"\",'Scholars Nomination Form'!X341)","v":""},{"$f":"IF(ISBLANK('Scholars Nomination Form'!Y341),\"\",'Scholars Nomination Form'!Y341)","v":""},{"$f":"IF(ISBLANK('Scholars Nomination Form'!Z341),\"\",'Scholars Nomination Form'!Z341)","v":""},{"$f":"IF(ISBLANK('Scholars Nomination Form'!AA341),\"\",'Scholars Nomination Form'!AA341)","v":""}]
[{"$f":"IF(ISBLANK('Scholars Nomination Form'!$F342),\"\",'Scholars Nomination Form'!$C$11)","v":""},{"$f":"IF(ISBLANK('Scholars Nomination Form'!$F342),\"\",'Scholars Nomination Form'!$C$12)","v":""},{"$f":"IF(ISBLANK('Scholars Nomination Form'!$F342),\"\",'Scholars Nomination Form'!$C$13)","v":""},{"$f":"IF(ISBLANK('Scholars Nomination Form'!$F342),\"\",'Scholars Nomination Form'!$C$14)","v":""},{"$f":"IF(ISBLANK('Scholars Nomination Form'!$F342),\"\",'Scholars Nomination Form'!$C$15)","v":""},{"$f":"IF(ISBLANK('Scholars Nomination Form'!$F342),\"\",'Scholars Nomination Form'!$C$16)","v":""},{"$f":"IF(ISBLANK('Scholars Nomination Form'!B342),\"\",'Scholars Nomination Form'!B342)","v":""},{"$f":"IF(ISBLANK('Scholars Nomination Form'!D342),\"\",'Scholars Nomination Form'!D342)","v":""},{"$f":"IF(ISBLANK('Scholars Nomination Form'!E342),\"\",'Scholars Nomination Form'!E342)","v":""},{"$f":"IF(ISBLANK('Scholars Nomination Form'!F342),\"\",'Scholars Nomination Form'!F342)","v":""},{"$f":"IF(ISBLANK('Scholars Nomination Form'!G342),\"\",'Scholars Nomination Form'!G342)","v":""},{"$f":"IF(ISBLANK('Scholars Nomination Form'!H342),\"\",'Scholars Nomination Form'!H342)","v":""},{"$f":"IF(ISBLANK('Scholars Nomination Form'!I342),\"\",'Scholars Nomination Form'!I342)","v":""},{"$f":"IF(ISBLANK('Scholars Nomination Form'!J342),\"\",'Scholars Nomination Form'!J342)","v":""},{"$f":"IF(ISBLANK('Scholars Nomination Form'!K342),\"\",'Scholars Nomination Form'!K342)","v":""},{"$f":"IF(ISBLANK('Scholars Nomination Form'!L342),\"\",'Scholars Nomination Form'!L342)","v":""},{"$f":"IF(ISBLANK('Scholars Nomination Form'!M342),\"\",'Scholars Nomination Form'!M342)","v":""},{"$f":"IF(ISBLANK('Scholars Nomination Form'!N342),\"\",'Scholars Nomination Form'!N342)","v":""},{"$f":"IF(ISBLANK('Scholars Nomination Form'!O342),\"\",'Scholars Nomination Form'!O342)","v":""},{"$f":"IF(ISBLANK('Scholars Nomination Form'!P342),\"\",'Scholars Nomination Form'!P342)","v":""},{"$f":"IF(ISBLANK('Scholars Nomination Form'!Q342),\"\",'Scholars Nomination Form'!Q342)","v":""},{"$f":"IF(ISBLANK('Scholars Nomination Form'!R342),\"\",'Scholars Nomination Form'!R342)","v":""},{"$f":"IF(ISBLANK('Scholars Nomination Form'!S342),\"\",'Scholars Nomination Form'!S342)","v":""},{"$f":"IF(ISBLANK('Scholars Nomination Form'!T342),\"\",'Scholars Nomination Form'!T342)","v":""},{"$f":"IF(ISBLANK('Scholars Nomination Form'!U342),\"\",'Scholars Nomination Form'!U342)","v":""},{"$f":"IF(ISBLANK('Scholars Nomination Form'!V342),\"\",'Scholars Nomination Form'!V342)","v":""},{"$f":"IF(ISBLANK('Scholars Nomination Form'!W342),\"\",'Scholars Nomination Form'!W342)","v":""},{"$f":"IF(ISBLANK('Scholars Nomination Form'!X342),\"\",'Scholars Nomination Form'!X342)","v":""},{"$f":"IF(ISBLANK('Scholars Nomination Form'!Y342),\"\",'Scholars Nomination Form'!Y342)","v":""},{"$f":"IF(ISBLANK('Scholars Nomination Form'!Z342),\"\",'Scholars Nomination Form'!Z342)","v":""},{"$f":"IF(ISBLANK('Scholars Nomination Form'!AA342),\"\",'Scholars Nomination Form'!AA342)","v":""}]
[{"$f":"IF(ISBLANK('Scholars Nomination Form'!$F343),\"\",'Scholars Nomination Form'!$C$11)","v":""},{"$f":"IF(ISBLANK('Scholars Nomination Form'!$F343),\"\",'Scholars Nomination Form'!$C$12)","v":""},{"$f":"IF(ISBLANK('Scholars Nomination Form'!$F343),\"\",'Scholars Nomination Form'!$C$13)","v":""},{"$f":"IF(ISBLANK('Scholars Nomination Form'!$F343),\"\",'Scholars Nomination Form'!$C$14)","v":""},{"$f":"IF(ISBLANK('Scholars Nomination Form'!$F343),\"\",'Scholars Nomination Form'!$C$15)","v":""},{"$f":"IF(ISBLANK('Scholars Nomination Form'!$F343),\"\",'Scholars Nomination Form'!$C$16)","v":""},{"$f":"IF(ISBLANK('Scholars Nomination Form'!B343),\"\",'Scholars Nomination Form'!B343)","v":""},{"$f":"IF(ISBLANK('Scholars Nomination Form'!D343),\"\",'Scholars Nomination Form'!D343)","v":""},{"$f":"IF(ISBLANK('Scholars Nomination Form'!E343),\"\",'Scholars Nomination Form'!E343)","v":""},{"$f":"IF(ISBLANK('Scholars Nomination Form'!F343),\"\",'Scholars Nomination Form'!F343)","v":""},{"$f":"IF(ISBLANK('Scholars Nomination Form'!G343),\"\",'Scholars Nomination Form'!G343)","v":""},{"$f":"IF(ISBLANK('Scholars Nomination Form'!H343),\"\",'Scholars Nomination Form'!H343)","v":""},{"$f":"IF(ISBLANK('Scholars Nomination Form'!I343),\"\",'Scholars Nomination Form'!I343)","v":""},{"$f":"IF(ISBLANK('Scholars Nomination Form'!J343),\"\",'Scholars Nomination Form'!J343)","v":""},{"$f":"IF(ISBLANK('Scholars Nomination Form'!K343),\"\",'Scholars Nomination Form'!K343)","v":""},{"$f":"IF(ISBLANK('Scholars Nomination Form'!L343),\"\",'Scholars Nomination Form'!L343)","v":""},{"$f":"IF(ISBLANK('Scholars Nomination Form'!M343),\"\",'Scholars Nomination Form'!M343)","v":""},{"$f":"IF(ISBLANK('Scholars Nomination Form'!N343),\"\",'Scholars Nomination Form'!N343)","v":""},{"$f":"IF(ISBLANK('Scholars Nomination Form'!O343),\"\",'Scholars Nomination Form'!O343)","v":""},{"$f":"IF(ISBLANK('Scholars Nomination Form'!P343),\"\",'Scholars Nomination Form'!P343)","v":""},{"$f":"IF(ISBLANK('Scholars Nomination Form'!Q343),\"\",'Scholars Nomination Form'!Q343)","v":""},{"$f":"IF(ISBLANK('Scholars Nomination Form'!R343),\"\",'Scholars Nomination Form'!R343)","v":""},{"$f":"IF(ISBLANK('Scholars Nomination Form'!S343),\"\",'Scholars Nomination Form'!S343)","v":""},{"$f":"IF(ISBLANK('Scholars Nomination Form'!T343),\"\",'Scholars Nomination Form'!T343)","v":""},{"$f":"IF(ISBLANK('Scholars Nomination Form'!U343),\"\",'Scholars Nomination Form'!U343)","v":""},{"$f":"IF(ISBLANK('Scholars Nomination Form'!V343),\"\",'Scholars Nomination Form'!V343)","v":""},{"$f":"IF(ISBLANK('Scholars Nomination Form'!W343),\"\",'Scholars Nomination Form'!W343)","v":""},{"$f":"IF(ISBLANK('Scholars Nomination Form'!X343),\"\",'Scholars Nomination Form'!X343)","v":""},{"$f":"IF(ISBLANK('Scholars Nomination Form'!Y343),\"\",'Scholars Nomination Form'!Y343)","v":""},{"$f":"IF(ISBLANK('Scholars Nomination Form'!Z343),\"\",'Scholars Nomination Form'!Z343)","v":""},{"$f":"IF(ISBLANK('Scholars Nomination Form'!AA343),\"\",'Scholars Nomination Form'!AA343)","v":""}]
[{"$f":"IF(ISBLANK('Scholars Nomination Form'!$F344),\"\",'Scholars Nomination Form'!$C$11)","v":""},{"$f":"IF(ISBLANK('Scholars Nomination Form'!$F344),\"\",'Scholars Nomination Form'!$C$12)","v":""},{"$f":"IF(ISBLANK('Scholars Nomination Form'!$F344),\"\",'Scholars Nomination Form'!$C$13)","v":""},{"$f":"IF(ISBLANK('Scholars Nomination Form'!$F344),\"\",'Scholars Nomination Form'!$C$14)","v":""},{"$f":"IF(ISBLANK('Scholars Nomination Form'!$F344),\"\",'Scholars Nomination Form'!$C$15)","v":""},{"$f":"IF(ISBLANK('Scholars Nomination Form'!$F344),\"\",'Scholars Nomination Form'!$C$16)","v":""},{"$f":"IF(ISBLANK('Scholars Nomination Form'!B344),\"\",'Scholars Nomination Form'!B344)","v":""},{"$f":"IF(ISBLANK('Scholars Nomination Form'!D344),\"\",'Scholars Nomination Form'!D344)","v":""},{"$f":"IF(ISBLANK('Scholars Nomination Form'!E344),\"\",'Scholars Nomination Form'!E344)","v":""},{"$f":"IF(ISBLANK('Scholars Nomination Form'!F344),\"\",'Scholars Nomination Form'!F344)","v":""},{"$f":"IF(ISBLANK('Scholars Nomination Form'!G344),\"\",'Scholars Nomination Form'!G344)","v":""},{"$f":"IF(ISBLANK('Scholars Nomination Form'!H344),\"\",'Scholars Nomination Form'!H344)","v":""},{"$f":"IF(ISBLANK('Scholars Nomination Form'!I344),\"\",'Scholars Nomination Form'!I344)","v":""},{"$f":"IF(ISBLANK('Scholars Nomination Form'!J344),\"\",'Scholars Nomination Form'!J344)","v":""},{"$f":"IF(ISBLANK('Scholars Nomination Form'!K344),\"\",'Scholars Nomination Form'!K344)","v":""},{"$f":"IF(ISBLANK('Scholars Nomination Form'!L344),\"\",'Scholars Nomination Form'!L344)","v":""},{"$f":"IF(ISBLANK('Scholars Nomination Form'!M344),\"\",'Scholars Nomination Form'!M344)","v":""},{"$f":"IF(ISBLANK('Scholars Nomination Form'!N344),\"\",'Scholars Nomination Form'!N344)","v":""},{"$f":"IF(ISBLANK('Scholars Nomination Form'!O344),\"\",'Scholars Nomination Form'!O344)","v":""},{"$f":"IF(ISBLANK('Scholars Nomination Form'!P344),\"\",'Scholars Nomination Form'!P344)","v":""},{"$f":"IF(ISBLANK('Scholars Nomination Form'!Q344),\"\",'Scholars Nomination Form'!Q344)","v":""},{"$f":"IF(ISBLANK('Scholars Nomination Form'!R344),\"\",'Scholars Nomination Form'!R344)","v":""},{"$f":"IF(ISBLANK('Scholars Nomination Form'!S344),\"\",'Scholars Nomination Form'!S344)","v":""},{"$f":"IF(ISBLANK('Scholars Nomination Form'!T344),\"\",'Scholars Nomination Form'!T344)","v":""},{"$f":"IF(ISBLANK('Scholars Nomination Form'!U344),\"\",'Scholars Nomination Form'!U344)","v":""},{"$f":"IF(ISBLANK('Scholars Nomination Form'!V344),\"\",'Scholars Nomination Form'!V344)","v":""},{"$f":"IF(ISBLANK('Scholars Nomination Form'!W344),\"\",'Scholars Nomination Form'!W344)","v":""},{"$f":"IF(ISBLANK('Scholars Nomination Form'!X344),\"\",'Scholars Nomination Form'!X344)","v":""},{"$f":"IF(ISBLANK('Scholars Nomination Form'!Y344),\"\",'Scholars Nomination Form'!Y344)","v":""},{"$f":"IF(ISBLANK('Scholars Nomination Form'!Z344),\"\",'Scholars Nomination Form'!Z344)","v":""},{"$f":"IF(ISBLANK('Scholars Nomination Form'!AA344),\"\",'Scholars Nomination Form'!AA344)","v":""}]
[{"$f":"IF(ISBLANK('Scholars Nomination Form'!$F345),\"\",'Scholars Nomination Form'!$C$11)","v":""},{"$f":"IF(ISBLANK('Scholars Nomination Form'!$F345),\"\",'Scholars Nomination Form'!$C$12)","v":""},{"$f":"IF(ISBLANK('Scholars Nomination Form'!$F345),\"\",'Scholars Nomination Form'!$C$13)","v":""},{"$f":"IF(ISBLANK('Scholars Nomination Form'!$F345),\"\",'Scholars Nomination Form'!$C$14)","v":""},{"$f":"IF(ISBLANK('Scholars Nomination Form'!$F345),\"\",'Scholars Nomination Form'!$C$15)","v":""},{"$f":"IF(ISBLANK('Scholars Nomination Form'!$F345),\"\",'Scholars Nomination Form'!$C$16)","v":""},{"$f":"IF(ISBLANK('Scholars Nomination Form'!B345),\"\",'Scholars Nomination Form'!B345)","v":""},{"$f":"IF(ISBLANK('Scholars Nomination Form'!D345),\"\",'Scholars Nomination Form'!D345)","v":""},{"$f":"IF(ISBLANK('Scholars Nomination Form'!E345),\"\",'Scholars Nomination Form'!E345)","v":""},{"$f":"IF(ISBLANK('Scholars Nomination Form'!F345),\"\",'Scholars Nomination Form'!F345)","v":""},{"$f":"IF(ISBLANK('Scholars Nomination Form'!G345),\"\",'Scholars Nomination Form'!G345)","v":""},{"$f":"IF(ISBLANK('Scholars Nomination Form'!H345),\"\",'Scholars Nomination Form'!H345)","v":""},{"$f":"IF(ISBLANK('Scholars Nomination Form'!I345),\"\",'Scholars Nomination Form'!I345)","v":""},{"$f":"IF(ISBLANK('Scholars Nomination Form'!J345),\"\",'Scholars Nomination Form'!J345)","v":""},{"$f":"IF(ISBLANK('Scholars Nomination Form'!K345),\"\",'Scholars Nomination Form'!K345)","v":""},{"$f":"IF(ISBLANK('Scholars Nomination Form'!L345),\"\",'Scholars Nomination Form'!L345)","v":""},{"$f":"IF(ISBLANK('Scholars Nomination Form'!M345),\"\",'Scholars Nomination Form'!M345)","v":""},{"$f":"IF(ISBLANK('Scholars Nomination Form'!N345),\"\",'Scholars Nomination Form'!N345)","v":""},{"$f":"IF(ISBLANK('Scholars Nomination Form'!O345),\"\",'Scholars Nomination Form'!O345)","v":""},{"$f":"IF(ISBLANK('Scholars Nomination Form'!P345),\"\",'Scholars Nomination Form'!P345)","v":""},{"$f":"IF(ISBLANK('Scholars Nomination Form'!Q345),\"\",'Scholars Nomination Form'!Q345)","v":""},{"$f":"IF(ISBLANK('Scholars Nomination Form'!R345),\"\",'Scholars Nomination Form'!R345)","v":""},{"$f":"IF(ISBLANK('Scholars Nomination Form'!S345),\"\",'Scholars Nomination Form'!S345)","v":""},{"$f":"IF(ISBLANK('Scholars Nomination Form'!T345),\"\",'Scholars Nomination Form'!T345)","v":""},{"$f":"IF(ISBLANK('Scholars Nomination Form'!U345),\"\",'Scholars Nomination Form'!U345)","v":""},{"$f":"IF(ISBLANK('Scholars Nomination Form'!V345),\"\",'Scholars Nomination Form'!V345)","v":""},{"$f":"IF(ISBLANK('Scholars Nomination Form'!W345),\"\",'Scholars Nomination Form'!W345)","v":""},{"$f":"IF(ISBLANK('Scholars Nomination Form'!X345),\"\",'Scholars Nomination Form'!X345)","v":""},{"$f":"IF(ISBLANK('Scholars Nomination Form'!Y345),\"\",'Scholars Nomination Form'!Y345)","v":""},{"$f":"IF(ISBLANK('Scholars Nomination Form'!Z345),\"\",'Scholars Nomination Form'!Z345)","v":""},{"$f":"IF(ISBLANK('Scholars Nomination Form'!AA345),\"\",'Scholars Nomination Form'!AA345)","v":""}]
[{"$f":"IF(ISBLANK('Scholars Nomination Form'!$F346),\"\",'Scholars Nomination Form'!$C$11)","v":""},{"$f":"IF(ISBLANK('Scholars Nomination Form'!$F346),\"\",'Scholars Nomination Form'!$C$12)","v":""},{"$f":"IF(ISBLANK('Scholars Nomination Form'!$F346),\"\",'Scholars Nomination Form'!$C$13)","v":""},{"$f":"IF(ISBLANK('Scholars Nomination Form'!$F346),\"\",'Scholars Nomination Form'!$C$14)","v":""},{"$f":"IF(ISBLANK('Scholars Nomination Form'!$F346),\"\",'Scholars Nomination Form'!$C$15)","v":""},{"$f":"IF(ISBLANK('Scholars Nomination Form'!$F346),\"\",'Scholars Nomination Form'!$C$16)","v":""},{"$f":"IF(ISBLANK('Scholars Nomination Form'!B346),\"\",'Scholars Nomination Form'!B346)","v":""},{"$f":"IF(ISBLANK('Scholars Nomination Form'!D346),\"\",'Scholars Nomination Form'!D346)","v":""},{"$f":"IF(ISBLANK('Scholars Nomination Form'!E346),\"\",'Scholars Nomination Form'!E346)","v":""},{"$f":"IF(ISBLANK('Scholars Nomination Form'!F346),\"\",'Scholars Nomination Form'!F346)","v":""},{"$f":"IF(ISBLANK('Scholars Nomination Form'!G346),\"\",'Scholars Nomination Form'!G346)","v":""},{"$f":"IF(ISBLANK('Scholars Nomination Form'!H346),\"\",'Scholars Nomination Form'!H346)","v":""},{"$f":"IF(ISBLANK('Scholars Nomination Form'!I346),\"\",'Scholars Nomination Form'!I346)","v":""},{"$f":"IF(ISBLANK('Scholars Nomination Form'!J346),\"\",'Scholars Nomination Form'!J346)","v":""},{"$f":"IF(ISBLANK('Scholars Nomination Form'!K346),\"\",'Scholars Nomination Form'!K346)","v":""},{"$f":"IF(ISBLANK('Scholars Nomination Form'!L346),\"\",'Scholars Nomination Form'!L346)","v":""},{"$f":"IF(ISBLANK('Scholars Nomination Form'!M346),\"\",'Scholars Nomination Form'!M346)","v":""},{"$f":"IF(ISBLANK('Scholars Nomination Form'!N346),\"\",'Scholars Nomination Form'!N346)","v":""},{"$f":"IF(ISBLANK('Scholars Nomination Form'!O346),\"\",'Scholars Nomination Form'!O346)","v":""},{"$f":"IF(ISBLANK('Scholars Nomination Form'!P346),\"\",'Scholars Nomination Form'!P346)","v":""},{"$f":"IF(ISBLANK('Scholars Nomination Form'!Q346),\"\",'Scholars Nomination Form'!Q346)","v":""},{"$f":"IF(ISBLANK('Scholars Nomination Form'!R346),\"\",'Scholars Nomination Form'!R346)","v":""},{"$f":"IF(ISBLANK('Scholars Nomination Form'!S346),\"\",'Scholars Nomination Form'!S346)","v":""},{"$f":"IF(ISBLANK('Scholars Nomination Form'!T346),\"\",'Scholars Nomination Form'!T346)","v":""},{"$f":"IF(ISBLANK('Scholars Nomination Form'!U346),\"\",'Scholars Nomination Form'!U346)","v":""},{"$f":"IF(ISBLANK('Scholars Nomination Form'!V346),\"\",'Scholars Nomination Form'!V346)","v":""},{"$f":"IF(ISBLANK('Scholars Nomination Form'!W346),\"\",'Scholars Nomination Form'!W346)","v":""},{"$f":"IF(ISBLANK('Scholars Nomination Form'!X346),\"\",'Scholars Nomination Form'!X346)","v":""},{"$f":"IF(ISBLANK('Scholars Nomination Form'!Y346),\"\",'Scholars Nomination Form'!Y346)","v":""},{"$f":"IF(ISBLANK('Scholars Nomination Form'!Z346),\"\",'Scholars Nomination Form'!Z346)","v":""},{"$f":"IF(ISBLANK('Scholars Nomination Form'!AA346),\"\",'Scholars Nomination Form'!AA346)","v":""}]
[{"$f":"IF(ISBLANK('Scholars Nomination Form'!$F347),\"\",'Scholars Nomination Form'!$C$11)","v":""},{"$f":"IF(ISBLANK('Scholars Nomination Form'!$F347),\"\",'Scholars Nomination Form'!$C$12)","v":""},{"$f":"IF(ISBLANK('Scholars Nomination Form'!$F347),\"\",'Scholars Nomination Form'!$C$13)","v":""},{"$f":"IF(ISBLANK('Scholars Nomination Form'!$F347),\"\",'Scholars Nomination Form'!$C$14)","v":""},{"$f":"IF(ISBLANK('Scholars Nomination Form'!$F347),\"\",'Scholars Nomination Form'!$C$15)","v":""},{"$f":"IF(ISBLANK('Scholars Nomination Form'!$F347),\"\",'Scholars Nomination Form'!$C$16)","v":""},{"$f":"IF(ISBLANK('Scholars Nomination Form'!B347),\"\",'Scholars Nomination Form'!B347)","v":""},{"$f":"IF(ISBLANK('Scholars Nomination Form'!D347),\"\",'Scholars Nomination Form'!D347)","v":""},{"$f":"IF(ISBLANK('Scholars Nomination Form'!E347),\"\",'Scholars Nomination Form'!E347)","v":""},{"$f":"IF(ISBLANK('Scholars Nomination Form'!F347),\"\",'Scholars Nomination Form'!F347)","v":""},{"$f":"IF(ISBLANK('Scholars Nomination Form'!G347),\"\",'Scholars Nomination Form'!G347)","v":""},{"$f":"IF(ISBLANK('Scholars Nomination Form'!H347),\"\",'Scholars Nomination Form'!H347)","v":""},{"$f":"IF(ISBLANK('Scholars Nomination Form'!I347),\"\",'Scholars Nomination Form'!I347)","v":""},{"$f":"IF(ISBLANK('Scholars Nomination Form'!J347),\"\",'Scholars Nomination Form'!J347)","v":""},{"$f":"IF(ISBLANK('Scholars Nomination Form'!K347),\"\",'Scholars Nomination Form'!K347)","v":""},{"$f":"IF(ISBLANK('Scholars Nomination Form'!L347),\"\",'Scholars Nomination Form'!L347)","v":""},{"$f":"IF(ISBLANK('Scholars Nomination Form'!M347),\"\",'Scholars Nomination Form'!M347)","v":""},{"$f":"IF(ISBLANK('Scholars Nomination Form'!N347),\"\",'Scholars Nomination Form'!N347)","v":""},{"$f":"IF(ISBLANK('Scholars Nomination Form'!O347),\"\",'Scholars Nomination Form'!O347)","v":""},{"$f":"IF(ISBLANK('Scholars Nomination Form'!P347),\"\",'Scholars Nomination Form'!P347)","v":""},{"$f":"IF(ISBLANK('Scholars Nomination Form'!Q347),\"\",'Scholars Nomination Form'!Q347)","v":""},{"$f":"IF(ISBLANK('Scholars Nomination Form'!R347),\"\",'Scholars Nomination Form'!R347)","v":""},{"$f":"IF(ISBLANK('Scholars Nomination Form'!S347),\"\",'Scholars Nomination Form'!S347)","v":""},{"$f":"IF(ISBLANK('Scholars Nomination Form'!T347),\"\",'Scholars Nomination Form'!T347)","v":""},{"$f":"IF(ISBLANK('Scholars Nomination Form'!U347),\"\",'Scholars Nomination Form'!U347)","v":""},{"$f":"IF(ISBLANK('Scholars Nomination Form'!V347),\"\",'Scholars Nomination Form'!V347)","v":""},{"$f":"IF(ISBLANK('Scholars Nomination Form'!W347),\"\",'Scholars Nomination Form'!W347)","v":""},{"$f":"IF(ISBLANK('Scholars Nomination Form'!X347),\"\",'Scholars Nomination Form'!X347)","v":""},{"$f":"IF(ISBLANK('Scholars Nomination Form'!Y347),\"\",'Scholars Nomination Form'!Y347)","v":""},{"$f":"IF(ISBLANK('Scholars Nomination Form'!Z347),\"\",'Scholars Nomination Form'!Z347)","v":""},{"$f":"IF(ISBLANK('Scholars Nomination Form'!AA347),\"\",'Scholars Nomination Form'!AA347)","v":""}]
[{"$f":"IF(ISBLANK('Scholars Nomination Form'!$F348),\"\",'Scholars Nomination Form'!$C$11)","v":""},{"$f":"IF(ISBLANK('Scholars Nomination Form'!$F348),\"\",'Scholars Nomination Form'!$C$12)","v":""},{"$f":"IF(ISBLANK('Scholars Nomination Form'!$F348),\"\",'Scholars Nomination Form'!$C$13)","v":""},{"$f":"IF(ISBLANK('Scholars Nomination Form'!$F348),\"\",'Scholars Nomination Form'!$C$14)","v":""},{"$f":"IF(ISBLANK('Scholars Nomination Form'!$F348),\"\",'Scholars Nomination Form'!$C$15)","v":""},{"$f":"IF(ISBLANK('Scholars Nomination Form'!$F348),\"\",'Scholars Nomination Form'!$C$16)","v":""},{"$f":"IF(ISBLANK('Scholars Nomination Form'!B348),\"\",'Scholars Nomination Form'!B348)","v":""},{"$f":"IF(ISBLANK('Scholars Nomination Form'!D348),\"\",'Scholars Nomination Form'!D348)","v":""},{"$f":"IF(ISBLANK('Scholars Nomination Form'!E348),\"\",'Scholars Nomination Form'!E348)","v":""},{"$f":"IF(ISBLANK('Scholars Nomination Form'!F348),\"\",'Scholars Nomination Form'!F348)","v":""},{"$f":"IF(ISBLANK('Scholars Nomination Form'!G348),\"\",'Scholars Nomination Form'!G348)","v":""},{"$f":"IF(ISBLANK('Scholars Nomination Form'!H348),\"\",'Scholars Nomination Form'!H348)","v":""},{"$f":"IF(ISBLANK('Scholars Nomination Form'!I348),\"\",'Scholars Nomination Form'!I348)","v":""},{"$f":"IF(ISBLANK('Scholars Nomination Form'!J348),\"\",'Scholars Nomination Form'!J348)","v":""},{"$f":"IF(ISBLANK('Scholars Nomination Form'!K348),\"\",'Scholars Nomination Form'!K348)","v":""},{"$f":"IF(ISBLANK('Scholars Nomination Form'!L348),\"\",'Scholars Nomination Form'!L348)","v":""},{"$f":"IF(ISBLANK('Scholars Nomination Form'!M348),\"\",'Scholars Nomination Form'!M348)","v":""},{"$f":"IF(ISBLANK('Scholars Nomination Form'!N348),\"\",'Scholars Nomination Form'!N348)","v":""},{"$f":"IF(ISBLANK('Scholars Nomination Form'!O348),\"\",'Scholars Nomination Form'!O348)","v":""},{"$f":"IF(ISBLANK('Scholars Nomination Form'!P348),\"\",'Scholars Nomination Form'!P348)","v":""},{"$f":"IF(ISBLANK('Scholars Nomination Form'!Q348),\"\",'Scholars Nomination Form'!Q348)","v":""},{"$f":"IF(ISBLANK('Scholars Nomination Form'!R348),\"\",'Scholars Nomination Form'!R348)","v":""},{"$f":"IF(ISBLANK('Scholars Nomination Form'!S348),\"\",'Scholars Nomination Form'!S348)","v":""},{"$f":"IF(ISBLANK('Scholars Nomination Form'!T348),\"\",'Scholars Nomination Form'!T348)","v":""},{"$f":"IF(ISBLANK('Scholars Nomination Form'!U348),\"\",'Scholars Nomination Form'!U348)","v":""},{"$f":"IF(ISBLANK('Scholars Nomination Form'!V348),\"\",'Scholars Nomination Form'!V348)","v":""},{"$f":"IF(ISBLANK('Scholars Nomination Form'!W348),\"\",'Scholars Nomination Form'!W348)","v":""},{"$f":"IF(ISBLANK('Scholars Nomination Form'!X348),\"\",'Scholars Nomination Form'!X348)","v":""},{"$f":"IF(ISBLANK('Scholars Nomination Form'!Y348),\"\",'Scholars Nomination Form'!Y348)","v":""},{"$f":"IF(ISBLANK('Scholars Nomination Form'!Z348),\"\",'Scholars Nomination Form'!Z348)","v":""},{"$f":"IF(ISBLANK('Scholars Nomination Form'!AA348),\"\",'Scholars Nomination Form'!AA348)","v":""}]
[{"$f":"IF(ISBLANK('Scholars Nomination Form'!$F349),\"\",'Scholars Nomination Form'!$C$11)","v":""},{"$f":"IF(ISBLANK('Scholars Nomination Form'!$F349),\"\",'Scholars Nomination Form'!$C$12)","v":""},{"$f":"IF(ISBLANK('Scholars Nomination Form'!$F349),\"\",'Scholars Nomination Form'!$C$13)","v":""},{"$f":"IF(ISBLANK('Scholars Nomination Form'!$F349),\"\",'Scholars Nomination Form'!$C$14)","v":""},{"$f":"IF(ISBLANK('Scholars Nomination Form'!$F349),\"\",'Scholars Nomination Form'!$C$15)","v":""},{"$f":"IF(ISBLANK('Scholars Nomination Form'!$F349),\"\",'Scholars Nomination Form'!$C$16)","v":""},{"$f":"IF(ISBLANK('Scholars Nomination Form'!B349),\"\",'Scholars Nomination Form'!B349)","v":""},{"$f":"IF(ISBLANK('Scholars Nomination Form'!D349),\"\",'Scholars Nomination Form'!D349)","v":""},{"$f":"IF(ISBLANK('Scholars Nomination Form'!E349),\"\",'Scholars Nomination Form'!E349)","v":""},{"$f":"IF(ISBLANK('Scholars Nomination Form'!F349),\"\",'Scholars Nomination Form'!F349)","v":""},{"$f":"IF(ISBLANK('Scholars Nomination Form'!G349),\"\",'Scholars Nomination Form'!G349)","v":""},{"$f":"IF(ISBLANK('Scholars Nomination Form'!H349),\"\",'Scholars Nomination Form'!H349)","v":""},{"$f":"IF(ISBLANK('Scholars Nomination Form'!I349),\"\",'Scholars Nomination Form'!I349)","v":""},{"$f":"IF(ISBLANK('Scholars Nomination Form'!J349),\"\",'Scholars Nomination Form'!J349)","v":""},{"$f":"IF(ISBLANK('Scholars Nomination Form'!K349),\"\",'Scholars Nomination Form'!K349)","v":""},{"$f":"IF(ISBLANK('Scholars Nomination Form'!L349),\"\",'Scholars Nomination Form'!L349)","v":""},{"$f":"IF(ISBLANK('Scholars Nomination Form'!M349),\"\",'Scholars Nomination Form'!M349)","v":""},{"$f":"IF(ISBLANK('Scholars Nomination Form'!N349),\"\",'Scholars Nomination Form'!N349)","v":""},{"$f":"IF(ISBLANK('Scholars Nomination Form'!O349),\"\",'Scholars Nomination Form'!O349)","v":""},{"$f":"IF(ISBLANK('Scholars Nomination Form'!P349),\"\",'Scholars Nomination Form'!P349)","v":""},{"$f":"IF(ISBLANK('Scholars Nomination Form'!Q349),\"\",'Scholars Nomination Form'!Q349)","v":""},{"$f":"IF(ISBLANK('Scholars Nomination Form'!R349),\"\",'Scholars Nomination Form'!R349)","v":""},{"$f":"IF(ISBLANK('Scholars Nomination Form'!S349),\"\",'Scholars Nomination Form'!S349)","v":""},{"$f":"IF(ISBLANK('Scholars Nomination Form'!T349),\"\",'Scholars Nomination Form'!T349)","v":""},{"$f":"IF(ISBLANK('Scholars Nomination Form'!U349),\"\",'Scholars Nomination Form'!U349)","v":""},{"$f":"IF(ISBLANK('Scholars Nomination Form'!V349),\"\",'Scholars Nomination Form'!V349)","v":""},{"$f":"IF(ISBLANK('Scholars Nomination Form'!W349),\"\",'Scholars Nomination Form'!W349)","v":""},{"$f":"IF(ISBLANK('Scholars Nomination Form'!X349),\"\",'Scholars Nomination Form'!X349)","v":""},{"$f":"IF(ISBLANK('Scholars Nomination Form'!Y349),\"\",'Scholars Nomination Form'!Y349)","v":""},{"$f":"IF(ISBLANK('Scholars Nomination Form'!Z349),\"\",'Scholars Nomination Form'!Z349)","v":""},{"$f":"IF(ISBLANK('Scholars Nomination Form'!AA349),\"\",'Scholars Nomination Form'!AA349)","v":""}]
[{"$f":"IF(ISBLANK('Scholars Nomination Form'!$F350),\"\",'Scholars Nomination Form'!$C$11)","v":""},{"$f":"IF(ISBLANK('Scholars Nomination Form'!$F350),\"\",'Scholars Nomination Form'!$C$12)","v":""},{"$f":"IF(ISBLANK('Scholars Nomination Form'!$F350),\"\",'Scholars Nomination Form'!$C$13)","v":""},{"$f":"IF(ISBLANK('Scholars Nomination Form'!$F350),\"\",'Scholars Nomination Form'!$C$14)","v":""},{"$f":"IF(ISBLANK('Scholars Nomination Form'!$F350),\"\",'Scholars Nomination Form'!$C$15)","v":""},{"$f":"IF(ISBLANK('Scholars Nomination Form'!$F350),\"\",'Scholars Nomination Form'!$C$16)","v":""},{"$f":"IF(ISBLANK('Scholars Nomination Form'!B350),\"\",'Scholars Nomination Form'!B350)","v":""},{"$f":"IF(ISBLANK('Scholars Nomination Form'!D350),\"\",'Scholars Nomination Form'!D350)","v":""},{"$f":"IF(ISBLANK('Scholars Nomination Form'!E350),\"\",'Scholars Nomination Form'!E350)","v":""},{"$f":"IF(ISBLANK('Scholars Nomination Form'!F350),\"\",'Scholars Nomination Form'!F350)","v":""},{"$f":"IF(ISBLANK('Scholars Nomination Form'!G350),\"\",'Scholars Nomination Form'!G350)","v":""},{"$f":"IF(ISBLANK('Scholars Nomination Form'!H350),\"\",'Scholars Nomination Form'!H350)","v":""},{"$f":"IF(ISBLANK('Scholars Nomination Form'!I350),\"\",'Scholars Nomination Form'!I350)","v":""},{"$f":"IF(ISBLANK('Scholars Nomination Form'!J350),\"\",'Scholars Nomination Form'!J350)","v":""},{"$f":"IF(ISBLANK('Scholars Nomination Form'!K350),\"\",'Scholars Nomination Form'!K350)","v":""},{"$f":"IF(ISBLANK('Scholars Nomination Form'!L350),\"\",'Scholars Nomination Form'!L350)","v":""},{"$f":"IF(ISBLANK('Scholars Nomination Form'!M350),\"\",'Scholars Nomination Form'!M350)","v":""},{"$f":"IF(ISBLANK('Scholars Nomination Form'!N350),\"\",'Scholars Nomination Form'!N350)","v":""},{"$f":"IF(ISBLANK('Scholars Nomination Form'!O350),\"\",'Scholars Nomination Form'!O350)","v":""},{"$f":"IF(ISBLANK('Scholars Nomination Form'!P350),\"\",'Scholars Nomination Form'!P350)","v":""},{"$f":"IF(ISBLANK('Scholars Nomination Form'!Q350),\"\",'Scholars Nomination Form'!Q350)","v":""},{"$f":"IF(ISBLANK('Scholars Nomination Form'!R350),\"\",'Scholars Nomination Form'!R350)","v":""},{"$f":"IF(ISBLANK('Scholars Nomination Form'!S350),\"\",'Scholars Nomination Form'!S350)","v":""},{"$f":"IF(ISBLANK('Scholars Nomination Form'!T350),\"\",'Scholars Nomination Form'!T350)","v":""},{"$f":"IF(ISBLANK('Scholars Nomination Form'!U350),\"\",'Scholars Nomination Form'!U350)","v":""},{"$f":"IF(ISBLANK('Scholars Nomination Form'!V350),\"\",'Scholars Nomination Form'!V350)","v":""},{"$f":"IF(ISBLANK('Scholars Nomination Form'!W350),\"\",'Scholars Nomination Form'!W350)","v":""},{"$f":"IF(ISBLANK('Scholars Nomination Form'!X350),\"\",'Scholars Nomination Form'!X350)","v":""},{"$f":"IF(ISBLANK('Scholars Nomination Form'!Y350),\"\",'Scholars Nomination Form'!Y350)","v":""},{"$f":"IF(ISBLANK('Scholars Nomination Form'!Z350),\"\",'Scholars Nomination Form'!Z350)","v":""},{"$f":"IF(ISBLANK('Scholars Nomination Form'!AA350),\"\",'Scholars Nomination Form'!AA350)","v":""}]
[{"$f":"IF(ISBLANK('Scholars Nomination Form'!$F351),\"\",'Scholars Nomination Form'!$C$11)","v":""},{"$f":"IF(ISBLANK('Scholars Nomination Form'!$F351),\"\",'Scholars Nomination Form'!$C$12)","v":""},{"$f":"IF(ISBLANK('Scholars Nomination Form'!$F351),\"\",'Scholars Nomination Form'!$C$13)","v":""},{"$f":"IF(ISBLANK('Scholars Nomination Form'!$F351),\"\",'Scholars Nomination Form'!$C$14)","v":""},{"$f":"IF(ISBLANK('Scholars Nomination Form'!$F351),\"\",'Scholars Nomination Form'!$C$15)","v":""},{"$f":"IF(ISBLANK('Scholars Nomination Form'!$F351),\"\",'Scholars Nomination Form'!$C$16)","v":""},{"$f":"IF(ISBLANK('Scholars Nomination Form'!B351),\"\",'Scholars Nomination Form'!B351)","v":""},{"$f":"IF(ISBLANK('Scholars Nomination Form'!D351),\"\",'Scholars Nomination Form'!D351)","v":""},{"$f":"IF(ISBLANK('Scholars Nomination Form'!E351),\"\",'Scholars Nomination Form'!E351)","v":""},{"$f":"IF(ISBLANK('Scholars Nomination Form'!F351),\"\",'Scholars Nomination Form'!F351)","v":""},{"$f":"IF(ISBLANK('Scholars Nomination Form'!G351),\"\",'Scholars Nomination Form'!G351)","v":""},{"$f":"IF(ISBLANK('Scholars Nomination Form'!H351),\"\",'Scholars Nomination Form'!H351)","v":""},{"$f":"IF(ISBLANK('Scholars Nomination Form'!I351),\"\",'Scholars Nomination Form'!I351)","v":""},{"$f":"IF(ISBLANK('Scholars Nomination Form'!J351),\"\",'Scholars Nomination Form'!J351)","v":""},{"$f":"IF(ISBLANK('Scholars Nomination Form'!K351),\"\",'Scholars Nomination Form'!K351)","v":""},{"$f":"IF(ISBLANK('Scholars Nomination Form'!L351),\"\",'Scholars Nomination Form'!L351)","v":""},{"$f":"IF(ISBLANK('Scholars Nomination Form'!M351),\"\",'Scholars Nomination Form'!M351)","v":""},{"$f":"IF(ISBLANK('Scholars Nomination Form'!N351),\"\",'Scholars Nomination Form'!N351)","v":""},{"$f":"IF(ISBLANK('Scholars Nomination Form'!O351),\"\",'Scholars Nomination Form'!O351)","v":""},{"$f":"IF(ISBLANK('Scholars Nomination Form'!P351),\"\",'Scholars Nomination Form'!P351)","v":""},{"$f":"IF(ISBLANK('Scholars Nomination Form'!Q351),\"\",'Scholars Nomination Form'!Q351)","v":""},{"$f":"IF(ISBLANK('Scholars Nomination Form'!R351),\"\",'Scholars Nomination Form'!R351)","v":""},{"$f":"IF(ISBLANK('Scholars Nomination Form'!S351),\"\",'Scholars Nomination Form'!S351)","v":""},{"$f":"IF(ISBLANK('Scholars Nomination Form'!T351),\"\",'Scholars Nomination Form'!T351)","v":""},{"$f":"IF(ISBLANK('Scholars Nomination Form'!U351),\"\",'Scholars Nomination Form'!U351)","v":""},{"$f":"IF(ISBLANK('Scholars Nomination Form'!V351),\"\",'Scholars Nomination Form'!V351)","v":""},{"$f":"IF(ISBLANK('Scholars Nomination Form'!W351),\"\",'Scholars Nomination Form'!W351)","v":""},{"$f":"IF(ISBLANK('Scholars Nomination Form'!X351),\"\",'Scholars Nomination Form'!X351)","v":""},{"$f":"IF(ISBLANK('Scholars Nomination Form'!Y351),\"\",'Scholars Nomination Form'!Y351)","v":""},{"$f":"IF(ISBLANK('Scholars Nomination Form'!Z351),\"\",'Scholars Nomination Form'!Z351)","v":""},{"$f":"IF(ISBLANK('Scholars Nomination Form'!AA351),\"\",'Scholars Nomination Form'!AA351)","v":""}]
[{"$f":"IF(ISBLANK('Scholars Nomination Form'!$F352),\"\",'Scholars Nomination Form'!$C$11)","v":""},{"$f":"IF(ISBLANK('Scholars Nomination Form'!$F352),\"\",'Scholars Nomination Form'!$C$12)","v":""},{"$f":"IF(ISBLANK('Scholars Nomination Form'!$F352),\"\",'Scholars Nomination Form'!$C$13)","v":""},{"$f":"IF(ISBLANK('Scholars Nomination Form'!$F352),\"\",'Scholars Nomination Form'!$C$14)","v":""},{"$f":"IF(ISBLANK('Scholars Nomination Form'!$F352),\"\",'Scholars Nomination Form'!$C$15)","v":""},{"$f":"IF(ISBLANK('Scholars Nomination Form'!$F352),\"\",'Scholars Nomination Form'!$C$16)","v":""},{"$f":"IF(ISBLANK('Scholars Nomination Form'!B352),\"\",'Scholars Nomination Form'!B352)","v":""},{"$f":"IF(ISBLANK('Scholars Nomination Form'!D352),\"\",'Scholars Nomination Form'!D352)","v":""},{"$f":"IF(ISBLANK('Scholars Nomination Form'!E352),\"\",'Scholars Nomination Form'!E352)","v":""},{"$f":"IF(ISBLANK('Scholars Nomination Form'!F352),\"\",'Scholars Nomination Form'!F352)","v":""},{"$f":"IF(ISBLANK('Scholars Nomination Form'!G352),\"\",'Scholars Nomination Form'!G352)","v":""},{"$f":"IF(ISBLANK('Scholars Nomination Form'!H352),\"\",'Scholars Nomination Form'!H352)","v":""},{"$f":"IF(ISBLANK('Scholars Nomination Form'!I352),\"\",'Scholars Nomination Form'!I352)","v":""},{"$f":"IF(ISBLANK('Scholars Nomination Form'!J352),\"\",'Scholars Nomination Form'!J352)","v":""},{"$f":"IF(ISBLANK('Scholars Nomination Form'!K352),\"\",'Scholars Nomination Form'!K352)","v":""},{"$f":"IF(ISBLANK('Scholars Nomination Form'!L352),\"\",'Scholars Nomination Form'!L352)","v":""},{"$f":"IF(ISBLANK('Scholars Nomination Form'!M352),\"\",'Scholars Nomination Form'!M352)","v":""},{"$f":"IF(ISBLANK('Scholars Nomination Form'!N352),\"\",'Scholars Nomination Form'!N352)","v":""},{"$f":"IF(ISBLANK('Scholars Nomination Form'!O352),\"\",'Scholars Nomination Form'!O352)","v":""},{"$f":"IF(ISBLANK('Scholars Nomination Form'!P352),\"\",'Scholars Nomination Form'!P352)","v":""},{"$f":"IF(ISBLANK('Scholars Nomination Form'!Q352),\"\",'Scholars Nomination Form'!Q352)","v":""},{"$f":"IF(ISBLANK('Scholars Nomination Form'!R352),\"\",'Scholars Nomination Form'!R352)","v":""},{"$f":"IF(ISBLANK('Scholars Nomination Form'!S352),\"\",'Scholars Nomination Form'!S352)","v":""},{"$f":"IF(ISBLANK('Scholars Nomination Form'!T352),\"\",'Scholars Nomination Form'!T352)","v":""},{"$f":"IF(ISBLANK('Scholars Nomination Form'!U352),\"\",'Scholars Nomination Form'!U352)","v":""},{"$f":"IF(ISBLANK('Scholars Nomination Form'!V352),\"\",'Scholars Nomination Form'!V352)","v":""},{"$f":"IF(ISBLANK('Scholars Nomination Form'!W352),\"\",'Scholars Nomination Form'!W352)","v":""},{"$f":"IF(ISBLANK('Scholars Nomination Form'!X352),\"\",'Scholars Nomination Form'!X352)","v":""},{"$f":"IF(ISBLANK('Scholars Nomination Form'!Y352),\"\",'Scholars Nomination Form'!Y352)","v":""},{"$f":"IF(ISBLANK('Scholars Nomination Form'!Z352),\"\",'Scholars Nomination Form'!Z352)","v":""},{"$f":"IF(ISBLANK('Scholars Nomination Form'!AA352),\"\",'Scholars Nomination Form'!AA352)","v":""}]
[{"$f":"IF(ISBLANK('Scholars Nomination Form'!$F353),\"\",'Scholars Nomination Form'!$C$11)","v":""},{"$f":"IF(ISBLANK('Scholars Nomination Form'!$F353),\"\",'Scholars Nomination Form'!$C$12)","v":""},{"$f":"IF(ISBLANK('Scholars Nomination Form'!$F353),\"\",'Scholars Nomination Form'!$C$13)","v":""},{"$f":"IF(ISBLANK('Scholars Nomination Form'!$F353),\"\",'Scholars Nomination Form'!$C$14)","v":""},{"$f":"IF(ISBLANK('Scholars Nomination Form'!$F353),\"\",'Scholars Nomination Form'!$C$15)","v":""},{"$f":"IF(ISBLANK('Scholars Nomination Form'!$F353),\"\",'Scholars Nomination Form'!$C$16)","v":""},{"$f":"IF(ISBLANK('Scholars Nomination Form'!B353),\"\",'Scholars Nomination Form'!B353)","v":""},{"$f":"IF(ISBLANK('Scholars Nomination Form'!D353),\"\",'Scholars Nomination Form'!D353)","v":""},{"$f":"IF(ISBLANK('Scholars Nomination Form'!E353),\"\",'Scholars Nomination Form'!E353)","v":""},{"$f":"IF(ISBLANK('Scholars Nomination Form'!F353),\"\",'Scholars Nomination Form'!F353)","v":""},{"$f":"IF(ISBLANK('Scholars Nomination Form'!G353),\"\",'Scholars Nomination Form'!G353)","v":""},{"$f":"IF(ISBLANK('Scholars Nomination Form'!H353),\"\",'Scholars Nomination Form'!H353)","v":""},{"$f":"IF(ISBLANK('Scholars Nomination Form'!I353),\"\",'Scholars Nomination Form'!I353)","v":""},{"$f":"IF(ISBLANK('Scholars Nomination Form'!J353),\"\",'Scholars Nomination Form'!J353)","v":""},{"$f":"IF(ISBLANK('Scholars Nomination Form'!K353),\"\",'Scholars Nomination Form'!K353)","v":""},{"$f":"IF(ISBLANK('Scholars Nomination Form'!L353),\"\",'Scholars Nomination Form'!L353)","v":""},{"$f":"IF(ISBLANK('Scholars Nomination Form'!M353),\"\",'Scholars Nomination Form'!M353)","v":""},{"$f":"IF(ISBLANK('Scholars Nomination Form'!N353),\"\",'Scholars Nomination Form'!N353)","v":""},{"$f":"IF(ISBLANK('Scholars Nomination Form'!O353),\"\",'Scholars Nomination Form'!O353)","v":""},{"$f":"IF(ISBLANK('Scholars Nomination Form'!P353),\"\",'Scholars Nomination Form'!P353)","v":""},{"$f":"IF(ISBLANK('Scholars Nomination Form'!Q353),\"\",'Scholars Nomination Form'!Q353)","v":""},{"$f":"IF(ISBLANK('Scholars Nomination Form'!R353),\"\",'Scholars Nomination Form'!R353)","v":""},{"$f":"IF(ISBLANK('Scholars Nomination Form'!S353),\"\",'Scholars Nomination Form'!S353)","v":""},{"$f":"IF(ISBLANK('Scholars Nomination Form'!T353),\"\",'Scholars Nomination Form'!T353)","v":""},{"$f":"IF(ISBLANK('Scholars Nomination Form'!U353),\"\",'Scholars Nomination Form'!U353)","v":""},{"$f":"IF(ISBLANK('Scholars Nomination Form'!V353),\"\",'Scholars Nomination Form'!V353)","v":""},{"$f":"IF(ISBLANK('Scholars Nomination Form'!W353),\"\",'Scholars Nomination Form'!W353)","v":""},{"$f":"IF(ISBLANK('Scholars Nomination Form'!X353),\"\",'Scholars Nomination Form'!X353)","v":""},{"$f":"IF(ISBLANK('Scholars Nomination Form'!Y353),\"\",'Scholars Nomination Form'!Y353)","v":""},{"$f":"IF(ISBLANK('Scholars Nomination Form'!Z353),\"\",'Scholars Nomination Form'!Z353)","v":""},{"$f":"IF(ISBLANK('Scholars Nomination Form'!AA353),\"\",'Scholars Nomination Form'!AA353)","v":""}]
[{"$f":"IF(ISBLANK('Scholars Nomination Form'!$F354),\"\",'Scholars Nomination Form'!$C$11)","v":""},{"$f":"IF(ISBLANK('Scholars Nomination Form'!$F354),\"\",'Scholars Nomination Form'!$C$12)","v":""},{"$f":"IF(ISBLANK('Scholars Nomination Form'!$F354),\"\",'Scholars Nomination Form'!$C$13)","v":""},{"$f":"IF(ISBLANK('Scholars Nomination Form'!$F354),\"\",'Scholars Nomination Form'!$C$14)","v":""},{"$f":"IF(ISBLANK('Scholars Nomination Form'!$F354),\"\",'Scholars Nomination Form'!$C$15)","v":""},{"$f":"IF(ISBLANK('Scholars Nomination Form'!$F354),\"\",'Scholars Nomination Form'!$C$16)","v":""},{"$f":"IF(ISBLANK('Scholars Nomination Form'!B354),\"\",'Scholars Nomination Form'!B354)","v":""},{"$f":"IF(ISBLANK('Scholars Nomination Form'!D354),\"\",'Scholars Nomination Form'!D354)","v":""},{"$f":"IF(ISBLANK('Scholars Nomination Form'!E354),\"\",'Scholars Nomination Form'!E354)","v":""},{"$f":"IF(ISBLANK('Scholars Nomination Form'!F354),\"\",'Scholars Nomination Form'!F354)","v":""},{"$f":"IF(ISBLANK('Scholars Nomination Form'!G354),\"\",'Scholars Nomination Form'!G354)","v":""},{"$f":"IF(ISBLANK('Scholars Nomination Form'!H354),\"\",'Scholars Nomination Form'!H354)","v":""},{"$f":"IF(ISBLANK('Scholars Nomination Form'!I354),\"\",'Scholars Nomination Form'!I354)","v":""},{"$f":"IF(ISBLANK('Scholars Nomination Form'!J354),\"\",'Scholars Nomination Form'!J354)","v":""},{"$f":"IF(ISBLANK('Scholars Nomination Form'!K354),\"\",'Scholars Nomination Form'!K354)","v":""},{"$f":"IF(ISBLANK('Scholars Nomination Form'!L354),\"\",'Scholars Nomination Form'!L354)","v":""},{"$f":"IF(ISBLANK('Scholars Nomination Form'!M354),\"\",'Scholars Nomination Form'!M354)","v":""},{"$f":"IF(ISBLANK('Scholars Nomination Form'!N354),\"\",'Scholars Nomination Form'!N354)","v":""},{"$f":"IF(ISBLANK('Scholars Nomination Form'!O354),\"\",'Scholars Nomination Form'!O354)","v":""},{"$f":"IF(ISBLANK('Scholars Nomination Form'!P354),\"\",'Scholars Nomination Form'!P354)","v":""},{"$f":"IF(ISBLANK('Scholars Nomination Form'!Q354),\"\",'Scholars Nomination Form'!Q354)","v":""},{"$f":"IF(ISBLANK('Scholars Nomination Form'!R354),\"\",'Scholars Nomination Form'!R354)","v":""},{"$f":"IF(ISBLANK('Scholars Nomination Form'!S354),\"\",'Scholars Nomination Form'!S354)","v":""},{"$f":"IF(ISBLANK('Scholars Nomination Form'!T354),\"\",'Scholars Nomination Form'!T354)","v":""},{"$f":"IF(ISBLANK('Scholars Nomination Form'!U354),\"\",'Scholars Nomination Form'!U354)","v":""},{"$f":"IF(ISBLANK('Scholars Nomination Form'!V354),\"\",'Scholars Nomination Form'!V354)","v":""},{"$f":"IF(ISBLANK('Scholars Nomination Form'!W354),\"\",'Scholars Nomination Form'!W354)","v":""},{"$f":"IF(ISBLANK('Scholars Nomination Form'!X354),\"\",'Scholars Nomination Form'!X354)","v":""},{"$f":"IF(ISBLANK('Scholars Nomination Form'!Y354),\"\",'Scholars Nomination Form'!Y354)","v":""},{"$f":"IF(ISBLANK('Scholars Nomination Form'!Z354),\"\",'Scholars Nomination Form'!Z354)","v":""},{"$f":"IF(ISBLANK('Scholars Nomination Form'!AA354),\"\",'Scholars Nomination Form'!AA354)","v":""}]
[{"$f":"IF(ISBLANK('Scholars Nomination Form'!$F355),\"\",'Scholars Nomination Form'!$C$11)","v":""},{"$f":"IF(ISBLANK('Scholars Nomination Form'!$F355),\"\",'Scholars Nomination Form'!$C$12)","v":""},{"$f":"IF(ISBLANK('Scholars Nomination Form'!$F355),\"\",'Scholars Nomination Form'!$C$13)","v":""},{"$f":"IF(ISBLANK('Scholars Nomination Form'!$F355),\"\",'Scholars Nomination Form'!$C$14)","v":""},{"$f":"IF(ISBLANK('Scholars Nomination Form'!$F355),\"\",'Scholars Nomination Form'!$C$15)","v":""},{"$f":"IF(ISBLANK('Scholars Nomination Form'!$F355),\"\",'Scholars Nomination Form'!$C$16)","v":""},{"$f":"IF(ISBLANK('Scholars Nomination Form'!B355),\"\",'Scholars Nomination Form'!B355)","v":""},{"$f":"IF(ISBLANK('Scholars Nomination Form'!D355),\"\",'Scholars Nomination Form'!D355)","v":""},{"$f":"IF(ISBLANK('Scholars Nomination Form'!E355),\"\",'Scholars Nomination Form'!E355)","v":""},{"$f":"IF(ISBLANK('Scholars Nomination Form'!F355),\"\",'Scholars Nomination Form'!F355)","v":""},{"$f":"IF(ISBLANK('Scholars Nomination Form'!G355),\"\",'Scholars Nomination Form'!G355)","v":""},{"$f":"IF(ISBLANK('Scholars Nomination Form'!H355),\"\",'Scholars Nomination Form'!H355)","v":""},{"$f":"IF(ISBLANK('Scholars Nomination Form'!I355),\"\",'Scholars Nomination Form'!I355)","v":""},{"$f":"IF(ISBLANK('Scholars Nomination Form'!J355),\"\",'Scholars Nomination Form'!J355)","v":""},{"$f":"IF(ISBLANK('Scholars Nomination Form'!K355),\"\",'Scholars Nomination Form'!K355)","v":""},{"$f":"IF(ISBLANK('Scholars Nomination Form'!L355),\"\",'Scholars Nomination Form'!L355)","v":""},{"$f":"IF(ISBLANK('Scholars Nomination Form'!M355),\"\",'Scholars Nomination Form'!M355)","v":""},{"$f":"IF(ISBLANK('Scholars Nomination Form'!N355),\"\",'Scholars Nomination Form'!N355)","v":""},{"$f":"IF(ISBLANK('Scholars Nomination Form'!O355),\"\",'Scholars Nomination Form'!O355)","v":""},{"$f":"IF(ISBLANK('Scholars Nomination Form'!P355),\"\",'Scholars Nomination Form'!P355)","v":""},{"$f":"IF(ISBLANK('Scholars Nomination Form'!Q355),\"\",'Scholars Nomination Form'!Q355)","v":""},{"$f":"IF(ISBLANK('Scholars Nomination Form'!R355),\"\",'Scholars Nomination Form'!R355)","v":""},{"$f":"IF(ISBLANK('Scholars Nomination Form'!S355),\"\",'Scholars Nomination Form'!S355)","v":""},{"$f":"IF(ISBLANK('Scholars Nomination Form'!T355),\"\",'Scholars Nomination Form'!T355)","v":""},{"$f":"IF(ISBLANK('Scholars Nomination Form'!U355),\"\",'Scholars Nomination Form'!U355)","v":""},{"$f":"IF(ISBLANK('Scholars Nomination Form'!V355),\"\",'Scholars Nomination Form'!V355)","v":""},{"$f":"IF(ISBLANK('Scholars Nomination Form'!W355),\"\",'Scholars Nomination Form'!W355)","v":""},{"$f":"IF(ISBLANK('Scholars Nomination Form'!X355),\"\",'Scholars Nomination Form'!X355)","v":""},{"$f":"IF(ISBLANK('Scholars Nomination Form'!Y355),\"\",'Scholars Nomination Form'!Y355)","v":""},{"$f":"IF(ISBLANK('Scholars Nomination Form'!Z355),\"\",'Scholars Nomination Form'!Z355)","v":""},{"$f":"IF(ISBLANK('Scholars Nomination Form'!AA355),\"\",'Scholars Nomination Form'!AA355)","v":""}]
[{"$f":"IF(ISBLANK('Scholars Nomination Form'!$F356),\"\",'Scholars Nomination Form'!$C$11)","v":""},{"$f":"IF(ISBLANK('Scholars Nomination Form'!$F356),\"\",'Scholars Nomination Form'!$C$12)","v":""},{"$f":"IF(ISBLANK('Scholars Nomination Form'!$F356),\"\",'Scholars Nomination Form'!$C$13)","v":""},{"$f":"IF(ISBLANK('Scholars Nomination Form'!$F356),\"\",'Scholars Nomination Form'!$C$14)","v":""},{"$f":"IF(ISBLANK('Scholars Nomination Form'!$F356),\"\",'Scholars Nomination Form'!$C$15)","v":""},{"$f":"IF(ISBLANK('Scholars Nomination Form'!$F356),\"\",'Scholars Nomination Form'!$C$16)","v":""},{"$f":"IF(ISBLANK('Scholars Nomination Form'!B356),\"\",'Scholars Nomination Form'!B356)","v":""},{"$f":"IF(ISBLANK('Scholars Nomination Form'!D356),\"\",'Scholars Nomination Form'!D356)","v":""},{"$f":"IF(ISBLANK('Scholars Nomination Form'!E356),\"\",'Scholars Nomination Form'!E356)","v":""},{"$f":"IF(ISBLANK('Scholars Nomination Form'!F356),\"\",'Scholars Nomination Form'!F356)","v":""},{"$f":"IF(ISBLANK('Scholars Nomination Form'!G356),\"\",'Scholars Nomination Form'!G356)","v":""},{"$f":"IF(ISBLANK('Scholars Nomination Form'!H356),\"\",'Scholars Nomination Form'!H356)","v":""},{"$f":"IF(ISBLANK('Scholars Nomination Form'!I356),\"\",'Scholars Nomination Form'!I356)","v":""},{"$f":"IF(ISBLANK('Scholars Nomination Form'!J356),\"\",'Scholars Nomination Form'!J356)","v":""},{"$f":"IF(ISBLANK('Scholars Nomination Form'!K356),\"\",'Scholars Nomination Form'!K356)","v":""},{"$f":"IF(ISBLANK('Scholars Nomination Form'!L356),\"\",'Scholars Nomination Form'!L356)","v":""},{"$f":"IF(ISBLANK('Scholars Nomination Form'!M356),\"\",'Scholars Nomination Form'!M356)","v":""},{"$f":"IF(ISBLANK('Scholars Nomination Form'!N356),\"\",'Scholars Nomination Form'!N356)","v":""},{"$f":"IF(ISBLANK('Scholars Nomination Form'!O356),\"\",'Scholars Nomination Form'!O356)","v":""},{"$f":"IF(ISBLANK('Scholars Nomination Form'!P356),\"\",'Scholars Nomination Form'!P356)","v":""},{"$f":"IF(ISBLANK('Scholars Nomination Form'!Q356),\"\",'Scholars Nomination Form'!Q356)","v":""},{"$f":"IF(ISBLANK('Scholars Nomination Form'!R356),\"\",'Scholars Nomination Form'!R356)","v":""},{"$f":"IF(ISBLANK('Scholars Nomination Form'!S356),\"\",'Scholars Nomination Form'!S356)","v":""},{"$f":"IF(ISBLANK('Scholars Nomination Form'!T356),\"\",'Scholars Nomination Form'!T356)","v":""},{"$f":"IF(ISBLANK('Scholars Nomination Form'!U356),\"\",'Scholars Nomination Form'!U356)","v":""},{"$f":"IF(ISBLANK('Scholars Nomination Form'!V356),\"\",'Scholars Nomination Form'!V356)","v":""},{"$f":"IF(ISBLANK('Scholars Nomination Form'!W356),\"\",'Scholars Nomination Form'!W356)","v":""},{"$f":"IF(ISBLANK('Scholars Nomination Form'!X356),\"\",'Scholars Nomination Form'!X356)","v":""},{"$f":"IF(ISBLANK('Scholars Nomination Form'!Y356),\"\",'Scholars Nomination Form'!Y356)","v":""},{"$f":"IF(ISBLANK('Scholars Nomination Form'!Z356),\"\",'Scholars Nomination Form'!Z356)","v":""},{"$f":"IF(ISBLANK('Scholars Nomination Form'!AA356),\"\",'Scholars Nomination Form'!AA356)","v":""}]
[{"$f":"IF(ISBLANK('Scholars Nomination Form'!$F357),\"\",'Scholars Nomination Form'!$C$11)","v":""},{"$f":"IF(ISBLANK('Scholars Nomination Form'!$F357),\"\",'Scholars Nomination Form'!$C$12)","v":""},{"$f":"IF(ISBLANK('Scholars Nomination Form'!$F357),\"\",'Scholars Nomination Form'!$C$13)","v":""},{"$f":"IF(ISBLANK('Scholars Nomination Form'!$F357),\"\",'Scholars Nomination Form'!$C$14)","v":""},{"$f":"IF(ISBLANK('Scholars Nomination Form'!$F357),\"\",'Scholars Nomination Form'!$C$15)","v":""},{"$f":"IF(ISBLANK('Scholars Nomination Form'!$F357),\"\",'Scholars Nomination Form'!$C$16)","v":""},{"$f":"IF(ISBLANK('Scholars Nomination Form'!B357),\"\",'Scholars Nomination Form'!B357)","v":""},{"$f":"IF(ISBLANK('Scholars Nomination Form'!D357),\"\",'Scholars Nomination Form'!D357)","v":""},{"$f":"IF(ISBLANK('Scholars Nomination Form'!E357),\"\",'Scholars Nomination Form'!E357)","v":""},{"$f":"IF(ISBLANK('Scholars Nomination Form'!F357),\"\",'Scholars Nomination Form'!F357)","v":""},{"$f":"IF(ISBLANK('Scholars Nomination Form'!G357),\"\",'Scholars Nomination Form'!G357)","v":""},{"$f":"IF(ISBLANK('Scholars Nomination Form'!H357),\"\",'Scholars Nomination Form'!H357)","v":""},{"$f":"IF(ISBLANK('Scholars Nomination Form'!I357),\"\",'Scholars Nomination Form'!I357)","v":""},{"$f":"IF(ISBLANK('Scholars Nomination Form'!J357),\"\",'Scholars Nomination Form'!J357)","v":""},{"$f":"IF(ISBLANK('Scholars Nomination Form'!K357),\"\",'Scholars Nomination Form'!K357)","v":""},{"$f":"IF(ISBLANK('Scholars Nomination Form'!L357),\"\",'Scholars Nomination Form'!L357)","v":""},{"$f":"IF(ISBLANK('Scholars Nomination Form'!M357),\"\",'Scholars Nomination Form'!M357)","v":""},{"$f":"IF(ISBLANK('Scholars Nomination Form'!N357),\"\",'Scholars Nomination Form'!N357)","v":""},{"$f":"IF(ISBLANK('Scholars Nomination Form'!O357),\"\",'Scholars Nomination Form'!O357)","v":""},{"$f":"IF(ISBLANK('Scholars Nomination Form'!P357),\"\",'Scholars Nomination Form'!P357)","v":""},{"$f":"IF(ISBLANK('Scholars Nomination Form'!Q357),\"\",'Scholars Nomination Form'!Q357)","v":""},{"$f":"IF(ISBLANK('Scholars Nomination Form'!R357),\"\",'Scholars Nomination Form'!R357)","v":""},{"$f":"IF(ISBLANK('Scholars Nomination Form'!S357),\"\",'Scholars Nomination Form'!S357)","v":""},{"$f":"IF(ISBLANK('Scholars Nomination Form'!T357),\"\",'Scholars Nomination Form'!T357)","v":""},{"$f":"IF(ISBLANK('Scholars Nomination Form'!U357),\"\",'Scholars Nomination Form'!U357)","v":""},{"$f":"IF(ISBLANK('Scholars Nomination Form'!V357),\"\",'Scholars Nomination Form'!V357)","v":""},{"$f":"IF(ISBLANK('Scholars Nomination Form'!W357),\"\",'Scholars Nomination Form'!W357)","v":""},{"$f":"IF(ISBLANK('Scholars Nomination Form'!X357),\"\",'Scholars Nomination Form'!X357)","v":""},{"$f":"IF(ISBLANK('Scholars Nomination Form'!Y357),\"\",'Scholars Nomination Form'!Y357)","v":""},{"$f":"IF(ISBLANK('Scholars Nomination Form'!Z357),\"\",'Scholars Nomination Form'!Z357)","v":""},{"$f":"IF(ISBLANK('Scholars Nomination Form'!AA357),\"\",'Scholars Nomination Form'!AA357)","v":""}]
[{"$f":"IF(ISBLANK('Scholars Nomination Form'!$F358),\"\",'Scholars Nomination Form'!$C$11)","v":""},{"$f":"IF(ISBLANK('Scholars Nomination Form'!$F358),\"\",'Scholars Nomination Form'!$C$12)","v":""},{"$f":"IF(ISBLANK('Scholars Nomination Form'!$F358),\"\",'Scholars Nomination Form'!$C$13)","v":""},{"$f":"IF(ISBLANK('Scholars Nomination Form'!$F358),\"\",'Scholars Nomination Form'!$C$14)","v":""},{"$f":"IF(ISBLANK('Scholars Nomination Form'!$F358),\"\",'Scholars Nomination Form'!$C$15)","v":""},{"$f":"IF(ISBLANK('Scholars Nomination Form'!$F358),\"\",'Scholars Nomination Form'!$C$16)","v":""},{"$f":"IF(ISBLANK('Scholars Nomination Form'!B358),\"\",'Scholars Nomination Form'!B358)","v":""},{"$f":"IF(ISBLANK('Scholars Nomination Form'!D358),\"\",'Scholars Nomination Form'!D358)","v":""},{"$f":"IF(ISBLANK('Scholars Nomination Form'!E358),\"\",'Scholars Nomination Form'!E358)","v":""},{"$f":"IF(ISBLANK('Scholars Nomination Form'!F358),\"\",'Scholars Nomination Form'!F358)","v":""},{"$f":"IF(ISBLANK('Scholars Nomination Form'!G358),\"\",'Scholars Nomination Form'!G358)","v":""},{"$f":"IF(ISBLANK('Scholars Nomination Form'!H358),\"\",'Scholars Nomination Form'!H358)","v":""},{"$f":"IF(ISBLANK('Scholars Nomination Form'!I358),\"\",'Scholars Nomination Form'!I358)","v":""},{"$f":"IF(ISBLANK('Scholars Nomination Form'!J358),\"\",'Scholars Nomination Form'!J358)","v":""},{"$f":"IF(ISBLANK('Scholars Nomination Form'!K358),\"\",'Scholars Nomination Form'!K358)","v":""},{"$f":"IF(ISBLANK('Scholars Nomination Form'!L358),\"\",'Scholars Nomination Form'!L358)","v":""},{"$f":"IF(ISBLANK('Scholars Nomination Form'!M358),\"\",'Scholars Nomination Form'!M358)","v":""},{"$f":"IF(ISBLANK('Scholars Nomination Form'!N358),\"\",'Scholars Nomination Form'!N358)","v":""},{"$f":"IF(ISBLANK('Scholars Nomination Form'!O358),\"\",'Scholars Nomination Form'!O358)","v":""},{"$f":"IF(ISBLANK('Scholars Nomination Form'!P358),\"\",'Scholars Nomination Form'!P358)","v":""},{"$f":"IF(ISBLANK('Scholars Nomination Form'!Q358),\"\",'Scholars Nomination Form'!Q358)","v":""},{"$f":"IF(ISBLANK('Scholars Nomination Form'!R358),\"\",'Scholars Nomination Form'!R358)","v":""},{"$f":"IF(ISBLANK('Scholars Nomination Form'!S358),\"\",'Scholars Nomination Form'!S358)","v":""},{"$f":"IF(ISBLANK('Scholars Nomination Form'!T358),\"\",'Scholars Nomination Form'!T358)","v":""},{"$f":"IF(ISBLANK('Scholars Nomination Form'!U358),\"\",'Scholars Nomination Form'!U358)","v":""},{"$f":"IF(ISBLANK('Scholars Nomination Form'!V358),\"\",'Scholars Nomination Form'!V358)","v":""},{"$f":"IF(ISBLANK('Scholars Nomination Form'!W358),\"\",'Scholars Nomination Form'!W358)","v":""},{"$f":"IF(ISBLANK('Scholars Nomination Form'!X358),\"\",'Scholars Nomination Form'!X358)","v":""},{"$f":"IF(ISBLANK('Scholars Nomination Form'!Y358),\"\",'Scholars Nomination Form'!Y358)","v":""},{"$f":"IF(ISBLANK('Scholars Nomination Form'!Z358),\"\",'Scholars Nomination Form'!Z358)","v":""},{"$f":"IF(ISBLANK('Scholars Nomination Form'!AA358),\"\",'Scholars Nomination Form'!AA358)","v":""}]
[{"$f":"IF(ISBLANK('Scholars Nomination Form'!$F359),\"\",'Scholars Nomination Form'!$C$11)","v":""},{"$f":"IF(ISBLANK('Scholars Nomination Form'!$F359),\"\",'Scholars Nomination Form'!$C$12)","v":""},{"$f":"IF(ISBLANK('Scholars Nomination Form'!$F359),\"\",'Scholars Nomination Form'!$C$13)","v":""},{"$f":"IF(ISBLANK('Scholars Nomination Form'!$F359),\"\",'Scholars Nomination Form'!$C$14)","v":""},{"$f":"IF(ISBLANK('Scholars Nomination Form'!$F359),\"\",'Scholars Nomination Form'!$C$15)","v":""},{"$f":"IF(ISBLANK('Scholars Nomination Form'!$F359),\"\",'Scholars Nomination Form'!$C$16)","v":""},{"$f":"IF(ISBLANK('Scholars Nomination Form'!B359),\"\",'Scholars Nomination Form'!B359)","v":""},{"$f":"IF(ISBLANK('Scholars Nomination Form'!D359),\"\",'Scholars Nomination Form'!D359)","v":""},{"$f":"IF(ISBLANK('Scholars Nomination Form'!E359),\"\",'Scholars Nomination Form'!E359)","v":""},{"$f":"IF(ISBLANK('Scholars Nomination Form'!F359),\"\",'Scholars Nomination Form'!F359)","v":""},{"$f":"IF(ISBLANK('Scholars Nomination Form'!G359),\"\",'Scholars Nomination Form'!G359)","v":""},{"$f":"IF(ISBLANK('Scholars Nomination Form'!H359),\"\",'Scholars Nomination Form'!H359)","v":""},{"$f":"IF(ISBLANK('Scholars Nomination Form'!I359),\"\",'Scholars Nomination Form'!I359)","v":""},{"$f":"IF(ISBLANK('Scholars Nomination Form'!J359),\"\",'Scholars Nomination Form'!J359)","v":""},{"$f":"IF(ISBLANK('Scholars Nomination Form'!K359),\"\",'Scholars Nomination Form'!K359)","v":""},{"$f":"IF(ISBLANK('Scholars Nomination Form'!L359),\"\",'Scholars Nomination Form'!L359)","v":""},{"$f":"IF(ISBLANK('Scholars Nomination Form'!M359),\"\",'Scholars Nomination Form'!M359)","v":""},{"$f":"IF(ISBLANK('Scholars Nomination Form'!N359),\"\",'Scholars Nomination Form'!N359)","v":""},{"$f":"IF(ISBLANK('Scholars Nomination Form'!O359),\"\",'Scholars Nomination Form'!O359)","v":""},{"$f":"IF(ISBLANK('Scholars Nomination Form'!P359),\"\",'Scholars Nomination Form'!P359)","v":""},{"$f":"IF(ISBLANK('Scholars Nomination Form'!Q359),\"\",'Scholars Nomination Form'!Q359)","v":""},{"$f":"IF(ISBLANK('Scholars Nomination Form'!R359),\"\",'Scholars Nomination Form'!R359)","v":""},{"$f":"IF(ISBLANK('Scholars Nomination Form'!S359),\"\",'Scholars Nomination Form'!S359)","v":""},{"$f":"IF(ISBLANK('Scholars Nomination Form'!T359),\"\",'Scholars Nomination Form'!T359)","v":""},{"$f":"IF(ISBLANK('Scholars Nomination Form'!U359),\"\",'Scholars Nomination Form'!U359)","v":""},{"$f":"IF(ISBLANK('Scholars Nomination Form'!V359),\"\",'Scholars Nomination Form'!V359)","v":""},{"$f":"IF(ISBLANK('Scholars Nomination Form'!W359),\"\",'Scholars Nomination Form'!W359)","v":""},{"$f":"IF(ISBLANK('Scholars Nomination Form'!X359),\"\",'Scholars Nomination Form'!X359)","v":""},{"$f":"IF(ISBLANK('Scholars Nomination Form'!Y359),\"\",'Scholars Nomination Form'!Y359)","v":""},{"$f":"IF(ISBLANK('Scholars Nomination Form'!Z359),\"\",'Scholars Nomination Form'!Z359)","v":""},{"$f":"IF(ISBLANK('Scholars Nomination Form'!AA359),\"\",'Scholars Nomination Form'!AA359)","v":""}]
[{"$f":"IF(ISBLANK('Scholars Nomination Form'!$F360),\"\",'Scholars Nomination Form'!$C$11)","v":""},{"$f":"IF(ISBLANK('Scholars Nomination Form'!$F360),\"\",'Scholars Nomination Form'!$C$12)","v":""},{"$f":"IF(ISBLANK('Scholars Nomination Form'!$F360),\"\",'Scholars Nomination Form'!$C$13)","v":""},{"$f":"IF(ISBLANK('Scholars Nomination Form'!$F360),\"\",'Scholars Nomination Form'!$C$14)","v":""},{"$f":"IF(ISBLANK('Scholars Nomination Form'!$F360),\"\",'Scholars Nomination Form'!$C$15)","v":""},{"$f":"IF(ISBLANK('Scholars Nomination Form'!$F360),\"\",'Scholars Nomination Form'!$C$16)","v":""},{"$f":"IF(ISBLANK('Scholars Nomination Form'!B360),\"\",'Scholars Nomination Form'!B360)","v":""},{"$f":"IF(ISBLANK('Scholars Nomination Form'!D360),\"\",'Scholars Nomination Form'!D360)","v":""},{"$f":"IF(ISBLANK('Scholars Nomination Form'!E360),\"\",'Scholars Nomination Form'!E360)","v":""},{"$f":"IF(ISBLANK('Scholars Nomination Form'!F360),\"\",'Scholars Nomination Form'!F360)","v":""},{"$f":"IF(ISBLANK('Scholars Nomination Form'!G360),\"\",'Scholars Nomination Form'!G360)","v":""},{"$f":"IF(ISBLANK('Scholars Nomination Form'!H360),\"\",'Scholars Nomination Form'!H360)","v":""},{"$f":"IF(ISBLANK('Scholars Nomination Form'!I360),\"\",'Scholars Nomination Form'!I360)","v":""},{"$f":"IF(ISBLANK('Scholars Nomination Form'!J360),\"\",'Scholars Nomination Form'!J360)","v":""},{"$f":"IF(ISBLANK('Scholars Nomination Form'!K360),\"\",'Scholars Nomination Form'!K360)","v":""},{"$f":"IF(ISBLANK('Scholars Nomination Form'!L360),\"\",'Scholars Nomination Form'!L360)","v":""},{"$f":"IF(ISBLANK('Scholars Nomination Form'!M360),\"\",'Scholars Nomination Form'!M360)","v":""},{"$f":"IF(ISBLANK('Scholars Nomination Form'!N360),\"\",'Scholars Nomination Form'!N360)","v":""},{"$f":"IF(ISBLANK('Scholars Nomination Form'!O360),\"\",'Scholars Nomination Form'!O360)","v":""},{"$f":"IF(ISBLANK('Scholars Nomination Form'!P360),\"\",'Scholars Nomination Form'!P360)","v":""},{"$f":"IF(ISBLANK('Scholars Nomination Form'!Q360),\"\",'Scholars Nomination Form'!Q360)","v":""},{"$f":"IF(ISBLANK('Scholars Nomination Form'!R360),\"\",'Scholars Nomination Form'!R360)","v":""},{"$f":"IF(ISBLANK('Scholars Nomination Form'!S360),\"\",'Scholars Nomination Form'!S360)","v":""},{"$f":"IF(ISBLANK('Scholars Nomination Form'!T360),\"\",'Scholars Nomination Form'!T360)","v":""},{"$f":"IF(ISBLANK('Scholars Nomination Form'!U360),\"\",'Scholars Nomination Form'!U360)","v":""},{"$f":"IF(ISBLANK('Scholars Nomination Form'!V360),\"\",'Scholars Nomination Form'!V360)","v":""},{"$f":"IF(ISBLANK('Scholars Nomination Form'!W360),\"\",'Scholars Nomination Form'!W360)","v":""},{"$f":"IF(ISBLANK('Scholars Nomination Form'!X360),\"\",'Scholars Nomination Form'!X360)","v":""},{"$f":"IF(ISBLANK('Scholars Nomination Form'!Y360),\"\",'Scholars Nomination Form'!Y360)","v":""},{"$f":"IF(ISBLANK('Scholars Nomination Form'!Z360),\"\",'Scholars Nomination Form'!Z360)","v":""},{"$f":"IF(ISBLANK('Scholars Nomination Form'!AA360),\"\",'Scholars Nomination Form'!AA360)","v":""}]
[{"$f":"IF(ISBLANK('Scholars Nomination Form'!$F361),\"\",'Scholars Nomination Form'!$C$11)","v":""},{"$f":"IF(ISBLANK('Scholars Nomination Form'!$F361),\"\",'Scholars Nomination Form'!$C$12)","v":""},{"$f":"IF(ISBLANK('Scholars Nomination Form'!$F361),\"\",'Scholars Nomination Form'!$C$13)","v":""},{"$f":"IF(ISBLANK('Scholars Nomination Form'!$F361),\"\",'Scholars Nomination Form'!$C$14)","v":""},{"$f":"IF(ISBLANK('Scholars Nomination Form'!$F361),\"\",'Scholars Nomination Form'!$C$15)","v":""},{"$f":"IF(ISBLANK('Scholars Nomination Form'!$F361),\"\",'Scholars Nomination Form'!$C$16)","v":""},{"$f":"IF(ISBLANK('Scholars Nomination Form'!B361),\"\",'Scholars Nomination Form'!B361)","v":""},{"$f":"IF(ISBLANK('Scholars Nomination Form'!D361),\"\",'Scholars Nomination Form'!D361)","v":""},{"$f":"IF(ISBLANK('Scholars Nomination Form'!E361),\"\",'Scholars Nomination Form'!E361)","v":""},{"$f":"IF(ISBLANK('Scholars Nomination Form'!F361),\"\",'Scholars Nomination Form'!F361)","v":""},{"$f":"IF(ISBLANK('Scholars Nomination Form'!G361),\"\",'Scholars Nomination Form'!G361)","v":""},{"$f":"IF(ISBLANK('Scholars Nomination Form'!H361),\"\",'Scholars Nomination Form'!H361)","v":""},{"$f":"IF(ISBLANK('Scholars Nomination Form'!I361),\"\",'Scholars Nomination Form'!I361)","v":""},{"$f":"IF(ISBLANK('Scholars Nomination Form'!J361),\"\",'Scholars Nomination Form'!J361)","v":""},{"$f":"IF(ISBLANK('Scholars Nomination Form'!K361),\"\",'Scholars Nomination Form'!K361)","v":""},{"$f":"IF(ISBLANK('Scholars Nomination Form'!L361),\"\",'Scholars Nomination Form'!L361)","v":""},{"$f":"IF(ISBLANK('Scholars Nomination Form'!M361),\"\",'Scholars Nomination Form'!M361)","v":""},{"$f":"IF(ISBLANK('Scholars Nomination Form'!N361),\"\",'Scholars Nomination Form'!N361)","v":""},{"$f":"IF(ISBLANK('Scholars Nomination Form'!O361),\"\",'Scholars Nomination Form'!O361)","v":""},{"$f":"IF(ISBLANK('Scholars Nomination Form'!P361),\"\",'Scholars Nomination Form'!P361)","v":""},{"$f":"IF(ISBLANK('Scholars Nomination Form'!Q361),\"\",'Scholars Nomination Form'!Q361)","v":""},{"$f":"IF(ISBLANK('Scholars Nomination Form'!R361),\"\",'Scholars Nomination Form'!R361)","v":""},{"$f":"IF(ISBLANK('Scholars Nomination Form'!S361),\"\",'Scholars Nomination Form'!S361)","v":""},{"$f":"IF(ISBLANK('Scholars Nomination Form'!T361),\"\",'Scholars Nomination Form'!T361)","v":""},{"$f":"IF(ISBLANK('Scholars Nomination Form'!U361),\"\",'Scholars Nomination Form'!U361)","v":""},{"$f":"IF(ISBLANK('Scholars Nomination Form'!V361),\"\",'Scholars Nomination Form'!V361)","v":""},{"$f":"IF(ISBLANK('Scholars Nomination Form'!W361),\"\",'Scholars Nomination Form'!W361)","v":""},{"$f":"IF(ISBLANK('Scholars Nomination Form'!X361),\"\",'Scholars Nomination Form'!X361)","v":""},{"$f":"IF(ISBLANK('Scholars Nomination Form'!Y361),\"\",'Scholars Nomination Form'!Y361)","v":""},{"$f":"IF(ISBLANK('Scholars Nomination Form'!Z361),\"\",'Scholars Nomination Form'!Z361)","v":""},{"$f":"IF(ISBLANK('Scholars Nomination Form'!AA361),\"\",'Scholars Nomination Form'!AA361)","v":""}]
[{"$f":"IF(ISBLANK('Scholars Nomination Form'!$F362),\"\",'Scholars Nomination Form'!$C$11)","v":""},{"$f":"IF(ISBLANK('Scholars Nomination Form'!$F362),\"\",'Scholars Nomination Form'!$C$12)","v":""},{"$f":"IF(ISBLANK('Scholars Nomination Form'!$F362),\"\",'Scholars Nomination Form'!$C$13)","v":""},{"$f":"IF(ISBLANK('Scholars Nomination Form'!$F362),\"\",'Scholars Nomination Form'!$C$14)","v":""},{"$f":"IF(ISBLANK('Scholars Nomination Form'!$F362),\"\",'Scholars Nomination Form'!$C$15)","v":""},{"$f":"IF(ISBLANK('Scholars Nomination Form'!$F362),\"\",'Scholars Nomination Form'!$C$16)","v":""},{"$f":"IF(ISBLANK('Scholars Nomination Form'!B362),\"\",'Scholars Nomination Form'!B362)","v":""},{"$f":"IF(ISBLANK('Scholars Nomination Form'!D362),\"\",'Scholars Nomination Form'!D362)","v":""},{"$f":"IF(ISBLANK('Scholars Nomination Form'!E362),\"\",'Scholars Nomination Form'!E362)","v":""},{"$f":"IF(ISBLANK('Scholars Nomination Form'!F362),\"\",'Scholars Nomination Form'!F362)","v":""},{"$f":"IF(ISBLANK('Scholars Nomination Form'!G362),\"\",'Scholars Nomination Form'!G362)","v":""},{"$f":"IF(ISBLANK('Scholars Nomination Form'!H362),\"\",'Scholars Nomination Form'!H362)","v":""},{"$f":"IF(ISBLANK('Scholars Nomination Form'!I362),\"\",'Scholars Nomination Form'!I362)","v":""},{"$f":"IF(ISBLANK('Scholars Nomination Form'!J362),\"\",'Scholars Nomination Form'!J362)","v":""},{"$f":"IF(ISBLANK('Scholars Nomination Form'!K362),\"\",'Scholars Nomination Form'!K362)","v":""},{"$f":"IF(ISBLANK('Scholars Nomination Form'!L362),\"\",'Scholars Nomination Form'!L362)","v":""},{"$f":"IF(ISBLANK('Scholars Nomination Form'!M362),\"\",'Scholars Nomination Form'!M362)","v":""},{"$f":"IF(ISBLANK('Scholars Nomination Form'!N362),\"\",'Scholars Nomination Form'!N362)","v":""},{"$f":"IF(ISBLANK('Scholars Nomination Form'!O362),\"\",'Scholars Nomination Form'!O362)","v":""},{"$f":"IF(ISBLANK('Scholars Nomination Form'!P362),\"\",'Scholars Nomination Form'!P362)","v":""},{"$f":"IF(ISBLANK('Scholars Nomination Form'!Q362),\"\",'Scholars Nomination Form'!Q362)","v":""},{"$f":"IF(ISBLANK('Scholars Nomination Form'!R362),\"\",'Scholars Nomination Form'!R362)","v":""},{"$f":"IF(ISBLANK('Scholars Nomination Form'!S362),\"\",'Scholars Nomination Form'!S362)","v":""},{"$f":"IF(ISBLANK('Scholars Nomination Form'!T362),\"\",'Scholars Nomination Form'!T362)","v":""},{"$f":"IF(ISBLANK('Scholars Nomination Form'!U362),\"\",'Scholars Nomination Form'!U362)","v":""},{"$f":"IF(ISBLANK('Scholars Nomination Form'!V362),\"\",'Scholars Nomination Form'!V362)","v":""},{"$f":"IF(ISBLANK('Scholars Nomination Form'!W362),\"\",'Scholars Nomination Form'!W362)","v":""},{"$f":"IF(ISBLANK('Scholars Nomination Form'!X362),\"\",'Scholars Nomination Form'!X362)","v":""},{"$f":"IF(ISBLANK('Scholars Nomination Form'!Y362),\"\",'Scholars Nomination Form'!Y362)","v":""},{"$f":"IF(ISBLANK('Scholars Nomination Form'!Z362),\"\",'Scholars Nomination Form'!Z362)","v":""},{"$f":"IF(ISBLANK('Scholars Nomination Form'!AA362),\"\",'Scholars Nomination Form'!AA362)","v":""}]
[{"$f":"IF(ISBLANK('Scholars Nomination Form'!$F363),\"\",'Scholars Nomination Form'!$C$11)","v":""},{"$f":"IF(ISBLANK('Scholars Nomination Form'!$F363),\"\",'Scholars Nomination Form'!$C$12)","v":""},{"$f":"IF(ISBLANK('Scholars Nomination Form'!$F363),\"\",'Scholars Nomination Form'!$C$13)","v":""},{"$f":"IF(ISBLANK('Scholars Nomination Form'!$F363),\"\",'Scholars Nomination Form'!$C$14)","v":""},{"$f":"IF(ISBLANK('Scholars Nomination Form'!$F363),\"\",'Scholars Nomination Form'!$C$15)","v":""},{"$f":"IF(ISBLANK('Scholars Nomination Form'!$F363),\"\",'Scholars Nomination Form'!$C$16)","v":""},{"$f":"IF(ISBLANK('Scholars Nomination Form'!B363),\"\",'Scholars Nomination Form'!B363)","v":""},{"$f":"IF(ISBLANK('Scholars Nomination Form'!D363),\"\",'Scholars Nomination Form'!D363)","v":""},{"$f":"IF(ISBLANK('Scholars Nomination Form'!E363),\"\",'Scholars Nomination Form'!E363)","v":""},{"$f":"IF(ISBLANK('Scholars Nomination Form'!F363),\"\",'Scholars Nomination Form'!F363)","v":""},{"$f":"IF(ISBLANK('Scholars Nomination Form'!G363),\"\",'Scholars Nomination Form'!G363)","v":""},{"$f":"IF(ISBLANK('Scholars Nomination Form'!H363),\"\",'Scholars Nomination Form'!H363)","v":""},{"$f":"IF(ISBLANK('Scholars Nomination Form'!I363),\"\",'Scholars Nomination Form'!I363)","v":""},{"$f":"IF(ISBLANK('Scholars Nomination Form'!J363),\"\",'Scholars Nomination Form'!J363)","v":""},{"$f":"IF(ISBLANK('Scholars Nomination Form'!K363),\"\",'Scholars Nomination Form'!K363)","v":""},{"$f":"IF(ISBLANK('Scholars Nomination Form'!L363),\"\",'Scholars Nomination Form'!L363)","v":""},{"$f":"IF(ISBLANK('Scholars Nomination Form'!M363),\"\",'Scholars Nomination Form'!M363)","v":""},{"$f":"IF(ISBLANK('Scholars Nomination Form'!N363),\"\",'Scholars Nomination Form'!N363)","v":""},{"$f":"IF(ISBLANK('Scholars Nomination Form'!O363),\"\",'Scholars Nomination Form'!O363)","v":""},{"$f":"IF(ISBLANK('Scholars Nomination Form'!P363),\"\",'Scholars Nomination Form'!P363)","v":""},{"$f":"IF(ISBLANK('Scholars Nomination Form'!Q363),\"\",'Scholars Nomination Form'!Q363)","v":""},{"$f":"IF(ISBLANK('Scholars Nomination Form'!R363),\"\",'Scholars Nomination Form'!R363)","v":""},{"$f":"IF(ISBLANK('Scholars Nomination Form'!S363),\"\",'Scholars Nomination Form'!S363)","v":""},{"$f":"IF(ISBLANK('Scholars Nomination Form'!T363),\"\",'Scholars Nomination Form'!T363)","v":""},{"$f":"IF(ISBLANK('Scholars Nomination Form'!U363),\"\",'Scholars Nomination Form'!U363)","v":""},{"$f":"IF(ISBLANK('Scholars Nomination Form'!V363),\"\",'Scholars Nomination Form'!V363)","v":""},{"$f":"IF(ISBLANK('Scholars Nomination Form'!W363),\"\",'Scholars Nomination Form'!W363)","v":""},{"$f":"IF(ISBLANK('Scholars Nomination Form'!X363),\"\",'Scholars Nomination Form'!X363)","v":""},{"$f":"IF(ISBLANK('Scholars Nomination Form'!Y363),\"\",'Scholars Nomination Form'!Y363)","v":""},{"$f":"IF(ISBLANK('Scholars Nomination Form'!Z363),\"\",'Scholars Nomination Form'!Z363)","v":""},{"$f":"IF(ISBLANK('Scholars Nomination Form'!AA363),\"\",'Scholars Nomination Form'!AA363)","v":""}]
[{"$f":"IF(ISBLANK('Scholars Nomination Form'!$F364),\"\",'Scholars Nomination Form'!$C$11)","v":""},{"$f":"IF(ISBLANK('Scholars Nomination Form'!$F364),\"\",'Scholars Nomination Form'!$C$12)","v":""},{"$f":"IF(ISBLANK('Scholars Nomination Form'!$F364),\"\",'Scholars Nomination Form'!$C$13)","v":""},{"$f":"IF(ISBLANK('Scholars Nomination Form'!$F364),\"\",'Scholars Nomination Form'!$C$14)","v":""},{"$f":"IF(ISBLANK('Scholars Nomination Form'!$F364),\"\",'Scholars Nomination Form'!$C$15)","v":""},{"$f":"IF(ISBLANK('Scholars Nomination Form'!$F364),\"\",'Scholars Nomination Form'!$C$16)","v":""},{"$f":"IF(ISBLANK('Scholars Nomination Form'!B364),\"\",'Scholars Nomination Form'!B364)","v":""},{"$f":"IF(ISBLANK('Scholars Nomination Form'!D364),\"\",'Scholars Nomination Form'!D364)","v":""},{"$f":"IF(ISBLANK('Scholars Nomination Form'!E364),\"\",'Scholars Nomination Form'!E364)","v":""},{"$f":"IF(ISBLANK('Scholars Nomination Form'!F364),\"\",'Scholars Nomination Form'!F364)","v":""},{"$f":"IF(ISBLANK('Scholars Nomination Form'!G364),\"\",'Scholars Nomination Form'!G364)","v":""},{"$f":"IF(ISBLANK('Scholars Nomination Form'!H364),\"\",'Scholars Nomination Form'!H364)","v":""},{"$f":"IF(ISBLANK('Scholars Nomination Form'!I364),\"\",'Scholars Nomination Form'!I364)","v":""},{"$f":"IF(ISBLANK('Scholars Nomination Form'!J364),\"\",'Scholars Nomination Form'!J364)","v":""},{"$f":"IF(ISBLANK('Scholars Nomination Form'!K364),\"\",'Scholars Nomination Form'!K364)","v":""},{"$f":"IF(ISBLANK('Scholars Nomination Form'!L364),\"\",'Scholars Nomination Form'!L364)","v":""},{"$f":"IF(ISBLANK('Scholars Nomination Form'!M364),\"\",'Scholars Nomination Form'!M364)","v":""},{"$f":"IF(ISBLANK('Scholars Nomination Form'!N364),\"\",'Scholars Nomination Form'!N364)","v":""},{"$f":"IF(ISBLANK('Scholars Nomination Form'!O364),\"\",'Scholars Nomination Form'!O364)","v":""},{"$f":"IF(ISBLANK('Scholars Nomination Form'!P364),\"\",'Scholars Nomination Form'!P364)","v":""},{"$f":"IF(ISBLANK('Scholars Nomination Form'!Q364),\"\",'Scholars Nomination Form'!Q364)","v":""},{"$f":"IF(ISBLANK('Scholars Nomination Form'!R364),\"\",'Scholars Nomination Form'!R364)","v":""},{"$f":"IF(ISBLANK('Scholars Nomination Form'!S364),\"\",'Scholars Nomination Form'!S364)","v":""},{"$f":"IF(ISBLANK('Scholars Nomination Form'!T364),\"\",'Scholars Nomination Form'!T364)","v":""},{"$f":"IF(ISBLANK('Scholars Nomination Form'!U364),\"\",'Scholars Nomination Form'!U364)","v":""},{"$f":"IF(ISBLANK('Scholars Nomination Form'!V364),\"\",'Scholars Nomination Form'!V364)","v":""},{"$f":"IF(ISBLANK('Scholars Nomination Form'!W364),\"\",'Scholars Nomination Form'!W364)","v":""},{"$f":"IF(ISBLANK('Scholars Nomination Form'!X364),\"\",'Scholars Nomination Form'!X364)","v":""},{"$f":"IF(ISBLANK('Scholars Nomination Form'!Y364),\"\",'Scholars Nomination Form'!Y364)","v":""},{"$f":"IF(ISBLANK('Scholars Nomination Form'!Z364),\"\",'Scholars Nomination Form'!Z364)","v":""},{"$f":"IF(ISBLANK('Scholars Nomination Form'!AA364),\"\",'Scholars Nomination Form'!AA364)","v":""}]
[{"$f":"IF(ISBLANK('Scholars Nomination Form'!$F365),\"\",'Scholars Nomination Form'!$C$11)","v":""},{"$f":"IF(ISBLANK('Scholars Nomination Form'!$F365),\"\",'Scholars Nomination Form'!$C$12)","v":""},{"$f":"IF(ISBLANK('Scholars Nomination Form'!$F365),\"\",'Scholars Nomination Form'!$C$13)","v":""},{"$f":"IF(ISBLANK('Scholars Nomination Form'!$F365),\"\",'Scholars Nomination Form'!$C$14)","v":""},{"$f":"IF(ISBLANK('Scholars Nomination Form'!$F365),\"\",'Scholars Nomination Form'!$C$15)","v":""},{"$f":"IF(ISBLANK('Scholars Nomination Form'!$F365),\"\",'Scholars Nomination Form'!$C$16)","v":""},{"$f":"IF(ISBLANK('Scholars Nomination Form'!B365),\"\",'Scholars Nomination Form'!B365)","v":""},{"$f":"IF(ISBLANK('Scholars Nomination Form'!D365),\"\",'Scholars Nomination Form'!D365)","v":""},{"$f":"IF(ISBLANK('Scholars Nomination Form'!E365),\"\",'Scholars Nomination Form'!E365)","v":""},{"$f":"IF(ISBLANK('Scholars Nomination Form'!F365),\"\",'Scholars Nomination Form'!F365)","v":""},{"$f":"IF(ISBLANK('Scholars Nomination Form'!G365),\"\",'Scholars Nomination Form'!G365)","v":""},{"$f":"IF(ISBLANK('Scholars Nomination Form'!H365),\"\",'Scholars Nomination Form'!H365)","v":""},{"$f":"IF(ISBLANK('Scholars Nomination Form'!I365),\"\",'Scholars Nomination Form'!I365)","v":""},{"$f":"IF(ISBLANK('Scholars Nomination Form'!J365),\"\",'Scholars Nomination Form'!J365)","v":""},{"$f":"IF(ISBLANK('Scholars Nomination Form'!K365),\"\",'Scholars Nomination Form'!K365)","v":""},{"$f":"IF(ISBLANK('Scholars Nomination Form'!L365),\"\",'Scholars Nomination Form'!L365)","v":""},{"$f":"IF(ISBLANK('Scholars Nomination Form'!M365),\"\",'Scholars Nomination Form'!M365)","v":""},{"$f":"IF(ISBLANK('Scholars Nomination Form'!N365),\"\",'Scholars Nomination Form'!N365)","v":""},{"$f":"IF(ISBLANK('Scholars Nomination Form'!O365),\"\",'Scholars Nomination Form'!O365)","v":""},{"$f":"IF(ISBLANK('Scholars Nomination Form'!P365),\"\",'Scholars Nomination Form'!P365)","v":""},{"$f":"IF(ISBLANK('Scholars Nomination Form'!Q365),\"\",'Scholars Nomination Form'!Q365)","v":""},{"$f":"IF(ISBLANK('Scholars Nomination Form'!R365),\"\",'Scholars Nomination Form'!R365)","v":""},{"$f":"IF(ISBLANK('Scholars Nomination Form'!S365),\"\",'Scholars Nomination Form'!S365)","v":""},{"$f":"IF(ISBLANK('Scholars Nomination Form'!T365),\"\",'Scholars Nomination Form'!T365)","v":""},{"$f":"IF(ISBLANK('Scholars Nomination Form'!U365),\"\",'Scholars Nomination Form'!U365)","v":""},{"$f":"IF(ISBLANK('Scholars Nomination Form'!V365),\"\",'Scholars Nomination Form'!V365)","v":""},{"$f":"IF(ISBLANK('Scholars Nomination Form'!W365),\"\",'Scholars Nomination Form'!W365)","v":""},{"$f":"IF(ISBLANK('Scholars Nomination Form'!X365),\"\",'Scholars Nomination Form'!X365)","v":""},{"$f":"IF(ISBLANK('Scholars Nomination Form'!Y365),\"\",'Scholars Nomination Form'!Y365)","v":""},{"$f":"IF(ISBLANK('Scholars Nomination Form'!Z365),\"\",'Scholars Nomination Form'!Z365)","v":""},{"$f":"IF(ISBLANK('Scholars Nomination Form'!AA365),\"\",'Scholars Nomination Form'!AA365)","v":""}]
[{"$f":"IF(ISBLANK('Scholars Nomination Form'!$F366),\"\",'Scholars Nomination Form'!$C$11)","v":""},{"$f":"IF(ISBLANK('Scholars Nomination Form'!$F366),\"\",'Scholars Nomination Form'!$C$12)","v":""},{"$f":"IF(ISBLANK('Scholars Nomination Form'!$F366),\"\",'Scholars Nomination Form'!$C$13)","v":""},{"$f":"IF(ISBLANK('Scholars Nomination Form'!$F366),\"\",'Scholars Nomination Form'!$C$14)","v":""},{"$f":"IF(ISBLANK('Scholars Nomination Form'!$F366),\"\",'Scholars Nomination Form'!$C$15)","v":""},{"$f":"IF(ISBLANK('Scholars Nomination Form'!$F366),\"\",'Scholars Nomination Form'!$C$16)","v":""},{"$f":"IF(ISBLANK('Scholars Nomination Form'!B366),\"\",'Scholars Nomination Form'!B366)","v":""},{"$f":"IF(ISBLANK('Scholars Nomination Form'!D366),\"\",'Scholars Nomination Form'!D366)","v":""},{"$f":"IF(ISBLANK('Scholars Nomination Form'!E366),\"\",'Scholars Nomination Form'!E366)","v":""},{"$f":"IF(ISBLANK('Scholars Nomination Form'!F366),\"\",'Scholars Nomination Form'!F366)","v":""},{"$f":"IF(ISBLANK('Scholars Nomination Form'!G366),\"\",'Scholars Nomination Form'!G366)","v":""},{"$f":"IF(ISBLANK('Scholars Nomination Form'!H366),\"\",'Scholars Nomination Form'!H366)","v":""},{"$f":"IF(ISBLANK('Scholars Nomination Form'!I366),\"\",'Scholars Nomination Form'!I366)","v":""},{"$f":"IF(ISBLANK('Scholars Nomination Form'!J366),\"\",'Scholars Nomination Form'!J366)","v":""},{"$f":"IF(ISBLANK('Scholars Nomination Form'!K366),\"\",'Scholars Nomination Form'!K366)","v":""},{"$f":"IF(ISBLANK('Scholars Nomination Form'!L366),\"\",'Scholars Nomination Form'!L366)","v":""},{"$f":"IF(ISBLANK('Scholars Nomination Form'!M366),\"\",'Scholars Nomination Form'!M366)","v":""},{"$f":"IF(ISBLANK('Scholars Nomination Form'!N366),\"\",'Scholars Nomination Form'!N366)","v":""},{"$f":"IF(ISBLANK('Scholars Nomination Form'!O366),\"\",'Scholars Nomination Form'!O366)","v":""},{"$f":"IF(ISBLANK('Scholars Nomination Form'!P366),\"\",'Scholars Nomination Form'!P366)","v":""},{"$f":"IF(ISBLANK('Scholars Nomination Form'!Q366),\"\",'Scholars Nomination Form'!Q366)","v":""},{"$f":"IF(ISBLANK('Scholars Nomination Form'!R366),\"\",'Scholars Nomination Form'!R366)","v":""},{"$f":"IF(ISBLANK('Scholars Nomination Form'!S366),\"\",'Scholars Nomination Form'!S366)","v":""},{"$f":"IF(ISBLANK('Scholars Nomination Form'!T366),\"\",'Scholars Nomination Form'!T366)","v":""},{"$f":"IF(ISBLANK('Scholars Nomination Form'!U366),\"\",'Scholars Nomination Form'!U366)","v":""},{"$f":"IF(ISBLANK('Scholars Nomination Form'!V366),\"\",'Scholars Nomination Form'!V366)","v":""},{"$f":"IF(ISBLANK('Scholars Nomination Form'!W366),\"\",'Scholars Nomination Form'!W366)","v":""},{"$f":"IF(ISBLANK('Scholars Nomination Form'!X366),\"\",'Scholars Nomination Form'!X366)","v":""},{"$f":"IF(ISBLANK('Scholars Nomination Form'!Y366),\"\",'Scholars Nomination Form'!Y366)","v":""},{"$f":"IF(ISBLANK('Scholars Nomination Form'!Z366),\"\",'Scholars Nomination Form'!Z366)","v":""},{"$f":"IF(ISBLANK('Scholars Nomination Form'!AA366),\"\",'Scholars Nomination Form'!AA366)","v":""}]
[{"$f":"IF(ISBLANK('Scholars Nomination Form'!$F367),\"\",'Scholars Nomination Form'!$C$11)","v":""},{"$f":"IF(ISBLANK('Scholars Nomination Form'!$F367),\"\",'Scholars Nomination Form'!$C$12)","v":""},{"$f":"IF(ISBLANK('Scholars Nomination Form'!$F367),\"\",'Scholars Nomination Form'!$C$13)","v":""},{"$f":"IF(ISBLANK('Scholars Nomination Form'!$F367),\"\",'Scholars Nomination Form'!$C$14)","v":""},{"$f":"IF(ISBLANK('Scholars Nomination Form'!$F367),\"\",'Scholars Nomination Form'!$C$15)","v":""},{"$f":"IF(ISBLANK('Scholars Nomination Form'!$F367),\"\",'Scholars Nomination Form'!$C$16)","v":""},{"$f":"IF(ISBLANK('Scholars Nomination Form'!B367),\"\",'Scholars Nomination Form'!B367)","v":""},{"$f":"IF(ISBLANK('Scholars Nomination Form'!D367),\"\",'Scholars Nomination Form'!D367)","v":""},{"$f":"IF(ISBLANK('Scholars Nomination Form'!E367),\"\",'Scholars Nomination Form'!E367)","v":""},{"$f":"IF(ISBLANK('Scholars Nomination Form'!F367),\"\",'Scholars Nomination Form'!F367)","v":""},{"$f":"IF(ISBLANK('Scholars Nomination Form'!G367),\"\",'Scholars Nomination Form'!G367)","v":""},{"$f":"IF(ISBLANK('Scholars Nomination Form'!H367),\"\",'Scholars Nomination Form'!H367)","v":""},{"$f":"IF(ISBLANK('Scholars Nomination Form'!I367),\"\",'Scholars Nomination Form'!I367)","v":""},{"$f":"IF(ISBLANK('Scholars Nomination Form'!J367),\"\",'Scholars Nomination Form'!J367)","v":""},{"$f":"IF(ISBLANK('Scholars Nomination Form'!K367),\"\",'Scholars Nomination Form'!K367)","v":""},{"$f":"IF(ISBLANK('Scholars Nomination Form'!L367),\"\",'Scholars Nomination Form'!L367)","v":""},{"$f":"IF(ISBLANK('Scholars Nomination Form'!M367),\"\",'Scholars Nomination Form'!M367)","v":""},{"$f":"IF(ISBLANK('Scholars Nomination Form'!N367),\"\",'Scholars Nomination Form'!N367)","v":""},{"$f":"IF(ISBLANK('Scholars Nomination Form'!O367),\"\",'Scholars Nomination Form'!O367)","v":""},{"$f":"IF(ISBLANK('Scholars Nomination Form'!P367),\"\",'Scholars Nomination Form'!P367)","v":""},{"$f":"IF(ISBLANK('Scholars Nomination Form'!Q367),\"\",'Scholars Nomination Form'!Q367)","v":""},{"$f":"IF(ISBLANK('Scholars Nomination Form'!R367),\"\",'Scholars Nomination Form'!R367)","v":""},{"$f":"IF(ISBLANK('Scholars Nomination Form'!S367),\"\",'Scholars Nomination Form'!S367)","v":""},{"$f":"IF(ISBLANK('Scholars Nomination Form'!T367),\"\",'Scholars Nomination Form'!T367)","v":""},{"$f":"IF(ISBLANK('Scholars Nomination Form'!U367),\"\",'Scholars Nomination Form'!U367)","v":""},{"$f":"IF(ISBLANK('Scholars Nomination Form'!V367),\"\",'Scholars Nomination Form'!V367)","v":""},{"$f":"IF(ISBLANK('Scholars Nomination Form'!W367),\"\",'Scholars Nomination Form'!W367)","v":""},{"$f":"IF(ISBLANK('Scholars Nomination Form'!X367),\"\",'Scholars Nomination Form'!X367)","v":""},{"$f":"IF(ISBLANK('Scholars Nomination Form'!Y367),\"\",'Scholars Nomination Form'!Y367)","v":""},{"$f":"IF(ISBLANK('Scholars Nomination Form'!Z367),\"\",'Scholars Nomination Form'!Z367)","v":""},{"$f":"IF(ISBLANK('Scholars Nomination Form'!AA367),\"\",'Scholars Nomination Form'!AA367)","v":""}]
[{"$f":"IF(ISBLANK('Scholars Nomination Form'!$F368),\"\",'Scholars Nomination Form'!$C$11)","v":""},{"$f":"IF(ISBLANK('Scholars Nomination Form'!$F368),\"\",'Scholars Nomination Form'!$C$12)","v":""},{"$f":"IF(ISBLANK('Scholars Nomination Form'!$F368),\"\",'Scholars Nomination Form'!$C$13)","v":""},{"$f":"IF(ISBLANK('Scholars Nomination Form'!$F368),\"\",'Scholars Nomination Form'!$C$14)","v":""},{"$f":"IF(ISBLANK('Scholars Nomination Form'!$F368),\"\",'Scholars Nomination Form'!$C$15)","v":""},{"$f":"IF(ISBLANK('Scholars Nomination Form'!$F368),\"\",'Scholars Nomination Form'!$C$16)","v":""},{"$f":"IF(ISBLANK('Scholars Nomination Form'!B368),\"\",'Scholars Nomination Form'!B368)","v":""},{"$f":"IF(ISBLANK('Scholars Nomination Form'!D368),\"\",'Scholars Nomination Form'!D368)","v":""},{"$f":"IF(ISBLANK('Scholars Nomination Form'!E368),\"\",'Scholars Nomination Form'!E368)","v":""},{"$f":"IF(ISBLANK('Scholars Nomination Form'!F368),\"\",'Scholars Nomination Form'!F368)","v":""},{"$f":"IF(ISBLANK('Scholars Nomination Form'!G368),\"\",'Scholars Nomination Form'!G368)","v":""},{"$f":"IF(ISBLANK('Scholars Nomination Form'!H368),\"\",'Scholars Nomination Form'!H368)","v":""},{"$f":"IF(ISBLANK('Scholars Nomination Form'!I368),\"\",'Scholars Nomination Form'!I368)","v":""},{"$f":"IF(ISBLANK('Scholars Nomination Form'!J368),\"\",'Scholars Nomination Form'!J368)","v":""},{"$f":"IF(ISBLANK('Scholars Nomination Form'!K368),\"\",'Scholars Nomination Form'!K368)","v":""},{"$f":"IF(ISBLANK('Scholars Nomination Form'!L368),\"\",'Scholars Nomination Form'!L368)","v":""},{"$f":"IF(ISBLANK('Scholars Nomination Form'!M368),\"\",'Scholars Nomination Form'!M368)","v":""},{"$f":"IF(ISBLANK('Scholars Nomination Form'!N368),\"\",'Scholars Nomination Form'!N368)","v":""},{"$f":"IF(ISBLANK('Scholars Nomination Form'!O368),\"\",'Scholars Nomination Form'!O368)","v":""},{"$f":"IF(ISBLANK('Scholars Nomination Form'!P368),\"\",'Scholars Nomination Form'!P368)","v":""},{"$f":"IF(ISBLANK('Scholars Nomination Form'!Q368),\"\",'Scholars Nomination Form'!Q368)","v":""},{"$f":"IF(ISBLANK('Scholars Nomination Form'!R368),\"\",'Scholars Nomination Form'!R368)","v":""},{"$f":"IF(ISBLANK('Scholars Nomination Form'!S368),\"\",'Scholars Nomination Form'!S368)","v":""},{"$f":"IF(ISBLANK('Scholars Nomination Form'!T368),\"\",'Scholars Nomination Form'!T368)","v":""},{"$f":"IF(ISBLANK('Scholars Nomination Form'!U368),\"\",'Scholars Nomination Form'!U368)","v":""},{"$f":"IF(ISBLANK('Scholars Nomination Form'!V368),\"\",'Scholars Nomination Form'!V368)","v":""},{"$f":"IF(ISBLANK('Scholars Nomination Form'!W368),\"\",'Scholars Nomination Form'!W368)","v":""},{"$f":"IF(ISBLANK('Scholars Nomination Form'!X368),\"\",'Scholars Nomination Form'!X368)","v":""},{"$f":"IF(ISBLANK('Scholars Nomination Form'!Y368),\"\",'Scholars Nomination Form'!Y368)","v":""},{"$f":"IF(ISBLANK('Scholars Nomination Form'!Z368),\"\",'Scholars Nomination Form'!Z368)","v":""},{"$f":"IF(ISBLANK('Scholars Nomination Form'!AA368),\"\",'Scholars Nomination Form'!AA368)","v":""}]
[{"$f":"IF(ISBLANK('Scholars Nomination Form'!$F369),\"\",'Scholars Nomination Form'!$C$11)","v":""},{"$f":"IF(ISBLANK('Scholars Nomination Form'!$F369),\"\",'Scholars Nomination Form'!$C$12)","v":""},{"$f":"IF(ISBLANK('Scholars Nomination Form'!$F369),\"\",'Scholars Nomination Form'!$C$13)","v":""},{"$f":"IF(ISBLANK('Scholars Nomination Form'!$F369),\"\",'Scholars Nomination Form'!$C$14)","v":""},{"$f":"IF(ISBLANK('Scholars Nomination Form'!$F369),\"\",'Scholars Nomination Form'!$C$15)","v":""},{"$f":"IF(ISBLANK('Scholars Nomination Form'!$F369),\"\",'Scholars Nomination Form'!$C$16)","v":""},{"$f":"IF(ISBLANK('Scholars Nomination Form'!B369),\"\",'Scholars Nomination Form'!B369)","v":""},{"$f":"IF(ISBLANK('Scholars Nomination Form'!D369),\"\",'Scholars Nomination Form'!D369)","v":""},{"$f":"IF(ISBLANK('Scholars Nomination Form'!E369),\"\",'Scholars Nomination Form'!E369)","v":""},{"$f":"IF(ISBLANK('Scholars Nomination Form'!F369),\"\",'Scholars Nomination Form'!F369)","v":""},{"$f":"IF(ISBLANK('Scholars Nomination Form'!G369),\"\",'Scholars Nomination Form'!G369)","v":""},{"$f":"IF(ISBLANK('Scholars Nomination Form'!H369),\"\",'Scholars Nomination Form'!H369)","v":""},{"$f":"IF(ISBLANK('Scholars Nomination Form'!I369),\"\",'Scholars Nomination Form'!I369)","v":""},{"$f":"IF(ISBLANK('Scholars Nomination Form'!J369),\"\",'Scholars Nomination Form'!J369)","v":""},{"$f":"IF(ISBLANK('Scholars Nomination Form'!K369),\"\",'Scholars Nomination Form'!K369)","v":""},{"$f":"IF(ISBLANK('Scholars Nomination Form'!L369),\"\",'Scholars Nomination Form'!L369)","v":""},{"$f":"IF(ISBLANK('Scholars Nomination Form'!M369),\"\",'Scholars Nomination Form'!M369)","v":""},{"$f":"IF(ISBLANK('Scholars Nomination Form'!N369),\"\",'Scholars Nomination Form'!N369)","v":""},{"$f":"IF(ISBLANK('Scholars Nomination Form'!O369),\"\",'Scholars Nomination Form'!O369)","v":""},{"$f":"IF(ISBLANK('Scholars Nomination Form'!P369),\"\",'Scholars Nomination Form'!P369)","v":""},{"$f":"IF(ISBLANK('Scholars Nomination Form'!Q369),\"\",'Scholars Nomination Form'!Q369)","v":""},{"$f":"IF(ISBLANK('Scholars Nomination Form'!R369),\"\",'Scholars Nomination Form'!R369)","v":""},{"$f":"IF(ISBLANK('Scholars Nomination Form'!S369),\"\",'Scholars Nomination Form'!S369)","v":""},{"$f":"IF(ISBLANK('Scholars Nomination Form'!T369),\"\",'Scholars Nomination Form'!T369)","v":""},{"$f":"IF(ISBLANK('Scholars Nomination Form'!U369),\"\",'Scholars Nomination Form'!U369)","v":""},{"$f":"IF(ISBLANK('Scholars Nomination Form'!V369),\"\",'Scholars Nomination Form'!V369)","v":""},{"$f":"IF(ISBLANK('Scholars Nomination Form'!W369),\"\",'Scholars Nomination Form'!W369)","v":""},{"$f":"IF(ISBLANK('Scholars Nomination Form'!X369),\"\",'Scholars Nomination Form'!X369)","v":""},{"$f":"IF(ISBLANK('Scholars Nomination Form'!Y369),\"\",'Scholars Nomination Form'!Y369)","v":""},{"$f":"IF(ISBLANK('Scholars Nomination Form'!Z369),\"\",'Scholars Nomination Form'!Z369)","v":""},{"$f":"IF(ISBLANK('Scholars Nomination Form'!AA369),\"\",'Scholars Nomination Form'!AA369)","v":""}]
[{"$f":"IF(ISBLANK('Scholars Nomination Form'!$F370),\"\",'Scholars Nomination Form'!$C$11)","v":""},{"$f":"IF(ISBLANK('Scholars Nomination Form'!$F370),\"\",'Scholars Nomination Form'!$C$12)","v":""},{"$f":"IF(ISBLANK('Scholars Nomination Form'!$F370),\"\",'Scholars Nomination Form'!$C$13)","v":""},{"$f":"IF(ISBLANK('Scholars Nomination Form'!$F370),\"\",'Scholars Nomination Form'!$C$14)","v":""},{"$f":"IF(ISBLANK('Scholars Nomination Form'!$F370),\"\",'Scholars Nomination Form'!$C$15)","v":""},{"$f":"IF(ISBLANK('Scholars Nomination Form'!$F370),\"\",'Scholars Nomination Form'!$C$16)","v":""},{"$f":"IF(ISBLANK('Scholars Nomination Form'!B370),\"\",'Scholars Nomination Form'!B370)","v":""},{"$f":"IF(ISBLANK('Scholars Nomination Form'!D370),\"\",'Scholars Nomination Form'!D370)","v":""},{"$f":"IF(ISBLANK('Scholars Nomination Form'!E370),\"\",'Scholars Nomination Form'!E370)","v":""},{"$f":"IF(ISBLANK('Scholars Nomination Form'!F370),\"\",'Scholars Nomination Form'!F370)","v":""},{"$f":"IF(ISBLANK('Scholars Nomination Form'!G370),\"\",'Scholars Nomination Form'!G370)","v":""},{"$f":"IF(ISBLANK('Scholars Nomination Form'!H370),\"\",'Scholars Nomination Form'!H370)","v":""},{"$f":"IF(ISBLANK('Scholars Nomination Form'!I370),\"\",'Scholars Nomination Form'!I370)","v":""},{"$f":"IF(ISBLANK('Scholars Nomination Form'!J370),\"\",'Scholars Nomination Form'!J370)","v":""},{"$f":"IF(ISBLANK('Scholars Nomination Form'!K370),\"\",'Scholars Nomination Form'!K370)","v":""},{"$f":"IF(ISBLANK('Scholars Nomination Form'!L370),\"\",'Scholars Nomination Form'!L370)","v":""},{"$f":"IF(ISBLANK('Scholars Nomination Form'!M370),\"\",'Scholars Nomination Form'!M370)","v":""},{"$f":"IF(ISBLANK('Scholars Nomination Form'!N370),\"\",'Scholars Nomination Form'!N370)","v":""},{"$f":"IF(ISBLANK('Scholars Nomination Form'!O370),\"\",'Scholars Nomination Form'!O370)","v":""},{"$f":"IF(ISBLANK('Scholars Nomination Form'!P370),\"\",'Scholars Nomination Form'!P370)","v":""},{"$f":"IF(ISBLANK('Scholars Nomination Form'!Q370),\"\",'Scholars Nomination Form'!Q370)","v":""},{"$f":"IF(ISBLANK('Scholars Nomination Form'!R370),\"\",'Scholars Nomination Form'!R370)","v":""},{"$f":"IF(ISBLANK('Scholars Nomination Form'!S370),\"\",'Scholars Nomination Form'!S370)","v":""},{"$f":"IF(ISBLANK('Scholars Nomination Form'!T370),\"\",'Scholars Nomination Form'!T370)","v":""},{"$f":"IF(ISBLANK('Scholars Nomination Form'!U370),\"\",'Scholars Nomination Form'!U370)","v":""},{"$f":"IF(ISBLANK('Scholars Nomination Form'!V370),\"\",'Scholars Nomination Form'!V370)","v":""},{"$f":"IF(ISBLANK('Scholars Nomination Form'!W370),\"\",'Scholars Nomination Form'!W370)","v":""},{"$f":"IF(ISBLANK('Scholars Nomination Form'!X370),\"\",'Scholars Nomination Form'!X370)","v":""},{"$f":"IF(ISBLANK('Scholars Nomination Form'!Y370),\"\",'Scholars Nomination Form'!Y370)","v":""},{"$f":"IF(ISBLANK('Scholars Nomination Form'!Z370),\"\",'Scholars Nomination Form'!Z370)","v":""},{"$f":"IF(ISBLANK('Scholars Nomination Form'!AA370),\"\",'Scholars Nomination Form'!AA370)","v":""}]
[{"$f":"IF(ISBLANK('Scholars Nomination Form'!$F371),\"\",'Scholars Nomination Form'!$C$11)","v":""},{"$f":"IF(ISBLANK('Scholars Nomination Form'!$F371),\"\",'Scholars Nomination Form'!$C$12)","v":""},{"$f":"IF(ISBLANK('Scholars Nomination Form'!$F371),\"\",'Scholars Nomination Form'!$C$13)","v":""},{"$f":"IF(ISBLANK('Scholars Nomination Form'!$F371),\"\",'Scholars Nomination Form'!$C$14)","v":""},{"$f":"IF(ISBLANK('Scholars Nomination Form'!$F371),\"\",'Scholars Nomination Form'!$C$15)","v":""},{"$f":"IF(ISBLANK('Scholars Nomination Form'!$F371),\"\",'Scholars Nomination Form'!$C$16)","v":""},{"$f":"IF(ISBLANK('Scholars Nomination Form'!B371),\"\",'Scholars Nomination Form'!B371)","v":""},{"$f":"IF(ISBLANK('Scholars Nomination Form'!D371),\"\",'Scholars Nomination Form'!D371)","v":""},{"$f":"IF(ISBLANK('Scholars Nomination Form'!E371),\"\",'Scholars Nomination Form'!E371)","v":""},{"$f":"IF(ISBLANK('Scholars Nomination Form'!F371),\"\",'Scholars Nomination Form'!F371)","v":""},{"$f":"IF(ISBLANK('Scholars Nomination Form'!G371),\"\",'Scholars Nomination Form'!G371)","v":""},{"$f":"IF(ISBLANK('Scholars Nomination Form'!H371),\"\",'Scholars Nomination Form'!H371)","v":""},{"$f":"IF(ISBLANK('Scholars Nomination Form'!I371),\"\",'Scholars Nomination Form'!I371)","v":""},{"$f":"IF(ISBLANK('Scholars Nomination Form'!J371),\"\",'Scholars Nomination Form'!J371)","v":""},{"$f":"IF(ISBLANK('Scholars Nomination Form'!K371),\"\",'Scholars Nomination Form'!K371)","v":""},{"$f":"IF(ISBLANK('Scholars Nomination Form'!L371),\"\",'Scholars Nomination Form'!L371)","v":""},{"$f":"IF(ISBLANK('Scholars Nomination Form'!M371),\"\",'Scholars Nomination Form'!M371)","v":""},{"$f":"IF(ISBLANK('Scholars Nomination Form'!N371),\"\",'Scholars Nomination Form'!N371)","v":""},{"$f":"IF(ISBLANK('Scholars Nomination Form'!O371),\"\",'Scholars Nomination Form'!O371)","v":""},{"$f":"IF(ISBLANK('Scholars Nomination Form'!P371),\"\",'Scholars Nomination Form'!P371)","v":""},{"$f":"IF(ISBLANK('Scholars Nomination Form'!Q371),\"\",'Scholars Nomination Form'!Q371)","v":""},{"$f":"IF(ISBLANK('Scholars Nomination Form'!R371),\"\",'Scholars Nomination Form'!R371)","v":""},{"$f":"IF(ISBLANK('Scholars Nomination Form'!S371),\"\",'Scholars Nomination Form'!S371)","v":""},{"$f":"IF(ISBLANK('Scholars Nomination Form'!T371),\"\",'Scholars Nomination Form'!T371)","v":""},{"$f":"IF(ISBLANK('Scholars Nomination Form'!U371),\"\",'Scholars Nomination Form'!U371)","v":""},{"$f":"IF(ISBLANK('Scholars Nomination Form'!V371),\"\",'Scholars Nomination Form'!V371)","v":""},{"$f":"IF(ISBLANK('Scholars Nomination Form'!W371),\"\",'Scholars Nomination Form'!W371)","v":""},{"$f":"IF(ISBLANK('Scholars Nomination Form'!X371),\"\",'Scholars Nomination Form'!X371)","v":""},{"$f":"IF(ISBLANK('Scholars Nomination Form'!Y371),\"\",'Scholars Nomination Form'!Y371)","v":""},{"$f":"IF(ISBLANK('Scholars Nomination Form'!Z371),\"\",'Scholars Nomination Form'!Z371)","v":""},{"$f":"IF(ISBLANK('Scholars Nomination Form'!AA371),\"\",'Scholars Nomination Form'!AA371)","v":""}]
[{"$f":"IF(ISBLANK('Scholars Nomination Form'!$F372),\"\",'Scholars Nomination Form'!$C$11)","v":""},{"$f":"IF(ISBLANK('Scholars Nomination Form'!$F372),\"\",'Scholars Nomination Form'!$C$12)","v":""},{"$f":"IF(ISBLANK('Scholars Nomination Form'!$F372),\"\",'Scholars Nomination Form'!$C$13)","v":""},{"$f":"IF(ISBLANK('Scholars Nomination Form'!$F372),\"\",'Scholars Nomination Form'!$C$14)","v":""},{"$f":"IF(ISBLANK('Scholars Nomination Form'!$F372),\"\",'Scholars Nomination Form'!$C$15)","v":""},{"$f":"IF(ISBLANK('Scholars Nomination Form'!$F372),\"\",'Scholars Nomination Form'!$C$16)","v":""},{"$f":"IF(ISBLANK('Scholars Nomination Form'!B372),\"\",'Scholars Nomination Form'!B372)","v":""},{"$f":"IF(ISBLANK('Scholars Nomination Form'!D372),\"\",'Scholars Nomination Form'!D372)","v":""},{"$f":"IF(ISBLANK('Scholars Nomination Form'!E372),\"\",'Scholars Nomination Form'!E372)","v":""},{"$f":"IF(ISBLANK('Scholars Nomination Form'!F372),\"\",'Scholars Nomination Form'!F372)","v":""},{"$f":"IF(ISBLANK('Scholars Nomination Form'!G372),\"\",'Scholars Nomination Form'!G372)","v":""},{"$f":"IF(ISBLANK('Scholars Nomination Form'!H372),\"\",'Scholars Nomination Form'!H372)","v":""},{"$f":"IF(ISBLANK('Scholars Nomination Form'!I372),\"\",'Scholars Nomination Form'!I372)","v":""},{"$f":"IF(ISBLANK('Scholars Nomination Form'!J372),\"\",'Scholars Nomination Form'!J372)","v":""},{"$f":"IF(ISBLANK('Scholars Nomination Form'!K372),\"\",'Scholars Nomination Form'!K372)","v":""},{"$f":"IF(ISBLANK('Scholars Nomination Form'!L372),\"\",'Scholars Nomination Form'!L372)","v":""},{"$f":"IF(ISBLANK('Scholars Nomination Form'!M372),\"\",'Scholars Nomination Form'!M372)","v":""},{"$f":"IF(ISBLANK('Scholars Nomination Form'!N372),\"\",'Scholars Nomination Form'!N372)","v":""},{"$f":"IF(ISBLANK('Scholars Nomination Form'!O372),\"\",'Scholars Nomination Form'!O372)","v":""},{"$f":"IF(ISBLANK('Scholars Nomination Form'!P372),\"\",'Scholars Nomination Form'!P372)","v":""},{"$f":"IF(ISBLANK('Scholars Nomination Form'!Q372),\"\",'Scholars Nomination Form'!Q372)","v":""},{"$f":"IF(ISBLANK('Scholars Nomination Form'!R372),\"\",'Scholars Nomination Form'!R372)","v":""},{"$f":"IF(ISBLANK('Scholars Nomination Form'!S372),\"\",'Scholars Nomination Form'!S372)","v":""},{"$f":"IF(ISBLANK('Scholars Nomination Form'!T372),\"\",'Scholars Nomination Form'!T372)","v":""},{"$f":"IF(ISBLANK('Scholars Nomination Form'!U372),\"\",'Scholars Nomination Form'!U372)","v":""},{"$f":"IF(ISBLANK('Scholars Nomination Form'!V372),\"\",'Scholars Nomination Form'!V372)","v":""},{"$f":"IF(ISBLANK('Scholars Nomination Form'!W372),\"\",'Scholars Nomination Form'!W372)","v":""},{"$f":"IF(ISBLANK('Scholars Nomination Form'!X372),\"\",'Scholars Nomination Form'!X372)","v":""},{"$f":"IF(ISBLANK('Scholars Nomination Form'!Y372),\"\",'Scholars Nomination Form'!Y372)","v":""},{"$f":"IF(ISBLANK('Scholars Nomination Form'!Z372),\"\",'Scholars Nomination Form'!Z372)","v":""},{"$f":"IF(ISBLANK('Scholars Nomination Form'!AA372),\"\",'Scholars Nomination Form'!AA372)","v":""}]
[{"$f":"IF(ISBLANK('Scholars Nomination Form'!$F373),\"\",'Scholars Nomination Form'!$C$11)","v":""},{"$f":"IF(ISBLANK('Scholars Nomination Form'!$F373),\"\",'Scholars Nomination Form'!$C$12)","v":""},{"$f":"IF(ISBLANK('Scholars Nomination Form'!$F373),\"\",'Scholars Nomination Form'!$C$13)","v":""},{"$f":"IF(ISBLANK('Scholars Nomination Form'!$F373),\"\",'Scholars Nomination Form'!$C$14)","v":""},{"$f":"IF(ISBLANK('Scholars Nomination Form'!$F373),\"\",'Scholars Nomination Form'!$C$15)","v":""},{"$f":"IF(ISBLANK('Scholars Nomination Form'!$F373),\"\",'Scholars Nomination Form'!$C$16)","v":""},{"$f":"IF(ISBLANK('Scholars Nomination Form'!B373),\"\",'Scholars Nomination Form'!B373)","v":""},{"$f":"IF(ISBLANK('Scholars Nomination Form'!D373),\"\",'Scholars Nomination Form'!D373)","v":""},{"$f":"IF(ISBLANK('Scholars Nomination Form'!E373),\"\",'Scholars Nomination Form'!E373)","v":""},{"$f":"IF(ISBLANK('Scholars Nomination Form'!F373),\"\",'Scholars Nomination Form'!F373)","v":""},{"$f":"IF(ISBLANK('Scholars Nomination Form'!G373),\"\",'Scholars Nomination Form'!G373)","v":""},{"$f":"IF(ISBLANK('Scholars Nomination Form'!H373),\"\",'Scholars Nomination Form'!H373)","v":""},{"$f":"IF(ISBLANK('Scholars Nomination Form'!I373),\"\",'Scholars Nomination Form'!I373)","v":""},{"$f":"IF(ISBLANK('Scholars Nomination Form'!J373),\"\",'Scholars Nomination Form'!J373)","v":""},{"$f":"IF(ISBLANK('Scholars Nomination Form'!K373),\"\",'Scholars Nomination Form'!K373)","v":""},{"$f":"IF(ISBLANK('Scholars Nomination Form'!L373),\"\",'Scholars Nomination Form'!L373)","v":""},{"$f":"IF(ISBLANK('Scholars Nomination Form'!M373),\"\",'Scholars Nomination Form'!M373)","v":""},{"$f":"IF(ISBLANK('Scholars Nomination Form'!N373),\"\",'Scholars Nomination Form'!N373)","v":""},{"$f":"IF(ISBLANK('Scholars Nomination Form'!O373),\"\",'Scholars Nomination Form'!O373)","v":""},{"$f":"IF(ISBLANK('Scholars Nomination Form'!P373),\"\",'Scholars Nomination Form'!P373)","v":""},{"$f":"IF(ISBLANK('Scholars Nomination Form'!Q373),\"\",'Scholars Nomination Form'!Q373)","v":""},{"$f":"IF(ISBLANK('Scholars Nomination Form'!R373),\"\",'Scholars Nomination Form'!R373)","v":""},{"$f":"IF(ISBLANK('Scholars Nomination Form'!S373),\"\",'Scholars Nomination Form'!S373)","v":""},{"$f":"IF(ISBLANK('Scholars Nomination Form'!T373),\"\",'Scholars Nomination Form'!T373)","v":""},{"$f":"IF(ISBLANK('Scholars Nomination Form'!U373),\"\",'Scholars Nomination Form'!U373)","v":""},{"$f":"IF(ISBLANK('Scholars Nomination Form'!V373),\"\",'Scholars Nomination Form'!V373)","v":""},{"$f":"IF(ISBLANK('Scholars Nomination Form'!W373),\"\",'Scholars Nomination Form'!W373)","v":""},{"$f":"IF(ISBLANK('Scholars Nomination Form'!X373),\"\",'Scholars Nomination Form'!X373)","v":""},{"$f":"IF(ISBLANK('Scholars Nomination Form'!Y373),\"\",'Scholars Nomination Form'!Y373)","v":""},{"$f":"IF(ISBLANK('Scholars Nomination Form'!Z373),\"\",'Scholars Nomination Form'!Z373)","v":""},{"$f":"IF(ISBLANK('Scholars Nomination Form'!AA373),\"\",'Scholars Nomination Form'!AA373)","v":""}]
[{"$f":"IF(ISBLANK('Scholars Nomination Form'!$F374),\"\",'Scholars Nomination Form'!$C$11)","v":""},{"$f":"IF(ISBLANK('Scholars Nomination Form'!$F374),\"\",'Scholars Nomination Form'!$C$12)","v":""},{"$f":"IF(ISBLANK('Scholars Nomination Form'!$F374),\"\",'Scholars Nomination Form'!$C$13)","v":""},{"$f":"IF(ISBLANK('Scholars Nomination Form'!$F374),\"\",'Scholars Nomination Form'!$C$14)","v":""},{"$f":"IF(ISBLANK('Scholars Nomination Form'!$F374),\"\",'Scholars Nomination Form'!$C$15)","v":""},{"$f":"IF(ISBLANK('Scholars Nomination Form'!$F374),\"\",'Scholars Nomination Form'!$C$16)","v":""},{"$f":"IF(ISBLANK('Scholars Nomination Form'!B374),\"\",'Scholars Nomination Form'!B374)","v":""},{"$f":"IF(ISBLANK('Scholars Nomination Form'!D374),\"\",'Scholars Nomination Form'!D374)","v":""},{"$f":"IF(ISBLANK('Scholars Nomination Form'!E374),\"\",'Scholars Nomination Form'!E374)","v":""},{"$f":"IF(ISBLANK('Scholars Nomination Form'!F374),\"\",'Scholars Nomination Form'!F374)","v":""},{"$f":"IF(ISBLANK('Scholars Nomination Form'!G374),\"\",'Scholars Nomination Form'!G374)","v":""},{"$f":"IF(ISBLANK('Scholars Nomination Form'!H374),\"\",'Scholars Nomination Form'!H374)","v":""},{"$f":"IF(ISBLANK('Scholars Nomination Form'!I374),\"\",'Scholars Nomination Form'!I374)","v":""},{"$f":"IF(ISBLANK('Scholars Nomination Form'!J374),\"\",'Scholars Nomination Form'!J374)","v":""},{"$f":"IF(ISBLANK('Scholars Nomination Form'!K374),\"\",'Scholars Nomination Form'!K374)","v":""},{"$f":"IF(ISBLANK('Scholars Nomination Form'!L374),\"\",'Scholars Nomination Form'!L374)","v":""},{"$f":"IF(ISBLANK('Scholars Nomination Form'!M374),\"\",'Scholars Nomination Form'!M374)","v":""},{"$f":"IF(ISBLANK('Scholars Nomination Form'!N374),\"\",'Scholars Nomination Form'!N374)","v":""},{"$f":"IF(ISBLANK('Scholars Nomination Form'!O374),\"\",'Scholars Nomination Form'!O374)","v":""},{"$f":"IF(ISBLANK('Scholars Nomination Form'!P374),\"\",'Scholars Nomination Form'!P374)","v":""},{"$f":"IF(ISBLANK('Scholars Nomination Form'!Q374),\"\",'Scholars Nomination Form'!Q374)","v":""},{"$f":"IF(ISBLANK('Scholars Nomination Form'!R374),\"\",'Scholars Nomination Form'!R374)","v":""},{"$f":"IF(ISBLANK('Scholars Nomination Form'!S374),\"\",'Scholars Nomination Form'!S374)","v":""},{"$f":"IF(ISBLANK('Scholars Nomination Form'!T374),\"\",'Scholars Nomination Form'!T374)","v":""},{"$f":"IF(ISBLANK('Scholars Nomination Form'!U374),\"\",'Scholars Nomination Form'!U374)","v":""},{"$f":"IF(ISBLANK('Scholars Nomination Form'!V374),\"\",'Scholars Nomination Form'!V374)","v":""},{"$f":"IF(ISBLANK('Scholars Nomination Form'!W374),\"\",'Scholars Nomination Form'!W374)","v":""},{"$f":"IF(ISBLANK('Scholars Nomination Form'!X374),\"\",'Scholars Nomination Form'!X374)","v":""},{"$f":"IF(ISBLANK('Scholars Nomination Form'!Y374),\"\",'Scholars Nomination Form'!Y374)","v":""},{"$f":"IF(ISBLANK('Scholars Nomination Form'!Z374),\"\",'Scholars Nomination Form'!Z374)","v":""},{"$f":"IF(ISBLANK('Scholars Nomination Form'!AA374),\"\",'Scholars Nomination Form'!AA374)","v":""}]
[{"$f":"IF(ISBLANK('Scholars Nomination Form'!$F375),\"\",'Scholars Nomination Form'!$C$11)","v":""},{"$f":"IF(ISBLANK('Scholars Nomination Form'!$F375),\"\",'Scholars Nomination Form'!$C$12)","v":""},{"$f":"IF(ISBLANK('Scholars Nomination Form'!$F375),\"\",'Scholars Nomination Form'!$C$13)","v":""},{"$f":"IF(ISBLANK('Scholars Nomination Form'!$F375),\"\",'Scholars Nomination Form'!$C$14)","v":""},{"$f":"IF(ISBLANK('Scholars Nomination Form'!$F375),\"\",'Scholars Nomination Form'!$C$15)","v":""},{"$f":"IF(ISBLANK('Scholars Nomination Form'!$F375),\"\",'Scholars Nomination Form'!$C$16)","v":""},{"$f":"IF(ISBLANK('Scholars Nomination Form'!B375),\"\",'Scholars Nomination Form'!B375)","v":""},{"$f":"IF(ISBLANK('Scholars Nomination Form'!D375),\"\",'Scholars Nomination Form'!D375)","v":""},{"$f":"IF(ISBLANK('Scholars Nomination Form'!E375),\"\",'Scholars Nomination Form'!E375)","v":""},{"$f":"IF(ISBLANK('Scholars Nomination Form'!F375),\"\",'Scholars Nomination Form'!F375)","v":""},{"$f":"IF(ISBLANK('Scholars Nomination Form'!G375),\"\",'Scholars Nomination Form'!G375)","v":""},{"$f":"IF(ISBLANK('Scholars Nomination Form'!H375),\"\",'Scholars Nomination Form'!H375)","v":""},{"$f":"IF(ISBLANK('Scholars Nomination Form'!I375),\"\",'Scholars Nomination Form'!I375)","v":""},{"$f":"IF(ISBLANK('Scholars Nomination Form'!J375),\"\",'Scholars Nomination Form'!J375)","v":""},{"$f":"IF(ISBLANK('Scholars Nomination Form'!K375),\"\",'Scholars Nomination Form'!K375)","v":""},{"$f":"IF(ISBLANK('Scholars Nomination Form'!L375),\"\",'Scholars Nomination Form'!L375)","v":""},{"$f":"IF(ISBLANK('Scholars Nomination Form'!M375),\"\",'Scholars Nomination Form'!M375)","v":""},{"$f":"IF(ISBLANK('Scholars Nomination Form'!N375),\"\",'Scholars Nomination Form'!N375)","v":""},{"$f":"IF(ISBLANK('Scholars Nomination Form'!O375),\"\",'Scholars Nomination Form'!O375)","v":""},{"$f":"IF(ISBLANK('Scholars Nomination Form'!P375),\"\",'Scholars Nomination Form'!P375)","v":""},{"$f":"IF(ISBLANK('Scholars Nomination Form'!Q375),\"\",'Scholars Nomination Form'!Q375)","v":""},{"$f":"IF(ISBLANK('Scholars Nomination Form'!R375),\"\",'Scholars Nomination Form'!R375)","v":""},{"$f":"IF(ISBLANK('Scholars Nomination Form'!S375),\"\",'Scholars Nomination Form'!S375)","v":""},{"$f":"IF(ISBLANK('Scholars Nomination Form'!T375),\"\",'Scholars Nomination Form'!T375)","v":""},{"$f":"IF(ISBLANK('Scholars Nomination Form'!U375),\"\",'Scholars Nomination Form'!U375)","v":""},{"$f":"IF(ISBLANK('Scholars Nomination Form'!V375),\"\",'Scholars Nomination Form'!V375)","v":""},{"$f":"IF(ISBLANK('Scholars Nomination Form'!W375),\"\",'Scholars Nomination Form'!W375)","v":""},{"$f":"IF(ISBLANK('Scholars Nomination Form'!X375),\"\",'Scholars Nomination Form'!X375)","v":""},{"$f":"IF(ISBLANK('Scholars Nomination Form'!Y375),\"\",'Scholars Nomination Form'!Y375)","v":""},{"$f":"IF(ISBLANK('Scholars Nomination Form'!Z375),\"\",'Scholars Nomination Form'!Z375)","v":""},{"$f":"IF(ISBLANK('Scholars Nomination Form'!AA375),\"\",'Scholars Nomination Form'!AA375)","v":""}]
[{"$f":"IF(ISBLANK('Scholars Nomination Form'!$F376),\"\",'Scholars Nomination Form'!$C$11)","v":""},{"$f":"IF(ISBLANK('Scholars Nomination Form'!$F376),\"\",'Scholars Nomination Form'!$C$12)","v":""},{"$f":"IF(ISBLANK('Scholars Nomination Form'!$F376),\"\",'Scholars Nomination Form'!$C$13)","v":""},{"$f":"IF(ISBLANK('Scholars Nomination Form'!$F376),\"\",'Scholars Nomination Form'!$C$14)","v":""},{"$f":"IF(ISBLANK('Scholars Nomination Form'!$F376),\"\",'Scholars Nomination Form'!$C$15)","v":""},{"$f":"IF(ISBLANK('Scholars Nomination Form'!$F376),\"\",'Scholars Nomination Form'!$C$16)","v":""},{"$f":"IF(ISBLANK('Scholars Nomination Form'!B376),\"\",'Scholars Nomination Form'!B376)","v":""},{"$f":"IF(ISBLANK('Scholars Nomination Form'!D376),\"\",'Scholars Nomination Form'!D376)","v":""},{"$f":"IF(ISBLANK('Scholars Nomination Form'!E376),\"\",'Scholars Nomination Form'!E376)","v":""},{"$f":"IF(ISBLANK('Scholars Nomination Form'!F376),\"\",'Scholars Nomination Form'!F376)","v":""},{"$f":"IF(ISBLANK('Scholars Nomination Form'!G376),\"\",'Scholars Nomination Form'!G376)","v":""},{"$f":"IF(ISBLANK('Scholars Nomination Form'!H376),\"\",'Scholars Nomination Form'!H376)","v":""},{"$f":"IF(ISBLANK('Scholars Nomination Form'!I376),\"\",'Scholars Nomination Form'!I376)","v":""},{"$f":"IF(ISBLANK('Scholars Nomination Form'!J376),\"\",'Scholars Nomination Form'!J376)","v":""},{"$f":"IF(ISBLANK('Scholars Nomination Form'!K376),\"\",'Scholars Nomination Form'!K376)","v":""},{"$f":"IF(ISBLANK('Scholars Nomination Form'!L376),\"\",'Scholars Nomination Form'!L376)","v":""},{"$f":"IF(ISBLANK('Scholars Nomination Form'!M376),\"\",'Scholars Nomination Form'!M376)","v":""},{"$f":"IF(ISBLANK('Scholars Nomination Form'!N376),\"\",'Scholars Nomination Form'!N376)","v":""},{"$f":"IF(ISBLANK('Scholars Nomination Form'!O376),\"\",'Scholars Nomination Form'!O376)","v":""},{"$f":"IF(ISBLANK('Scholars Nomination Form'!P376),\"\",'Scholars Nomination Form'!P376)","v":""},{"$f":"IF(ISBLANK('Scholars Nomination Form'!Q376),\"\",'Scholars Nomination Form'!Q376)","v":""},{"$f":"IF(ISBLANK('Scholars Nomination Form'!R376),\"\",'Scholars Nomination Form'!R376)","v":""},{"$f":"IF(ISBLANK('Scholars Nomination Form'!S376),\"\",'Scholars Nomination Form'!S376)","v":""},{"$f":"IF(ISBLANK('Scholars Nomination Form'!T376),\"\",'Scholars Nomination Form'!T376)","v":""},{"$f":"IF(ISBLANK('Scholars Nomination Form'!U376),\"\",'Scholars Nomination Form'!U376)","v":""},{"$f":"IF(ISBLANK('Scholars Nomination Form'!V376),\"\",'Scholars Nomination Form'!V376)","v":""},{"$f":"IF(ISBLANK('Scholars Nomination Form'!W376),\"\",'Scholars Nomination Form'!W376)","v":""},{"$f":"IF(ISBLANK('Scholars Nomination Form'!X376),\"\",'Scholars Nomination Form'!X376)","v":""},{"$f":"IF(ISBLANK('Scholars Nomination Form'!Y376),\"\",'Scholars Nomination Form'!Y376)","v":""},{"$f":"IF(ISBLANK('Scholars Nomination Form'!Z376),\"\",'Scholars Nomination Form'!Z376)","v":""},{"$f":"IF(ISBLANK('Scholars Nomination Form'!AA376),\"\",'Scholars Nomination Form'!AA376)","v":""}]
[{"$f":"IF(ISBLANK('Scholars Nomination Form'!$F377),\"\",'Scholars Nomination Form'!$C$11)","v":""},{"$f":"IF(ISBLANK('Scholars Nomination Form'!$F377),\"\",'Scholars Nomination Form'!$C$12)","v":""},{"$f":"IF(ISBLANK('Scholars Nomination Form'!$F377),\"\",'Scholars Nomination Form'!$C$13)","v":""},{"$f":"IF(ISBLANK('Scholars Nomination Form'!$F377),\"\",'Scholars Nomination Form'!$C$14)","v":""},{"$f":"IF(ISBLANK('Scholars Nomination Form'!$F377),\"\",'Scholars Nomination Form'!$C$15)","v":""},{"$f":"IF(ISBLANK('Scholars Nomination Form'!$F377),\"\",'Scholars Nomination Form'!$C$16)","v":""},{"$f":"IF(ISBLANK('Scholars Nomination Form'!B377),\"\",'Scholars Nomination Form'!B377)","v":""},{"$f":"IF(ISBLANK('Scholars Nomination Form'!D377),\"\",'Scholars Nomination Form'!D377)","v":""},{"$f":"IF(ISBLANK('Scholars Nomination Form'!E377),\"\",'Scholars Nomination Form'!E377)","v":""},{"$f":"IF(ISBLANK('Scholars Nomination Form'!F377),\"\",'Scholars Nomination Form'!F377)","v":""},{"$f":"IF(ISBLANK('Scholars Nomination Form'!G377),\"\",'Scholars Nomination Form'!G377)","v":""},{"$f":"IF(ISBLANK('Scholars Nomination Form'!H377),\"\",'Scholars Nomination Form'!H377)","v":""},{"$f":"IF(ISBLANK('Scholars Nomination Form'!I377),\"\",'Scholars Nomination Form'!I377)","v":""},{"$f":"IF(ISBLANK('Scholars Nomination Form'!J377),\"\",'Scholars Nomination Form'!J377)","v":""},{"$f":"IF(ISBLANK('Scholars Nomination Form'!K377),\"\",'Scholars Nomination Form'!K377)","v":""},{"$f":"IF(ISBLANK('Scholars Nomination Form'!L377),\"\",'Scholars Nomination Form'!L377)","v":""},{"$f":"IF(ISBLANK('Scholars Nomination Form'!M377),\"\",'Scholars Nomination Form'!M377)","v":""},{"$f":"IF(ISBLANK('Scholars Nomination Form'!N377),\"\",'Scholars Nomination Form'!N377)","v":""},{"$f":"IF(ISBLANK('Scholars Nomination Form'!O377),\"\",'Scholars Nomination Form'!O377)","v":""},{"$f":"IF(ISBLANK('Scholars Nomination Form'!P377),\"\",'Scholars Nomination Form'!P377)","v":""},{"$f":"IF(ISBLANK('Scholars Nomination Form'!Q377),\"\",'Scholars Nomination Form'!Q377)","v":""},{"$f":"IF(ISBLANK('Scholars Nomination Form'!R377),\"\",'Scholars Nomination Form'!R377)","v":""},{"$f":"IF(ISBLANK('Scholars Nomination Form'!S377),\"\",'Scholars Nomination Form'!S377)","v":""},{"$f":"IF(ISBLANK('Scholars Nomination Form'!T377),\"\",'Scholars Nomination Form'!T377)","v":""},{"$f":"IF(ISBLANK('Scholars Nomination Form'!U377),\"\",'Scholars Nomination Form'!U377)","v":""},{"$f":"IF(ISBLANK('Scholars Nomination Form'!V377),\"\",'Scholars Nomination Form'!V377)","v":""},{"$f":"IF(ISBLANK('Scholars Nomination Form'!W377),\"\",'Scholars Nomination Form'!W377)","v":""},{"$f":"IF(ISBLANK('Scholars Nomination Form'!X377),\"\",'Scholars Nomination Form'!X377)","v":""},{"$f":"IF(ISBLANK('Scholars Nomination Form'!Y377),\"\",'Scholars Nomination Form'!Y377)","v":""},{"$f":"IF(ISBLANK('Scholars Nomination Form'!Z377),\"\",'Scholars Nomination Form'!Z377)","v":""},{"$f":"IF(ISBLANK('Scholars Nomination Form'!AA377),\"\",'Scholars Nomination Form'!AA377)","v":""}]
[{"$f":"IF(ISBLANK('Scholars Nomination Form'!$F378),\"\",'Scholars Nomination Form'!$C$11)","v":""},{"$f":"IF(ISBLANK('Scholars Nomination Form'!$F378),\"\",'Scholars Nomination Form'!$C$12)","v":""},{"$f":"IF(ISBLANK('Scholars Nomination Form'!$F378),\"\",'Scholars Nomination Form'!$C$13)","v":""},{"$f":"IF(ISBLANK('Scholars Nomination Form'!$F378),\"\",'Scholars Nomination Form'!$C$14)","v":""},{"$f":"IF(ISBLANK('Scholars Nomination Form'!$F378),\"\",'Scholars Nomination Form'!$C$15)","v":""},{"$f":"IF(ISBLANK('Scholars Nomination Form'!$F378),\"\",'Scholars Nomination Form'!$C$16)","v":""},{"$f":"IF(ISBLANK('Scholars Nomination Form'!B378),\"\",'Scholars Nomination Form'!B378)","v":""},{"$f":"IF(ISBLANK('Scholars Nomination Form'!D378),\"\",'Scholars Nomination Form'!D378)","v":""},{"$f":"IF(ISBLANK('Scholars Nomination Form'!E378),\"\",'Scholars Nomination Form'!E378)","v":""},{"$f":"IF(ISBLANK('Scholars Nomination Form'!F378),\"\",'Scholars Nomination Form'!F378)","v":""},{"$f":"IF(ISBLANK('Scholars Nomination Form'!G378),\"\",'Scholars Nomination Form'!G378)","v":""},{"$f":"IF(ISBLANK('Scholars Nomination Form'!H378),\"\",'Scholars Nomination Form'!H378)","v":""},{"$f":"IF(ISBLANK('Scholars Nomination Form'!I378),\"\",'Scholars Nomination Form'!I378)","v":""},{"$f":"IF(ISBLANK('Scholars Nomination Form'!J378),\"\",'Scholars Nomination Form'!J378)","v":""},{"$f":"IF(ISBLANK('Scholars Nomination Form'!K378),\"\",'Scholars Nomination Form'!K378)","v":""},{"$f":"IF(ISBLANK('Scholars Nomination Form'!L378),\"\",'Scholars Nomination Form'!L378)","v":""},{"$f":"IF(ISBLANK('Scholars Nomination Form'!M378),\"\",'Scholars Nomination Form'!M378)","v":""},{"$f":"IF(ISBLANK('Scholars Nomination Form'!N378),\"\",'Scholars Nomination Form'!N378)","v":""},{"$f":"IF(ISBLANK('Scholars Nomination Form'!O378),\"\",'Scholars Nomination Form'!O378)","v":""},{"$f":"IF(ISBLANK('Scholars Nomination Form'!P378),\"\",'Scholars Nomination Form'!P378)","v":""},{"$f":"IF(ISBLANK('Scholars Nomination Form'!Q378),\"\",'Scholars Nomination Form'!Q378)","v":""},{"$f":"IF(ISBLANK('Scholars Nomination Form'!R378),\"\",'Scholars Nomination Form'!R378)","v":""},{"$f":"IF(ISBLANK('Scholars Nomination Form'!S378),\"\",'Scholars Nomination Form'!S378)","v":""},{"$f":"IF(ISBLANK('Scholars Nomination Form'!T378),\"\",'Scholars Nomination Form'!T378)","v":""},{"$f":"IF(ISBLANK('Scholars Nomination Form'!U378),\"\",'Scholars Nomination Form'!U378)","v":""},{"$f":"IF(ISBLANK('Scholars Nomination Form'!V378),\"\",'Scholars Nomination Form'!V378)","v":""},{"$f":"IF(ISBLANK('Scholars Nomination Form'!W378),\"\",'Scholars Nomination Form'!W378)","v":""},{"$f":"IF(ISBLANK('Scholars Nomination Form'!X378),\"\",'Scholars Nomination Form'!X378)","v":""},{"$f":"IF(ISBLANK('Scholars Nomination Form'!Y378),\"\",'Scholars Nomination Form'!Y378)","v":""},{"$f":"IF(ISBLANK('Scholars Nomination Form'!Z378),\"\",'Scholars Nomination Form'!Z378)","v":""},{"$f":"IF(ISBLANK('Scholars Nomination Form'!AA378),\"\",'Scholars Nomination Form'!AA378)","v":""}]
[{"$f":"IF(ISBLANK('Scholars Nomination Form'!$F379),\"\",'Scholars Nomination Form'!$C$11)","v":""},{"$f":"IF(ISBLANK('Scholars Nomination Form'!$F379),\"\",'Scholars Nomination Form'!$C$12)","v":""},{"$f":"IF(ISBLANK('Scholars Nomination Form'!$F379),\"\",'Scholars Nomination Form'!$C$13)","v":""},{"$f":"IF(ISBLANK('Scholars Nomination Form'!$F379),\"\",'Scholars Nomination Form'!$C$14)","v":""},{"$f":"IF(ISBLANK('Scholars Nomination Form'!$F379),\"\",'Scholars Nomination Form'!$C$15)","v":""},{"$f":"IF(ISBLANK('Scholars Nomination Form'!$F379),\"\",'Scholars Nomination Form'!$C$16)","v":""},{"$f":"IF(ISBLANK('Scholars Nomination Form'!B379),\"\",'Scholars Nomination Form'!B379)","v":""},{"$f":"IF(ISBLANK('Scholars Nomination Form'!D379),\"\",'Scholars Nomination Form'!D379)","v":""},{"$f":"IF(ISBLANK('Scholars Nomination Form'!E379),\"\",'Scholars Nomination Form'!E379)","v":""},{"$f":"IF(ISBLANK('Scholars Nomination Form'!F379),\"\",'Scholars Nomination Form'!F379)","v":""},{"$f":"IF(ISBLANK('Scholars Nomination Form'!G379),\"\",'Scholars Nomination Form'!G379)","v":""},{"$f":"IF(ISBLANK('Scholars Nomination Form'!H379),\"\",'Scholars Nomination Form'!H379)","v":""},{"$f":"IF(ISBLANK('Scholars Nomination Form'!I379),\"\",'Scholars Nomination Form'!I379)","v":""},{"$f":"IF(ISBLANK('Scholars Nomination Form'!J379),\"\",'Scholars Nomination Form'!J379)","v":""},{"$f":"IF(ISBLANK('Scholars Nomination Form'!K379),\"\",'Scholars Nomination Form'!K379)","v":""},{"$f":"IF(ISBLANK('Scholars Nomination Form'!L379),\"\",'Scholars Nomination Form'!L379)","v":""},{"$f":"IF(ISBLANK('Scholars Nomination Form'!M379),\"\",'Scholars Nomination Form'!M379)","v":""},{"$f":"IF(ISBLANK('Scholars Nomination Form'!N379),\"\",'Scholars Nomination Form'!N379)","v":""},{"$f":"IF(ISBLANK('Scholars Nomination Form'!O379),\"\",'Scholars Nomination Form'!O379)","v":""},{"$f":"IF(ISBLANK('Scholars Nomination Form'!P379),\"\",'Scholars Nomination Form'!P379)","v":""},{"$f":"IF(ISBLANK('Scholars Nomination Form'!Q379),\"\",'Scholars Nomination Form'!Q379)","v":""},{"$f":"IF(ISBLANK('Scholars Nomination Form'!R379),\"\",'Scholars Nomination Form'!R379)","v":""},{"$f":"IF(ISBLANK('Scholars Nomination Form'!S379),\"\",'Scholars Nomination Form'!S379)","v":""},{"$f":"IF(ISBLANK('Scholars Nomination Form'!T379),\"\",'Scholars Nomination Form'!T379)","v":""},{"$f":"IF(ISBLANK('Scholars Nomination Form'!U379),\"\",'Scholars Nomination Form'!U379)","v":""},{"$f":"IF(ISBLANK('Scholars Nomination Form'!V379),\"\",'Scholars Nomination Form'!V379)","v":""},{"$f":"IF(ISBLANK('Scholars Nomination Form'!W379),\"\",'Scholars Nomination Form'!W379)","v":""},{"$f":"IF(ISBLANK('Scholars Nomination Form'!X379),\"\",'Scholars Nomination Form'!X379)","v":""},{"$f":"IF(ISBLANK('Scholars Nomination Form'!Y379),\"\",'Scholars Nomination Form'!Y379)","v":""},{"$f":"IF(ISBLANK('Scholars Nomination Form'!Z379),\"\",'Scholars Nomination Form'!Z379)","v":""},{"$f":"IF(ISBLANK('Scholars Nomination Form'!AA379),\"\",'Scholars Nomination Form'!AA379)","v":""}]
[{"$f":"IF(ISBLANK('Scholars Nomination Form'!$F380),\"\",'Scholars Nomination Form'!$C$11)","v":""},{"$f":"IF(ISBLANK('Scholars Nomination Form'!$F380),\"\",'Scholars Nomination Form'!$C$12)","v":""},{"$f":"IF(ISBLANK('Scholars Nomination Form'!$F380),\"\",'Scholars Nomination Form'!$C$13)","v":""},{"$f":"IF(ISBLANK('Scholars Nomination Form'!$F380),\"\",'Scholars Nomination Form'!$C$14)","v":""},{"$f":"IF(ISBLANK('Scholars Nomination Form'!$F380),\"\",'Scholars Nomination Form'!$C$15)","v":""},{"$f":"IF(ISBLANK('Scholars Nomination Form'!$F380),\"\",'Scholars Nomination Form'!$C$16)","v":""},{"$f":"IF(ISBLANK('Scholars Nomination Form'!B380),\"\",'Scholars Nomination Form'!B380)","v":""},{"$f":"IF(ISBLANK('Scholars Nomination Form'!D380),\"\",'Scholars Nomination Form'!D380)","v":""},{"$f":"IF(ISBLANK('Scholars Nomination Form'!E380),\"\",'Scholars Nomination Form'!E380)","v":""},{"$f":"IF(ISBLANK('Scholars Nomination Form'!F380),\"\",'Scholars Nomination Form'!F380)","v":""},{"$f":"IF(ISBLANK('Scholars Nomination Form'!G380),\"\",'Scholars Nomination Form'!G380)","v":""},{"$f":"IF(ISBLANK('Scholars Nomination Form'!H380),\"\",'Scholars Nomination Form'!H380)","v":""},{"$f":"IF(ISBLANK('Scholars Nomination Form'!I380),\"\",'Scholars Nomination Form'!I380)","v":""},{"$f":"IF(ISBLANK('Scholars Nomination Form'!J380),\"\",'Scholars Nomination Form'!J380)","v":""},{"$f":"IF(ISBLANK('Scholars Nomination Form'!K380),\"\",'Scholars Nomination Form'!K380)","v":""},{"$f":"IF(ISBLANK('Scholars Nomination Form'!L380),\"\",'Scholars Nomination Form'!L380)","v":""},{"$f":"IF(ISBLANK('Scholars Nomination Form'!M380),\"\",'Scholars Nomination Form'!M380)","v":""},{"$f":"IF(ISBLANK('Scholars Nomination Form'!N380),\"\",'Scholars Nomination Form'!N380)","v":""},{"$f":"IF(ISBLANK('Scholars Nomination Form'!O380),\"\",'Scholars Nomination Form'!O380)","v":""},{"$f":"IF(ISBLANK('Scholars Nomination Form'!P380),\"\",'Scholars Nomination Form'!P380)","v":""},{"$f":"IF(ISBLANK('Scholars Nomination Form'!Q380),\"\",'Scholars Nomination Form'!Q380)","v":""},{"$f":"IF(ISBLANK('Scholars Nomination Form'!R380),\"\",'Scholars Nomination Form'!R380)","v":""},{"$f":"IF(ISBLANK('Scholars Nomination Form'!S380),\"\",'Scholars Nomination Form'!S380)","v":""},{"$f":"IF(ISBLANK('Scholars Nomination Form'!T380),\"\",'Scholars Nomination Form'!T380)","v":""},{"$f":"IF(ISBLANK('Scholars Nomination Form'!U380),\"\",'Scholars Nomination Form'!U380)","v":""},{"$f":"IF(ISBLANK('Scholars Nomination Form'!V380),\"\",'Scholars Nomination Form'!V380)","v":""},{"$f":"IF(ISBLANK('Scholars Nomination Form'!W380),\"\",'Scholars Nomination Form'!W380)","v":""},{"$f":"IF(ISBLANK('Scholars Nomination Form'!X380),\"\",'Scholars Nomination Form'!X380)","v":""},{"$f":"IF(ISBLANK('Scholars Nomination Form'!Y380),\"\",'Scholars Nomination Form'!Y380)","v":""},{"$f":"IF(ISBLANK('Scholars Nomination Form'!Z380),\"\",'Scholars Nomination Form'!Z380)","v":""},{"$f":"IF(ISBLANK('Scholars Nomination Form'!AA380),\"\",'Scholars Nomination Form'!AA380)","v":""}]
[{"$f":"IF(ISBLANK('Scholars Nomination Form'!$F381),\"\",'Scholars Nomination Form'!$C$11)","v":""},{"$f":"IF(ISBLANK('Scholars Nomination Form'!$F381),\"\",'Scholars Nomination Form'!$C$12)","v":""},{"$f":"IF(ISBLANK('Scholars Nomination Form'!$F381),\"\",'Scholars Nomination Form'!$C$13)","v":""},{"$f":"IF(ISBLANK('Scholars Nomination Form'!$F381),\"\",'Scholars Nomination Form'!$C$14)","v":""},{"$f":"IF(ISBLANK('Scholars Nomination Form'!$F381),\"\",'Scholars Nomination Form'!$C$15)","v":""},{"$f":"IF(ISBLANK('Scholars Nomination Form'!$F381),\"\",'Scholars Nomination Form'!$C$16)","v":""},{"$f":"IF(ISBLANK('Scholars Nomination Form'!B381),\"\",'Scholars Nomination Form'!B381)","v":""},{"$f":"IF(ISBLANK('Scholars Nomination Form'!D381),\"\",'Scholars Nomination Form'!D381)","v":""},{"$f":"IF(ISBLANK('Scholars Nomination Form'!E381),\"\",'Scholars Nomination Form'!E381)","v":""},{"$f":"IF(ISBLANK('Scholars Nomination Form'!F381),\"\",'Scholars Nomination Form'!F381)","v":""},{"$f":"IF(ISBLANK('Scholars Nomination Form'!G381),\"\",'Scholars Nomination Form'!G381)","v":""},{"$f":"IF(ISBLANK('Scholars Nomination Form'!H381),\"\",'Scholars Nomination Form'!H381)","v":""},{"$f":"IF(ISBLANK('Scholars Nomination Form'!I381),\"\",'Scholars Nomination Form'!I381)","v":""},{"$f":"IF(ISBLANK('Scholars Nomination Form'!J381),\"\",'Scholars Nomination Form'!J381)","v":""},{"$f":"IF(ISBLANK('Scholars Nomination Form'!K381),\"\",'Scholars Nomination Form'!K381)","v":""},{"$f":"IF(ISBLANK('Scholars Nomination Form'!L381),\"\",'Scholars Nomination Form'!L381)","v":""},{"$f":"IF(ISBLANK('Scholars Nomination Form'!M381),\"\",'Scholars Nomination Form'!M381)","v":""},{"$f":"IF(ISBLANK('Scholars Nomination Form'!N381),\"\",'Scholars Nomination Form'!N381)","v":""},{"$f":"IF(ISBLANK('Scholars Nomination Form'!O381),\"\",'Scholars Nomination Form'!O381)","v":""},{"$f":"IF(ISBLANK('Scholars Nomination Form'!P381),\"\",'Scholars Nomination Form'!P381)","v":""},{"$f":"IF(ISBLANK('Scholars Nomination Form'!Q381),\"\",'Scholars Nomination Form'!Q381)","v":""},{"$f":"IF(ISBLANK('Scholars Nomination Form'!R381),\"\",'Scholars Nomination Form'!R381)","v":""},{"$f":"IF(ISBLANK('Scholars Nomination Form'!S381),\"\",'Scholars Nomination Form'!S381)","v":""},{"$f":"IF(ISBLANK('Scholars Nomination Form'!T381),\"\",'Scholars Nomination Form'!T381)","v":""},{"$f":"IF(ISBLANK('Scholars Nomination Form'!U381),\"\",'Scholars Nomination Form'!U381)","v":""},{"$f":"IF(ISBLANK('Scholars Nomination Form'!V381),\"\",'Scholars Nomination Form'!V381)","v":""},{"$f":"IF(ISBLANK('Scholars Nomination Form'!W381),\"\",'Scholars Nomination Form'!W381)","v":""},{"$f":"IF(ISBLANK('Scholars Nomination Form'!X381),\"\",'Scholars Nomination Form'!X381)","v":""},{"$f":"IF(ISBLANK('Scholars Nomination Form'!Y381),\"\",'Scholars Nomination Form'!Y381)","v":""},{"$f":"IF(ISBLANK('Scholars Nomination Form'!Z381),\"\",'Scholars Nomination Form'!Z381)","v":""},{"$f":"IF(ISBLANK('Scholars Nomination Form'!AA381),\"\",'Scholars Nomination Form'!AA381)","v":""}]
[{"$f":"IF(ISBLANK('Scholars Nomination Form'!$F382),\"\",'Scholars Nomination Form'!$C$11)","v":""},{"$f":"IF(ISBLANK('Scholars Nomination Form'!$F382),\"\",'Scholars Nomination Form'!$C$12)","v":""},{"$f":"IF(ISBLANK('Scholars Nomination Form'!$F382),\"\",'Scholars Nomination Form'!$C$13)","v":""},{"$f":"IF(ISBLANK('Scholars Nomination Form'!$F382),\"\",'Scholars Nomination Form'!$C$14)","v":""},{"$f":"IF(ISBLANK('Scholars Nomination Form'!$F382),\"\",'Scholars Nomination Form'!$C$15)","v":""},{"$f":"IF(ISBLANK('Scholars Nomination Form'!$F382),\"\",'Scholars Nomination Form'!$C$16)","v":""},{"$f":"IF(ISBLANK('Scholars Nomination Form'!B382),\"\",'Scholars Nomination Form'!B382)","v":""},{"$f":"IF(ISBLANK('Scholars Nomination Form'!D382),\"\",'Scholars Nomination Form'!D382)","v":""},{"$f":"IF(ISBLANK('Scholars Nomination Form'!E382),\"\",'Scholars Nomination Form'!E382)","v":""},{"$f":"IF(ISBLANK('Scholars Nomination Form'!F382),\"\",'Scholars Nomination Form'!F382)","v":""},{"$f":"IF(ISBLANK('Scholars Nomination Form'!G382),\"\",'Scholars Nomination Form'!G382)","v":""},{"$f":"IF(ISBLANK('Scholars Nomination Form'!H382),\"\",'Scholars Nomination Form'!H382)","v":""},{"$f":"IF(ISBLANK('Scholars Nomination Form'!I382),\"\",'Scholars Nomination Form'!I382)","v":""},{"$f":"IF(ISBLANK('Scholars Nomination Form'!J382),\"\",'Scholars Nomination Form'!J382)","v":""},{"$f":"IF(ISBLANK('Scholars Nomination Form'!K382),\"\",'Scholars Nomination Form'!K382)","v":""},{"$f":"IF(ISBLANK('Scholars Nomination Form'!L382),\"\",'Scholars Nomination Form'!L382)","v":""},{"$f":"IF(ISBLANK('Scholars Nomination Form'!M382),\"\",'Scholars Nomination Form'!M382)","v":""},{"$f":"IF(ISBLANK('Scholars Nomination Form'!N382),\"\",'Scholars Nomination Form'!N382)","v":""},{"$f":"IF(ISBLANK('Scholars Nomination Form'!O382),\"\",'Scholars Nomination Form'!O382)","v":""},{"$f":"IF(ISBLANK('Scholars Nomination Form'!P382),\"\",'Scholars Nomination Form'!P382)","v":""},{"$f":"IF(ISBLANK('Scholars Nomination Form'!Q382),\"\",'Scholars Nomination Form'!Q382)","v":""},{"$f":"IF(ISBLANK('Scholars Nomination Form'!R382),\"\",'Scholars Nomination Form'!R382)","v":""},{"$f":"IF(ISBLANK('Scholars Nomination Form'!S382),\"\",'Scholars Nomination Form'!S382)","v":""},{"$f":"IF(ISBLANK('Scholars Nomination Form'!T382),\"\",'Scholars Nomination Form'!T382)","v":""},{"$f":"IF(ISBLANK('Scholars Nomination Form'!U382),\"\",'Scholars Nomination Form'!U382)","v":""},{"$f":"IF(ISBLANK('Scholars Nomination Form'!V382),\"\",'Scholars Nomination Form'!V382)","v":""},{"$f":"IF(ISBLANK('Scholars Nomination Form'!W382),\"\",'Scholars Nomination Form'!W382)","v":""},{"$f":"IF(ISBLANK('Scholars Nomination Form'!X382),\"\",'Scholars Nomination Form'!X382)","v":""},{"$f":"IF(ISBLANK('Scholars Nomination Form'!Y382),\"\",'Scholars Nomination Form'!Y382)","v":""},{"$f":"IF(ISBLANK('Scholars Nomination Form'!Z382),\"\",'Scholars Nomination Form'!Z382)","v":""},{"$f":"IF(ISBLANK('Scholars Nomination Form'!AA382),\"\",'Scholars Nomination Form'!AA382)","v":""}]
[{"$f":"IF(ISBLANK('Scholars Nomination Form'!$F383),\"\",'Scholars Nomination Form'!$C$11)","v":""},{"$f":"IF(ISBLANK('Scholars Nomination Form'!$F383),\"\",'Scholars Nomination Form'!$C$12)","v":""},{"$f":"IF(ISBLANK('Scholars Nomination Form'!$F383),\"\",'Scholars Nomination Form'!$C$13)","v":""},{"$f":"IF(ISBLANK('Scholars Nomination Form'!$F383),\"\",'Scholars Nomination Form'!$C$14)","v":""},{"$f":"IF(ISBLANK('Scholars Nomination Form'!$F383),\"\",'Scholars Nomination Form'!$C$15)","v":""},{"$f":"IF(ISBLANK('Scholars Nomination Form'!$F383),\"\",'Scholars Nomination Form'!$C$16)","v":""},{"$f":"IF(ISBLANK('Scholars Nomination Form'!B383),\"\",'Scholars Nomination Form'!B383)","v":""},{"$f":"IF(ISBLANK('Scholars Nomination Form'!D383),\"\",'Scholars Nomination Form'!D383)","v":""},{"$f":"IF(ISBLANK('Scholars Nomination Form'!E383),\"\",'Scholars Nomination Form'!E383)","v":""},{"$f":"IF(ISBLANK('Scholars Nomination Form'!F383),\"\",'Scholars Nomination Form'!F383)","v":""},{"$f":"IF(ISBLANK('Scholars Nomination Form'!G383),\"\",'Scholars Nomination Form'!G383)","v":""},{"$f":"IF(ISBLANK('Scholars Nomination Form'!H383),\"\",'Scholars Nomination Form'!H383)","v":""},{"$f":"IF(ISBLANK('Scholars Nomination Form'!I383),\"\",'Scholars Nomination Form'!I383)","v":""},{"$f":"IF(ISBLANK('Scholars Nomination Form'!J383),\"\",'Scholars Nomination Form'!J383)","v":""},{"$f":"IF(ISBLANK('Scholars Nomination Form'!K383),\"\",'Scholars Nomination Form'!K383)","v":""},{"$f":"IF(ISBLANK('Scholars Nomination Form'!L383),\"\",'Scholars Nomination Form'!L383)","v":""},{"$f":"IF(ISBLANK('Scholars Nomination Form'!M383),\"\",'Scholars Nomination Form'!M383)","v":""},{"$f":"IF(ISBLANK('Scholars Nomination Form'!N383),\"\",'Scholars Nomination Form'!N383)","v":""},{"$f":"IF(ISBLANK('Scholars Nomination Form'!O383),\"\",'Scholars Nomination Form'!O383)","v":""},{"$f":"IF(ISBLANK('Scholars Nomination Form'!P383),\"\",'Scholars Nomination Form'!P383)","v":""},{"$f":"IF(ISBLANK('Scholars Nomination Form'!Q383),\"\",'Scholars Nomination Form'!Q383)","v":""},{"$f":"IF(ISBLANK('Scholars Nomination Form'!R383),\"\",'Scholars Nomination Form'!R383)","v":""},{"$f":"IF(ISBLANK('Scholars Nomination Form'!S383),\"\",'Scholars Nomination Form'!S383)","v":""},{"$f":"IF(ISBLANK('Scholars Nomination Form'!T383),\"\",'Scholars Nomination Form'!T383)","v":""},{"$f":"IF(ISBLANK('Scholars Nomination Form'!U383),\"\",'Scholars Nomination Form'!U383)","v":""},{"$f":"IF(ISBLANK('Scholars Nomination Form'!V383),\"\",'Scholars Nomination Form'!V383)","v":""},{"$f":"IF(ISBLANK('Scholars Nomination Form'!W383),\"\",'Scholars Nomination Form'!W383)","v":""},{"$f":"IF(ISBLANK('Scholars Nomination Form'!X383),\"\",'Scholars Nomination Form'!X383)","v":""},{"$f":"IF(ISBLANK('Scholars Nomination Form'!Y383),\"\",'Scholars Nomination Form'!Y383)","v":""},{"$f":"IF(ISBLANK('Scholars Nomination Form'!Z383),\"\",'Scholars Nomination Form'!Z383)","v":""},{"$f":"IF(ISBLANK('Scholars Nomination Form'!AA383),\"\",'Scholars Nomination Form'!AA383)","v":""}]
[{"$f":"IF(ISBLANK('Scholars Nomination Form'!$F384),\"\",'Scholars Nomination Form'!$C$11)","v":""},{"$f":"IF(ISBLANK('Scholars Nomination Form'!$F384),\"\",'Scholars Nomination Form'!$C$12)","v":""},{"$f":"IF(ISBLANK('Scholars Nomination Form'!$F384),\"\",'Scholars Nomination Form'!$C$13)","v":""},{"$f":"IF(ISBLANK('Scholars Nomination Form'!$F384),\"\",'Scholars Nomination Form'!$C$14)","v":""},{"$f":"IF(ISBLANK('Scholars Nomination Form'!$F384),\"\",'Scholars Nomination Form'!$C$15)","v":""},{"$f":"IF(ISBLANK('Scholars Nomination Form'!$F384),\"\",'Scholars Nomination Form'!$C$16)","v":""},{"$f":"IF(ISBLANK('Scholars Nomination Form'!B384),\"\",'Scholars Nomination Form'!B384)","v":""},{"$f":"IF(ISBLANK('Scholars Nomination Form'!D384),\"\",'Scholars Nomination Form'!D384)","v":""},{"$f":"IF(ISBLANK('Scholars Nomination Form'!E384),\"\",'Scholars Nomination Form'!E384)","v":""},{"$f":"IF(ISBLANK('Scholars Nomination Form'!F384),\"\",'Scholars Nomination Form'!F384)","v":""},{"$f":"IF(ISBLANK('Scholars Nomination Form'!G384),\"\",'Scholars Nomination Form'!G384)","v":""},{"$f":"IF(ISBLANK('Scholars Nomination Form'!H384),\"\",'Scholars Nomination Form'!H384)","v":""},{"$f":"IF(ISBLANK('Scholars Nomination Form'!I384),\"\",'Scholars Nomination Form'!I384)","v":""},{"$f":"IF(ISBLANK('Scholars Nomination Form'!J384),\"\",'Scholars Nomination Form'!J384)","v":""},{"$f":"IF(ISBLANK('Scholars Nomination Form'!K384),\"\",'Scholars Nomination Form'!K384)","v":""},{"$f":"IF(ISBLANK('Scholars Nomination Form'!L384),\"\",'Scholars Nomination Form'!L384)","v":""},{"$f":"IF(ISBLANK('Scholars Nomination Form'!M384),\"\",'Scholars Nomination Form'!M384)","v":""},{"$f":"IF(ISBLANK('Scholars Nomination Form'!N384),\"\",'Scholars Nomination Form'!N384)","v":""},{"$f":"IF(ISBLANK('Scholars Nomination Form'!O384),\"\",'Scholars Nomination Form'!O384)","v":""},{"$f":"IF(ISBLANK('Scholars Nomination Form'!P384),\"\",'Scholars Nomination Form'!P384)","v":""},{"$f":"IF(ISBLANK('Scholars Nomination Form'!Q384),\"\",'Scholars Nomination Form'!Q384)","v":""},{"$f":"IF(ISBLANK('Scholars Nomination Form'!R384),\"\",'Scholars Nomination Form'!R384)","v":""},{"$f":"IF(ISBLANK('Scholars Nomination Form'!S384),\"\",'Scholars Nomination Form'!S384)","v":""},{"$f":"IF(ISBLANK('Scholars Nomination Form'!T384),\"\",'Scholars Nomination Form'!T384)","v":""},{"$f":"IF(ISBLANK('Scholars Nomination Form'!U384),\"\",'Scholars Nomination Form'!U384)","v":""},{"$f":"IF(ISBLANK('Scholars Nomination Form'!V384),\"\",'Scholars Nomination Form'!V384)","v":""},{"$f":"IF(ISBLANK('Scholars Nomination Form'!W384),\"\",'Scholars Nomination Form'!W384)","v":""},{"$f":"IF(ISBLANK('Scholars Nomination Form'!X384),\"\",'Scholars Nomination Form'!X384)","v":""},{"$f":"IF(ISBLANK('Scholars Nomination Form'!Y384),\"\",'Scholars Nomination Form'!Y384)","v":""},{"$f":"IF(ISBLANK('Scholars Nomination Form'!Z384),\"\",'Scholars Nomination Form'!Z384)","v":""},{"$f":"IF(ISBLANK('Scholars Nomination Form'!AA384),\"\",'Scholars Nomination Form'!AA384)","v":""}]
[{"$f":"IF(ISBLANK('Scholars Nomination Form'!$F385),\"\",'Scholars Nomination Form'!$C$11)","v":""},{"$f":"IF(ISBLANK('Scholars Nomination Form'!$F385),\"\",'Scholars Nomination Form'!$C$12)","v":""},{"$f":"IF(ISBLANK('Scholars Nomination Form'!$F385),\"\",'Scholars Nomination Form'!$C$13)","v":""},{"$f":"IF(ISBLANK('Scholars Nomination Form'!$F385),\"\",'Scholars Nomination Form'!$C$14)","v":""},{"$f":"IF(ISBLANK('Scholars Nomination Form'!$F385),\"\",'Scholars Nomination Form'!$C$15)","v":""},{"$f":"IF(ISBLANK('Scholars Nomination Form'!$F385),\"\",'Scholars Nomination Form'!$C$16)","v":""},{"$f":"IF(ISBLANK('Scholars Nomination Form'!B385),\"\",'Scholars Nomination Form'!B385)","v":""},{"$f":"IF(ISBLANK('Scholars Nomination Form'!D385),\"\",'Scholars Nomination Form'!D385)","v":""},{"$f":"IF(ISBLANK('Scholars Nomination Form'!E385),\"\",'Scholars Nomination Form'!E385)","v":""},{"$f":"IF(ISBLANK('Scholars Nomination Form'!F385),\"\",'Scholars Nomination Form'!F385)","v":""},{"$f":"IF(ISBLANK('Scholars Nomination Form'!G385),\"\",'Scholars Nomination Form'!G385)","v":""},{"$f":"IF(ISBLANK('Scholars Nomination Form'!H385),\"\",'Scholars Nomination Form'!H385)","v":""},{"$f":"IF(ISBLANK('Scholars Nomination Form'!I385),\"\",'Scholars Nomination Form'!I385)","v":""},{"$f":"IF(ISBLANK('Scholars Nomination Form'!J385),\"\",'Scholars Nomination Form'!J385)","v":""},{"$f":"IF(ISBLANK('Scholars Nomination Form'!K385),\"\",'Scholars Nomination Form'!K385)","v":""},{"$f":"IF(ISBLANK('Scholars Nomination Form'!L385),\"\",'Scholars Nomination Form'!L385)","v":""},{"$f":"IF(ISBLANK('Scholars Nomination Form'!M385),\"\",'Scholars Nomination Form'!M385)","v":""},{"$f":"IF(ISBLANK('Scholars Nomination Form'!N385),\"\",'Scholars Nomination Form'!N385)","v":""},{"$f":"IF(ISBLANK('Scholars Nomination Form'!O385),\"\",'Scholars Nomination Form'!O385)","v":""},{"$f":"IF(ISBLANK('Scholars Nomination Form'!P385),\"\",'Scholars Nomination Form'!P385)","v":""},{"$f":"IF(ISBLANK('Scholars Nomination Form'!Q385),\"\",'Scholars Nomination Form'!Q385)","v":""},{"$f":"IF(ISBLANK('Scholars Nomination Form'!R385),\"\",'Scholars Nomination Form'!R385)","v":""},{"$f":"IF(ISBLANK('Scholars Nomination Form'!S385),\"\",'Scholars Nomination Form'!S385)","v":""},{"$f":"IF(ISBLANK('Scholars Nomination Form'!T385),\"\",'Scholars Nomination Form'!T385)","v":""},{"$f":"IF(ISBLANK('Scholars Nomination Form'!U385),\"\",'Scholars Nomination Form'!U385)","v":""},{"$f":"IF(ISBLANK('Scholars Nomination Form'!V385),\"\",'Scholars Nomination Form'!V385)","v":""},{"$f":"IF(ISBLANK('Scholars Nomination Form'!W385),\"\",'Scholars Nomination Form'!W385)","v":""},{"$f":"IF(ISBLANK('Scholars Nomination Form'!X385),\"\",'Scholars Nomination Form'!X385)","v":""},{"$f":"IF(ISBLANK('Scholars Nomination Form'!Y385),\"\",'Scholars Nomination Form'!Y385)","v":""},{"$f":"IF(ISBLANK('Scholars Nomination Form'!Z385),\"\",'Scholars Nomination Form'!Z385)","v":""},{"$f":"IF(ISBLANK('Scholars Nomination Form'!AA385),\"\",'Scholars Nomination Form'!AA385)","v":""}]
[{"$f":"IF(ISBLANK('Scholars Nomination Form'!$F386),\"\",'Scholars Nomination Form'!$C$11)","v":""},{"$f":"IF(ISBLANK('Scholars Nomination Form'!$F386),\"\",'Scholars Nomination Form'!$C$12)","v":""},{"$f":"IF(ISBLANK('Scholars Nomination Form'!$F386),\"\",'Scholars Nomination Form'!$C$13)","v":""},{"$f":"IF(ISBLANK('Scholars Nomination Form'!$F386),\"\",'Scholars Nomination Form'!$C$14)","v":""},{"$f":"IF(ISBLANK('Scholars Nomination Form'!$F386),\"\",'Scholars Nomination Form'!$C$15)","v":""},{"$f":"IF(ISBLANK('Scholars Nomination Form'!$F386),\"\",'Scholars Nomination Form'!$C$16)","v":""},{"$f":"IF(ISBLANK('Scholars Nomination Form'!B386),\"\",'Scholars Nomination Form'!B386)","v":""},{"$f":"IF(ISBLANK('Scholars Nomination Form'!D386),\"\",'Scholars Nomination Form'!D386)","v":""},{"$f":"IF(ISBLANK('Scholars Nomination Form'!E386),\"\",'Scholars Nomination Form'!E386)","v":""},{"$f":"IF(ISBLANK('Scholars Nomination Form'!F386),\"\",'Scholars Nomination Form'!F386)","v":""},{"$f":"IF(ISBLANK('Scholars Nomination Form'!G386),\"\",'Scholars Nomination Form'!G386)","v":""},{"$f":"IF(ISBLANK('Scholars Nomination Form'!H386),\"\",'Scholars Nomination Form'!H386)","v":""},{"$f":"IF(ISBLANK('Scholars Nomination Form'!I386),\"\",'Scholars Nomination Form'!I386)","v":""},{"$f":"IF(ISBLANK('Scholars Nomination Form'!J386),\"\",'Scholars Nomination Form'!J386)","v":""},{"$f":"IF(ISBLANK('Scholars Nomination Form'!K386),\"\",'Scholars Nomination Form'!K386)","v":""},{"$f":"IF(ISBLANK('Scholars Nomination Form'!L386),\"\",'Scholars Nomination Form'!L386)","v":""},{"$f":"IF(ISBLANK('Scholars Nomination Form'!M386),\"\",'Scholars Nomination Form'!M386)","v":""},{"$f":"IF(ISBLANK('Scholars Nomination Form'!N386),\"\",'Scholars Nomination Form'!N386)","v":""},{"$f":"IF(ISBLANK('Scholars Nomination Form'!O386),\"\",'Scholars Nomination Form'!O386)","v":""},{"$f":"IF(ISBLANK('Scholars Nomination Form'!P386),\"\",'Scholars Nomination Form'!P386)","v":""},{"$f":"IF(ISBLANK('Scholars Nomination Form'!Q386),\"\",'Scholars Nomination Form'!Q386)","v":""},{"$f":"IF(ISBLANK('Scholars Nomination Form'!R386),\"\",'Scholars Nomination Form'!R386)","v":""},{"$f":"IF(ISBLANK('Scholars Nomination Form'!S386),\"\",'Scholars Nomination Form'!S386)","v":""},{"$f":"IF(ISBLANK('Scholars Nomination Form'!T386),\"\",'Scholars Nomination Form'!T386)","v":""},{"$f":"IF(ISBLANK('Scholars Nomination Form'!U386),\"\",'Scholars Nomination Form'!U386)","v":""},{"$f":"IF(ISBLANK('Scholars Nomination Form'!V386),\"\",'Scholars Nomination Form'!V386)","v":""},{"$f":"IF(ISBLANK('Scholars Nomination Form'!W386),\"\",'Scholars Nomination Form'!W386)","v":""},{"$f":"IF(ISBLANK('Scholars Nomination Form'!X386),\"\",'Scholars Nomination Form'!X386)","v":""},{"$f":"IF(ISBLANK('Scholars Nomination Form'!Y386),\"\",'Scholars Nomination Form'!Y386)","v":""},{"$f":"IF(ISBLANK('Scholars Nomination Form'!Z386),\"\",'Scholars Nomination Form'!Z386)","v":""},{"$f":"IF(ISBLANK('Scholars Nomination Form'!AA386),\"\",'Scholars Nomination Form'!AA386)","v":""}]
[{"$f":"IF(ISBLANK('Scholars Nomination Form'!$F387),\"\",'Scholars Nomination Form'!$C$11)","v":""},{"$f":"IF(ISBLANK('Scholars Nomination Form'!$F387),\"\",'Scholars Nomination Form'!$C$12)","v":""},{"$f":"IF(ISBLANK('Scholars Nomination Form'!$F387),\"\",'Scholars Nomination Form'!$C$13)","v":""},{"$f":"IF(ISBLANK('Scholars Nomination Form'!$F387),\"\",'Scholars Nomination Form'!$C$14)","v":""},{"$f":"IF(ISBLANK('Scholars Nomination Form'!$F387),\"\",'Scholars Nomination Form'!$C$15)","v":""},{"$f":"IF(ISBLANK('Scholars Nomination Form'!$F387),\"\",'Scholars Nomination Form'!$C$16)","v":""},{"$f":"IF(ISBLANK('Scholars Nomination Form'!B387),\"\",'Scholars Nomination Form'!B387)","v":""},{"$f":"IF(ISBLANK('Scholars Nomination Form'!D387),\"\",'Scholars Nomination Form'!D387)","v":""},{"$f":"IF(ISBLANK('Scholars Nomination Form'!E387),\"\",'Scholars Nomination Form'!E387)","v":""},{"$f":"IF(ISBLANK('Scholars Nomination Form'!F387),\"\",'Scholars Nomination Form'!F387)","v":""},{"$f":"IF(ISBLANK('Scholars Nomination Form'!G387),\"\",'Scholars Nomination Form'!G387)","v":""},{"$f":"IF(ISBLANK('Scholars Nomination Form'!H387),\"\",'Scholars Nomination Form'!H387)","v":""},{"$f":"IF(ISBLANK('Scholars Nomination Form'!I387),\"\",'Scholars Nomination Form'!I387)","v":""},{"$f":"IF(ISBLANK('Scholars Nomination Form'!J387),\"\",'Scholars Nomination Form'!J387)","v":""},{"$f":"IF(ISBLANK('Scholars Nomination Form'!K387),\"\",'Scholars Nomination Form'!K387)","v":""},{"$f":"IF(ISBLANK('Scholars Nomination Form'!L387),\"\",'Scholars Nomination Form'!L387)","v":""},{"$f":"IF(ISBLANK('Scholars Nomination Form'!M387),\"\",'Scholars Nomination Form'!M387)","v":""},{"$f":"IF(ISBLANK('Scholars Nomination Form'!N387),\"\",'Scholars Nomination Form'!N387)","v":""},{"$f":"IF(ISBLANK('Scholars Nomination Form'!O387),\"\",'Scholars Nomination Form'!O387)","v":""},{"$f":"IF(ISBLANK('Scholars Nomination Form'!P387),\"\",'Scholars Nomination Form'!P387)","v":""},{"$f":"IF(ISBLANK('Scholars Nomination Form'!Q387),\"\",'Scholars Nomination Form'!Q387)","v":""},{"$f":"IF(ISBLANK('Scholars Nomination Form'!R387),\"\",'Scholars Nomination Form'!R387)","v":""},{"$f":"IF(ISBLANK('Scholars Nomination Form'!S387),\"\",'Scholars Nomination Form'!S387)","v":""},{"$f":"IF(ISBLANK('Scholars Nomination Form'!T387),\"\",'Scholars Nomination Form'!T387)","v":""},{"$f":"IF(ISBLANK('Scholars Nomination Form'!U387),\"\",'Scholars Nomination Form'!U387)","v":""},{"$f":"IF(ISBLANK('Scholars Nomination Form'!V387),\"\",'Scholars Nomination Form'!V387)","v":""},{"$f":"IF(ISBLANK('Scholars Nomination Form'!W387),\"\",'Scholars Nomination Form'!W387)","v":""},{"$f":"IF(ISBLANK('Scholars Nomination Form'!X387),\"\",'Scholars Nomination Form'!X387)","v":""},{"$f":"IF(ISBLANK('Scholars Nomination Form'!Y387),\"\",'Scholars Nomination Form'!Y387)","v":""},{"$f":"IF(ISBLANK('Scholars Nomination Form'!Z387),\"\",'Scholars Nomination Form'!Z387)","v":""},{"$f":"IF(ISBLANK('Scholars Nomination Form'!AA387),\"\",'Scholars Nomination Form'!AA387)","v":""}]
[{"$f":"IF(ISBLANK('Scholars Nomination Form'!$F388),\"\",'Scholars Nomination Form'!$C$11)","v":""},{"$f":"IF(ISBLANK('Scholars Nomination Form'!$F388),\"\",'Scholars Nomination Form'!$C$12)","v":""},{"$f":"IF(ISBLANK('Scholars Nomination Form'!$F388),\"\",'Scholars Nomination Form'!$C$13)","v":""},{"$f":"IF(ISBLANK('Scholars Nomination Form'!$F388),\"\",'Scholars Nomination Form'!$C$14)","v":""},{"$f":"IF(ISBLANK('Scholars Nomination Form'!$F388),\"\",'Scholars Nomination Form'!$C$15)","v":""},{"$f":"IF(ISBLANK('Scholars Nomination Form'!$F388),\"\",'Scholars Nomination Form'!$C$16)","v":""},{"$f":"IF(ISBLANK('Scholars Nomination Form'!B388),\"\",'Scholars Nomination Form'!B388)","v":""},{"$f":"IF(ISBLANK('Scholars Nomination Form'!D388),\"\",'Scholars Nomination Form'!D388)","v":""},{"$f":"IF(ISBLANK('Scholars Nomination Form'!E388),\"\",'Scholars Nomination Form'!E388)","v":""},{"$f":"IF(ISBLANK('Scholars Nomination Form'!F388),\"\",'Scholars Nomination Form'!F388)","v":""},{"$f":"IF(ISBLANK('Scholars Nomination Form'!G388),\"\",'Scholars Nomination Form'!G388)","v":""},{"$f":"IF(ISBLANK('Scholars Nomination Form'!H388),\"\",'Scholars Nomination Form'!H388)","v":""},{"$f":"IF(ISBLANK('Scholars Nomination Form'!I388),\"\",'Scholars Nomination Form'!I388)","v":""},{"$f":"IF(ISBLANK('Scholars Nomination Form'!J388),\"\",'Scholars Nomination Form'!J388)","v":""},{"$f":"IF(ISBLANK('Scholars Nomination Form'!K388),\"\",'Scholars Nomination Form'!K388)","v":""},{"$f":"IF(ISBLANK('Scholars Nomination Form'!L388),\"\",'Scholars Nomination Form'!L388)","v":""},{"$f":"IF(ISBLANK('Scholars Nomination Form'!M388),\"\",'Scholars Nomination Form'!M388)","v":""},{"$f":"IF(ISBLANK('Scholars Nomination Form'!N388),\"\",'Scholars Nomination Form'!N388)","v":""},{"$f":"IF(ISBLANK('Scholars Nomination Form'!O388),\"\",'Scholars Nomination Form'!O388)","v":""},{"$f":"IF(ISBLANK('Scholars Nomination Form'!P388),\"\",'Scholars Nomination Form'!P388)","v":""},{"$f":"IF(ISBLANK('Scholars Nomination Form'!Q388),\"\",'Scholars Nomination Form'!Q388)","v":""},{"$f":"IF(ISBLANK('Scholars Nomination Form'!R388),\"\",'Scholars Nomination Form'!R388)","v":""},{"$f":"IF(ISBLANK('Scholars Nomination Form'!S388),\"\",'Scholars Nomination Form'!S388)","v":""},{"$f":"IF(ISBLANK('Scholars Nomination Form'!T388),\"\",'Scholars Nomination Form'!T388)","v":""},{"$f":"IF(ISBLANK('Scholars Nomination Form'!U388),\"\",'Scholars Nomination Form'!U388)","v":""},{"$f":"IF(ISBLANK('Scholars Nomination Form'!V388),\"\",'Scholars Nomination Form'!V388)","v":""},{"$f":"IF(ISBLANK('Scholars Nomination Form'!W388),\"\",'Scholars Nomination Form'!W388)","v":""},{"$f":"IF(ISBLANK('Scholars Nomination Form'!X388),\"\",'Scholars Nomination Form'!X388)","v":""},{"$f":"IF(ISBLANK('Scholars Nomination Form'!Y388),\"\",'Scholars Nomination Form'!Y388)","v":""},{"$f":"IF(ISBLANK('Scholars Nomination Form'!Z388),\"\",'Scholars Nomination Form'!Z388)","v":""},{"$f":"IF(ISBLANK('Scholars Nomination Form'!AA388),\"\",'Scholars Nomination Form'!AA388)","v":""}]
[{"$f":"IF(ISBLANK('Scholars Nomination Form'!$F389),\"\",'Scholars Nomination Form'!$C$11)","v":""},{"$f":"IF(ISBLANK('Scholars Nomination Form'!$F389),\"\",'Scholars Nomination Form'!$C$12)","v":""},{"$f":"IF(ISBLANK('Scholars Nomination Form'!$F389),\"\",'Scholars Nomination Form'!$C$13)","v":""},{"$f":"IF(ISBLANK('Scholars Nomination Form'!$F389),\"\",'Scholars Nomination Form'!$C$14)","v":""},{"$f":"IF(ISBLANK('Scholars Nomination Form'!$F389),\"\",'Scholars Nomination Form'!$C$15)","v":""},{"$f":"IF(ISBLANK('Scholars Nomination Form'!$F389),\"\",'Scholars Nomination Form'!$C$16)","v":""},{"$f":"IF(ISBLANK('Scholars Nomination Form'!B389),\"\",'Scholars Nomination Form'!B389)","v":""},{"$f":"IF(ISBLANK('Scholars Nomination Form'!D389),\"\",'Scholars Nomination Form'!D389)","v":""},{"$f":"IF(ISBLANK('Scholars Nomination Form'!E389),\"\",'Scholars Nomination Form'!E389)","v":""},{"$f":"IF(ISBLANK('Scholars Nomination Form'!F389),\"\",'Scholars Nomination Form'!F389)","v":""},{"$f":"IF(ISBLANK('Scholars Nomination Form'!G389),\"\",'Scholars Nomination Form'!G389)","v":""},{"$f":"IF(ISBLANK('Scholars Nomination Form'!H389),\"\",'Scholars Nomination Form'!H389)","v":""},{"$f":"IF(ISBLANK('Scholars Nomination Form'!I389),\"\",'Scholars Nomination Form'!I389)","v":""},{"$f":"IF(ISBLANK('Scholars Nomination Form'!J389),\"\",'Scholars Nomination Form'!J389)","v":""},{"$f":"IF(ISBLANK('Scholars Nomination Form'!K389),\"\",'Scholars Nomination Form'!K389)","v":""},{"$f":"IF(ISBLANK('Scholars Nomination Form'!L389),\"\",'Scholars Nomination Form'!L389)","v":""},{"$f":"IF(ISBLANK('Scholars Nomination Form'!M389),\"\",'Scholars Nomination Form'!M389)","v":""},{"$f":"IF(ISBLANK('Scholars Nomination Form'!N389),\"\",'Scholars Nomination Form'!N389)","v":""},{"$f":"IF(ISBLANK('Scholars Nomination Form'!O389),\"\",'Scholars Nomination Form'!O389)","v":""},{"$f":"IF(ISBLANK('Scholars Nomination Form'!P389),\"\",'Scholars Nomination Form'!P389)","v":""},{"$f":"IF(ISBLANK('Scholars Nomination Form'!Q389),\"\",'Scholars Nomination Form'!Q389)","v":""},{"$f":"IF(ISBLANK('Scholars Nomination Form'!R389),\"\",'Scholars Nomination Form'!R389)","v":""},{"$f":"IF(ISBLANK('Scholars Nomination Form'!S389),\"\",'Scholars Nomination Form'!S389)","v":""},{"$f":"IF(ISBLANK('Scholars Nomination Form'!T389),\"\",'Scholars Nomination Form'!T389)","v":""},{"$f":"IF(ISBLANK('Scholars Nomination Form'!U389),\"\",'Scholars Nomination Form'!U389)","v":""},{"$f":"IF(ISBLANK('Scholars Nomination Form'!V389),\"\",'Scholars Nomination Form'!V389)","v":""},{"$f":"IF(ISBLANK('Scholars Nomination Form'!W389),\"\",'Scholars Nomination Form'!W389)","v":""},{"$f":"IF(ISBLANK('Scholars Nomination Form'!X389),\"\",'Scholars Nomination Form'!X389)","v":""},{"$f":"IF(ISBLANK('Scholars Nomination Form'!Y389),\"\",'Scholars Nomination Form'!Y389)","v":""},{"$f":"IF(ISBLANK('Scholars Nomination Form'!Z389),\"\",'Scholars Nomination Form'!Z389)","v":""},{"$f":"IF(ISBLANK('Scholars Nomination Form'!AA389),\"\",'Scholars Nomination Form'!AA389)","v":""}]
[{"$f":"IF(ISBLANK('Scholars Nomination Form'!$F390),\"\",'Scholars Nomination Form'!$C$11)","v":""},{"$f":"IF(ISBLANK('Scholars Nomination Form'!$F390),\"\",'Scholars Nomination Form'!$C$12)","v":""},{"$f":"IF(ISBLANK('Scholars Nomination Form'!$F390),\"\",'Scholars Nomination Form'!$C$13)","v":""},{"$f":"IF(ISBLANK('Scholars Nomination Form'!$F390),\"\",'Scholars Nomination Form'!$C$14)","v":""},{"$f":"IF(ISBLANK('Scholars Nomination Form'!$F390),\"\",'Scholars Nomination Form'!$C$15)","v":""},{"$f":"IF(ISBLANK('Scholars Nomination Form'!$F390),\"\",'Scholars Nomination Form'!$C$16)","v":""},{"$f":"IF(ISBLANK('Scholars Nomination Form'!B390),\"\",'Scholars Nomination Form'!B390)","v":""},{"$f":"IF(ISBLANK('Scholars Nomination Form'!D390),\"\",'Scholars Nomination Form'!D390)","v":""},{"$f":"IF(ISBLANK('Scholars Nomination Form'!E390),\"\",'Scholars Nomination Form'!E390)","v":""},{"$f":"IF(ISBLANK('Scholars Nomination Form'!F390),\"\",'Scholars Nomination Form'!F390)","v":""},{"$f":"IF(ISBLANK('Scholars Nomination Form'!G390),\"\",'Scholars Nomination Form'!G390)","v":""},{"$f":"IF(ISBLANK('Scholars Nomination Form'!H390),\"\",'Scholars Nomination Form'!H390)","v":""},{"$f":"IF(ISBLANK('Scholars Nomination Form'!I390),\"\",'Scholars Nomination Form'!I390)","v":""},{"$f":"IF(ISBLANK('Scholars Nomination Form'!J390),\"\",'Scholars Nomination Form'!J390)","v":""},{"$f":"IF(ISBLANK('Scholars Nomination Form'!K390),\"\",'Scholars Nomination Form'!K390)","v":""},{"$f":"IF(ISBLANK('Scholars Nomination Form'!L390),\"\",'Scholars Nomination Form'!L390)","v":""},{"$f":"IF(ISBLANK('Scholars Nomination Form'!M390),\"\",'Scholars Nomination Form'!M390)","v":""},{"$f":"IF(ISBLANK('Scholars Nomination Form'!N390),\"\",'Scholars Nomination Form'!N390)","v":""},{"$f":"IF(ISBLANK('Scholars Nomination Form'!O390),\"\",'Scholars Nomination Form'!O390)","v":""},{"$f":"IF(ISBLANK('Scholars Nomination Form'!P390),\"\",'Scholars Nomination Form'!P390)","v":""},{"$f":"IF(ISBLANK('Scholars Nomination Form'!Q390),\"\",'Scholars Nomination Form'!Q390)","v":""},{"$f":"IF(ISBLANK('Scholars Nomination Form'!R390),\"\",'Scholars Nomination Form'!R390)","v":""},{"$f":"IF(ISBLANK('Scholars Nomination Form'!S390),\"\",'Scholars Nomination Form'!S390)","v":""},{"$f":"IF(ISBLANK('Scholars Nomination Form'!T390),\"\",'Scholars Nomination Form'!T390)","v":""},{"$f":"IF(ISBLANK('Scholars Nomination Form'!U390),\"\",'Scholars Nomination Form'!U390)","v":""},{"$f":"IF(ISBLANK('Scholars Nomination Form'!V390),\"\",'Scholars Nomination Form'!V390)","v":""},{"$f":"IF(ISBLANK('Scholars Nomination Form'!W390),\"\",'Scholars Nomination Form'!W390)","v":""},{"$f":"IF(ISBLANK('Scholars Nomination Form'!X390),\"\",'Scholars Nomination Form'!X390)","v":""},{"$f":"IF(ISBLANK('Scholars Nomination Form'!Y390),\"\",'Scholars Nomination Form'!Y390)","v":""},{"$f":"IF(ISBLANK('Scholars Nomination Form'!Z390),\"\",'Scholars Nomination Form'!Z390)","v":""},{"$f":"IF(ISBLANK('Scholars Nomination Form'!AA390),\"\",'Scholars Nomination Form'!AA390)","v":""}]
[{"$f":"IF(ISBLANK('Scholars Nomination Form'!$F391),\"\",'Scholars Nomination Form'!$C$11)","v":""},{"$f":"IF(ISBLANK('Scholars Nomination Form'!$F391),\"\",'Scholars Nomination Form'!$C$12)","v":""},{"$f":"IF(ISBLANK('Scholars Nomination Form'!$F391),\"\",'Scholars Nomination Form'!$C$13)","v":""},{"$f":"IF(ISBLANK('Scholars Nomination Form'!$F391),\"\",'Scholars Nomination Form'!$C$14)","v":""},{"$f":"IF(ISBLANK('Scholars Nomination Form'!$F391),\"\",'Scholars Nomination Form'!$C$15)","v":""},{"$f":"IF(ISBLANK('Scholars Nomination Form'!$F391),\"\",'Scholars Nomination Form'!$C$16)","v":""},{"$f":"IF(ISBLANK('Scholars Nomination Form'!B391),\"\",'Scholars Nomination Form'!B391)","v":""},{"$f":"IF(ISBLANK('Scholars Nomination Form'!D391),\"\",'Scholars Nomination Form'!D391)","v":""},{"$f":"IF(ISBLANK('Scholars Nomination Form'!E391),\"\",'Scholars Nomination Form'!E391)","v":""},{"$f":"IF(ISBLANK('Scholars Nomination Form'!F391),\"\",'Scholars Nomination Form'!F391)","v":""},{"$f":"IF(ISBLANK('Scholars Nomination Form'!G391),\"\",'Scholars Nomination Form'!G391)","v":""},{"$f":"IF(ISBLANK('Scholars Nomination Form'!H391),\"\",'Scholars Nomination Form'!H391)","v":""},{"$f":"IF(ISBLANK('Scholars Nomination Form'!I391),\"\",'Scholars Nomination Form'!I391)","v":""},{"$f":"IF(ISBLANK('Scholars Nomination Form'!J391),\"\",'Scholars Nomination Form'!J391)","v":""},{"$f":"IF(ISBLANK('Scholars Nomination Form'!K391),\"\",'Scholars Nomination Form'!K391)","v":""},{"$f":"IF(ISBLANK('Scholars Nomination Form'!L391),\"\",'Scholars Nomination Form'!L391)","v":""},{"$f":"IF(ISBLANK('Scholars Nomination Form'!M391),\"\",'Scholars Nomination Form'!M391)","v":""},{"$f":"IF(ISBLANK('Scholars Nomination Form'!N391),\"\",'Scholars Nomination Form'!N391)","v":""},{"$f":"IF(ISBLANK('Scholars Nomination Form'!O391),\"\",'Scholars Nomination Form'!O391)","v":""},{"$f":"IF(ISBLANK('Scholars Nomination Form'!P391),\"\",'Scholars Nomination Form'!P391)","v":""},{"$f":"IF(ISBLANK('Scholars Nomination Form'!Q391),\"\",'Scholars Nomination Form'!Q391)","v":""},{"$f":"IF(ISBLANK('Scholars Nomination Form'!R391),\"\",'Scholars Nomination Form'!R391)","v":""},{"$f":"IF(ISBLANK('Scholars Nomination Form'!S391),\"\",'Scholars Nomination Form'!S391)","v":""},{"$f":"IF(ISBLANK('Scholars Nomination Form'!T391),\"\",'Scholars Nomination Form'!T391)","v":""},{"$f":"IF(ISBLANK('Scholars Nomination Form'!U391),\"\",'Scholars Nomination Form'!U391)","v":""},{"$f":"IF(ISBLANK('Scholars Nomination Form'!V391),\"\",'Scholars Nomination Form'!V391)","v":""},{"$f":"IF(ISBLANK('Scholars Nomination Form'!W391),\"\",'Scholars Nomination Form'!W391)","v":""},{"$f":"IF(ISBLANK('Scholars Nomination Form'!X391),\"\",'Scholars Nomination Form'!X391)","v":""},{"$f":"IF(ISBLANK('Scholars Nomination Form'!Y391),\"\",'Scholars Nomination Form'!Y391)","v":""},{"$f":"IF(ISBLANK('Scholars Nomination Form'!Z391),\"\",'Scholars Nomination Form'!Z391)","v":""},{"$f":"IF(ISBLANK('Scholars Nomination Form'!AA391),\"\",'Scholars Nomination Form'!AA391)","v":""}]
[{"$f":"IF(ISBLANK('Scholars Nomination Form'!$F392),\"\",'Scholars Nomination Form'!$C$11)","v":""},{"$f":"IF(ISBLANK('Scholars Nomination Form'!$F392),\"\",'Scholars Nomination Form'!$C$12)","v":""},{"$f":"IF(ISBLANK('Scholars Nomination Form'!$F392),\"\",'Scholars Nomination Form'!$C$13)","v":""},{"$f":"IF(ISBLANK('Scholars Nomination Form'!$F392),\"\",'Scholars Nomination Form'!$C$14)","v":""},{"$f":"IF(ISBLANK('Scholars Nomination Form'!$F392),\"\",'Scholars Nomination Form'!$C$15)","v":""},{"$f":"IF(ISBLANK('Scholars Nomination Form'!$F392),\"\",'Scholars Nomination Form'!$C$16)","v":""},{"$f":"IF(ISBLANK('Scholars Nomination Form'!B392),\"\",'Scholars Nomination Form'!B392)","v":""},{"$f":"IF(ISBLANK('Scholars Nomination Form'!D392),\"\",'Scholars Nomination Form'!D392)","v":""},{"$f":"IF(ISBLANK('Scholars Nomination Form'!E392),\"\",'Scholars Nomination Form'!E392)","v":""},{"$f":"IF(ISBLANK('Scholars Nomination Form'!F392),\"\",'Scholars Nomination Form'!F392)","v":""},{"$f":"IF(ISBLANK('Scholars Nomination Form'!G392),\"\",'Scholars Nomination Form'!G392)","v":""},{"$f":"IF(ISBLANK('Scholars Nomination Form'!H392),\"\",'Scholars Nomination Form'!H392)","v":""},{"$f":"IF(ISBLANK('Scholars Nomination Form'!I392),\"\",'Scholars Nomination Form'!I392)","v":""},{"$f":"IF(ISBLANK('Scholars Nomination Form'!J392),\"\",'Scholars Nomination Form'!J392)","v":""},{"$f":"IF(ISBLANK('Scholars Nomination Form'!K392),\"\",'Scholars Nomination Form'!K392)","v":""},{"$f":"IF(ISBLANK('Scholars Nomination Form'!L392),\"\",'Scholars Nomination Form'!L392)","v":""},{"$f":"IF(ISBLANK('Scholars Nomination Form'!M392),\"\",'Scholars Nomination Form'!M392)","v":""},{"$f":"IF(ISBLANK('Scholars Nomination Form'!N392),\"\",'Scholars Nomination Form'!N392)","v":""},{"$f":"IF(ISBLANK('Scholars Nomination Form'!O392),\"\",'Scholars Nomination Form'!O392)","v":""},{"$f":"IF(ISBLANK('Scholars Nomination Form'!P392),\"\",'Scholars Nomination Form'!P392)","v":""},{"$f":"IF(ISBLANK('Scholars Nomination Form'!Q392),\"\",'Scholars Nomination Form'!Q392)","v":""},{"$f":"IF(ISBLANK('Scholars Nomination Form'!R392),\"\",'Scholars Nomination Form'!R392)","v":""},{"$f":"IF(ISBLANK('Scholars Nomination Form'!S392),\"\",'Scholars Nomination Form'!S392)","v":""},{"$f":"IF(ISBLANK('Scholars Nomination Form'!T392),\"\",'Scholars Nomination Form'!T392)","v":""},{"$f":"IF(ISBLANK('Scholars Nomination Form'!U392),\"\",'Scholars Nomination Form'!U392)","v":""},{"$f":"IF(ISBLANK('Scholars Nomination Form'!V392),\"\",'Scholars Nomination Form'!V392)","v":""},{"$f":"IF(ISBLANK('Scholars Nomination Form'!W392),\"\",'Scholars Nomination Form'!W392)","v":""},{"$f":"IF(ISBLANK('Scholars Nomination Form'!X392),\"\",'Scholars Nomination Form'!X392)","v":""},{"$f":"IF(ISBLANK('Scholars Nomination Form'!Y392),\"\",'Scholars Nomination Form'!Y392)","v":""},{"$f":"IF(ISBLANK('Scholars Nomination Form'!Z392),\"\",'Scholars Nomination Form'!Z392)","v":""},{"$f":"IF(ISBLANK('Scholars Nomination Form'!AA392),\"\",'Scholars Nomination Form'!AA392)","v":""}]
[{"$f":"IF(ISBLANK('Scholars Nomination Form'!$F393),\"\",'Scholars Nomination Form'!$C$11)","v":""},{"$f":"IF(ISBLANK('Scholars Nomination Form'!$F393),\"\",'Scholars Nomination Form'!$C$12)","v":""},{"$f":"IF(ISBLANK('Scholars Nomination Form'!$F393),\"\",'Scholars Nomination Form'!$C$13)","v":""},{"$f":"IF(ISBLANK('Scholars Nomination Form'!$F393),\"\",'Scholars Nomination Form'!$C$14)","v":""},{"$f":"IF(ISBLANK('Scholars Nomination Form'!$F393),\"\",'Scholars Nomination Form'!$C$15)","v":""},{"$f":"IF(ISBLANK('Scholars Nomination Form'!$F393),\"\",'Scholars Nomination Form'!$C$16)","v":""},{"$f":"IF(ISBLANK('Scholars Nomination Form'!B393),\"\",'Scholars Nomination Form'!B393)","v":""},{"$f":"IF(ISBLANK('Scholars Nomination Form'!D393),\"\",'Scholars Nomination Form'!D393)","v":""},{"$f":"IF(ISBLANK('Scholars Nomination Form'!E393),\"\",'Scholars Nomination Form'!E393)","v":""},{"$f":"IF(ISBLANK('Scholars Nomination Form'!F393),\"\",'Scholars Nomination Form'!F393)","v":""},{"$f":"IF(ISBLANK('Scholars Nomination Form'!G393),\"\",'Scholars Nomination Form'!G393)","v":""},{"$f":"IF(ISBLANK('Scholars Nomination Form'!H393),\"\",'Scholars Nomination Form'!H393)","v":""},{"$f":"IF(ISBLANK('Scholars Nomination Form'!I393),\"\",'Scholars Nomination Form'!I393)","v":""},{"$f":"IF(ISBLANK('Scholars Nomination Form'!J393),\"\",'Scholars Nomination Form'!J393)","v":""},{"$f":"IF(ISBLANK('Scholars Nomination Form'!K393),\"\",'Scholars Nomination Form'!K393)","v":""},{"$f":"IF(ISBLANK('Scholars Nomination Form'!L393),\"\",'Scholars Nomination Form'!L393)","v":""},{"$f":"IF(ISBLANK('Scholars Nomination Form'!M393),\"\",'Scholars Nomination Form'!M393)","v":""},{"$f":"IF(ISBLANK('Scholars Nomination Form'!N393),\"\",'Scholars Nomination Form'!N393)","v":""},{"$f":"IF(ISBLANK('Scholars Nomination Form'!O393),\"\",'Scholars Nomination Form'!O393)","v":""},{"$f":"IF(ISBLANK('Scholars Nomination Form'!P393),\"\",'Scholars Nomination Form'!P393)","v":""},{"$f":"IF(ISBLANK('Scholars Nomination Form'!Q393),\"\",'Scholars Nomination Form'!Q393)","v":""},{"$f":"IF(ISBLANK('Scholars Nomination Form'!R393),\"\",'Scholars Nomination Form'!R393)","v":""},{"$f":"IF(ISBLANK('Scholars Nomination Form'!S393),\"\",'Scholars Nomination Form'!S393)","v":""},{"$f":"IF(ISBLANK('Scholars Nomination Form'!T393),\"\",'Scholars Nomination Form'!T393)","v":""},{"$f":"IF(ISBLANK('Scholars Nomination Form'!U393),\"\",'Scholars Nomination Form'!U393)","v":""},{"$f":"IF(ISBLANK('Scholars Nomination Form'!V393),\"\",'Scholars Nomination Form'!V393)","v":""},{"$f":"IF(ISBLANK('Scholars Nomination Form'!W393),\"\",'Scholars Nomination Form'!W393)","v":""},{"$f":"IF(ISBLANK('Scholars Nomination Form'!X393),\"\",'Scholars Nomination Form'!X393)","v":""},{"$f":"IF(ISBLANK('Scholars Nomination Form'!Y393),\"\",'Scholars Nomination Form'!Y393)","v":""},{"$f":"IF(ISBLANK('Scholars Nomination Form'!Z393),\"\",'Scholars Nomination Form'!Z393)","v":""},{"$f":"IF(ISBLANK('Scholars Nomination Form'!AA393),\"\",'Scholars Nomination Form'!AA393)","v":""}]
[{"$f":"IF(ISBLANK('Scholars Nomination Form'!$F394),\"\",'Scholars Nomination Form'!$C$11)","v":""},{"$f":"IF(ISBLANK('Scholars Nomination Form'!$F394),\"\",'Scholars Nomination Form'!$C$12)","v":""},{"$f":"IF(ISBLANK('Scholars Nomination Form'!$F394),\"\",'Scholars Nomination Form'!$C$13)","v":""},{"$f":"IF(ISBLANK('Scholars Nomination Form'!$F394),\"\",'Scholars Nomination Form'!$C$14)","v":""},{"$f":"IF(ISBLANK('Scholars Nomination Form'!$F394),\"\",'Scholars Nomination Form'!$C$15)","v":""},{"$f":"IF(ISBLANK('Scholars Nomination Form'!$F394),\"\",'Scholars Nomination Form'!$C$16)","v":""},{"$f":"IF(ISBLANK('Scholars Nomination Form'!B394),\"\",'Scholars Nomination Form'!B394)","v":""},{"$f":"IF(ISBLANK('Scholars Nomination Form'!D394),\"\",'Scholars Nomination Form'!D394)","v":""},{"$f":"IF(ISBLANK('Scholars Nomination Form'!E394),\"\",'Scholars Nomination Form'!E394)","v":""},{"$f":"IF(ISBLANK('Scholars Nomination Form'!F394),\"\",'Scholars Nomination Form'!F394)","v":""},{"$f":"IF(ISBLANK('Scholars Nomination Form'!G394),\"\",'Scholars Nomination Form'!G394)","v":""},{"$f":"IF(ISBLANK('Scholars Nomination Form'!H394),\"\",'Scholars Nomination Form'!H394)","v":""},{"$f":"IF(ISBLANK('Scholars Nomination Form'!I394),\"\",'Scholars Nomination Form'!I394)","v":""},{"$f":"IF(ISBLANK('Scholars Nomination Form'!J394),\"\",'Scholars Nomination Form'!J394)","v":""},{"$f":"IF(ISBLANK('Scholars Nomination Form'!K394),\"\",'Scholars Nomination Form'!K394)","v":""},{"$f":"IF(ISBLANK('Scholars Nomination Form'!L394),\"\",'Scholars Nomination Form'!L394)","v":""},{"$f":"IF(ISBLANK('Scholars Nomination Form'!M394),\"\",'Scholars Nomination Form'!M394)","v":""},{"$f":"IF(ISBLANK('Scholars Nomination Form'!N394),\"\",'Scholars Nomination Form'!N394)","v":""},{"$f":"IF(ISBLANK('Scholars Nomination Form'!O394),\"\",'Scholars Nomination Form'!O394)","v":""},{"$f":"IF(ISBLANK('Scholars Nomination Form'!P394),\"\",'Scholars Nomination Form'!P394)","v":""},{"$f":"IF(ISBLANK('Scholars Nomination Form'!Q394),\"\",'Scholars Nomination Form'!Q394)","v":""},{"$f":"IF(ISBLANK('Scholars Nomination Form'!R394),\"\",'Scholars Nomination Form'!R394)","v":""},{"$f":"IF(ISBLANK('Scholars Nomination Form'!S394),\"\",'Scholars Nomination Form'!S394)","v":""},{"$f":"IF(ISBLANK('Scholars Nomination Form'!T394),\"\",'Scholars Nomination Form'!T394)","v":""},{"$f":"IF(ISBLANK('Scholars Nomination Form'!U394),\"\",'Scholars Nomination Form'!U394)","v":""},{"$f":"IF(ISBLANK('Scholars Nomination Form'!V394),\"\",'Scholars Nomination Form'!V394)","v":""},{"$f":"IF(ISBLANK('Scholars Nomination Form'!W394),\"\",'Scholars Nomination Form'!W394)","v":""},{"$f":"IF(ISBLANK('Scholars Nomination Form'!X394),\"\",'Scholars Nomination Form'!X394)","v":""},{"$f":"IF(ISBLANK('Scholars Nomination Form'!Y394),\"\",'Scholars Nomination Form'!Y394)","v":""},{"$f":"IF(ISBLANK('Scholars Nomination Form'!Z394),\"\",'Scholars Nomination Form'!Z394)","v":""},{"$f":"IF(ISBLANK('Scholars Nomination Form'!AA394),\"\",'Scholars Nomination Form'!AA394)","v":""}]
[{"$f":"IF(ISBLANK('Scholars Nomination Form'!$F395),\"\",'Scholars Nomination Form'!$C$11)","v":""},{"$f":"IF(ISBLANK('Scholars Nomination Form'!$F395),\"\",'Scholars Nomination Form'!$C$12)","v":""},{"$f":"IF(ISBLANK('Scholars Nomination Form'!$F395),\"\",'Scholars Nomination Form'!$C$13)","v":""},{"$f":"IF(ISBLANK('Scholars Nomination Form'!$F395),\"\",'Scholars Nomination Form'!$C$14)","v":""},{"$f":"IF(ISBLANK('Scholars Nomination Form'!$F395),\"\",'Scholars Nomination Form'!$C$15)","v":""},{"$f":"IF(ISBLANK('Scholars Nomination Form'!$F395),\"\",'Scholars Nomination Form'!$C$16)","v":""},{"$f":"IF(ISBLANK('Scholars Nomination Form'!B395),\"\",'Scholars Nomination Form'!B395)","v":""},{"$f":"IF(ISBLANK('Scholars Nomination Form'!D395),\"\",'Scholars Nomination Form'!D395)","v":""},{"$f":"IF(ISBLANK('Scholars Nomination Form'!E395),\"\",'Scholars Nomination Form'!E395)","v":""},{"$f":"IF(ISBLANK('Scholars Nomination Form'!F395),\"\",'Scholars Nomination Form'!F395)","v":""},{"$f":"IF(ISBLANK('Scholars Nomination Form'!G395),\"\",'Scholars Nomination Form'!G395)","v":""},{"$f":"IF(ISBLANK('Scholars Nomination Form'!H395),\"\",'Scholars Nomination Form'!H395)","v":""},{"$f":"IF(ISBLANK('Scholars Nomination Form'!I395),\"\",'Scholars Nomination Form'!I395)","v":""},{"$f":"IF(ISBLANK('Scholars Nomination Form'!J395),\"\",'Scholars Nomination Form'!J395)","v":""},{"$f":"IF(ISBLANK('Scholars Nomination Form'!K395),\"\",'Scholars Nomination Form'!K395)","v":""},{"$f":"IF(ISBLANK('Scholars Nomination Form'!L395),\"\",'Scholars Nomination Form'!L395)","v":""},{"$f":"IF(ISBLANK('Scholars Nomination Form'!M395),\"\",'Scholars Nomination Form'!M395)","v":""},{"$f":"IF(ISBLANK('Scholars Nomination Form'!N395),\"\",'Scholars Nomination Form'!N395)","v":""},{"$f":"IF(ISBLANK('Scholars Nomination Form'!O395),\"\",'Scholars Nomination Form'!O395)","v":""},{"$f":"IF(ISBLANK('Scholars Nomination Form'!P395),\"\",'Scholars Nomination Form'!P395)","v":""},{"$f":"IF(ISBLANK('Scholars Nomination Form'!Q395),\"\",'Scholars Nomination Form'!Q395)","v":""},{"$f":"IF(ISBLANK('Scholars Nomination Form'!R395),\"\",'Scholars Nomination Form'!R395)","v":""},{"$f":"IF(ISBLANK('Scholars Nomination Form'!S395),\"\",'Scholars Nomination Form'!S395)","v":""},{"$f":"IF(ISBLANK('Scholars Nomination Form'!T395),\"\",'Scholars Nomination Form'!T395)","v":""},{"$f":"IF(ISBLANK('Scholars Nomination Form'!U395),\"\",'Scholars Nomination Form'!U395)","v":""},{"$f":"IF(ISBLANK('Scholars Nomination Form'!V395),\"\",'Scholars Nomination Form'!V395)","v":""},{"$f":"IF(ISBLANK('Scholars Nomination Form'!W395),\"\",'Scholars Nomination Form'!W395)","v":""},{"$f":"IF(ISBLANK('Scholars Nomination Form'!X395),\"\",'Scholars Nomination Form'!X395)","v":""},{"$f":"IF(ISBLANK('Scholars Nomination Form'!Y395),\"\",'Scholars Nomination Form'!Y395)","v":""},{"$f":"IF(ISBLANK('Scholars Nomination Form'!Z395),\"\",'Scholars Nomination Form'!Z395)","v":""},{"$f":"IF(ISBLANK('Scholars Nomination Form'!AA395),\"\",'Scholars Nomination Form'!AA395)","v":""}]
[{"$f":"IF(ISBLANK('Scholars Nomination Form'!$F396),\"\",'Scholars Nomination Form'!$C$11)","v":""},{"$f":"IF(ISBLANK('Scholars Nomination Form'!$F396),\"\",'Scholars Nomination Form'!$C$12)","v":""},{"$f":"IF(ISBLANK('Scholars Nomination Form'!$F396),\"\",'Scholars Nomination Form'!$C$13)","v":""},{"$f":"IF(ISBLANK('Scholars Nomination Form'!$F396),\"\",'Scholars Nomination Form'!$C$14)","v":""},{"$f":"IF(ISBLANK('Scholars Nomination Form'!$F396),\"\",'Scholars Nomination Form'!$C$15)","v":""},{"$f":"IF(ISBLANK('Scholars Nomination Form'!$F396),\"\",'Scholars Nomination Form'!$C$16)","v":""},{"$f":"IF(ISBLANK('Scholars Nomination Form'!B396),\"\",'Scholars Nomination Form'!B396)","v":""},{"$f":"IF(ISBLANK('Scholars Nomination Form'!D396),\"\",'Scholars Nomination Form'!D396)","v":""},{"$f":"IF(ISBLANK('Scholars Nomination Form'!E396),\"\",'Scholars Nomination Form'!E396)","v":""},{"$f":"IF(ISBLANK('Scholars Nomination Form'!F396),\"\",'Scholars Nomination Form'!F396)","v":""},{"$f":"IF(ISBLANK('Scholars Nomination Form'!G396),\"\",'Scholars Nomination Form'!G396)","v":""},{"$f":"IF(ISBLANK('Scholars Nomination Form'!H396),\"\",'Scholars Nomination Form'!H396)","v":""},{"$f":"IF(ISBLANK('Scholars Nomination Form'!I396),\"\",'Scholars Nomination Form'!I396)","v":""},{"$f":"IF(ISBLANK('Scholars Nomination Form'!J396),\"\",'Scholars Nomination Form'!J396)","v":""},{"$f":"IF(ISBLANK('Scholars Nomination Form'!K396),\"\",'Scholars Nomination Form'!K396)","v":""},{"$f":"IF(ISBLANK('Scholars Nomination Form'!L396),\"\",'Scholars Nomination Form'!L396)","v":""},{"$f":"IF(ISBLANK('Scholars Nomination Form'!M396),\"\",'Scholars Nomination Form'!M396)","v":""},{"$f":"IF(ISBLANK('Scholars Nomination Form'!N396),\"\",'Scholars Nomination Form'!N396)","v":""},{"$f":"IF(ISBLANK('Scholars Nomination Form'!O396),\"\",'Scholars Nomination Form'!O396)","v":""},{"$f":"IF(ISBLANK('Scholars Nomination Form'!P396),\"\",'Scholars Nomination Form'!P396)","v":""},{"$f":"IF(ISBLANK('Scholars Nomination Form'!Q396),\"\",'Scholars Nomination Form'!Q396)","v":""},{"$f":"IF(ISBLANK('Scholars Nomination Form'!R396),\"\",'Scholars Nomination Form'!R396)","v":""},{"$f":"IF(ISBLANK('Scholars Nomination Form'!S396),\"\",'Scholars Nomination Form'!S396)","v":""},{"$f":"IF(ISBLANK('Scholars Nomination Form'!T396),\"\",'Scholars Nomination Form'!T396)","v":""},{"$f":"IF(ISBLANK('Scholars Nomination Form'!U396),\"\",'Scholars Nomination Form'!U396)","v":""},{"$f":"IF(ISBLANK('Scholars Nomination Form'!V396),\"\",'Scholars Nomination Form'!V396)","v":""},{"$f":"IF(ISBLANK('Scholars Nomination Form'!W396),\"\",'Scholars Nomination Form'!W396)","v":""},{"$f":"IF(ISBLANK('Scholars Nomination Form'!X396),\"\",'Scholars Nomination Form'!X396)","v":""},{"$f":"IF(ISBLANK('Scholars Nomination Form'!Y396),\"\",'Scholars Nomination Form'!Y396)","v":""},{"$f":"IF(ISBLANK('Scholars Nomination Form'!Z396),\"\",'Scholars Nomination Form'!Z396)","v":""},{"$f":"IF(ISBLANK('Scholars Nomination Form'!AA396),\"\",'Scholars Nomination Form'!AA396)","v":""}]
[{"$f":"IF(ISBLANK('Scholars Nomination Form'!$F397),\"\",'Scholars Nomination Form'!$C$11)","v":""},{"$f":"IF(ISBLANK('Scholars Nomination Form'!$F397),\"\",'Scholars Nomination Form'!$C$12)","v":""},{"$f":"IF(ISBLANK('Scholars Nomination Form'!$F397),\"\",'Scholars Nomination Form'!$C$13)","v":""},{"$f":"IF(ISBLANK('Scholars Nomination Form'!$F397),\"\",'Scholars Nomination Form'!$C$14)","v":""},{"$f":"IF(ISBLANK('Scholars Nomination Form'!$F397),\"\",'Scholars Nomination Form'!$C$15)","v":""},{"$f":"IF(ISBLANK('Scholars Nomination Form'!$F397),\"\",'Scholars Nomination Form'!$C$16)","v":""},{"$f":"IF(ISBLANK('Scholars Nomination Form'!B397),\"\",'Scholars Nomination Form'!B397)","v":""},{"$f":"IF(ISBLANK('Scholars Nomination Form'!D397),\"\",'Scholars Nomination Form'!D397)","v":""},{"$f":"IF(ISBLANK('Scholars Nomination Form'!E397),\"\",'Scholars Nomination Form'!E397)","v":""},{"$f":"IF(ISBLANK('Scholars Nomination Form'!F397),\"\",'Scholars Nomination Form'!F397)","v":""},{"$f":"IF(ISBLANK('Scholars Nomination Form'!G397),\"\",'Scholars Nomination Form'!G397)","v":""},{"$f":"IF(ISBLANK('Scholars Nomination Form'!H397),\"\",'Scholars Nomination Form'!H397)","v":""},{"$f":"IF(ISBLANK('Scholars Nomination Form'!I397),\"\",'Scholars Nomination Form'!I397)","v":""},{"$f":"IF(ISBLANK('Scholars Nomination Form'!J397),\"\",'Scholars Nomination Form'!J397)","v":""},{"$f":"IF(ISBLANK('Scholars Nomination Form'!K397),\"\",'Scholars Nomination Form'!K397)","v":""},{"$f":"IF(ISBLANK('Scholars Nomination Form'!L397),\"\",'Scholars Nomination Form'!L397)","v":""},{"$f":"IF(ISBLANK('Scholars Nomination Form'!M397),\"\",'Scholars Nomination Form'!M397)","v":""},{"$f":"IF(ISBLANK('Scholars Nomination Form'!N397),\"\",'Scholars Nomination Form'!N397)","v":""},{"$f":"IF(ISBLANK('Scholars Nomination Form'!O397),\"\",'Scholars Nomination Form'!O397)","v":""},{"$f":"IF(ISBLANK('Scholars Nomination Form'!P397),\"\",'Scholars Nomination Form'!P397)","v":""},{"$f":"IF(ISBLANK('Scholars Nomination Form'!Q397),\"\",'Scholars Nomination Form'!Q397)","v":""},{"$f":"IF(ISBLANK('Scholars Nomination Form'!R397),\"\",'Scholars Nomination Form'!R397)","v":""},{"$f":"IF(ISBLANK('Scholars Nomination Form'!S397),\"\",'Scholars Nomination Form'!S397)","v":""},{"$f":"IF(ISBLANK('Scholars Nomination Form'!T397),\"\",'Scholars Nomination Form'!T397)","v":""},{"$f":"IF(ISBLANK('Scholars Nomination Form'!U397),\"\",'Scholars Nomination Form'!U397)","v":""},{"$f":"IF(ISBLANK('Scholars Nomination Form'!V397),\"\",'Scholars Nomination Form'!V397)","v":""},{"$f":"IF(ISBLANK('Scholars Nomination Form'!W397),\"\",'Scholars Nomination Form'!W397)","v":""},{"$f":"IF(ISBLANK('Scholars Nomination Form'!X397),\"\",'Scholars Nomination Form'!X397)","v":""},{"$f":"IF(ISBLANK('Scholars Nomination Form'!Y397),\"\",'Scholars Nomination Form'!Y397)","v":""},{"$f":"IF(ISBLANK('Scholars Nomination Form'!Z397),\"\",'Scholars Nomination Form'!Z397)","v":""},{"$f":"IF(ISBLANK('Scholars Nomination Form'!AA397),\"\",'Scholars Nomination Form'!AA397)","v":""}]
[{"$f":"IF(ISBLANK('Scholars Nomination Form'!$F398),\"\",'Scholars Nomination Form'!$C$11)","v":""},{"$f":"IF(ISBLANK('Scholars Nomination Form'!$F398),\"\",'Scholars Nomination Form'!$C$12)","v":""},{"$f":"IF(ISBLANK('Scholars Nomination Form'!$F398),\"\",'Scholars Nomination Form'!$C$13)","v":""},{"$f":"IF(ISBLANK('Scholars Nomination Form'!$F398),\"\",'Scholars Nomination Form'!$C$14)","v":""},{"$f":"IF(ISBLANK('Scholars Nomination Form'!$F398),\"\",'Scholars Nomination Form'!$C$15)","v":""},{"$f":"IF(ISBLANK('Scholars Nomination Form'!$F398),\"\",'Scholars Nomination Form'!$C$16)","v":""},{"$f":"IF(ISBLANK('Scholars Nomination Form'!B398),\"\",'Scholars Nomination Form'!B398)","v":""},{"$f":"IF(ISBLANK('Scholars Nomination Form'!D398),\"\",'Scholars Nomination Form'!D398)","v":""},{"$f":"IF(ISBLANK('Scholars Nomination Form'!E398),\"\",'Scholars Nomination Form'!E398)","v":""},{"$f":"IF(ISBLANK('Scholars Nomination Form'!F398),\"\",'Scholars Nomination Form'!F398)","v":""},{"$f":"IF(ISBLANK('Scholars Nomination Form'!G398),\"\",'Scholars Nomination Form'!G398)","v":""},{"$f":"IF(ISBLANK('Scholars Nomination Form'!H398),\"\",'Scholars Nomination Form'!H398)","v":""},{"$f":"IF(ISBLANK('Scholars Nomination Form'!I398),\"\",'Scholars Nomination Form'!I398)","v":""},{"$f":"IF(ISBLANK('Scholars Nomination Form'!J398),\"\",'Scholars Nomination Form'!J398)","v":""},{"$f":"IF(ISBLANK('Scholars Nomination Form'!K398),\"\",'Scholars Nomination Form'!K398)","v":""},{"$f":"IF(ISBLANK('Scholars Nomination Form'!L398),\"\",'Scholars Nomination Form'!L398)","v":""},{"$f":"IF(ISBLANK('Scholars Nomination Form'!M398),\"\",'Scholars Nomination Form'!M398)","v":""},{"$f":"IF(ISBLANK('Scholars Nomination Form'!N398),\"\",'Scholars Nomination Form'!N398)","v":""},{"$f":"IF(ISBLANK('Scholars Nomination Form'!O398),\"\",'Scholars Nomination Form'!O398)","v":""},{"$f":"IF(ISBLANK('Scholars Nomination Form'!P398),\"\",'Scholars Nomination Form'!P398)","v":""},{"$f":"IF(ISBLANK('Scholars Nomination Form'!Q398),\"\",'Scholars Nomination Form'!Q398)","v":""},{"$f":"IF(ISBLANK('Scholars Nomination Form'!R398),\"\",'Scholars Nomination Form'!R398)","v":""},{"$f":"IF(ISBLANK('Scholars Nomination Form'!S398),\"\",'Scholars Nomination Form'!S398)","v":""},{"$f":"IF(ISBLANK('Scholars Nomination Form'!T398),\"\",'Scholars Nomination Form'!T398)","v":""},{"$f":"IF(ISBLANK('Scholars Nomination Form'!U398),\"\",'Scholars Nomination Form'!U398)","v":""},{"$f":"IF(ISBLANK('Scholars Nomination Form'!V398),\"\",'Scholars Nomination Form'!V398)","v":""},{"$f":"IF(ISBLANK('Scholars Nomination Form'!W398),\"\",'Scholars Nomination Form'!W398)","v":""},{"$f":"IF(ISBLANK('Scholars Nomination Form'!X398),\"\",'Scholars Nomination Form'!X398)","v":""},{"$f":"IF(ISBLANK('Scholars Nomination Form'!Y398),\"\",'Scholars Nomination Form'!Y398)","v":""},{"$f":"IF(ISBLANK('Scholars Nomination Form'!Z398),\"\",'Scholars Nomination Form'!Z398)","v":""},{"$f":"IF(ISBLANK('Scholars Nomination Form'!AA398),\"\",'Scholars Nomination Form'!AA398)","v":""}]
[{"$f":"IF(ISBLANK('Scholars Nomination Form'!$F399),\"\",'Scholars Nomination Form'!$C$11)","v":""},{"$f":"IF(ISBLANK('Scholars Nomination Form'!$F399),\"\",'Scholars Nomination Form'!$C$12)","v":""},{"$f":"IF(ISBLANK('Scholars Nomination Form'!$F399),\"\",'Scholars Nomination Form'!$C$13)","v":""},{"$f":"IF(ISBLANK('Scholars Nomination Form'!$F399),\"\",'Scholars Nomination Form'!$C$14)","v":""},{"$f":"IF(ISBLANK('Scholars Nomination Form'!$F399),\"\",'Scholars Nomination Form'!$C$15)","v":""},{"$f":"IF(ISBLANK('Scholars Nomination Form'!$F399),\"\",'Scholars Nomination Form'!$C$16)","v":""},{"$f":"IF(ISBLANK('Scholars Nomination Form'!B399),\"\",'Scholars Nomination Form'!B399)","v":""},{"$f":"IF(ISBLANK('Scholars Nomination Form'!D399),\"\",'Scholars Nomination Form'!D399)","v":""},{"$f":"IF(ISBLANK('Scholars Nomination Form'!E399),\"\",'Scholars Nomination Form'!E399)","v":""},{"$f":"IF(ISBLANK('Scholars Nomination Form'!F399),\"\",'Scholars Nomination Form'!F399)","v":""},{"$f":"IF(ISBLANK('Scholars Nomination Form'!G399),\"\",'Scholars Nomination Form'!G399)","v":""},{"$f":"IF(ISBLANK('Scholars Nomination Form'!H399),\"\",'Scholars Nomination Form'!H399)","v":""},{"$f":"IF(ISBLANK('Scholars Nomination Form'!I399),\"\",'Scholars Nomination Form'!I399)","v":""},{"$f":"IF(ISBLANK('Scholars Nomination Form'!J399),\"\",'Scholars Nomination Form'!J399)","v":""},{"$f":"IF(ISBLANK('Scholars Nomination Form'!K399),\"\",'Scholars Nomination Form'!K399)","v":""},{"$f":"IF(ISBLANK('Scholars Nomination Form'!L399),\"\",'Scholars Nomination Form'!L399)","v":""},{"$f":"IF(ISBLANK('Scholars Nomination Form'!M399),\"\",'Scholars Nomination Form'!M399)","v":""},{"$f":"IF(ISBLANK('Scholars Nomination Form'!N399),\"\",'Scholars Nomination Form'!N399)","v":""},{"$f":"IF(ISBLANK('Scholars Nomination Form'!O399),\"\",'Scholars Nomination Form'!O399)","v":""},{"$f":"IF(ISBLANK('Scholars Nomination Form'!P399),\"\",'Scholars Nomination Form'!P399)","v":""},{"$f":"IF(ISBLANK('Scholars Nomination Form'!Q399),\"\",'Scholars Nomination Form'!Q399)","v":""},{"$f":"IF(ISBLANK('Scholars Nomination Form'!R399),\"\",'Scholars Nomination Form'!R399)","v":""},{"$f":"IF(ISBLANK('Scholars Nomination Form'!S399),\"\",'Scholars Nomination Form'!S399)","v":""},{"$f":"IF(ISBLANK('Scholars Nomination Form'!T399),\"\",'Scholars Nomination Form'!T399)","v":""},{"$f":"IF(ISBLANK('Scholars Nomination Form'!U399),\"\",'Scholars Nomination Form'!U399)","v":""},{"$f":"IF(ISBLANK('Scholars Nomination Form'!V399),\"\",'Scholars Nomination Form'!V399)","v":""},{"$f":"IF(ISBLANK('Scholars Nomination Form'!W399),\"\",'Scholars Nomination Form'!W399)","v":""},{"$f":"IF(ISBLANK('Scholars Nomination Form'!X399),\"\",'Scholars Nomination Form'!X399)","v":""},{"$f":"IF(ISBLANK('Scholars Nomination Form'!Y399),\"\",'Scholars Nomination Form'!Y399)","v":""},{"$f":"IF(ISBLANK('Scholars Nomination Form'!Z399),\"\",'Scholars Nomination Form'!Z399)","v":""},{"$f":"IF(ISBLANK('Scholars Nomination Form'!AA399),\"\",'Scholars Nomination Form'!AA399)","v":""}]
[{"$f":"IF(ISBLANK('Scholars Nomination Form'!$F400),\"\",'Scholars Nomination Form'!$C$11)","v":""},{"$f":"IF(ISBLANK('Scholars Nomination Form'!$F400),\"\",'Scholars Nomination Form'!$C$12)","v":""},{"$f":"IF(ISBLANK('Scholars Nomination Form'!$F400),\"\",'Scholars Nomination Form'!$C$13)","v":""},{"$f":"IF(ISBLANK('Scholars Nomination Form'!$F400),\"\",'Scholars Nomination Form'!$C$14)","v":""},{"$f":"IF(ISBLANK('Scholars Nomination Form'!$F400),\"\",'Scholars Nomination Form'!$C$15)","v":""},{"$f":"IF(ISBLANK('Scholars Nomination Form'!$F400),\"\",'Scholars Nomination Form'!$C$16)","v":""},{"$f":"IF(ISBLANK('Scholars Nomination Form'!B400),\"\",'Scholars Nomination Form'!B400)","v":""},{"$f":"IF(ISBLANK('Scholars Nomination Form'!D400),\"\",'Scholars Nomination Form'!D400)","v":""},{"$f":"IF(ISBLANK('Scholars Nomination Form'!E400),\"\",'Scholars Nomination Form'!E400)","v":""},{"$f":"IF(ISBLANK('Scholars Nomination Form'!F400),\"\",'Scholars Nomination Form'!F400)","v":""},{"$f":"IF(ISBLANK('Scholars Nomination Form'!G400),\"\",'Scholars Nomination Form'!G400)","v":""},{"$f":"IF(ISBLANK('Scholars Nomination Form'!H400),\"\",'Scholars Nomination Form'!H400)","v":""},{"$f":"IF(ISBLANK('Scholars Nomination Form'!I400),\"\",'Scholars Nomination Form'!I400)","v":""},{"$f":"IF(ISBLANK('Scholars Nomination Form'!J400),\"\",'Scholars Nomination Form'!J400)","v":""},{"$f":"IF(ISBLANK('Scholars Nomination Form'!K400),\"\",'Scholars Nomination Form'!K400)","v":""},{"$f":"IF(ISBLANK('Scholars Nomination Form'!L400),\"\",'Scholars Nomination Form'!L400)","v":""},{"$f":"IF(ISBLANK('Scholars Nomination Form'!M400),\"\",'Scholars Nomination Form'!M400)","v":""},{"$f":"IF(ISBLANK('Scholars Nomination Form'!N400),\"\",'Scholars Nomination Form'!N400)","v":""},{"$f":"IF(ISBLANK('Scholars Nomination Form'!O400),\"\",'Scholars Nomination Form'!O400)","v":""},{"$f":"IF(ISBLANK('Scholars Nomination Form'!P400),\"\",'Scholars Nomination Form'!P400)","v":""},{"$f":"IF(ISBLANK('Scholars Nomination Form'!Q400),\"\",'Scholars Nomination Form'!Q400)","v":""},{"$f":"IF(ISBLANK('Scholars Nomination Form'!R400),\"\",'Scholars Nomination Form'!R400)","v":""},{"$f":"IF(ISBLANK('Scholars Nomination Form'!S400),\"\",'Scholars Nomination Form'!S400)","v":""},{"$f":"IF(ISBLANK('Scholars Nomination Form'!T400),\"\",'Scholars Nomination Form'!T400)","v":""},{"$f":"IF(ISBLANK('Scholars Nomination Form'!U400),\"\",'Scholars Nomination Form'!U400)","v":""},{"$f":"IF(ISBLANK('Scholars Nomination Form'!V400),\"\",'Scholars Nomination Form'!V400)","v":""},{"$f":"IF(ISBLANK('Scholars Nomination Form'!W400),\"\",'Scholars Nomination Form'!W400)","v":""},{"$f":"IF(ISBLANK('Scholars Nomination Form'!X400),\"\",'Scholars Nomination Form'!X400)","v":""},{"$f":"IF(ISBLANK('Scholars Nomination Form'!Y400),\"\",'Scholars Nomination Form'!Y400)","v":""},{"$f":"IF(ISBLANK('Scholars Nomination Form'!Z400),\"\",'Scholars Nomination Form'!Z400)","v":""},{"$f":"IF(ISBLANK('Scholars Nomination Form'!AA400),\"\",'Scholars Nomination Form'!AA400)","v":""}]
[{"$f":"IF(ISBLANK('Scholars Nomination Form'!$F401),\"\",'Scholars Nomination Form'!$C$11)","v":""},{"$f":"IF(ISBLANK('Scholars Nomination Form'!$F401),\"\",'Scholars Nomination Form'!$C$12)","v":""},{"$f":"IF(ISBLANK('Scholars Nomination Form'!$F401),\"\",'Scholars Nomination Form'!$C$13)","v":""},{"$f":"IF(ISBLANK('Scholars Nomination Form'!$F401),\"\",'Scholars Nomination Form'!$C$14)","v":""},{"$f":"IF(ISBLANK('Scholars Nomination Form'!$F401),\"\",'Scholars Nomination Form'!$C$15)","v":""},{"$f":"IF(ISBLANK('Scholars Nomination Form'!$F401),\"\",'Scholars Nomination Form'!$C$16)","v":""},{"$f":"IF(ISBLANK('Scholars Nomination Form'!B401),\"\",'Scholars Nomination Form'!B401)","v":""},{"$f":"IF(ISBLANK('Scholars Nomination Form'!D401),\"\",'Scholars Nomination Form'!D401)","v":""},{"$f":"IF(ISBLANK('Scholars Nomination Form'!E401),\"\",'Scholars Nomination Form'!E401)","v":""},{"$f":"IF(ISBLANK('Scholars Nomination Form'!F401),\"\",'Scholars Nomination Form'!F401)","v":""},{"$f":"IF(ISBLANK('Scholars Nomination Form'!G401),\"\",'Scholars Nomination Form'!G401)","v":""},{"$f":"IF(ISBLANK('Scholars Nomination Form'!H401),\"\",'Scholars Nomination Form'!H401)","v":""},{"$f":"IF(ISBLANK('Scholars Nomination Form'!I401),\"\",'Scholars Nomination Form'!I401)","v":""},{"$f":"IF(ISBLANK('Scholars Nomination Form'!J401),\"\",'Scholars Nomination Form'!J401)","v":""},{"$f":"IF(ISBLANK('Scholars Nomination Form'!K401),\"\",'Scholars Nomination Form'!K401)","v":""},{"$f":"IF(ISBLANK('Scholars Nomination Form'!L401),\"\",'Scholars Nomination Form'!L401)","v":""},{"$f":"IF(ISBLANK('Scholars Nomination Form'!M401),\"\",'Scholars Nomination Form'!M401)","v":""},{"$f":"IF(ISBLANK('Scholars Nomination Form'!N401),\"\",'Scholars Nomination Form'!N401)","v":""},{"$f":"IF(ISBLANK('Scholars Nomination Form'!O401),\"\",'Scholars Nomination Form'!O401)","v":""},{"$f":"IF(ISBLANK('Scholars Nomination Form'!P401),\"\",'Scholars Nomination Form'!P401)","v":""},{"$f":"IF(ISBLANK('Scholars Nomination Form'!Q401),\"\",'Scholars Nomination Form'!Q401)","v":""},{"$f":"IF(ISBLANK('Scholars Nomination Form'!R401),\"\",'Scholars Nomination Form'!R401)","v":""},{"$f":"IF(ISBLANK('Scholars Nomination Form'!S401),\"\",'Scholars Nomination Form'!S401)","v":""},{"$f":"IF(ISBLANK('Scholars Nomination Form'!T401),\"\",'Scholars Nomination Form'!T401)","v":""},{"$f":"IF(ISBLANK('Scholars Nomination Form'!U401),\"\",'Scholars Nomination Form'!U401)","v":""},{"$f":"IF(ISBLANK('Scholars Nomination Form'!V401),\"\",'Scholars Nomination Form'!V401)","v":""},{"$f":"IF(ISBLANK('Scholars Nomination Form'!W401),\"\",'Scholars Nomination Form'!W401)","v":""},{"$f":"IF(ISBLANK('Scholars Nomination Form'!X401),\"\",'Scholars Nomination Form'!X401)","v":""},{"$f":"IF(ISBLANK('Scholars Nomination Form'!Y401),\"\",'Scholars Nomination Form'!Y401)","v":""},{"$f":"IF(ISBLANK('Scholars Nomination Form'!Z401),\"\",'Scholars Nomination Form'!Z401)","v":""},{"$f":"IF(ISBLANK('Scholars Nomination Form'!AA401),\"\",'Scholars Nomination Form'!AA401)","v":""}]
[{"$f":"IF(ISBLANK('Scholars Nomination Form'!$F402),\"\",'Scholars Nomination Form'!$C$11)","v":""},{"$f":"IF(ISBLANK('Scholars Nomination Form'!$F402),\"\",'Scholars Nomination Form'!$C$12)","v":""},{"$f":"IF(ISBLANK('Scholars Nomination Form'!$F402),\"\",'Scholars Nomination Form'!$C$13)","v":""},{"$f":"IF(ISBLANK('Scholars Nomination Form'!$F402),\"\",'Scholars Nomination Form'!$C$14)","v":""},{"$f":"IF(ISBLANK('Scholars Nomination Form'!$F402),\"\",'Scholars Nomination Form'!$C$15)","v":""},{"$f":"IF(ISBLANK('Scholars Nomination Form'!$F402),\"\",'Scholars Nomination Form'!$C$16)","v":""},{"$f":"IF(ISBLANK('Scholars Nomination Form'!B402),\"\",'Scholars Nomination Form'!B402)","v":""},{"$f":"IF(ISBLANK('Scholars Nomination Form'!D402),\"\",'Scholars Nomination Form'!D402)","v":""},{"$f":"IF(ISBLANK('Scholars Nomination Form'!E402),\"\",'Scholars Nomination Form'!E402)","v":""},{"$f":"IF(ISBLANK('Scholars Nomination Form'!F402),\"\",'Scholars Nomination Form'!F402)","v":""},{"$f":"IF(ISBLANK('Scholars Nomination Form'!G402),\"\",'Scholars Nomination Form'!G402)","v":""},{"$f":"IF(ISBLANK('Scholars Nomination Form'!H402),\"\",'Scholars Nomination Form'!H402)","v":""},{"$f":"IF(ISBLANK('Scholars Nomination Form'!I402),\"\",'Scholars Nomination Form'!I402)","v":""},{"$f":"IF(ISBLANK('Scholars Nomination Form'!J402),\"\",'Scholars Nomination Form'!J402)","v":""},{"$f":"IF(ISBLANK('Scholars Nomination Form'!K402),\"\",'Scholars Nomination Form'!K402)","v":""},{"$f":"IF(ISBLANK('Scholars Nomination Form'!L402),\"\",'Scholars Nomination Form'!L402)","v":""},{"$f":"IF(ISBLANK('Scholars Nomination Form'!M402),\"\",'Scholars Nomination Form'!M402)","v":""},{"$f":"IF(ISBLANK('Scholars Nomination Form'!N402),\"\",'Scholars Nomination Form'!N402)","v":""},{"$f":"IF(ISBLANK('Scholars Nomination Form'!O402),\"\",'Scholars Nomination Form'!O402)","v":""},{"$f":"IF(ISBLANK('Scholars Nomination Form'!P402),\"\",'Scholars Nomination Form'!P402)","v":""},{"$f":"IF(ISBLANK('Scholars Nomination Form'!Q402),\"\",'Scholars Nomination Form'!Q402)","v":""},{"$f":"IF(ISBLANK('Scholars Nomination Form'!R402),\"\",'Scholars Nomination Form'!R402)","v":""},{"$f":"IF(ISBLANK('Scholars Nomination Form'!S402),\"\",'Scholars Nomination Form'!S402)","v":""},{"$f":"IF(ISBLANK('Scholars Nomination Form'!T402),\"\",'Scholars Nomination Form'!T402)","v":""},{"$f":"IF(ISBLANK('Scholars Nomination Form'!U402),\"\",'Scholars Nomination Form'!U402)","v":""},{"$f":"IF(ISBLANK('Scholars Nomination Form'!V402),\"\",'Scholars Nomination Form'!V402)","v":""},{"$f":"IF(ISBLANK('Scholars Nomination Form'!W402),\"\",'Scholars Nomination Form'!W402)","v":""},{"$f":"IF(ISBLANK('Scholars Nomination Form'!X402),\"\",'Scholars Nomination Form'!X402)","v":""},{"$f":"IF(ISBLANK('Scholars Nomination Form'!Y402),\"\",'Scholars Nomination Form'!Y402)","v":""},{"$f":"IF(ISBLANK('Scholars Nomination Form'!Z402),\"\",'Scholars Nomination Form'!Z402)","v":""},{"$f":"IF(ISBLANK('Scholars Nomination Form'!AA402),\"\",'Scholars Nomination Form'!AA402)","v":""}]
[{"$f":"IF(ISBLANK('Scholars Nomination Form'!$F403),\"\",'Scholars Nomination Form'!$C$11)","v":""},{"$f":"IF(ISBLANK('Scholars Nomination Form'!$F403),\"\",'Scholars Nomination Form'!$C$12)","v":""},{"$f":"IF(ISBLANK('Scholars Nomination Form'!$F403),\"\",'Scholars Nomination Form'!$C$13)","v":""},{"$f":"IF(ISBLANK('Scholars Nomination Form'!$F403),\"\",'Scholars Nomination Form'!$C$14)","v":""},{"$f":"IF(ISBLANK('Scholars Nomination Form'!$F403),\"\",'Scholars Nomination Form'!$C$15)","v":""},{"$f":"IF(ISBLANK('Scholars Nomination Form'!$F403),\"\",'Scholars Nomination Form'!$C$16)","v":""},{"$f":"IF(ISBLANK('Scholars Nomination Form'!B403),\"\",'Scholars Nomination Form'!B403)","v":""},{"$f":"IF(ISBLANK('Scholars Nomination Form'!D403),\"\",'Scholars Nomination Form'!D403)","v":""},{"$f":"IF(ISBLANK('Scholars Nomination Form'!E403),\"\",'Scholars Nomination Form'!E403)","v":""},{"$f":"IF(ISBLANK('Scholars Nomination Form'!F403),\"\",'Scholars Nomination Form'!F403)","v":""},{"$f":"IF(ISBLANK('Scholars Nomination Form'!G403),\"\",'Scholars Nomination Form'!G403)","v":""},{"$f":"IF(ISBLANK('Scholars Nomination Form'!H403),\"\",'Scholars Nomination Form'!H403)","v":""},{"$f":"IF(ISBLANK('Scholars Nomination Form'!I403),\"\",'Scholars Nomination Form'!I403)","v":""},{"$f":"IF(ISBLANK('Scholars Nomination Form'!J403),\"\",'Scholars Nomination Form'!J403)","v":""},{"$f":"IF(ISBLANK('Scholars Nomination Form'!K403),\"\",'Scholars Nomination Form'!K403)","v":""},{"$f":"IF(ISBLANK('Scholars Nomination Form'!L403),\"\",'Scholars Nomination Form'!L403)","v":""},{"$f":"IF(ISBLANK('Scholars Nomination Form'!M403),\"\",'Scholars Nomination Form'!M403)","v":""},{"$f":"IF(ISBLANK('Scholars Nomination Form'!N403),\"\",'Scholars Nomination Form'!N403)","v":""},{"$f":"IF(ISBLANK('Scholars Nomination Form'!O403),\"\",'Scholars Nomination Form'!O403)","v":""},{"$f":"IF(ISBLANK('Scholars Nomination Form'!P403),\"\",'Scholars Nomination Form'!P403)","v":""},{"$f":"IF(ISBLANK('Scholars Nomination Form'!Q403),\"\",'Scholars Nomination Form'!Q403)","v":""},{"$f":"IF(ISBLANK('Scholars Nomination Form'!R403),\"\",'Scholars Nomination Form'!R403)","v":""},{"$f":"IF(ISBLANK('Scholars Nomination Form'!S403),\"\",'Scholars Nomination Form'!S403)","v":""},{"$f":"IF(ISBLANK('Scholars Nomination Form'!T403),\"\",'Scholars Nomination Form'!T403)","v":""},{"$f":"IF(ISBLANK('Scholars Nomination Form'!U403),\"\",'Scholars Nomination Form'!U403)","v":""},{"$f":"IF(ISBLANK('Scholars Nomination Form'!V403),\"\",'Scholars Nomination Form'!V403)","v":""},{"$f":"IF(ISBLANK('Scholars Nomination Form'!W403),\"\",'Scholars Nomination Form'!W403)","v":""},{"$f":"IF(ISBLANK('Scholars Nomination Form'!X403),\"\",'Scholars Nomination Form'!X403)","v":""},{"$f":"IF(ISBLANK('Scholars Nomination Form'!Y403),\"\",'Scholars Nomination Form'!Y403)","v":""},{"$f":"IF(ISBLANK('Scholars Nomination Form'!Z403),\"\",'Scholars Nomination Form'!Z403)","v":""},{"$f":"IF(ISBLANK('Scholars Nomination Form'!AA403),\"\",'Scholars Nomination Form'!AA403)","v":""}]
[{"$f":"IF(ISBLANK('Scholars Nomination Form'!$F404),\"\",'Scholars Nomination Form'!$C$11)","v":""},{"$f":"IF(ISBLANK('Scholars Nomination Form'!$F404),\"\",'Scholars Nomination Form'!$C$12)","v":""},{"$f":"IF(ISBLANK('Scholars Nomination Form'!$F404),\"\",'Scholars Nomination Form'!$C$13)","v":""},{"$f":"IF(ISBLANK('Scholars Nomination Form'!$F404),\"\",'Scholars Nomination Form'!$C$14)","v":""},{"$f":"IF(ISBLANK('Scholars Nomination Form'!$F404),\"\",'Scholars Nomination Form'!$C$15)","v":""},{"$f":"IF(ISBLANK('Scholars Nomination Form'!$F404),\"\",'Scholars Nomination Form'!$C$16)","v":""},{"$f":"IF(ISBLANK('Scholars Nomination Form'!B404),\"\",'Scholars Nomination Form'!B404)","v":""},{"$f":"IF(ISBLANK('Scholars Nomination Form'!D404),\"\",'Scholars Nomination Form'!D404)","v":""},{"$f":"IF(ISBLANK('Scholars Nomination Form'!E404),\"\",'Scholars Nomination Form'!E404)","v":""},{"$f":"IF(ISBLANK('Scholars Nomination Form'!F404),\"\",'Scholars Nomination Form'!F404)","v":""},{"$f":"IF(ISBLANK('Scholars Nomination Form'!G404),\"\",'Scholars Nomination Form'!G404)","v":""},{"$f":"IF(ISBLANK('Scholars Nomination Form'!H404),\"\",'Scholars Nomination Form'!H404)","v":""},{"$f":"IF(ISBLANK('Scholars Nomination Form'!I404),\"\",'Scholars Nomination Form'!I404)","v":""},{"$f":"IF(ISBLANK('Scholars Nomination Form'!J404),\"\",'Scholars Nomination Form'!J404)","v":""},{"$f":"IF(ISBLANK('Scholars Nomination Form'!K404),\"\",'Scholars Nomination Form'!K404)","v":""},{"$f":"IF(ISBLANK('Scholars Nomination Form'!L404),\"\",'Scholars Nomination Form'!L404)","v":""},{"$f":"IF(ISBLANK('Scholars Nomination Form'!M404),\"\",'Scholars Nomination Form'!M404)","v":""},{"$f":"IF(ISBLANK('Scholars Nomination Form'!N404),\"\",'Scholars Nomination Form'!N404)","v":""},{"$f":"IF(ISBLANK('Scholars Nomination Form'!O404),\"\",'Scholars Nomination Form'!O404)","v":""},{"$f":"IF(ISBLANK('Scholars Nomination Form'!P404),\"\",'Scholars Nomination Form'!P404)","v":""},{"$f":"IF(ISBLANK('Scholars Nomination Form'!Q404),\"\",'Scholars Nomination Form'!Q404)","v":""},{"$f":"IF(ISBLANK('Scholars Nomination Form'!R404),\"\",'Scholars Nomination Form'!R404)","v":""},{"$f":"IF(ISBLANK('Scholars Nomination Form'!S404),\"\",'Scholars Nomination Form'!S404)","v":""},{"$f":"IF(ISBLANK('Scholars Nomination Form'!T404),\"\",'Scholars Nomination Form'!T404)","v":""},{"$f":"IF(ISBLANK('Scholars Nomination Form'!U404),\"\",'Scholars Nomination Form'!U404)","v":""},{"$f":"IF(ISBLANK('Scholars Nomination Form'!V404),\"\",'Scholars Nomination Form'!V404)","v":""},{"$f":"IF(ISBLANK('Scholars Nomination Form'!W404),\"\",'Scholars Nomination Form'!W404)","v":""},{"$f":"IF(ISBLANK('Scholars Nomination Form'!X404),\"\",'Scholars Nomination Form'!X404)","v":""},{"$f":"IF(ISBLANK('Scholars Nomination Form'!Y404),\"\",'Scholars Nomination Form'!Y404)","v":""},{"$f":"IF(ISBLANK('Scholars Nomination Form'!Z404),\"\",'Scholars Nomination Form'!Z404)","v":""},{"$f":"IF(ISBLANK('Scholars Nomination Form'!AA404),\"\",'Scholars Nomination Form'!AA404)","v":""}]
[{"$f":"IF(ISBLANK('Scholars Nomination Form'!$F405),\"\",'Scholars Nomination Form'!$C$11)","v":""},{"$f":"IF(ISBLANK('Scholars Nomination Form'!$F405),\"\",'Scholars Nomination Form'!$C$12)","v":""},{"$f":"IF(ISBLANK('Scholars Nomination Form'!$F405),\"\",'Scholars Nomination Form'!$C$13)","v":""},{"$f":"IF(ISBLANK('Scholars Nomination Form'!$F405),\"\",'Scholars Nomination Form'!$C$14)","v":""},{"$f":"IF(ISBLANK('Scholars Nomination Form'!$F405),\"\",'Scholars Nomination Form'!$C$15)","v":""},{"$f":"IF(ISBLANK('Scholars Nomination Form'!$F405),\"\",'Scholars Nomination Form'!$C$16)","v":""},{"$f":"IF(ISBLANK('Scholars Nomination Form'!B405),\"\",'Scholars Nomination Form'!B405)","v":""},{"$f":"IF(ISBLANK('Scholars Nomination Form'!D405),\"\",'Scholars Nomination Form'!D405)","v":""},{"$f":"IF(ISBLANK('Scholars Nomination Form'!E405),\"\",'Scholars Nomination Form'!E405)","v":""},{"$f":"IF(ISBLANK('Scholars Nomination Form'!F405),\"\",'Scholars Nomination Form'!F405)","v":""},{"$f":"IF(ISBLANK('Scholars Nomination Form'!G405),\"\",'Scholars Nomination Form'!G405)","v":""},{"$f":"IF(ISBLANK('Scholars Nomination Form'!H405),\"\",'Scholars Nomination Form'!H405)","v":""},{"$f":"IF(ISBLANK('Scholars Nomination Form'!I405),\"\",'Scholars Nomination Form'!I405)","v":""},{"$f":"IF(ISBLANK('Scholars Nomination Form'!J405),\"\",'Scholars Nomination Form'!J405)","v":""},{"$f":"IF(ISBLANK('Scholars Nomination Form'!K405),\"\",'Scholars Nomination Form'!K405)","v":""},{"$f":"IF(ISBLANK('Scholars Nomination Form'!L405),\"\",'Scholars Nomination Form'!L405)","v":""},{"$f":"IF(ISBLANK('Scholars Nomination Form'!M405),\"\",'Scholars Nomination Form'!M405)","v":""},{"$f":"IF(ISBLANK('Scholars Nomination Form'!N405),\"\",'Scholars Nomination Form'!N405)","v":""},{"$f":"IF(ISBLANK('Scholars Nomination Form'!O405),\"\",'Scholars Nomination Form'!O405)","v":""},{"$f":"IF(ISBLANK('Scholars Nomination Form'!P405),\"\",'Scholars Nomination Form'!P405)","v":""},{"$f":"IF(ISBLANK('Scholars Nomination Form'!Q405),\"\",'Scholars Nomination Form'!Q405)","v":""},{"$f":"IF(ISBLANK('Scholars Nomination Form'!R405),\"\",'Scholars Nomination Form'!R405)","v":""},{"$f":"IF(ISBLANK('Scholars Nomination Form'!S405),\"\",'Scholars Nomination Form'!S405)","v":""},{"$f":"IF(ISBLANK('Scholars Nomination Form'!T405),\"\",'Scholars Nomination Form'!T405)","v":""},{"$f":"IF(ISBLANK('Scholars Nomination Form'!U405),\"\",'Scholars Nomination Form'!U405)","v":""},{"$f":"IF(ISBLANK('Scholars Nomination Form'!V405),\"\",'Scholars Nomination Form'!V405)","v":""},{"$f":"IF(ISBLANK('Scholars Nomination Form'!W405),\"\",'Scholars Nomination Form'!W405)","v":""},{"$f":"IF(ISBLANK('Scholars Nomination Form'!X405),\"\",'Scholars Nomination Form'!X405)","v":""},{"$f":"IF(ISBLANK('Scholars Nomination Form'!Y405),\"\",'Scholars Nomination Form'!Y405)","v":""},{"$f":"IF(ISBLANK('Scholars Nomination Form'!Z405),\"\",'Scholars Nomination Form'!Z405)","v":""},{"$f":"IF(ISBLANK('Scholars Nomination Form'!AA405),\"\",'Scholars Nomination Form'!AA405)","v":""}]
[{"$f":"IF(ISBLANK('Scholars Nomination Form'!$F406),\"\",'Scholars Nomination Form'!$C$11)","v":""},{"$f":"IF(ISBLANK('Scholars Nomination Form'!$F406),\"\",'Scholars Nomination Form'!$C$12)","v":""},{"$f":"IF(ISBLANK('Scholars Nomination Form'!$F406),\"\",'Scholars Nomination Form'!$C$13)","v":""},{"$f":"IF(ISBLANK('Scholars Nomination Form'!$F406),\"\",'Scholars Nomination Form'!$C$14)","v":""},{"$f":"IF(ISBLANK('Scholars Nomination Form'!$F406),\"\",'Scholars Nomination Form'!$C$15)","v":""},{"$f":"IF(ISBLANK('Scholars Nomination Form'!$F406),\"\",'Scholars Nomination Form'!$C$16)","v":""},{"$f":"IF(ISBLANK('Scholars Nomination Form'!B406),\"\",'Scholars Nomination Form'!B406)","v":""},{"$f":"IF(ISBLANK('Scholars Nomination Form'!D406),\"\",'Scholars Nomination Form'!D406)","v":""},{"$f":"IF(ISBLANK('Scholars Nomination Form'!E406),\"\",'Scholars Nomination Form'!E406)","v":""},{"$f":"IF(ISBLANK('Scholars Nomination Form'!F406),\"\",'Scholars Nomination Form'!F406)","v":""},{"$f":"IF(ISBLANK('Scholars Nomination Form'!G406),\"\",'Scholars Nomination Form'!G406)","v":""},{"$f":"IF(ISBLANK('Scholars Nomination Form'!H406),\"\",'Scholars Nomination Form'!H406)","v":""},{"$f":"IF(ISBLANK('Scholars Nomination Form'!I406),\"\",'Scholars Nomination Form'!I406)","v":""},{"$f":"IF(ISBLANK('Scholars Nomination Form'!J406),\"\",'Scholars Nomination Form'!J406)","v":""},{"$f":"IF(ISBLANK('Scholars Nomination Form'!K406),\"\",'Scholars Nomination Form'!K406)","v":""},{"$f":"IF(ISBLANK('Scholars Nomination Form'!L406),\"\",'Scholars Nomination Form'!L406)","v":""},{"$f":"IF(ISBLANK('Scholars Nomination Form'!M406),\"\",'Scholars Nomination Form'!M406)","v":""},{"$f":"IF(ISBLANK('Scholars Nomination Form'!N406),\"\",'Scholars Nomination Form'!N406)","v":""},{"$f":"IF(ISBLANK('Scholars Nomination Form'!O406),\"\",'Scholars Nomination Form'!O406)","v":""},{"$f":"IF(ISBLANK('Scholars Nomination Form'!P406),\"\",'Scholars Nomination Form'!P406)","v":""},{"$f":"IF(ISBLANK('Scholars Nomination Form'!Q406),\"\",'Scholars Nomination Form'!Q406)","v":""},{"$f":"IF(ISBLANK('Scholars Nomination Form'!R406),\"\",'Scholars Nomination Form'!R406)","v":""},{"$f":"IF(ISBLANK('Scholars Nomination Form'!S406),\"\",'Scholars Nomination Form'!S406)","v":""},{"$f":"IF(ISBLANK('Scholars Nomination Form'!T406),\"\",'Scholars Nomination Form'!T406)","v":""},{"$f":"IF(ISBLANK('Scholars Nomination Form'!U406),\"\",'Scholars Nomination Form'!U406)","v":""},{"$f":"IF(ISBLANK('Scholars Nomination Form'!V406),\"\",'Scholars Nomination Form'!V406)","v":""},{"$f":"IF(ISBLANK('Scholars Nomination Form'!W406),\"\",'Scholars Nomination Form'!W406)","v":""},{"$f":"IF(ISBLANK('Scholars Nomination Form'!X406),\"\",'Scholars Nomination Form'!X406)","v":""},{"$f":"IF(ISBLANK('Scholars Nomination Form'!Y406),\"\",'Scholars Nomination Form'!Y406)","v":""},{"$f":"IF(ISBLANK('Scholars Nomination Form'!Z406),\"\",'Scholars Nomination Form'!Z406)","v":""},{"$f":"IF(ISBLANK('Scholars Nomination Form'!AA406),\"\",'Scholars Nomination Form'!AA406)","v":""}]
[{"$f":"IF(ISBLANK('Scholars Nomination Form'!$F407),\"\",'Scholars Nomination Form'!$C$11)","v":""},{"$f":"IF(ISBLANK('Scholars Nomination Form'!$F407),\"\",'Scholars Nomination Form'!$C$12)","v":""},{"$f":"IF(ISBLANK('Scholars Nomination Form'!$F407),\"\",'Scholars Nomination Form'!$C$13)","v":""},{"$f":"IF(ISBLANK('Scholars Nomination Form'!$F407),\"\",'Scholars Nomination Form'!$C$14)","v":""},{"$f":"IF(ISBLANK('Scholars Nomination Form'!$F407),\"\",'Scholars Nomination Form'!$C$15)","v":""},{"$f":"IF(ISBLANK('Scholars Nomination Form'!$F407),\"\",'Scholars Nomination Form'!$C$16)","v":""},{"$f":"IF(ISBLANK('Scholars Nomination Form'!B407),\"\",'Scholars Nomination Form'!B407)","v":""},{"$f":"IF(ISBLANK('Scholars Nomination Form'!D407),\"\",'Scholars Nomination Form'!D407)","v":""},{"$f":"IF(ISBLANK('Scholars Nomination Form'!E407),\"\",'Scholars Nomination Form'!E407)","v":""},{"$f":"IF(ISBLANK('Scholars Nomination Form'!F407),\"\",'Scholars Nomination Form'!F407)","v":""},{"$f":"IF(ISBLANK('Scholars Nomination Form'!G407),\"\",'Scholars Nomination Form'!G407)","v":""},{"$f":"IF(ISBLANK('Scholars Nomination Form'!H407),\"\",'Scholars Nomination Form'!H407)","v":""},{"$f":"IF(ISBLANK('Scholars Nomination Form'!I407),\"\",'Scholars Nomination Form'!I407)","v":""},{"$f":"IF(ISBLANK('Scholars Nomination Form'!J407),\"\",'Scholars Nomination Form'!J407)","v":""},{"$f":"IF(ISBLANK('Scholars Nomination Form'!K407),\"\",'Scholars Nomination Form'!K407)","v":""},{"$f":"IF(ISBLANK('Scholars Nomination Form'!L407),\"\",'Scholars Nomination Form'!L407)","v":""},{"$f":"IF(ISBLANK('Scholars Nomination Form'!M407),\"\",'Scholars Nomination Form'!M407)","v":""},{"$f":"IF(ISBLANK('Scholars Nomination Form'!N407),\"\",'Scholars Nomination Form'!N407)","v":""},{"$f":"IF(ISBLANK('Scholars Nomination Form'!O407),\"\",'Scholars Nomination Form'!O407)","v":""},{"$f":"IF(ISBLANK('Scholars Nomination Form'!P407),\"\",'Scholars Nomination Form'!P407)","v":""},{"$f":"IF(ISBLANK('Scholars Nomination Form'!Q407),\"\",'Scholars Nomination Form'!Q407)","v":""},{"$f":"IF(ISBLANK('Scholars Nomination Form'!R407),\"\",'Scholars Nomination Form'!R407)","v":""},{"$f":"IF(ISBLANK('Scholars Nomination Form'!S407),\"\",'Scholars Nomination Form'!S407)","v":""},{"$f":"IF(ISBLANK('Scholars Nomination Form'!T407),\"\",'Scholars Nomination Form'!T407)","v":""},{"$f":"IF(ISBLANK('Scholars Nomination Form'!U407),\"\",'Scholars Nomination Form'!U407)","v":""},{"$f":"IF(ISBLANK('Scholars Nomination Form'!V407),\"\",'Scholars Nomination Form'!V407)","v":""},{"$f":"IF(ISBLANK('Scholars Nomination Form'!W407),\"\",'Scholars Nomination Form'!W407)","v":""},{"$f":"IF(ISBLANK('Scholars Nomination Form'!X407),\"\",'Scholars Nomination Form'!X407)","v":""},{"$f":"IF(ISBLANK('Scholars Nomination Form'!Y407),\"\",'Scholars Nomination Form'!Y407)","v":""},{"$f":"IF(ISBLANK('Scholars Nomination Form'!Z407),\"\",'Scholars Nomination Form'!Z407)","v":""},{"$f":"IF(ISBLANK('Scholars Nomination Form'!AA407),\"\",'Scholars Nomination Form'!AA407)","v":""}]
[{"$f":"IF(ISBLANK('Scholars Nomination Form'!$F408),\"\",'Scholars Nomination Form'!$C$11)","v":""},{"$f":"IF(ISBLANK('Scholars Nomination Form'!$F408),\"\",'Scholars Nomination Form'!$C$12)","v":""},{"$f":"IF(ISBLANK('Scholars Nomination Form'!$F408),\"\",'Scholars Nomination Form'!$C$13)","v":""},{"$f":"IF(ISBLANK('Scholars Nomination Form'!$F408),\"\",'Scholars Nomination Form'!$C$14)","v":""},{"$f":"IF(ISBLANK('Scholars Nomination Form'!$F408),\"\",'Scholars Nomination Form'!$C$15)","v":""},{"$f":"IF(ISBLANK('Scholars Nomination Form'!$F408),\"\",'Scholars Nomination Form'!$C$16)","v":""},{"$f":"IF(ISBLANK('Scholars Nomination Form'!B408),\"\",'Scholars Nomination Form'!B408)","v":""},{"$f":"IF(ISBLANK('Scholars Nomination Form'!D408),\"\",'Scholars Nomination Form'!D408)","v":""},{"$f":"IF(ISBLANK('Scholars Nomination Form'!E408),\"\",'Scholars Nomination Form'!E408)","v":""},{"$f":"IF(ISBLANK('Scholars Nomination Form'!F408),\"\",'Scholars Nomination Form'!F408)","v":""},{"$f":"IF(ISBLANK('Scholars Nomination Form'!G408),\"\",'Scholars Nomination Form'!G408)","v":""},{"$f":"IF(ISBLANK('Scholars Nomination Form'!H408),\"\",'Scholars Nomination Form'!H408)","v":""},{"$f":"IF(ISBLANK('Scholars Nomination Form'!I408),\"\",'Scholars Nomination Form'!I408)","v":""},{"$f":"IF(ISBLANK('Scholars Nomination Form'!J408),\"\",'Scholars Nomination Form'!J408)","v":""},{"$f":"IF(ISBLANK('Scholars Nomination Form'!K408),\"\",'Scholars Nomination Form'!K408)","v":""},{"$f":"IF(ISBLANK('Scholars Nomination Form'!L408),\"\",'Scholars Nomination Form'!L408)","v":""},{"$f":"IF(ISBLANK('Scholars Nomination Form'!M408),\"\",'Scholars Nomination Form'!M408)","v":""},{"$f":"IF(ISBLANK('Scholars Nomination Form'!N408),\"\",'Scholars Nomination Form'!N408)","v":""},{"$f":"IF(ISBLANK('Scholars Nomination Form'!O408),\"\",'Scholars Nomination Form'!O408)","v":""},{"$f":"IF(ISBLANK('Scholars Nomination Form'!P408),\"\",'Scholars Nomination Form'!P408)","v":""},{"$f":"IF(ISBLANK('Scholars Nomination Form'!Q408),\"\",'Scholars Nomination Form'!Q408)","v":""},{"$f":"IF(ISBLANK('Scholars Nomination Form'!R408),\"\",'Scholars Nomination Form'!R408)","v":""},{"$f":"IF(ISBLANK('Scholars Nomination Form'!S408),\"\",'Scholars Nomination Form'!S408)","v":""},{"$f":"IF(ISBLANK('Scholars Nomination Form'!T408),\"\",'Scholars Nomination Form'!T408)","v":""},{"$f":"IF(ISBLANK('Scholars Nomination Form'!U408),\"\",'Scholars Nomination Form'!U408)","v":""},{"$f":"IF(ISBLANK('Scholars Nomination Form'!V408),\"\",'Scholars Nomination Form'!V408)","v":""},{"$f":"IF(ISBLANK('Scholars Nomination Form'!W408),\"\",'Scholars Nomination Form'!W408)","v":""},{"$f":"IF(ISBLANK('Scholars Nomination Form'!X408),\"\",'Scholars Nomination Form'!X408)","v":""},{"$f":"IF(ISBLANK('Scholars Nomination Form'!Y408),\"\",'Scholars Nomination Form'!Y408)","v":""},{"$f":"IF(ISBLANK('Scholars Nomination Form'!Z408),\"\",'Scholars Nomination Form'!Z408)","v":""},{"$f":"IF(ISBLANK('Scholars Nomination Form'!AA408),\"\",'Scholars Nomination Form'!AA408)","v":""}]
[{"$f":"IF(ISBLANK('Scholars Nomination Form'!$F409),\"\",'Scholars Nomination Form'!$C$11)","v":""},{"$f":"IF(ISBLANK('Scholars Nomination Form'!$F409),\"\",'Scholars Nomination Form'!$C$12)","v":""},{"$f":"IF(ISBLANK('Scholars Nomination Form'!$F409),\"\",'Scholars Nomination Form'!$C$13)","v":""},{"$f":"IF(ISBLANK('Scholars Nomination Form'!$F409),\"\",'Scholars Nomination Form'!$C$14)","v":""},{"$f":"IF(ISBLANK('Scholars Nomination Form'!$F409),\"\",'Scholars Nomination Form'!$C$15)","v":""},{"$f":"IF(ISBLANK('Scholars Nomination Form'!$F409),\"\",'Scholars Nomination Form'!$C$16)","v":""},{"$f":"IF(ISBLANK('Scholars Nomination Form'!B409),\"\",'Scholars Nomination Form'!B409)","v":""},{"$f":"IF(ISBLANK('Scholars Nomination Form'!D409),\"\",'Scholars Nomination Form'!D409)","v":""},{"$f":"IF(ISBLANK('Scholars Nomination Form'!E409),\"\",'Scholars Nomination Form'!E409)","v":""},{"$f":"IF(ISBLANK('Scholars Nomination Form'!F409),\"\",'Scholars Nomination Form'!F409)","v":""},{"$f":"IF(ISBLANK('Scholars Nomination Form'!G409),\"\",'Scholars Nomination Form'!G409)","v":""},{"$f":"IF(ISBLANK('Scholars Nomination Form'!H409),\"\",'Scholars Nomination Form'!H409)","v":""},{"$f":"IF(ISBLANK('Scholars Nomination Form'!I409),\"\",'Scholars Nomination Form'!I409)","v":""},{"$f":"IF(ISBLANK('Scholars Nomination Form'!J409),\"\",'Scholars Nomination Form'!J409)","v":""},{"$f":"IF(ISBLANK('Scholars Nomination Form'!K409),\"\",'Scholars Nomination Form'!K409)","v":""},{"$f":"IF(ISBLANK('Scholars Nomination Form'!L409),\"\",'Scholars Nomination Form'!L409)","v":""},{"$f":"IF(ISBLANK('Scholars Nomination Form'!M409),\"\",'Scholars Nomination Form'!M409)","v":""},{"$f":"IF(ISBLANK('Scholars Nomination Form'!N409),\"\",'Scholars Nomination Form'!N409)","v":""},{"$f":"IF(ISBLANK('Scholars Nomination Form'!O409),\"\",'Scholars Nomination Form'!O409)","v":""},{"$f":"IF(ISBLANK('Scholars Nomination Form'!P409),\"\",'Scholars Nomination Form'!P409)","v":""},{"$f":"IF(ISBLANK('Scholars Nomination Form'!Q409),\"\",'Scholars Nomination Form'!Q409)","v":""},{"$f":"IF(ISBLANK('Scholars Nomination Form'!R409),\"\",'Scholars Nomination Form'!R409)","v":""},{"$f":"IF(ISBLANK('Scholars Nomination Form'!S409),\"\",'Scholars Nomination Form'!S409)","v":""},{"$f":"IF(ISBLANK('Scholars Nomination Form'!T409),\"\",'Scholars Nomination Form'!T409)","v":""},{"$f":"IF(ISBLANK('Scholars Nomination Form'!U409),\"\",'Scholars Nomination Form'!U409)","v":""},{"$f":"IF(ISBLANK('Scholars Nomination Form'!V409),\"\",'Scholars Nomination Form'!V409)","v":""},{"$f":"IF(ISBLANK('Scholars Nomination Form'!W409),\"\",'Scholars Nomination Form'!W409)","v":""},{"$f":"IF(ISBLANK('Scholars Nomination Form'!X409),\"\",'Scholars Nomination Form'!X409)","v":""},{"$f":"IF(ISBLANK('Scholars Nomination Form'!Y409),\"\",'Scholars Nomination Form'!Y409)","v":""},{"$f":"IF(ISBLANK('Scholars Nomination Form'!Z409),\"\",'Scholars Nomination Form'!Z409)","v":""},{"$f":"IF(ISBLANK('Scholars Nomination Form'!AA409),\"\",'Scholars Nomination Form'!AA409)","v":""}]
[{"$f":"IF(ISBLANK('Scholars Nomination Form'!$F410),\"\",'Scholars Nomination Form'!$C$11)","v":""},{"$f":"IF(ISBLANK('Scholars Nomination Form'!$F410),\"\",'Scholars Nomination Form'!$C$12)","v":""},{"$f":"IF(ISBLANK('Scholars Nomination Form'!$F410),\"\",'Scholars Nomination Form'!$C$13)","v":""},{"$f":"IF(ISBLANK('Scholars Nomination Form'!$F410),\"\",'Scholars Nomination Form'!$C$14)","v":""},{"$f":"IF(ISBLANK('Scholars Nomination Form'!$F410),\"\",'Scholars Nomination Form'!$C$15)","v":""},{"$f":"IF(ISBLANK('Scholars Nomination Form'!$F410),\"\",'Scholars Nomination Form'!$C$16)","v":""},{"$f":"IF(ISBLANK('Scholars Nomination Form'!B410),\"\",'Scholars Nomination Form'!B410)","v":""},{"$f":"IF(ISBLANK('Scholars Nomination Form'!D410),\"\",'Scholars Nomination Form'!D410)","v":""},{"$f":"IF(ISBLANK('Scholars Nomination Form'!E410),\"\",'Scholars Nomination Form'!E410)","v":""},{"$f":"IF(ISBLANK('Scholars Nomination Form'!F410),\"\",'Scholars Nomination Form'!F410)","v":""},{"$f":"IF(ISBLANK('Scholars Nomination Form'!G410),\"\",'Scholars Nomination Form'!G410)","v":""},{"$f":"IF(ISBLANK('Scholars Nomination Form'!H410),\"\",'Scholars Nomination Form'!H410)","v":""},{"$f":"IF(ISBLANK('Scholars Nomination Form'!I410),\"\",'Scholars Nomination Form'!I410)","v":""},{"$f":"IF(ISBLANK('Scholars Nomination Form'!J410),\"\",'Scholars Nomination Form'!J410)","v":""},{"$f":"IF(ISBLANK('Scholars Nomination Form'!K410),\"\",'Scholars Nomination Form'!K410)","v":""},{"$f":"IF(ISBLANK('Scholars Nomination Form'!L410),\"\",'Scholars Nomination Form'!L410)","v":""},{"$f":"IF(ISBLANK('Scholars Nomination Form'!M410),\"\",'Scholars Nomination Form'!M410)","v":""},{"$f":"IF(ISBLANK('Scholars Nomination Form'!N410),\"\",'Scholars Nomination Form'!N410)","v":""},{"$f":"IF(ISBLANK('Scholars Nomination Form'!O410),\"\",'Scholars Nomination Form'!O410)","v":""},{"$f":"IF(ISBLANK('Scholars Nomination Form'!P410),\"\",'Scholars Nomination Form'!P410)","v":""},{"$f":"IF(ISBLANK('Scholars Nomination Form'!Q410),\"\",'Scholars Nomination Form'!Q410)","v":""},{"$f":"IF(ISBLANK('Scholars Nomination Form'!R410),\"\",'Scholars Nomination Form'!R410)","v":""},{"$f":"IF(ISBLANK('Scholars Nomination Form'!S410),\"\",'Scholars Nomination Form'!S410)","v":""},{"$f":"IF(ISBLANK('Scholars Nomination Form'!T410),\"\",'Scholars Nomination Form'!T410)","v":""},{"$f":"IF(ISBLANK('Scholars Nomination Form'!U410),\"\",'Scholars Nomination Form'!U410)","v":""},{"$f":"IF(ISBLANK('Scholars Nomination Form'!V410),\"\",'Scholars Nomination Form'!V410)","v":""},{"$f":"IF(ISBLANK('Scholars Nomination Form'!W410),\"\",'Scholars Nomination Form'!W410)","v":""},{"$f":"IF(ISBLANK('Scholars Nomination Form'!X410),\"\",'Scholars Nomination Form'!X410)","v":""},{"$f":"IF(ISBLANK('Scholars Nomination Form'!Y410),\"\",'Scholars Nomination Form'!Y410)","v":""},{"$f":"IF(ISBLANK('Scholars Nomination Form'!Z410),\"\",'Scholars Nomination Form'!Z410)","v":""},{"$f":"IF(ISBLANK('Scholars Nomination Form'!AA410),\"\",'Scholars Nomination Form'!AA410)","v":""}]
[{"$f":"IF(ISBLANK('Scholars Nomination Form'!$F411),\"\",'Scholars Nomination Form'!$C$11)","v":""},{"$f":"IF(ISBLANK('Scholars Nomination Form'!$F411),\"\",'Scholars Nomination Form'!$C$12)","v":""},{"$f":"IF(ISBLANK('Scholars Nomination Form'!$F411),\"\",'Scholars Nomination Form'!$C$13)","v":""},{"$f":"IF(ISBLANK('Scholars Nomination Form'!$F411),\"\",'Scholars Nomination Form'!$C$14)","v":""},{"$f":"IF(ISBLANK('Scholars Nomination Form'!$F411),\"\",'Scholars Nomination Form'!$C$15)","v":""},{"$f":"IF(ISBLANK('Scholars Nomination Form'!$F411),\"\",'Scholars Nomination Form'!$C$16)","v":""},{"$f":"IF(ISBLANK('Scholars Nomination Form'!B411),\"\",'Scholars Nomination Form'!B411)","v":""},{"$f":"IF(ISBLANK('Scholars Nomination Form'!D411),\"\",'Scholars Nomination Form'!D411)","v":""},{"$f":"IF(ISBLANK('Scholars Nomination Form'!E411),\"\",'Scholars Nomination Form'!E411)","v":""},{"$f":"IF(ISBLANK('Scholars Nomination Form'!F411),\"\",'Scholars Nomination Form'!F411)","v":""},{"$f":"IF(ISBLANK('Scholars Nomination Form'!G411),\"\",'Scholars Nomination Form'!G411)","v":""},{"$f":"IF(ISBLANK('Scholars Nomination Form'!H411),\"\",'Scholars Nomination Form'!H411)","v":""},{"$f":"IF(ISBLANK('Scholars Nomination Form'!I411),\"\",'Scholars Nomination Form'!I411)","v":""},{"$f":"IF(ISBLANK('Scholars Nomination Form'!J411),\"\",'Scholars Nomination Form'!J411)","v":""},{"$f":"IF(ISBLANK('Scholars Nomination Form'!K411),\"\",'Scholars Nomination Form'!K411)","v":""},{"$f":"IF(ISBLANK('Scholars Nomination Form'!L411),\"\",'Scholars Nomination Form'!L411)","v":""},{"$f":"IF(ISBLANK('Scholars Nomination Form'!M411),\"\",'Scholars Nomination Form'!M411)","v":""},{"$f":"IF(ISBLANK('Scholars Nomination Form'!N411),\"\",'Scholars Nomination Form'!N411)","v":""},{"$f":"IF(ISBLANK('Scholars Nomination Form'!O411),\"\",'Scholars Nomination Form'!O411)","v":""},{"$f":"IF(ISBLANK('Scholars Nomination Form'!P411),\"\",'Scholars Nomination Form'!P411)","v":""},{"$f":"IF(ISBLANK('Scholars Nomination Form'!Q411),\"\",'Scholars Nomination Form'!Q411)","v":""},{"$f":"IF(ISBLANK('Scholars Nomination Form'!R411),\"\",'Scholars Nomination Form'!R411)","v":""},{"$f":"IF(ISBLANK('Scholars Nomination Form'!S411),\"\",'Scholars Nomination Form'!S411)","v":""},{"$f":"IF(ISBLANK('Scholars Nomination Form'!T411),\"\",'Scholars Nomination Form'!T411)","v":""},{"$f":"IF(ISBLANK('Scholars Nomination Form'!U411),\"\",'Scholars Nomination Form'!U411)","v":""},{"$f":"IF(ISBLANK('Scholars Nomination Form'!V411),\"\",'Scholars Nomination Form'!V411)","v":""},{"$f":"IF(ISBLANK('Scholars Nomination Form'!W411),\"\",'Scholars Nomination Form'!W411)","v":""},{"$f":"IF(ISBLANK('Scholars Nomination Form'!X411),\"\",'Scholars Nomination Form'!X411)","v":""},{"$f":"IF(ISBLANK('Scholars Nomination Form'!Y411),\"\",'Scholars Nomination Form'!Y411)","v":""},{"$f":"IF(ISBLANK('Scholars Nomination Form'!Z411),\"\",'Scholars Nomination Form'!Z411)","v":""},{"$f":"IF(ISBLANK('Scholars Nomination Form'!AA411),\"\",'Scholars Nomination Form'!AA411)","v":""}]
[{"$f":"IF(ISBLANK('Scholars Nomination Form'!$F412),\"\",'Scholars Nomination Form'!$C$11)","v":""},{"$f":"IF(ISBLANK('Scholars Nomination Form'!$F412),\"\",'Scholars Nomination Form'!$C$12)","v":""},{"$f":"IF(ISBLANK('Scholars Nomination Form'!$F412),\"\",'Scholars Nomination Form'!$C$13)","v":""},{"$f":"IF(ISBLANK('Scholars Nomination Form'!$F412),\"\",'Scholars Nomination Form'!$C$14)","v":""},{"$f":"IF(ISBLANK('Scholars Nomination Form'!$F412),\"\",'Scholars Nomination Form'!$C$15)","v":""},{"$f":"IF(ISBLANK('Scholars Nomination Form'!$F412),\"\",'Scholars Nomination Form'!$C$16)","v":""},{"$f":"IF(ISBLANK('Scholars Nomination Form'!B412),\"\",'Scholars Nomination Form'!B412)","v":""},{"$f":"IF(ISBLANK('Scholars Nomination Form'!D412),\"\",'Scholars Nomination Form'!D412)","v":""},{"$f":"IF(ISBLANK('Scholars Nomination Form'!E412),\"\",'Scholars Nomination Form'!E412)","v":""},{"$f":"IF(ISBLANK('Scholars Nomination Form'!F412),\"\",'Scholars Nomination Form'!F412)","v":""},{"$f":"IF(ISBLANK('Scholars Nomination Form'!G412),\"\",'Scholars Nomination Form'!G412)","v":""},{"$f":"IF(ISBLANK('Scholars Nomination Form'!H412),\"\",'Scholars Nomination Form'!H412)","v":""},{"$f":"IF(ISBLANK('Scholars Nomination Form'!I412),\"\",'Scholars Nomination Form'!I412)","v":""},{"$f":"IF(ISBLANK('Scholars Nomination Form'!J412),\"\",'Scholars Nomination Form'!J412)","v":""},{"$f":"IF(ISBLANK('Scholars Nomination Form'!K412),\"\",'Scholars Nomination Form'!K412)","v":""},{"$f":"IF(ISBLANK('Scholars Nomination Form'!L412),\"\",'Scholars Nomination Form'!L412)","v":""},{"$f":"IF(ISBLANK('Scholars Nomination Form'!M412),\"\",'Scholars Nomination Form'!M412)","v":""},{"$f":"IF(ISBLANK('Scholars Nomination Form'!N412),\"\",'Scholars Nomination Form'!N412)","v":""},{"$f":"IF(ISBLANK('Scholars Nomination Form'!O412),\"\",'Scholars Nomination Form'!O412)","v":""},{"$f":"IF(ISBLANK('Scholars Nomination Form'!P412),\"\",'Scholars Nomination Form'!P412)","v":""},{"$f":"IF(ISBLANK('Scholars Nomination Form'!Q412),\"\",'Scholars Nomination Form'!Q412)","v":""},{"$f":"IF(ISBLANK('Scholars Nomination Form'!R412),\"\",'Scholars Nomination Form'!R412)","v":""},{"$f":"IF(ISBLANK('Scholars Nomination Form'!S412),\"\",'Scholars Nomination Form'!S412)","v":""},{"$f":"IF(ISBLANK('Scholars Nomination Form'!T412),\"\",'Scholars Nomination Form'!T412)","v":""},{"$f":"IF(ISBLANK('Scholars Nomination Form'!U412),\"\",'Scholars Nomination Form'!U412)","v":""},{"$f":"IF(ISBLANK('Scholars Nomination Form'!V412),\"\",'Scholars Nomination Form'!V412)","v":""},{"$f":"IF(ISBLANK('Scholars Nomination Form'!W412),\"\",'Scholars Nomination Form'!W412)","v":""},{"$f":"IF(ISBLANK('Scholars Nomination Form'!X412),\"\",'Scholars Nomination Form'!X412)","v":""},{"$f":"IF(ISBLANK('Scholars Nomination Form'!Y412),\"\",'Scholars Nomination Form'!Y412)","v":""},{"$f":"IF(ISBLANK('Scholars Nomination Form'!Z412),\"\",'Scholars Nomination Form'!Z412)","v":""},{"$f":"IF(ISBLANK('Scholars Nomination Form'!AA412),\"\",'Scholars Nomination Form'!AA412)","v":""}]
[{"$f":"IF(ISBLANK('Scholars Nomination Form'!$F413),\"\",'Scholars Nomination Form'!$C$11)","v":""},{"$f":"IF(ISBLANK('Scholars Nomination Form'!$F413),\"\",'Scholars Nomination Form'!$C$12)","v":""},{"$f":"IF(ISBLANK('Scholars Nomination Form'!$F413),\"\",'Scholars Nomination Form'!$C$13)","v":""},{"$f":"IF(ISBLANK('Scholars Nomination Form'!$F413),\"\",'Scholars Nomination Form'!$C$14)","v":""},{"$f":"IF(ISBLANK('Scholars Nomination Form'!$F413),\"\",'Scholars Nomination Form'!$C$15)","v":""},{"$f":"IF(ISBLANK('Scholars Nomination Form'!$F413),\"\",'Scholars Nomination Form'!$C$16)","v":""},{"$f":"IF(ISBLANK('Scholars Nomination Form'!B413),\"\",'Scholars Nomination Form'!B413)","v":""},{"$f":"IF(ISBLANK('Scholars Nomination Form'!D413),\"\",'Scholars Nomination Form'!D413)","v":""},{"$f":"IF(ISBLANK('Scholars Nomination Form'!E413),\"\",'Scholars Nomination Form'!E413)","v":""},{"$f":"IF(ISBLANK('Scholars Nomination Form'!F413),\"\",'Scholars Nomination Form'!F413)","v":""},{"$f":"IF(ISBLANK('Scholars Nomination Form'!G413),\"\",'Scholars Nomination Form'!G413)","v":""},{"$f":"IF(ISBLANK('Scholars Nomination Form'!H413),\"\",'Scholars Nomination Form'!H413)","v":""},{"$f":"IF(ISBLANK('Scholars Nomination Form'!I413),\"\",'Scholars Nomination Form'!I413)","v":""},{"$f":"IF(ISBLANK('Scholars Nomination Form'!J413),\"\",'Scholars Nomination Form'!J413)","v":""},{"$f":"IF(ISBLANK('Scholars Nomination Form'!K413),\"\",'Scholars Nomination Form'!K413)","v":""},{"$f":"IF(ISBLANK('Scholars Nomination Form'!L413),\"\",'Scholars Nomination Form'!L413)","v":""},{"$f":"IF(ISBLANK('Scholars Nomination Form'!M413),\"\",'Scholars Nomination Form'!M413)","v":""},{"$f":"IF(ISBLANK('Scholars Nomination Form'!N413),\"\",'Scholars Nomination Form'!N413)","v":""},{"$f":"IF(ISBLANK('Scholars Nomination Form'!O413),\"\",'Scholars Nomination Form'!O413)","v":""},{"$f":"IF(ISBLANK('Scholars Nomination Form'!P413),\"\",'Scholars Nomination Form'!P413)","v":""},{"$f":"IF(ISBLANK('Scholars Nomination Form'!Q413),\"\",'Scholars Nomination Form'!Q413)","v":""},{"$f":"IF(ISBLANK('Scholars Nomination Form'!R413),\"\",'Scholars Nomination Form'!R413)","v":""},{"$f":"IF(ISBLANK('Scholars Nomination Form'!S413),\"\",'Scholars Nomination Form'!S413)","v":""},{"$f":"IF(ISBLANK('Scholars Nomination Form'!T413),\"\",'Scholars Nomination Form'!T413)","v":""},{"$f":"IF(ISBLANK('Scholars Nomination Form'!U413),\"\",'Scholars Nomination Form'!U413)","v":""},{"$f":"IF(ISBLANK('Scholars Nomination Form'!V413),\"\",'Scholars Nomination Form'!V413)","v":""},{"$f":"IF(ISBLANK('Scholars Nomination Form'!W413),\"\",'Scholars Nomination Form'!W413)","v":""},{"$f":"IF(ISBLANK('Scholars Nomination Form'!X413),\"\",'Scholars Nomination Form'!X413)","v":""},{"$f":"IF(ISBLANK('Scholars Nomination Form'!Y413),\"\",'Scholars Nomination Form'!Y413)","v":""},{"$f":"IF(ISBLANK('Scholars Nomination Form'!Z413),\"\",'Scholars Nomination Form'!Z413)","v":""},{"$f":"IF(ISBLANK('Scholars Nomination Form'!AA413),\"\",'Scholars Nomination Form'!AA413)","v":""}]
[{"$f":"IF(ISBLANK('Scholars Nomination Form'!$F414),\"\",'Scholars Nomination Form'!$C$11)","v":""},{"$f":"IF(ISBLANK('Scholars Nomination Form'!$F414),\"\",'Scholars Nomination Form'!$C$12)","v":""},{"$f":"IF(ISBLANK('Scholars Nomination Form'!$F414),\"\",'Scholars Nomination Form'!$C$13)","v":""},{"$f":"IF(ISBLANK('Scholars Nomination Form'!$F414),\"\",'Scholars Nomination Form'!$C$14)","v":""},{"$f":"IF(ISBLANK('Scholars Nomination Form'!$F414),\"\",'Scholars Nomination Form'!$C$15)","v":""},{"$f":"IF(ISBLANK('Scholars Nomination Form'!$F414),\"\",'Scholars Nomination Form'!$C$16)","v":""},{"$f":"IF(ISBLANK('Scholars Nomination Form'!B414),\"\",'Scholars Nomination Form'!B414)","v":""},{"$f":"IF(ISBLANK('Scholars Nomination Form'!D414),\"\",'Scholars Nomination Form'!D414)","v":""},{"$f":"IF(ISBLANK('Scholars Nomination Form'!E414),\"\",'Scholars Nomination Form'!E414)","v":""},{"$f":"IF(ISBLANK('Scholars Nomination Form'!F414),\"\",'Scholars Nomination Form'!F414)","v":""},{"$f":"IF(ISBLANK('Scholars Nomination Form'!G414),\"\",'Scholars Nomination Form'!G414)","v":""},{"$f":"IF(ISBLANK('Scholars Nomination Form'!H414),\"\",'Scholars Nomination Form'!H414)","v":""},{"$f":"IF(ISBLANK('Scholars Nomination Form'!I414),\"\",'Scholars Nomination Form'!I414)","v":""},{"$f":"IF(ISBLANK('Scholars Nomination Form'!J414),\"\",'Scholars Nomination Form'!J414)","v":""},{"$f":"IF(ISBLANK('Scholars Nomination Form'!K414),\"\",'Scholars Nomination Form'!K414)","v":""},{"$f":"IF(ISBLANK('Scholars Nomination Form'!L414),\"\",'Scholars Nomination Form'!L414)","v":""},{"$f":"IF(ISBLANK('Scholars Nomination Form'!M414),\"\",'Scholars Nomination Form'!M414)","v":""},{"$f":"IF(ISBLANK('Scholars Nomination Form'!N414),\"\",'Scholars Nomination Form'!N414)","v":""},{"$f":"IF(ISBLANK('Scholars Nomination Form'!O414),\"\",'Scholars Nomination Form'!O414)","v":""},{"$f":"IF(ISBLANK('Scholars Nomination Form'!P414),\"\",'Scholars Nomination Form'!P414)","v":""},{"$f":"IF(ISBLANK('Scholars Nomination Form'!Q414),\"\",'Scholars Nomination Form'!Q414)","v":""},{"$f":"IF(ISBLANK('Scholars Nomination Form'!R414),\"\",'Scholars Nomination Form'!R414)","v":""},{"$f":"IF(ISBLANK('Scholars Nomination Form'!S414),\"\",'Scholars Nomination Form'!S414)","v":""},{"$f":"IF(ISBLANK('Scholars Nomination Form'!T414),\"\",'Scholars Nomination Form'!T414)","v":""},{"$f":"IF(ISBLANK('Scholars Nomination Form'!U414),\"\",'Scholars Nomination Form'!U414)","v":""},{"$f":"IF(ISBLANK('Scholars Nomination Form'!V414),\"\",'Scholars Nomination Form'!V414)","v":""},{"$f":"IF(ISBLANK('Scholars Nomination Form'!W414),\"\",'Scholars Nomination Form'!W414)","v":""},{"$f":"IF(ISBLANK('Scholars Nomination Form'!X414),\"\",'Scholars Nomination Form'!X414)","v":""},{"$f":"IF(ISBLANK('Scholars Nomination Form'!Y414),\"\",'Scholars Nomination Form'!Y414)","v":""},{"$f":"IF(ISBLANK('Scholars Nomination Form'!Z414),\"\",'Scholars Nomination Form'!Z414)","v":""},{"$f":"IF(ISBLANK('Scholars Nomination Form'!AA414),\"\",'Scholars Nomination Form'!AA414)","v":""}]
[{"$f":"IF(ISBLANK('Scholars Nomination Form'!$F415),\"\",'Scholars Nomination Form'!$C$11)","v":""},{"$f":"IF(ISBLANK('Scholars Nomination Form'!$F415),\"\",'Scholars Nomination Form'!$C$12)","v":""},{"$f":"IF(ISBLANK('Scholars Nomination Form'!$F415),\"\",'Scholars Nomination Form'!$C$13)","v":""},{"$f":"IF(ISBLANK('Scholars Nomination Form'!$F415),\"\",'Scholars Nomination Form'!$C$14)","v":""},{"$f":"IF(ISBLANK('Scholars Nomination Form'!$F415),\"\",'Scholars Nomination Form'!$C$15)","v":""},{"$f":"IF(ISBLANK('Scholars Nomination Form'!$F415),\"\",'Scholars Nomination Form'!$C$16)","v":""},{"$f":"IF(ISBLANK('Scholars Nomination Form'!B415),\"\",'Scholars Nomination Form'!B415)","v":""},{"$f":"IF(ISBLANK('Scholars Nomination Form'!D415),\"\",'Scholars Nomination Form'!D415)","v":""},{"$f":"IF(ISBLANK('Scholars Nomination Form'!E415),\"\",'Scholars Nomination Form'!E415)","v":""},{"$f":"IF(ISBLANK('Scholars Nomination Form'!F415),\"\",'Scholars Nomination Form'!F415)","v":""},{"$f":"IF(ISBLANK('Scholars Nomination Form'!G415),\"\",'Scholars Nomination Form'!G415)","v":""},{"$f":"IF(ISBLANK('Scholars Nomination Form'!H415),\"\",'Scholars Nomination Form'!H415)","v":""},{"$f":"IF(ISBLANK('Scholars Nomination Form'!I415),\"\",'Scholars Nomination Form'!I415)","v":""},{"$f":"IF(ISBLANK('Scholars Nomination Form'!J415),\"\",'Scholars Nomination Form'!J415)","v":""},{"$f":"IF(ISBLANK('Scholars Nomination Form'!K415),\"\",'Scholars Nomination Form'!K415)","v":""},{"$f":"IF(ISBLANK('Scholars Nomination Form'!L415),\"\",'Scholars Nomination Form'!L415)","v":""},{"$f":"IF(ISBLANK('Scholars Nomination Form'!M415),\"\",'Scholars Nomination Form'!M415)","v":""},{"$f":"IF(ISBLANK('Scholars Nomination Form'!N415),\"\",'Scholars Nomination Form'!N415)","v":""},{"$f":"IF(ISBLANK('Scholars Nomination Form'!O415),\"\",'Scholars Nomination Form'!O415)","v":""},{"$f":"IF(ISBLANK('Scholars Nomination Form'!P415),\"\",'Scholars Nomination Form'!P415)","v":""},{"$f":"IF(ISBLANK('Scholars Nomination Form'!Q415),\"\",'Scholars Nomination Form'!Q415)","v":""},{"$f":"IF(ISBLANK('Scholars Nomination Form'!R415),\"\",'Scholars Nomination Form'!R415)","v":""},{"$f":"IF(ISBLANK('Scholars Nomination Form'!S415),\"\",'Scholars Nomination Form'!S415)","v":""},{"$f":"IF(ISBLANK('Scholars Nomination Form'!T415),\"\",'Scholars Nomination Form'!T415)","v":""},{"$f":"IF(ISBLANK('Scholars Nomination Form'!U415),\"\",'Scholars Nomination Form'!U415)","v":""},{"$f":"IF(ISBLANK('Scholars Nomination Form'!V415),\"\",'Scholars Nomination Form'!V415)","v":""},{"$f":"IF(ISBLANK('Scholars Nomination Form'!W415),\"\",'Scholars Nomination Form'!W415)","v":""},{"$f":"IF(ISBLANK('Scholars Nomination Form'!X415),\"\",'Scholars Nomination Form'!X415)","v":""},{"$f":"IF(ISBLANK('Scholars Nomination Form'!Y415),\"\",'Scholars Nomination Form'!Y415)","v":""},{"$f":"IF(ISBLANK('Scholars Nomination Form'!Z415),\"\",'Scholars Nomination Form'!Z415)","v":""},{"$f":"IF(ISBLANK('Scholars Nomination Form'!AA415),\"\",'Scholars Nomination Form'!AA415)","v":""}]
[{"$f":"IF(ISBLANK('Scholars Nomination Form'!$F416),\"\",'Scholars Nomination Form'!$C$11)","v":""},{"$f":"IF(ISBLANK('Scholars Nomination Form'!$F416),\"\",'Scholars Nomination Form'!$C$12)","v":""},{"$f":"IF(ISBLANK('Scholars Nomination Form'!$F416),\"\",'Scholars Nomination Form'!$C$13)","v":""},{"$f":"IF(ISBLANK('Scholars Nomination Form'!$F416),\"\",'Scholars Nomination Form'!$C$14)","v":""},{"$f":"IF(ISBLANK('Scholars Nomination Form'!$F416),\"\",'Scholars Nomination Form'!$C$15)","v":""},{"$f":"IF(ISBLANK('Scholars Nomination Form'!$F416),\"\",'Scholars Nomination Form'!$C$16)","v":""},{"$f":"IF(ISBLANK('Scholars Nomination Form'!B416),\"\",'Scholars Nomination Form'!B416)","v":""},{"$f":"IF(ISBLANK('Scholars Nomination Form'!D416),\"\",'Scholars Nomination Form'!D416)","v":""},{"$f":"IF(ISBLANK('Scholars Nomination Form'!E416),\"\",'Scholars Nomination Form'!E416)","v":""},{"$f":"IF(ISBLANK('Scholars Nomination Form'!F416),\"\",'Scholars Nomination Form'!F416)","v":""},{"$f":"IF(ISBLANK('Scholars Nomination Form'!G416),\"\",'Scholars Nomination Form'!G416)","v":""},{"$f":"IF(ISBLANK('Scholars Nomination Form'!H416),\"\",'Scholars Nomination Form'!H416)","v":""},{"$f":"IF(ISBLANK('Scholars Nomination Form'!I416),\"\",'Scholars Nomination Form'!I416)","v":""},{"$f":"IF(ISBLANK('Scholars Nomination Form'!J416),\"\",'Scholars Nomination Form'!J416)","v":""},{"$f":"IF(ISBLANK('Scholars Nomination Form'!K416),\"\",'Scholars Nomination Form'!K416)","v":""},{"$f":"IF(ISBLANK('Scholars Nomination Form'!L416),\"\",'Scholars Nomination Form'!L416)","v":""},{"$f":"IF(ISBLANK('Scholars Nomination Form'!M416),\"\",'Scholars Nomination Form'!M416)","v":""},{"$f":"IF(ISBLANK('Scholars Nomination Form'!N416),\"\",'Scholars Nomination Form'!N416)","v":""},{"$f":"IF(ISBLANK('Scholars Nomination Form'!O416),\"\",'Scholars Nomination Form'!O416)","v":""},{"$f":"IF(ISBLANK('Scholars Nomination Form'!P416),\"\",'Scholars Nomination Form'!P416)","v":""},{"$f":"IF(ISBLANK('Scholars Nomination Form'!Q416),\"\",'Scholars Nomination Form'!Q416)","v":""},{"$f":"IF(ISBLANK('Scholars Nomination Form'!R416),\"\",'Scholars Nomination Form'!R416)","v":""},{"$f":"IF(ISBLANK('Scholars Nomination Form'!S416),\"\",'Scholars Nomination Form'!S416)","v":""},{"$f":"IF(ISBLANK('Scholars Nomination Form'!T416),\"\",'Scholars Nomination Form'!T416)","v":""},{"$f":"IF(ISBLANK('Scholars Nomination Form'!U416),\"\",'Scholars Nomination Form'!U416)","v":""},{"$f":"IF(ISBLANK('Scholars Nomination Form'!V416),\"\",'Scholars Nomination Form'!V416)","v":""},{"$f":"IF(ISBLANK('Scholars Nomination Form'!W416),\"\",'Scholars Nomination Form'!W416)","v":""},{"$f":"IF(ISBLANK('Scholars Nomination Form'!X416),\"\",'Scholars Nomination Form'!X416)","v":""},{"$f":"IF(ISBLANK('Scholars Nomination Form'!Y416),\"\",'Scholars Nomination Form'!Y416)","v":""},{"$f":"IF(ISBLANK('Scholars Nomination Form'!Z416),\"\",'Scholars Nomination Form'!Z416)","v":""},{"$f":"IF(ISBLANK('Scholars Nomination Form'!AA416),\"\",'Scholars Nomination Form'!AA416)","v":""}]
[{"$f":"IF(ISBLANK('Scholars Nomination Form'!$F417),\"\",'Scholars Nomination Form'!$C$11)","v":""},{"$f":"IF(ISBLANK('Scholars Nomination Form'!$F417),\"\",'Scholars Nomination Form'!$C$12)","v":""},{"$f":"IF(ISBLANK('Scholars Nomination Form'!$F417),\"\",'Scholars Nomination Form'!$C$13)","v":""},{"$f":"IF(ISBLANK('Scholars Nomination Form'!$F417),\"\",'Scholars Nomination Form'!$C$14)","v":""},{"$f":"IF(ISBLANK('Scholars Nomination Form'!$F417),\"\",'Scholars Nomination Form'!$C$15)","v":""},{"$f":"IF(ISBLANK('Scholars Nomination Form'!$F417),\"\",'Scholars Nomination Form'!$C$16)","v":""},{"$f":"IF(ISBLANK('Scholars Nomination Form'!B417),\"\",'Scholars Nomination Form'!B417)","v":""},{"$f":"IF(ISBLANK('Scholars Nomination Form'!D417),\"\",'Scholars Nomination Form'!D417)","v":""},{"$f":"IF(ISBLANK('Scholars Nomination Form'!E417),\"\",'Scholars Nomination Form'!E417)","v":""},{"$f":"IF(ISBLANK('Scholars Nomination Form'!F417),\"\",'Scholars Nomination Form'!F417)","v":""},{"$f":"IF(ISBLANK('Scholars Nomination Form'!G417),\"\",'Scholars Nomination Form'!G417)","v":""},{"$f":"IF(ISBLANK('Scholars Nomination Form'!H417),\"\",'Scholars Nomination Form'!H417)","v":""},{"$f":"IF(ISBLANK('Scholars Nomination Form'!I417),\"\",'Scholars Nomination Form'!I417)","v":""},{"$f":"IF(ISBLANK('Scholars Nomination Form'!J417),\"\",'Scholars Nomination Form'!J417)","v":""},{"$f":"IF(ISBLANK('Scholars Nomination Form'!K417),\"\",'Scholars Nomination Form'!K417)","v":""},{"$f":"IF(ISBLANK('Scholars Nomination Form'!L417),\"\",'Scholars Nomination Form'!L417)","v":""},{"$f":"IF(ISBLANK('Scholars Nomination Form'!M417),\"\",'Scholars Nomination Form'!M417)","v":""},{"$f":"IF(ISBLANK('Scholars Nomination Form'!N417),\"\",'Scholars Nomination Form'!N417)","v":""},{"$f":"IF(ISBLANK('Scholars Nomination Form'!O417),\"\",'Scholars Nomination Form'!O417)","v":""},{"$f":"IF(ISBLANK('Scholars Nomination Form'!P417),\"\",'Scholars Nomination Form'!P417)","v":""},{"$f":"IF(ISBLANK('Scholars Nomination Form'!Q417),\"\",'Scholars Nomination Form'!Q417)","v":""},{"$f":"IF(ISBLANK('Scholars Nomination Form'!R417),\"\",'Scholars Nomination Form'!R417)","v":""},{"$f":"IF(ISBLANK('Scholars Nomination Form'!S417),\"\",'Scholars Nomination Form'!S417)","v":""},{"$f":"IF(ISBLANK('Scholars Nomination Form'!T417),\"\",'Scholars Nomination Form'!T417)","v":""},{"$f":"IF(ISBLANK('Scholars Nomination Form'!U417),\"\",'Scholars Nomination Form'!U417)","v":""},{"$f":"IF(ISBLANK('Scholars Nomination Form'!V417),\"\",'Scholars Nomination Form'!V417)","v":""},{"$f":"IF(ISBLANK('Scholars Nomination Form'!W417),\"\",'Scholars Nomination Form'!W417)","v":""},{"$f":"IF(ISBLANK('Scholars Nomination Form'!X417),\"\",'Scholars Nomination Form'!X417)","v":""},{"$f":"IF(ISBLANK('Scholars Nomination Form'!Y417),\"\",'Scholars Nomination Form'!Y417)","v":""},{"$f":"IF(ISBLANK('Scholars Nomination Form'!Z417),\"\",'Scholars Nomination Form'!Z417)","v":""},{"$f":"IF(ISBLANK('Scholars Nomination Form'!AA417),\"\",'Scholars Nomination Form'!AA417)","v":""}]
[{"$f":"IF(ISBLANK('Scholars Nomination Form'!$F418),\"\",'Scholars Nomination Form'!$C$11)","v":""},{"$f":"IF(ISBLANK('Scholars Nomination Form'!$F418),\"\",'Scholars Nomination Form'!$C$12)","v":""},{"$f":"IF(ISBLANK('Scholars Nomination Form'!$F418),\"\",'Scholars Nomination Form'!$C$13)","v":""},{"$f":"IF(ISBLANK('Scholars Nomination Form'!$F418),\"\",'Scholars Nomination Form'!$C$14)","v":""},{"$f":"IF(ISBLANK('Scholars Nomination Form'!$F418),\"\",'Scholars Nomination Form'!$C$15)","v":""},{"$f":"IF(ISBLANK('Scholars Nomination Form'!$F418),\"\",'Scholars Nomination Form'!$C$16)","v":""},{"$f":"IF(ISBLANK('Scholars Nomination Form'!B418),\"\",'Scholars Nomination Form'!B418)","v":""},{"$f":"IF(ISBLANK('Scholars Nomination Form'!D418),\"\",'Scholars Nomination Form'!D418)","v":""},{"$f":"IF(ISBLANK('Scholars Nomination Form'!E418),\"\",'Scholars Nomination Form'!E418)","v":""},{"$f":"IF(ISBLANK('Scholars Nomination Form'!F418),\"\",'Scholars Nomination Form'!F418)","v":""},{"$f":"IF(ISBLANK('Scholars Nomination Form'!G418),\"\",'Scholars Nomination Form'!G418)","v":""},{"$f":"IF(ISBLANK('Scholars Nomination Form'!H418),\"\",'Scholars Nomination Form'!H418)","v":""},{"$f":"IF(ISBLANK('Scholars Nomination Form'!I418),\"\",'Scholars Nomination Form'!I418)","v":""},{"$f":"IF(ISBLANK('Scholars Nomination Form'!J418),\"\",'Scholars Nomination Form'!J418)","v":""},{"$f":"IF(ISBLANK('Scholars Nomination Form'!K418),\"\",'Scholars Nomination Form'!K418)","v":""},{"$f":"IF(ISBLANK('Scholars Nomination Form'!L418),\"\",'Scholars Nomination Form'!L418)","v":""},{"$f":"IF(ISBLANK('Scholars Nomination Form'!M418),\"\",'Scholars Nomination Form'!M418)","v":""},{"$f":"IF(ISBLANK('Scholars Nomination Form'!N418),\"\",'Scholars Nomination Form'!N418)","v":""},{"$f":"IF(ISBLANK('Scholars Nomination Form'!O418),\"\",'Scholars Nomination Form'!O418)","v":""},{"$f":"IF(ISBLANK('Scholars Nomination Form'!P418),\"\",'Scholars Nomination Form'!P418)","v":""},{"$f":"IF(ISBLANK('Scholars Nomination Form'!Q418),\"\",'Scholars Nomination Form'!Q418)","v":""},{"$f":"IF(ISBLANK('Scholars Nomination Form'!R418),\"\",'Scholars Nomination Form'!R418)","v":""},{"$f":"IF(ISBLANK('Scholars Nomination Form'!S418),\"\",'Scholars Nomination Form'!S418)","v":""},{"$f":"IF(ISBLANK('Scholars Nomination Form'!T418),\"\",'Scholars Nomination Form'!T418)","v":""},{"$f":"IF(ISBLANK('Scholars Nomination Form'!U418),\"\",'Scholars Nomination Form'!U418)","v":""},{"$f":"IF(ISBLANK('Scholars Nomination Form'!V418),\"\",'Scholars Nomination Form'!V418)","v":""},{"$f":"IF(ISBLANK('Scholars Nomination Form'!W418),\"\",'Scholars Nomination Form'!W418)","v":""},{"$f":"IF(ISBLANK('Scholars Nomination Form'!X418),\"\",'Scholars Nomination Form'!X418)","v":""},{"$f":"IF(ISBLANK('Scholars Nomination Form'!Y418),\"\",'Scholars Nomination Form'!Y418)","v":""},{"$f":"IF(ISBLANK('Scholars Nomination Form'!Z418),\"\",'Scholars Nomination Form'!Z418)","v":""},{"$f":"IF(ISBLANK('Scholars Nomination Form'!AA418),\"\",'Scholars Nomination Form'!AA418)","v":""}]
[{"$f":"IF(ISBLANK('Scholars Nomination Form'!$F419),\"\",'Scholars Nomination Form'!$C$11)","v":""},{"$f":"IF(ISBLANK('Scholars Nomination Form'!$F419),\"\",'Scholars Nomination Form'!$C$12)","v":""},{"$f":"IF(ISBLANK('Scholars Nomination Form'!$F419),\"\",'Scholars Nomination Form'!$C$13)","v":""},{"$f":"IF(ISBLANK('Scholars Nomination Form'!$F419),\"\",'Scholars Nomination Form'!$C$14)","v":""},{"$f":"IF(ISBLANK('Scholars Nomination Form'!$F419),\"\",'Scholars Nomination Form'!$C$15)","v":""},{"$f":"IF(ISBLANK('Scholars Nomination Form'!$F419),\"\",'Scholars Nomination Form'!$C$16)","v":""},{"$f":"IF(ISBLANK('Scholars Nomination Form'!B419),\"\",'Scholars Nomination Form'!B419)","v":""},{"$f":"IF(ISBLANK('Scholars Nomination Form'!D419),\"\",'Scholars Nomination Form'!D419)","v":""},{"$f":"IF(ISBLANK('Scholars Nomination Form'!E419),\"\",'Scholars Nomination Form'!E419)","v":""},{"$f":"IF(ISBLANK('Scholars Nomination Form'!F419),\"\",'Scholars Nomination Form'!F419)","v":""},{"$f":"IF(ISBLANK('Scholars Nomination Form'!G419),\"\",'Scholars Nomination Form'!G419)","v":""},{"$f":"IF(ISBLANK('Scholars Nomination Form'!H419),\"\",'Scholars Nomination Form'!H419)","v":""},{"$f":"IF(ISBLANK('Scholars Nomination Form'!I419),\"\",'Scholars Nomination Form'!I419)","v":""},{"$f":"IF(ISBLANK('Scholars Nomination Form'!J419),\"\",'Scholars Nomination Form'!J419)","v":""},{"$f":"IF(ISBLANK('Scholars Nomination Form'!K419),\"\",'Scholars Nomination Form'!K419)","v":""},{"$f":"IF(ISBLANK('Scholars Nomination Form'!L419),\"\",'Scholars Nomination Form'!L419)","v":""},{"$f":"IF(ISBLANK('Scholars Nomination Form'!M419),\"\",'Scholars Nomination Form'!M419)","v":""},{"$f":"IF(ISBLANK('Scholars Nomination Form'!N419),\"\",'Scholars Nomination Form'!N419)","v":""},{"$f":"IF(ISBLANK('Scholars Nomination Form'!O419),\"\",'Scholars Nomination Form'!O419)","v":""},{"$f":"IF(ISBLANK('Scholars Nomination Form'!P419),\"\",'Scholars Nomination Form'!P419)","v":""},{"$f":"IF(ISBLANK('Scholars Nomination Form'!Q419),\"\",'Scholars Nomination Form'!Q419)","v":""},{"$f":"IF(ISBLANK('Scholars Nomination Form'!R419),\"\",'Scholars Nomination Form'!R419)","v":""},{"$f":"IF(ISBLANK('Scholars Nomination Form'!S419),\"\",'Scholars Nomination Form'!S419)","v":""},{"$f":"IF(ISBLANK('Scholars Nomination Form'!T419),\"\",'Scholars Nomination Form'!T419)","v":""},{"$f":"IF(ISBLANK('Scholars Nomination Form'!U419),\"\",'Scholars Nomination Form'!U419)","v":""},{"$f":"IF(ISBLANK('Scholars Nomination Form'!V419),\"\",'Scholars Nomination Form'!V419)","v":""},{"$f":"IF(ISBLANK('Scholars Nomination Form'!W419),\"\",'Scholars Nomination Form'!W419)","v":""},{"$f":"IF(ISBLANK('Scholars Nomination Form'!X419),\"\",'Scholars Nomination Form'!X419)","v":""},{"$f":"IF(ISBLANK('Scholars Nomination Form'!Y419),\"\",'Scholars Nomination Form'!Y419)","v":""},{"$f":"IF(ISBLANK('Scholars Nomination Form'!Z419),\"\",'Scholars Nomination Form'!Z419)","v":""},{"$f":"IF(ISBLANK('Scholars Nomination Form'!AA419),\"\",'Scholars Nomination Form'!AA419)","v":""}]
[{"$f":"IF(ISBLANK('Scholars Nomination Form'!$F420),\"\",'Scholars Nomination Form'!$C$11)","v":""},{"$f":"IF(ISBLANK('Scholars Nomination Form'!$F420),\"\",'Scholars Nomination Form'!$C$12)","v":""},{"$f":"IF(ISBLANK('Scholars Nomination Form'!$F420),\"\",'Scholars Nomination Form'!$C$13)","v":""},{"$f":"IF(ISBLANK('Scholars Nomination Form'!$F420),\"\",'Scholars Nomination Form'!$C$14)","v":""},{"$f":"IF(ISBLANK('Scholars Nomination Form'!$F420),\"\",'Scholars Nomination Form'!$C$15)","v":""},{"$f":"IF(ISBLANK('Scholars Nomination Form'!$F420),\"\",'Scholars Nomination Form'!$C$16)","v":""},{"$f":"IF(ISBLANK('Scholars Nomination Form'!B420),\"\",'Scholars Nomination Form'!B420)","v":""},{"$f":"IF(ISBLANK('Scholars Nomination Form'!D420),\"\",'Scholars Nomination Form'!D420)","v":""},{"$f":"IF(ISBLANK('Scholars Nomination Form'!E420),\"\",'Scholars Nomination Form'!E420)","v":""},{"$f":"IF(ISBLANK('Scholars Nomination Form'!F420),\"\",'Scholars Nomination Form'!F420)","v":""},{"$f":"IF(ISBLANK('Scholars Nomination Form'!G420),\"\",'Scholars Nomination Form'!G420)","v":""},{"$f":"IF(ISBLANK('Scholars Nomination Form'!H420),\"\",'Scholars Nomination Form'!H420)","v":""},{"$f":"IF(ISBLANK('Scholars Nomination Form'!I420),\"\",'Scholars Nomination Form'!I420)","v":""},{"$f":"IF(ISBLANK('Scholars Nomination Form'!J420),\"\",'Scholars Nomination Form'!J420)","v":""},{"$f":"IF(ISBLANK('Scholars Nomination Form'!K420),\"\",'Scholars Nomination Form'!K420)","v":""},{"$f":"IF(ISBLANK('Scholars Nomination Form'!L420),\"\",'Scholars Nomination Form'!L420)","v":""},{"$f":"IF(ISBLANK('Scholars Nomination Form'!M420),\"\",'Scholars Nomination Form'!M420)","v":""},{"$f":"IF(ISBLANK('Scholars Nomination Form'!N420),\"\",'Scholars Nomination Form'!N420)","v":""},{"$f":"IF(ISBLANK('Scholars Nomination Form'!O420),\"\",'Scholars Nomination Form'!O420)","v":""},{"$f":"IF(ISBLANK('Scholars Nomination Form'!P420),\"\",'Scholars Nomination Form'!P420)","v":""},{"$f":"IF(ISBLANK('Scholars Nomination Form'!Q420),\"\",'Scholars Nomination Form'!Q420)","v":""},{"$f":"IF(ISBLANK('Scholars Nomination Form'!R420),\"\",'Scholars Nomination Form'!R420)","v":""},{"$f":"IF(ISBLANK('Scholars Nomination Form'!S420),\"\",'Scholars Nomination Form'!S420)","v":""},{"$f":"IF(ISBLANK('Scholars Nomination Form'!T420),\"\",'Scholars Nomination Form'!T420)","v":""},{"$f":"IF(ISBLANK('Scholars Nomination Form'!U420),\"\",'Scholars Nomination Form'!U420)","v":""},{"$f":"IF(ISBLANK('Scholars Nomination Form'!V420),\"\",'Scholars Nomination Form'!V420)","v":""},{"$f":"IF(ISBLANK('Scholars Nomination Form'!W420),\"\",'Scholars Nomination Form'!W420)","v":""},{"$f":"IF(ISBLANK('Scholars Nomination Form'!X420),\"\",'Scholars Nomination Form'!X420)","v":""},{"$f":"IF(ISBLANK('Scholars Nomination Form'!Y420),\"\",'Scholars Nomination Form'!Y420)","v":""},{"$f":"IF(ISBLANK('Scholars Nomination Form'!Z420),\"\",'Scholars Nomination Form'!Z420)","v":""},{"$f":"IF(ISBLANK('Scholars Nomination Form'!AA420),\"\",'Scholars Nomination Form'!AA420)","v":""}]
[{"$f":"IF(ISBLANK('Scholars Nomination Form'!$F421),\"\",'Scholars Nomination Form'!$C$11)","v":""},{"$f":"IF(ISBLANK('Scholars Nomination Form'!$F421),\"\",'Scholars Nomination Form'!$C$12)","v":""},{"$f":"IF(ISBLANK('Scholars Nomination Form'!$F421),\"\",'Scholars Nomination Form'!$C$13)","v":""},{"$f":"IF(ISBLANK('Scholars Nomination Form'!$F421),\"\",'Scholars Nomination Form'!$C$14)","v":""},{"$f":"IF(ISBLANK('Scholars Nomination Form'!$F421),\"\",'Scholars Nomination Form'!$C$15)","v":""},{"$f":"IF(ISBLANK('Scholars Nomination Form'!$F421),\"\",'Scholars Nomination Form'!$C$16)","v":""},{"$f":"IF(ISBLANK('Scholars Nomination Form'!B421),\"\",'Scholars Nomination Form'!B421)","v":""},{"$f":"IF(ISBLANK('Scholars Nomination Form'!D421),\"\",'Scholars Nomination Form'!D421)","v":""},{"$f":"IF(ISBLANK('Scholars Nomination Form'!E421),\"\",'Scholars Nomination Form'!E421)","v":""},{"$f":"IF(ISBLANK('Scholars Nomination Form'!F421),\"\",'Scholars Nomination Form'!F421)","v":""},{"$f":"IF(ISBLANK('Scholars Nomination Form'!G421),\"\",'Scholars Nomination Form'!G421)","v":""},{"$f":"IF(ISBLANK('Scholars Nomination Form'!H421),\"\",'Scholars Nomination Form'!H421)","v":""},{"$f":"IF(ISBLANK('Scholars Nomination Form'!I421),\"\",'Scholars Nomination Form'!I421)","v":""},{"$f":"IF(ISBLANK('Scholars Nomination Form'!J421),\"\",'Scholars Nomination Form'!J421)","v":""},{"$f":"IF(ISBLANK('Scholars Nomination Form'!K421),\"\",'Scholars Nomination Form'!K421)","v":""},{"$f":"IF(ISBLANK('Scholars Nomination Form'!L421),\"\",'Scholars Nomination Form'!L421)","v":""},{"$f":"IF(ISBLANK('Scholars Nomination Form'!M421),\"\",'Scholars Nomination Form'!M421)","v":""},{"$f":"IF(ISBLANK('Scholars Nomination Form'!N421),\"\",'Scholars Nomination Form'!N421)","v":""},{"$f":"IF(ISBLANK('Scholars Nomination Form'!O421),\"\",'Scholars Nomination Form'!O421)","v":""},{"$f":"IF(ISBLANK('Scholars Nomination Form'!P421),\"\",'Scholars Nomination Form'!P421)","v":""},{"$f":"IF(ISBLANK('Scholars Nomination Form'!Q421),\"\",'Scholars Nomination Form'!Q421)","v":""},{"$f":"IF(ISBLANK('Scholars Nomination Form'!R421),\"\",'Scholars Nomination Form'!R421)","v":""},{"$f":"IF(ISBLANK('Scholars Nomination Form'!S421),\"\",'Scholars Nomination Form'!S421)","v":""},{"$f":"IF(ISBLANK('Scholars Nomination Form'!T421),\"\",'Scholars Nomination Form'!T421)","v":""},{"$f":"IF(ISBLANK('Scholars Nomination Form'!U421),\"\",'Scholars Nomination Form'!U421)","v":""},{"$f":"IF(ISBLANK('Scholars Nomination Form'!V421),\"\",'Scholars Nomination Form'!V421)","v":""},{"$f":"IF(ISBLANK('Scholars Nomination Form'!W421),\"\",'Scholars Nomination Form'!W421)","v":""},{"$f":"IF(ISBLANK('Scholars Nomination Form'!X421),\"\",'Scholars Nomination Form'!X421)","v":""},{"$f":"IF(ISBLANK('Scholars Nomination Form'!Y421),\"\",'Scholars Nomination Form'!Y421)","v":""},{"$f":"IF(ISBLANK('Scholars Nomination Form'!Z421),\"\",'Scholars Nomination Form'!Z421)","v":""},{"$f":"IF(ISBLANK('Scholars Nomination Form'!AA421),\"\",'Scholars Nomination Form'!AA421)","v":""}]
[{"$f":"IF(ISBLANK('Scholars Nomination Form'!$F422),\"\",'Scholars Nomination Form'!$C$11)","v":""},{"$f":"IF(ISBLANK('Scholars Nomination Form'!$F422),\"\",'Scholars Nomination Form'!$C$12)","v":""},{"$f":"IF(ISBLANK('Scholars Nomination Form'!$F422),\"\",'Scholars Nomination Form'!$C$13)","v":""},{"$f":"IF(ISBLANK('Scholars Nomination Form'!$F422),\"\",'Scholars Nomination Form'!$C$14)","v":""},{"$f":"IF(ISBLANK('Scholars Nomination Form'!$F422),\"\",'Scholars Nomination Form'!$C$15)","v":""},{"$f":"IF(ISBLANK('Scholars Nomination Form'!$F422),\"\",'Scholars Nomination Form'!$C$16)","v":""},{"$f":"IF(ISBLANK('Scholars Nomination Form'!B422),\"\",'Scholars Nomination Form'!B422)","v":""},{"$f":"IF(ISBLANK('Scholars Nomination Form'!D422),\"\",'Scholars Nomination Form'!D422)","v":""},{"$f":"IF(ISBLANK('Scholars Nomination Form'!E422),\"\",'Scholars Nomination Form'!E422)","v":""},{"$f":"IF(ISBLANK('Scholars Nomination Form'!F422),\"\",'Scholars Nomination Form'!F422)","v":""},{"$f":"IF(ISBLANK('Scholars Nomination Form'!G422),\"\",'Scholars Nomination Form'!G422)","v":""},{"$f":"IF(ISBLANK('Scholars Nomination Form'!H422),\"\",'Scholars Nomination Form'!H422)","v":""},{"$f":"IF(ISBLANK('Scholars Nomination Form'!I422),\"\",'Scholars Nomination Form'!I422)","v":""},{"$f":"IF(ISBLANK('Scholars Nomination Form'!J422),\"\",'Scholars Nomination Form'!J422)","v":""},{"$f":"IF(ISBLANK('Scholars Nomination Form'!K422),\"\",'Scholars Nomination Form'!K422)","v":""},{"$f":"IF(ISBLANK('Scholars Nomination Form'!L422),\"\",'Scholars Nomination Form'!L422)","v":""},{"$f":"IF(ISBLANK('Scholars Nomination Form'!M422),\"\",'Scholars Nomination Form'!M422)","v":""},{"$f":"IF(ISBLANK('Scholars Nomination Form'!N422),\"\",'Scholars Nomination Form'!N422)","v":""},{"$f":"IF(ISBLANK('Scholars Nomination Form'!O422),\"\",'Scholars Nomination Form'!O422)","v":""},{"$f":"IF(ISBLANK('Scholars Nomination Form'!P422),\"\",'Scholars Nomination Form'!P422)","v":""},{"$f":"IF(ISBLANK('Scholars Nomination Form'!Q422),\"\",'Scholars Nomination Form'!Q422)","v":""},{"$f":"IF(ISBLANK('Scholars Nomination Form'!R422),\"\",'Scholars Nomination Form'!R422)","v":""},{"$f":"IF(ISBLANK('Scholars Nomination Form'!S422),\"\",'Scholars Nomination Form'!S422)","v":""},{"$f":"IF(ISBLANK('Scholars Nomination Form'!T422),\"\",'Scholars Nomination Form'!T422)","v":""},{"$f":"IF(ISBLANK('Scholars Nomination Form'!U422),\"\",'Scholars Nomination Form'!U422)","v":""},{"$f":"IF(ISBLANK('Scholars Nomination Form'!V422),\"\",'Scholars Nomination Form'!V422)","v":""},{"$f":"IF(ISBLANK('Scholars Nomination Form'!W422),\"\",'Scholars Nomination Form'!W422)","v":""},{"$f":"IF(ISBLANK('Scholars Nomination Form'!X422),\"\",'Scholars Nomination Form'!X422)","v":""},{"$f":"IF(ISBLANK('Scholars Nomination Form'!Y422),\"\",'Scholars Nomination Form'!Y422)","v":""},{"$f":"IF(ISBLANK('Scholars Nomination Form'!Z422),\"\",'Scholars Nomination Form'!Z422)","v":""},{"$f":"IF(ISBLANK('Scholars Nomination Form'!AA422),\"\",'Scholars Nomination Form'!AA422)","v":""}]
[{"$f":"IF(ISBLANK('Scholars Nomination Form'!$F423),\"\",'Scholars Nomination Form'!$C$11)","v":""},{"$f":"IF(ISBLANK('Scholars Nomination Form'!$F423),\"\",'Scholars Nomination Form'!$C$12)","v":""},{"$f":"IF(ISBLANK('Scholars Nomination Form'!$F423),\"\",'Scholars Nomination Form'!$C$13)","v":""},{"$f":"IF(ISBLANK('Scholars Nomination Form'!$F423),\"\",'Scholars Nomination Form'!$C$14)","v":""},{"$f":"IF(ISBLANK('Scholars Nomination Form'!$F423),\"\",'Scholars Nomination Form'!$C$15)","v":""},{"$f":"IF(ISBLANK('Scholars Nomination Form'!$F423),\"\",'Scholars Nomination Form'!$C$16)","v":""},{"$f":"IF(ISBLANK('Scholars Nomination Form'!B423),\"\",'Scholars Nomination Form'!B423)","v":""},{"$f":"IF(ISBLANK('Scholars Nomination Form'!D423),\"\",'Scholars Nomination Form'!D423)","v":""},{"$f":"IF(ISBLANK('Scholars Nomination Form'!E423),\"\",'Scholars Nomination Form'!E423)","v":""},{"$f":"IF(ISBLANK('Scholars Nomination Form'!F423),\"\",'Scholars Nomination Form'!F423)","v":""},{"$f":"IF(ISBLANK('Scholars Nomination Form'!G423),\"\",'Scholars Nomination Form'!G423)","v":""},{"$f":"IF(ISBLANK('Scholars Nomination Form'!H423),\"\",'Scholars Nomination Form'!H423)","v":""},{"$f":"IF(ISBLANK('Scholars Nomination Form'!I423),\"\",'Scholars Nomination Form'!I423)","v":""},{"$f":"IF(ISBLANK('Scholars Nomination Form'!J423),\"\",'Scholars Nomination Form'!J423)","v":""},{"$f":"IF(ISBLANK('Scholars Nomination Form'!K423),\"\",'Scholars Nomination Form'!K423)","v":""},{"$f":"IF(ISBLANK('Scholars Nomination Form'!L423),\"\",'Scholars Nomination Form'!L423)","v":""},{"$f":"IF(ISBLANK('Scholars Nomination Form'!M423),\"\",'Scholars Nomination Form'!M423)","v":""},{"$f":"IF(ISBLANK('Scholars Nomination Form'!N423),\"\",'Scholars Nomination Form'!N423)","v":""},{"$f":"IF(ISBLANK('Scholars Nomination Form'!O423),\"\",'Scholars Nomination Form'!O423)","v":""},{"$f":"IF(ISBLANK('Scholars Nomination Form'!P423),\"\",'Scholars Nomination Form'!P423)","v":""},{"$f":"IF(ISBLANK('Scholars Nomination Form'!Q423),\"\",'Scholars Nomination Form'!Q423)","v":""},{"$f":"IF(ISBLANK('Scholars Nomination Form'!R423),\"\",'Scholars Nomination Form'!R423)","v":""},{"$f":"IF(ISBLANK('Scholars Nomination Form'!S423),\"\",'Scholars Nomination Form'!S423)","v":""},{"$f":"IF(ISBLANK('Scholars Nomination Form'!T423),\"\",'Scholars Nomination Form'!T423)","v":""},{"$f":"IF(ISBLANK('Scholars Nomination Form'!U423),\"\",'Scholars Nomination Form'!U423)","v":""},{"$f":"IF(ISBLANK('Scholars Nomination Form'!V423),\"\",'Scholars Nomination Form'!V423)","v":""},{"$f":"IF(ISBLANK('Scholars Nomination Form'!W423),\"\",'Scholars Nomination Form'!W423)","v":""},{"$f":"IF(ISBLANK('Scholars Nomination Form'!X423),\"\",'Scholars Nomination Form'!X423)","v":""},{"$f":"IF(ISBLANK('Scholars Nomination Form'!Y423),\"\",'Scholars Nomination Form'!Y423)","v":""},{"$f":"IF(ISBLANK('Scholars Nomination Form'!Z423),\"\",'Scholars Nomination Form'!Z423)","v":""},{"$f":"IF(ISBLANK('Scholars Nomination Form'!AA423),\"\",'Scholars Nomination Form'!AA423)","v":""}]
[{"$f":"IF(ISBLANK('Scholars Nomination Form'!$F424),\"\",'Scholars Nomination Form'!$C$11)","v":""},{"$f":"IF(ISBLANK('Scholars Nomination Form'!$F424),\"\",'Scholars Nomination Form'!$C$12)","v":""},{"$f":"IF(ISBLANK('Scholars Nomination Form'!$F424),\"\",'Scholars Nomination Form'!$C$13)","v":""},{"$f":"IF(ISBLANK('Scholars Nomination Form'!$F424),\"\",'Scholars Nomination Form'!$C$14)","v":""},{"$f":"IF(ISBLANK('Scholars Nomination Form'!$F424),\"\",'Scholars Nomination Form'!$C$15)","v":""},{"$f":"IF(ISBLANK('Scholars Nomination Form'!$F424),\"\",'Scholars Nomination Form'!$C$16)","v":""},{"$f":"IF(ISBLANK('Scholars Nomination Form'!B424),\"\",'Scholars Nomination Form'!B424)","v":""},{"$f":"IF(ISBLANK('Scholars Nomination Form'!D424),\"\",'Scholars Nomination Form'!D424)","v":""},{"$f":"IF(ISBLANK('Scholars Nomination Form'!E424),\"\",'Scholars Nomination Form'!E424)","v":""},{"$f":"IF(ISBLANK('Scholars Nomination Form'!F424),\"\",'Scholars Nomination Form'!F424)","v":""},{"$f":"IF(ISBLANK('Scholars Nomination Form'!G424),\"\",'Scholars Nomination Form'!G424)","v":""},{"$f":"IF(ISBLANK('Scholars Nomination Form'!H424),\"\",'Scholars Nomination Form'!H424)","v":""},{"$f":"IF(ISBLANK('Scholars Nomination Form'!I424),\"\",'Scholars Nomination Form'!I424)","v":""},{"$f":"IF(ISBLANK('Scholars Nomination Form'!J424),\"\",'Scholars Nomination Form'!J424)","v":""},{"$f":"IF(ISBLANK('Scholars Nomination Form'!K424),\"\",'Scholars Nomination Form'!K424)","v":""},{"$f":"IF(ISBLANK('Scholars Nomination Form'!L424),\"\",'Scholars Nomination Form'!L424)","v":""},{"$f":"IF(ISBLANK('Scholars Nomination Form'!M424),\"\",'Scholars Nomination Form'!M424)","v":""},{"$f":"IF(ISBLANK('Scholars Nomination Form'!N424),\"\",'Scholars Nomination Form'!N424)","v":""},{"$f":"IF(ISBLANK('Scholars Nomination Form'!O424),\"\",'Scholars Nomination Form'!O424)","v":""},{"$f":"IF(ISBLANK('Scholars Nomination Form'!P424),\"\",'Scholars Nomination Form'!P424)","v":""},{"$f":"IF(ISBLANK('Scholars Nomination Form'!Q424),\"\",'Scholars Nomination Form'!Q424)","v":""},{"$f":"IF(ISBLANK('Scholars Nomination Form'!R424),\"\",'Scholars Nomination Form'!R424)","v":""},{"$f":"IF(ISBLANK('Scholars Nomination Form'!S424),\"\",'Scholars Nomination Form'!S424)","v":""},{"$f":"IF(ISBLANK('Scholars Nomination Form'!T424),\"\",'Scholars Nomination Form'!T424)","v":""},{"$f":"IF(ISBLANK('Scholars Nomination Form'!U424),\"\",'Scholars Nomination Form'!U424)","v":""},{"$f":"IF(ISBLANK('Scholars Nomination Form'!V424),\"\",'Scholars Nomination Form'!V424)","v":""},{"$f":"IF(ISBLANK('Scholars Nomination Form'!W424),\"\",'Scholars Nomination Form'!W424)","v":""},{"$f":"IF(ISBLANK('Scholars Nomination Form'!X424),\"\",'Scholars Nomination Form'!X424)","v":""},{"$f":"IF(ISBLANK('Scholars Nomination Form'!Y424),\"\",'Scholars Nomination Form'!Y424)","v":""},{"$f":"IF(ISBLANK('Scholars Nomination Form'!Z424),\"\",'Scholars Nomination Form'!Z424)","v":""},{"$f":"IF(ISBLANK('Scholars Nomination Form'!AA424),\"\",'Scholars Nomination Form'!AA424)","v":""}]
[{"$f":"IF(ISBLANK('Scholars Nomination Form'!$F425),\"\",'Scholars Nomination Form'!$C$11)","v":""},{"$f":"IF(ISBLANK('Scholars Nomination Form'!$F425),\"\",'Scholars Nomination Form'!$C$12)","v":""},{"$f":"IF(ISBLANK('Scholars Nomination Form'!$F425),\"\",'Scholars Nomination Form'!$C$13)","v":""},{"$f":"IF(ISBLANK('Scholars Nomination Form'!$F425),\"\",'Scholars Nomination Form'!$C$14)","v":""},{"$f":"IF(ISBLANK('Scholars Nomination Form'!$F425),\"\",'Scholars Nomination Form'!$C$15)","v":""},{"$f":"IF(ISBLANK('Scholars Nomination Form'!$F425),\"\",'Scholars Nomination Form'!$C$16)","v":""},{"$f":"IF(ISBLANK('Scholars Nomination Form'!B425),\"\",'Scholars Nomination Form'!B425)","v":""},{"$f":"IF(ISBLANK('Scholars Nomination Form'!D425),\"\",'Scholars Nomination Form'!D425)","v":""},{"$f":"IF(ISBLANK('Scholars Nomination Form'!E425),\"\",'Scholars Nomination Form'!E425)","v":""},{"$f":"IF(ISBLANK('Scholars Nomination Form'!F425),\"\",'Scholars Nomination Form'!F425)","v":""},{"$f":"IF(ISBLANK('Scholars Nomination Form'!G425),\"\",'Scholars Nomination Form'!G425)","v":""},{"$f":"IF(ISBLANK('Scholars Nomination Form'!H425),\"\",'Scholars Nomination Form'!H425)","v":""},{"$f":"IF(ISBLANK('Scholars Nomination Form'!I425),\"\",'Scholars Nomination Form'!I425)","v":""},{"$f":"IF(ISBLANK('Scholars Nomination Form'!J425),\"\",'Scholars Nomination Form'!J425)","v":""},{"$f":"IF(ISBLANK('Scholars Nomination Form'!K425),\"\",'Scholars Nomination Form'!K425)","v":""},{"$f":"IF(ISBLANK('Scholars Nomination Form'!L425),\"\",'Scholars Nomination Form'!L425)","v":""},{"$f":"IF(ISBLANK('Scholars Nomination Form'!M425),\"\",'Scholars Nomination Form'!M425)","v":""},{"$f":"IF(ISBLANK('Scholars Nomination Form'!N425),\"\",'Scholars Nomination Form'!N425)","v":""},{"$f":"IF(ISBLANK('Scholars Nomination Form'!O425),\"\",'Scholars Nomination Form'!O425)","v":""},{"$f":"IF(ISBLANK('Scholars Nomination Form'!P425),\"\",'Scholars Nomination Form'!P425)","v":""},{"$f":"IF(ISBLANK('Scholars Nomination Form'!Q425),\"\",'Scholars Nomination Form'!Q425)","v":""},{"$f":"IF(ISBLANK('Scholars Nomination Form'!R425),\"\",'Scholars Nomination Form'!R425)","v":""},{"$f":"IF(ISBLANK('Scholars Nomination Form'!S425),\"\",'Scholars Nomination Form'!S425)","v":""},{"$f":"IF(ISBLANK('Scholars Nomination Form'!T425),\"\",'Scholars Nomination Form'!T425)","v":""},{"$f":"IF(ISBLANK('Scholars Nomination Form'!U425),\"\",'Scholars Nomination Form'!U425)","v":""},{"$f":"IF(ISBLANK('Scholars Nomination Form'!V425),\"\",'Scholars Nomination Form'!V425)","v":""},{"$f":"IF(ISBLANK('Scholars Nomination Form'!W425),\"\",'Scholars Nomination Form'!W425)","v":""},{"$f":"IF(ISBLANK('Scholars Nomination Form'!X425),\"\",'Scholars Nomination Form'!X425)","v":""},{"$f":"IF(ISBLANK('Scholars Nomination Form'!Y425),\"\",'Scholars Nomination Form'!Y425)","v":""},{"$f":"IF(ISBLANK('Scholars Nomination Form'!Z425),\"\",'Scholars Nomination Form'!Z425)","v":""},{"$f":"IF(ISBLANK('Scholars Nomination Form'!AA425),\"\",'Scholars Nomination Form'!AA425)","v":""}]
[{"$f":"IF(ISBLANK('Scholars Nomination Form'!$F426),\"\",'Scholars Nomination Form'!$C$11)","v":""},{"$f":"IF(ISBLANK('Scholars Nomination Form'!$F426),\"\",'Scholars Nomination Form'!$C$12)","v":""},{"$f":"IF(ISBLANK('Scholars Nomination Form'!$F426),\"\",'Scholars Nomination Form'!$C$13)","v":""},{"$f":"IF(ISBLANK('Scholars Nomination Form'!$F426),\"\",'Scholars Nomination Form'!$C$14)","v":""},{"$f":"IF(ISBLANK('Scholars Nomination Form'!$F426),\"\",'Scholars Nomination Form'!$C$15)","v":""},{"$f":"IF(ISBLANK('Scholars Nomination Form'!$F426),\"\",'Scholars Nomination Form'!$C$16)","v":""},{"$f":"IF(ISBLANK('Scholars Nomination Form'!B426),\"\",'Scholars Nomination Form'!B426)","v":""},{"$f":"IF(ISBLANK('Scholars Nomination Form'!D426),\"\",'Scholars Nomination Form'!D426)","v":""},{"$f":"IF(ISBLANK('Scholars Nomination Form'!E426),\"\",'Scholars Nomination Form'!E426)","v":""},{"$f":"IF(ISBLANK('Scholars Nomination Form'!F426),\"\",'Scholars Nomination Form'!F426)","v":""},{"$f":"IF(ISBLANK('Scholars Nomination Form'!G426),\"\",'Scholars Nomination Form'!G426)","v":""},{"$f":"IF(ISBLANK('Scholars Nomination Form'!H426),\"\",'Scholars Nomination Form'!H426)","v":""},{"$f":"IF(ISBLANK('Scholars Nomination Form'!I426),\"\",'Scholars Nomination Form'!I426)","v":""},{"$f":"IF(ISBLANK('Scholars Nomination Form'!J426),\"\",'Scholars Nomination Form'!J426)","v":""},{"$f":"IF(ISBLANK('Scholars Nomination Form'!K426),\"\",'Scholars Nomination Form'!K426)","v":""},{"$f":"IF(ISBLANK('Scholars Nomination Form'!L426),\"\",'Scholars Nomination Form'!L426)","v":""},{"$f":"IF(ISBLANK('Scholars Nomination Form'!M426),\"\",'Scholars Nomination Form'!M426)","v":""},{"$f":"IF(ISBLANK('Scholars Nomination Form'!N426),\"\",'Scholars Nomination Form'!N426)","v":""},{"$f":"IF(ISBLANK('Scholars Nomination Form'!O426),\"\",'Scholars Nomination Form'!O426)","v":""},{"$f":"IF(ISBLANK('Scholars Nomination Form'!P426),\"\",'Scholars Nomination Form'!P426)","v":""},{"$f":"IF(ISBLANK('Scholars Nomination Form'!Q426),\"\",'Scholars Nomination Form'!Q426)","v":""},{"$f":"IF(ISBLANK('Scholars Nomination Form'!R426),\"\",'Scholars Nomination Form'!R426)","v":""},{"$f":"IF(ISBLANK('Scholars Nomination Form'!S426),\"\",'Scholars Nomination Form'!S426)","v":""},{"$f":"IF(ISBLANK('Scholars Nomination Form'!T426),\"\",'Scholars Nomination Form'!T426)","v":""},{"$f":"IF(ISBLANK('Scholars Nomination Form'!U426),\"\",'Scholars Nomination Form'!U426)","v":""},{"$f":"IF(ISBLANK('Scholars Nomination Form'!V426),\"\",'Scholars Nomination Form'!V426)","v":""},{"$f":"IF(ISBLANK('Scholars Nomination Form'!W426),\"\",'Scholars Nomination Form'!W426)","v":""},{"$f":"IF(ISBLANK('Scholars Nomination Form'!X426),\"\",'Scholars Nomination Form'!X426)","v":""},{"$f":"IF(ISBLANK('Scholars Nomination Form'!Y426),\"\",'Scholars Nomination Form'!Y426)","v":""},{"$f":"IF(ISBLANK('Scholars Nomination Form'!Z426),\"\",'Scholars Nomination Form'!Z426)","v":""},{"$f":"IF(ISBLANK('Scholars Nomination Form'!AA426),\"\",'Scholars Nomination Form'!AA426)","v":""}]
[{"$f":"IF(ISBLANK('Scholars Nomination Form'!$F427),\"\",'Scholars Nomination Form'!$C$11)","v":""},{"$f":"IF(ISBLANK('Scholars Nomination Form'!$F427),\"\",'Scholars Nomination Form'!$C$12)","v":""},{"$f":"IF(ISBLANK('Scholars Nomination Form'!$F427),\"\",'Scholars Nomination Form'!$C$13)","v":""},{"$f":"IF(ISBLANK('Scholars Nomination Form'!$F427),\"\",'Scholars Nomination Form'!$C$14)","v":""},{"$f":"IF(ISBLANK('Scholars Nomination Form'!$F427),\"\",'Scholars Nomination Form'!$C$15)","v":""},{"$f":"IF(ISBLANK('Scholars Nomination Form'!$F427),\"\",'Scholars Nomination Form'!$C$16)","v":""},{"$f":"IF(ISBLANK('Scholars Nomination Form'!B427),\"\",'Scholars Nomination Form'!B427)","v":""},{"$f":"IF(ISBLANK('Scholars Nomination Form'!D427),\"\",'Scholars Nomination Form'!D427)","v":""},{"$f":"IF(ISBLANK('Scholars Nomination Form'!E427),\"\",'Scholars Nomination Form'!E427)","v":""},{"$f":"IF(ISBLANK('Scholars Nomination Form'!F427),\"\",'Scholars Nomination Form'!F427)","v":""},{"$f":"IF(ISBLANK('Scholars Nomination Form'!G427),\"\",'Scholars Nomination Form'!G427)","v":""},{"$f":"IF(ISBLANK('Scholars Nomination Form'!H427),\"\",'Scholars Nomination Form'!H427)","v":""},{"$f":"IF(ISBLANK('Scholars Nomination Form'!I427),\"\",'Scholars Nomination Form'!I427)","v":""},{"$f":"IF(ISBLANK('Scholars Nomination Form'!J427),\"\",'Scholars Nomination Form'!J427)","v":""},{"$f":"IF(ISBLANK('Scholars Nomination Form'!K427),\"\",'Scholars Nomination Form'!K427)","v":""},{"$f":"IF(ISBLANK('Scholars Nomination Form'!L427),\"\",'Scholars Nomination Form'!L427)","v":""},{"$f":"IF(ISBLANK('Scholars Nomination Form'!M427),\"\",'Scholars Nomination Form'!M427)","v":""},{"$f":"IF(ISBLANK('Scholars Nomination Form'!N427),\"\",'Scholars Nomination Form'!N427)","v":""},{"$f":"IF(ISBLANK('Scholars Nomination Form'!O427),\"\",'Scholars Nomination Form'!O427)","v":""},{"$f":"IF(ISBLANK('Scholars Nomination Form'!P427),\"\",'Scholars Nomination Form'!P427)","v":""},{"$f":"IF(ISBLANK('Scholars Nomination Form'!Q427),\"\",'Scholars Nomination Form'!Q427)","v":""},{"$f":"IF(ISBLANK('Scholars Nomination Form'!R427),\"\",'Scholars Nomination Form'!R427)","v":""},{"$f":"IF(ISBLANK('Scholars Nomination Form'!S427),\"\",'Scholars Nomination Form'!S427)","v":""},{"$f":"IF(ISBLANK('Scholars Nomination Form'!T427),\"\",'Scholars Nomination Form'!T427)","v":""},{"$f":"IF(ISBLANK('Scholars Nomination Form'!U427),\"\",'Scholars Nomination Form'!U427)","v":""},{"$f":"IF(ISBLANK('Scholars Nomination Form'!V427),\"\",'Scholars Nomination Form'!V427)","v":""},{"$f":"IF(ISBLANK('Scholars Nomination Form'!W427),\"\",'Scholars Nomination Form'!W427)","v":""},{"$f":"IF(ISBLANK('Scholars Nomination Form'!X427),\"\",'Scholars Nomination Form'!X427)","v":""},{"$f":"IF(ISBLANK('Scholars Nomination Form'!Y427),\"\",'Scholars Nomination Form'!Y427)","v":""},{"$f":"IF(ISBLANK('Scholars Nomination Form'!Z427),\"\",'Scholars Nomination Form'!Z427)","v":""},{"$f":"IF(ISBLANK('Scholars Nomination Form'!AA427),\"\",'Scholars Nomination Form'!AA427)","v":""}]
[{"$f":"IF(ISBLANK('Scholars Nomination Form'!$F428),\"\",'Scholars Nomination Form'!$C$11)","v":""},{"$f":"IF(ISBLANK('Scholars Nomination Form'!$F428),\"\",'Scholars Nomination Form'!$C$12)","v":""},{"$f":"IF(ISBLANK('Scholars Nomination Form'!$F428),\"\",'Scholars Nomination Form'!$C$13)","v":""},{"$f":"IF(ISBLANK('Scholars Nomination Form'!$F428),\"\",'Scholars Nomination Form'!$C$14)","v":""},{"$f":"IF(ISBLANK('Scholars Nomination Form'!$F428),\"\",'Scholars Nomination Form'!$C$15)","v":""},{"$f":"IF(ISBLANK('Scholars Nomination Form'!$F428),\"\",'Scholars Nomination Form'!$C$16)","v":""},{"$f":"IF(ISBLANK('Scholars Nomination Form'!B428),\"\",'Scholars Nomination Form'!B428)","v":""},{"$f":"IF(ISBLANK('Scholars Nomination Form'!D428),\"\",'Scholars Nomination Form'!D428)","v":""},{"$f":"IF(ISBLANK('Scholars Nomination Form'!E428),\"\",'Scholars Nomination Form'!E428)","v":""},{"$f":"IF(ISBLANK('Scholars Nomination Form'!F428),\"\",'Scholars Nomination Form'!F428)","v":""},{"$f":"IF(ISBLANK('Scholars Nomination Form'!G428),\"\",'Scholars Nomination Form'!G428)","v":""},{"$f":"IF(ISBLANK('Scholars Nomination Form'!H428),\"\",'Scholars Nomination Form'!H428)","v":""},{"$f":"IF(ISBLANK('Scholars Nomination Form'!I428),\"\",'Scholars Nomination Form'!I428)","v":""},{"$f":"IF(ISBLANK('Scholars Nomination Form'!J428),\"\",'Scholars Nomination Form'!J428)","v":""},{"$f":"IF(ISBLANK('Scholars Nomination Form'!K428),\"\",'Scholars Nomination Form'!K428)","v":""},{"$f":"IF(ISBLANK('Scholars Nomination Form'!L428),\"\",'Scholars Nomination Form'!L428)","v":""},{"$f":"IF(ISBLANK('Scholars Nomination Form'!M428),\"\",'Scholars Nomination Form'!M428)","v":""},{"$f":"IF(ISBLANK('Scholars Nomination Form'!N428),\"\",'Scholars Nomination Form'!N428)","v":""},{"$f":"IF(ISBLANK('Scholars Nomination Form'!O428),\"\",'Scholars Nomination Form'!O428)","v":""},{"$f":"IF(ISBLANK('Scholars Nomination Form'!P428),\"\",'Scholars Nomination Form'!P428)","v":""},{"$f":"IF(ISBLANK('Scholars Nomination Form'!Q428),\"\",'Scholars Nomination Form'!Q428)","v":""},{"$f":"IF(ISBLANK('Scholars Nomination Form'!R428),\"\",'Scholars Nomination Form'!R428)","v":""},{"$f":"IF(ISBLANK('Scholars Nomination Form'!S428),\"\",'Scholars Nomination Form'!S428)","v":""},{"$f":"IF(ISBLANK('Scholars Nomination Form'!T428),\"\",'Scholars Nomination Form'!T428)","v":""},{"$f":"IF(ISBLANK('Scholars Nomination Form'!U428),\"\",'Scholars Nomination Form'!U428)","v":""},{"$f":"IF(ISBLANK('Scholars Nomination Form'!V428),\"\",'Scholars Nomination Form'!V428)","v":""},{"$f":"IF(ISBLANK('Scholars Nomination Form'!W428),\"\",'Scholars Nomination Form'!W428)","v":""},{"$f":"IF(ISBLANK('Scholars Nomination Form'!X428),\"\",'Scholars Nomination Form'!X428)","v":""},{"$f":"IF(ISBLANK('Scholars Nomination Form'!Y428),\"\",'Scholars Nomination Form'!Y428)","v":""},{"$f":"IF(ISBLANK('Scholars Nomination Form'!Z428),\"\",'Scholars Nomination Form'!Z428)","v":""},{"$f":"IF(ISBLANK('Scholars Nomination Form'!AA428),\"\",'Scholars Nomination Form'!AA428)","v":""}]
[{"$f":"IF(ISBLANK('Scholars Nomination Form'!$F429),\"\",'Scholars Nomination Form'!$C$11)","v":""},{"$f":"IF(ISBLANK('Scholars Nomination Form'!$F429),\"\",'Scholars Nomination Form'!$C$12)","v":""},{"$f":"IF(ISBLANK('Scholars Nomination Form'!$F429),\"\",'Scholars Nomination Form'!$C$13)","v":""},{"$f":"IF(ISBLANK('Scholars Nomination Form'!$F429),\"\",'Scholars Nomination Form'!$C$14)","v":""},{"$f":"IF(ISBLANK('Scholars Nomination Form'!$F429),\"\",'Scholars Nomination Form'!$C$15)","v":""},{"$f":"IF(ISBLANK('Scholars Nomination Form'!$F429),\"\",'Scholars Nomination Form'!$C$16)","v":""},{"$f":"IF(ISBLANK('Scholars Nomination Form'!B429),\"\",'Scholars Nomination Form'!B429)","v":""},{"$f":"IF(ISBLANK('Scholars Nomination Form'!D429),\"\",'Scholars Nomination Form'!D429)","v":""},{"$f":"IF(ISBLANK('Scholars Nomination Form'!E429),\"\",'Scholars Nomination Form'!E429)","v":""},{"$f":"IF(ISBLANK('Scholars Nomination Form'!F429),\"\",'Scholars Nomination Form'!F429)","v":""},{"$f":"IF(ISBLANK('Scholars Nomination Form'!G429),\"\",'Scholars Nomination Form'!G429)","v":""},{"$f":"IF(ISBLANK('Scholars Nomination Form'!H429),\"\",'Scholars Nomination Form'!H429)","v":""},{"$f":"IF(ISBLANK('Scholars Nomination Form'!I429),\"\",'Scholars Nomination Form'!I429)","v":""},{"$f":"IF(ISBLANK('Scholars Nomination Form'!J429),\"\",'Scholars Nomination Form'!J429)","v":""},{"$f":"IF(ISBLANK('Scholars Nomination Form'!K429),\"\",'Scholars Nomination Form'!K429)","v":""},{"$f":"IF(ISBLANK('Scholars Nomination Form'!L429),\"\",'Scholars Nomination Form'!L429)","v":""},{"$f":"IF(ISBLANK('Scholars Nomination Form'!M429),\"\",'Scholars Nomination Form'!M429)","v":""},{"$f":"IF(ISBLANK('Scholars Nomination Form'!N429),\"\",'Scholars Nomination Form'!N429)","v":""},{"$f":"IF(ISBLANK('Scholars Nomination Form'!O429),\"\",'Scholars Nomination Form'!O429)","v":""},{"$f":"IF(ISBLANK('Scholars Nomination Form'!P429),\"\",'Scholars Nomination Form'!P429)","v":""},{"$f":"IF(ISBLANK('Scholars Nomination Form'!Q429),\"\",'Scholars Nomination Form'!Q429)","v":""},{"$f":"IF(ISBLANK('Scholars Nomination Form'!R429),\"\",'Scholars Nomination Form'!R429)","v":""},{"$f":"IF(ISBLANK('Scholars Nomination Form'!S429),\"\",'Scholars Nomination Form'!S429)","v":""},{"$f":"IF(ISBLANK('Scholars Nomination Form'!T429),\"\",'Scholars Nomination Form'!T429)","v":""},{"$f":"IF(ISBLANK('Scholars Nomination Form'!U429),\"\",'Scholars Nomination Form'!U429)","v":""},{"$f":"IF(ISBLANK('Scholars Nomination Form'!V429),\"\",'Scholars Nomination Form'!V429)","v":""},{"$f":"IF(ISBLANK('Scholars Nomination Form'!W429),\"\",'Scholars Nomination Form'!W429)","v":""},{"$f":"IF(ISBLANK('Scholars Nomination Form'!X429),\"\",'Scholars Nomination Form'!X429)","v":""},{"$f":"IF(ISBLANK('Scholars Nomination Form'!Y429),\"\",'Scholars Nomination Form'!Y429)","v":""},{"$f":"IF(ISBLANK('Scholars Nomination Form'!Z429),\"\",'Scholars Nomination Form'!Z429)","v":""},{"$f":"IF(ISBLANK('Scholars Nomination Form'!AA429),\"\",'Scholars Nomination Form'!AA429)","v":""}]
[{"$f":"IF(ISBLANK('Scholars Nomination Form'!$F430),\"\",'Scholars Nomination Form'!$C$11)","v":""},{"$f":"IF(ISBLANK('Scholars Nomination Form'!$F430),\"\",'Scholars Nomination Form'!$C$12)","v":""},{"$f":"IF(ISBLANK('Scholars Nomination Form'!$F430),\"\",'Scholars Nomination Form'!$C$13)","v":""},{"$f":"IF(ISBLANK('Scholars Nomination Form'!$F430),\"\",'Scholars Nomination Form'!$C$14)","v":""},{"$f":"IF(ISBLANK('Scholars Nomination Form'!$F430),\"\",'Scholars Nomination Form'!$C$15)","v":""},{"$f":"IF(ISBLANK('Scholars Nomination Form'!$F430),\"\",'Scholars Nomination Form'!$C$16)","v":""},{"$f":"IF(ISBLANK('Scholars Nomination Form'!B430),\"\",'Scholars Nomination Form'!B430)","v":""},{"$f":"IF(ISBLANK('Scholars Nomination Form'!D430),\"\",'Scholars Nomination Form'!D430)","v":""},{"$f":"IF(ISBLANK('Scholars Nomination Form'!E430),\"\",'Scholars Nomination Form'!E430)","v":""},{"$f":"IF(ISBLANK('Scholars Nomination Form'!F430),\"\",'Scholars Nomination Form'!F430)","v":""},{"$f":"IF(ISBLANK('Scholars Nomination Form'!G430),\"\",'Scholars Nomination Form'!G430)","v":""},{"$f":"IF(ISBLANK('Scholars Nomination Form'!H430),\"\",'Scholars Nomination Form'!H430)","v":""},{"$f":"IF(ISBLANK('Scholars Nomination Form'!I430),\"\",'Scholars Nomination Form'!I430)","v":""},{"$f":"IF(ISBLANK('Scholars Nomination Form'!J430),\"\",'Scholars Nomination Form'!J430)","v":""},{"$f":"IF(ISBLANK('Scholars Nomination Form'!K430),\"\",'Scholars Nomination Form'!K430)","v":""},{"$f":"IF(ISBLANK('Scholars Nomination Form'!L430),\"\",'Scholars Nomination Form'!L430)","v":""},{"$f":"IF(ISBLANK('Scholars Nomination Form'!M430),\"\",'Scholars Nomination Form'!M430)","v":""},{"$f":"IF(ISBLANK('Scholars Nomination Form'!N430),\"\",'Scholars Nomination Form'!N430)","v":""},{"$f":"IF(ISBLANK('Scholars Nomination Form'!O430),\"\",'Scholars Nomination Form'!O430)","v":""},{"$f":"IF(ISBLANK('Scholars Nomination Form'!P430),\"\",'Scholars Nomination Form'!P430)","v":""},{"$f":"IF(ISBLANK('Scholars Nomination Form'!Q430),\"\",'Scholars Nomination Form'!Q430)","v":""},{"$f":"IF(ISBLANK('Scholars Nomination Form'!R430),\"\",'Scholars Nomination Form'!R430)","v":""},{"$f":"IF(ISBLANK('Scholars Nomination Form'!S430),\"\",'Scholars Nomination Form'!S430)","v":""},{"$f":"IF(ISBLANK('Scholars Nomination Form'!T430),\"\",'Scholars Nomination Form'!T430)","v":""},{"$f":"IF(ISBLANK('Scholars Nomination Form'!U430),\"\",'Scholars Nomination Form'!U430)","v":""},{"$f":"IF(ISBLANK('Scholars Nomination Form'!V430),\"\",'Scholars Nomination Form'!V430)","v":""},{"$f":"IF(ISBLANK('Scholars Nomination Form'!W430),\"\",'Scholars Nomination Form'!W430)","v":""},{"$f":"IF(ISBLANK('Scholars Nomination Form'!X430),\"\",'Scholars Nomination Form'!X430)","v":""},{"$f":"IF(ISBLANK('Scholars Nomination Form'!Y430),\"\",'Scholars Nomination Form'!Y430)","v":""},{"$f":"IF(ISBLANK('Scholars Nomination Form'!Z430),\"\",'Scholars Nomination Form'!Z430)","v":""},{"$f":"IF(ISBLANK('Scholars Nomination Form'!AA430),\"\",'Scholars Nomination Form'!AA430)","v":""}]
[{"$f":"IF(ISBLANK('Scholars Nomination Form'!$F431),\"\",'Scholars Nomination Form'!$C$11)","v":""},{"$f":"IF(ISBLANK('Scholars Nomination Form'!$F431),\"\",'Scholars Nomination Form'!$C$12)","v":""},{"$f":"IF(ISBLANK('Scholars Nomination Form'!$F431),\"\",'Scholars Nomination Form'!$C$13)","v":""},{"$f":"IF(ISBLANK('Scholars Nomination Form'!$F431),\"\",'Scholars Nomination Form'!$C$14)","v":""},{"$f":"IF(ISBLANK('Scholars Nomination Form'!$F431),\"\",'Scholars Nomination Form'!$C$15)","v":""},{"$f":"IF(ISBLANK('Scholars Nomination Form'!$F431),\"\",'Scholars Nomination Form'!$C$16)","v":""},{"$f":"IF(ISBLANK('Scholars Nomination Form'!B431),\"\",'Scholars Nomination Form'!B431)","v":""},{"$f":"IF(ISBLANK('Scholars Nomination Form'!D431),\"\",'Scholars Nomination Form'!D431)","v":""},{"$f":"IF(ISBLANK('Scholars Nomination Form'!E431),\"\",'Scholars Nomination Form'!E431)","v":""},{"$f":"IF(ISBLANK('Scholars Nomination Form'!F431),\"\",'Scholars Nomination Form'!F431)","v":""},{"$f":"IF(ISBLANK('Scholars Nomination Form'!G431),\"\",'Scholars Nomination Form'!G431)","v":""},{"$f":"IF(ISBLANK('Scholars Nomination Form'!H431),\"\",'Scholars Nomination Form'!H431)","v":""},{"$f":"IF(ISBLANK('Scholars Nomination Form'!I431),\"\",'Scholars Nomination Form'!I431)","v":""},{"$f":"IF(ISBLANK('Scholars Nomination Form'!J431),\"\",'Scholars Nomination Form'!J431)","v":""},{"$f":"IF(ISBLANK('Scholars Nomination Form'!K431),\"\",'Scholars Nomination Form'!K431)","v":""},{"$f":"IF(ISBLANK('Scholars Nomination Form'!L431),\"\",'Scholars Nomination Form'!L431)","v":""},{"$f":"IF(ISBLANK('Scholars Nomination Form'!M431),\"\",'Scholars Nomination Form'!M431)","v":""},{"$f":"IF(ISBLANK('Scholars Nomination Form'!N431),\"\",'Scholars Nomination Form'!N431)","v":""},{"$f":"IF(ISBLANK('Scholars Nomination Form'!O431),\"\",'Scholars Nomination Form'!O431)","v":""},{"$f":"IF(ISBLANK('Scholars Nomination Form'!P431),\"\",'Scholars Nomination Form'!P431)","v":""},{"$f":"IF(ISBLANK('Scholars Nomination Form'!Q431),\"\",'Scholars Nomination Form'!Q431)","v":""},{"$f":"IF(ISBLANK('Scholars Nomination Form'!R431),\"\",'Scholars Nomination Form'!R431)","v":""},{"$f":"IF(ISBLANK('Scholars Nomination Form'!S431),\"\",'Scholars Nomination Form'!S431)","v":""},{"$f":"IF(ISBLANK('Scholars Nomination Form'!T431),\"\",'Scholars Nomination Form'!T431)","v":""},{"$f":"IF(ISBLANK('Scholars Nomination Form'!U431),\"\",'Scholars Nomination Form'!U431)","v":""},{"$f":"IF(ISBLANK('Scholars Nomination Form'!V431),\"\",'Scholars Nomination Form'!V431)","v":""},{"$f":"IF(ISBLANK('Scholars Nomination Form'!W431),\"\",'Scholars Nomination Form'!W431)","v":""},{"$f":"IF(ISBLANK('Scholars Nomination Form'!X431),\"\",'Scholars Nomination Form'!X431)","v":""},{"$f":"IF(ISBLANK('Scholars Nomination Form'!Y431),\"\",'Scholars Nomination Form'!Y431)","v":""},{"$f":"IF(ISBLANK('Scholars Nomination Form'!Z431),\"\",'Scholars Nomination Form'!Z431)","v":""},{"$f":"IF(ISBLANK('Scholars Nomination Form'!AA431),\"\",'Scholars Nomination Form'!AA431)","v":""}]
[{"$f":"IF(ISBLANK('Scholars Nomination Form'!$F432),\"\",'Scholars Nomination Form'!$C$11)","v":""},{"$f":"IF(ISBLANK('Scholars Nomination Form'!$F432),\"\",'Scholars Nomination Form'!$C$12)","v":""},{"$f":"IF(ISBLANK('Scholars Nomination Form'!$F432),\"\",'Scholars Nomination Form'!$C$13)","v":""},{"$f":"IF(ISBLANK('Scholars Nomination Form'!$F432),\"\",'Scholars Nomination Form'!$C$14)","v":""},{"$f":"IF(ISBLANK('Scholars Nomination Form'!$F432),\"\",'Scholars Nomination Form'!$C$15)","v":""},{"$f":"IF(ISBLANK('Scholars Nomination Form'!$F432),\"\",'Scholars Nomination Form'!$C$16)","v":""},{"$f":"IF(ISBLANK('Scholars Nomination Form'!B432),\"\",'Scholars Nomination Form'!B432)","v":""},{"$f":"IF(ISBLANK('Scholars Nomination Form'!D432),\"\",'Scholars Nomination Form'!D432)","v":""},{"$f":"IF(ISBLANK('Scholars Nomination Form'!E432),\"\",'Scholars Nomination Form'!E432)","v":""},{"$f":"IF(ISBLANK('Scholars Nomination Form'!F432),\"\",'Scholars Nomination Form'!F432)","v":""},{"$f":"IF(ISBLANK('Scholars Nomination Form'!G432),\"\",'Scholars Nomination Form'!G432)","v":""},{"$f":"IF(ISBLANK('Scholars Nomination Form'!H432),\"\",'Scholars Nomination Form'!H432)","v":""},{"$f":"IF(ISBLANK('Scholars Nomination Form'!I432),\"\",'Scholars Nomination Form'!I432)","v":""},{"$f":"IF(ISBLANK('Scholars Nomination Form'!J432),\"\",'Scholars Nomination Form'!J432)","v":""},{"$f":"IF(ISBLANK('Scholars Nomination Form'!K432),\"\",'Scholars Nomination Form'!K432)","v":""},{"$f":"IF(ISBLANK('Scholars Nomination Form'!L432),\"\",'Scholars Nomination Form'!L432)","v":""},{"$f":"IF(ISBLANK('Scholars Nomination Form'!M432),\"\",'Scholars Nomination Form'!M432)","v":""},{"$f":"IF(ISBLANK('Scholars Nomination Form'!N432),\"\",'Scholars Nomination Form'!N432)","v":""},{"$f":"IF(ISBLANK('Scholars Nomination Form'!O432),\"\",'Scholars Nomination Form'!O432)","v":""},{"$f":"IF(ISBLANK('Scholars Nomination Form'!P432),\"\",'Scholars Nomination Form'!P432)","v":""},{"$f":"IF(ISBLANK('Scholars Nomination Form'!Q432),\"\",'Scholars Nomination Form'!Q432)","v":""},{"$f":"IF(ISBLANK('Scholars Nomination Form'!R432),\"\",'Scholars Nomination Form'!R432)","v":""},{"$f":"IF(ISBLANK('Scholars Nomination Form'!S432),\"\",'Scholars Nomination Form'!S432)","v":""},{"$f":"IF(ISBLANK('Scholars Nomination Form'!T432),\"\",'Scholars Nomination Form'!T432)","v":""},{"$f":"IF(ISBLANK('Scholars Nomination Form'!U432),\"\",'Scholars Nomination Form'!U432)","v":""},{"$f":"IF(ISBLANK('Scholars Nomination Form'!V432),\"\",'Scholars Nomination Form'!V432)","v":""},{"$f":"IF(ISBLANK('Scholars Nomination Form'!W432),\"\",'Scholars Nomination Form'!W432)","v":""},{"$f":"IF(ISBLANK('Scholars Nomination Form'!X432),\"\",'Scholars Nomination Form'!X432)","v":""},{"$f":"IF(ISBLANK('Scholars Nomination Form'!Y432),\"\",'Scholars Nomination Form'!Y432)","v":""},{"$f":"IF(ISBLANK('Scholars Nomination Form'!Z432),\"\",'Scholars Nomination Form'!Z432)","v":""},{"$f":"IF(ISBLANK('Scholars Nomination Form'!AA432),\"\",'Scholars Nomination Form'!AA432)","v":""}]
[{"$f":"IF(ISBLANK('Scholars Nomination Form'!$F433),\"\",'Scholars Nomination Form'!$C$11)","v":""},{"$f":"IF(ISBLANK('Scholars Nomination Form'!$F433),\"\",'Scholars Nomination Form'!$C$12)","v":""},{"$f":"IF(ISBLANK('Scholars Nomination Form'!$F433),\"\",'Scholars Nomination Form'!$C$13)","v":""},{"$f":"IF(ISBLANK('Scholars Nomination Form'!$F433),\"\",'Scholars Nomination Form'!$C$14)","v":""},{"$f":"IF(ISBLANK('Scholars Nomination Form'!$F433),\"\",'Scholars Nomination Form'!$C$15)","v":""},{"$f":"IF(ISBLANK('Scholars Nomination Form'!$F433),\"\",'Scholars Nomination Form'!$C$16)","v":""},{"$f":"IF(ISBLANK('Scholars Nomination Form'!B433),\"\",'Scholars Nomination Form'!B433)","v":""},{"$f":"IF(ISBLANK('Scholars Nomination Form'!D433),\"\",'Scholars Nomination Form'!D433)","v":""},{"$f":"IF(ISBLANK('Scholars Nomination Form'!E433),\"\",'Scholars Nomination Form'!E433)","v":""},{"$f":"IF(ISBLANK('Scholars Nomination Form'!F433),\"\",'Scholars Nomination Form'!F433)","v":""},{"$f":"IF(ISBLANK('Scholars Nomination Form'!G433),\"\",'Scholars Nomination Form'!G433)","v":""},{"$f":"IF(ISBLANK('Scholars Nomination Form'!H433),\"\",'Scholars Nomination Form'!H433)","v":""},{"$f":"IF(ISBLANK('Scholars Nomination Form'!I433),\"\",'Scholars Nomination Form'!I433)","v":""},{"$f":"IF(ISBLANK('Scholars Nomination Form'!J433),\"\",'Scholars Nomination Form'!J433)","v":""},{"$f":"IF(ISBLANK('Scholars Nomination Form'!K433),\"\",'Scholars Nomination Form'!K433)","v":""},{"$f":"IF(ISBLANK('Scholars Nomination Form'!L433),\"\",'Scholars Nomination Form'!L433)","v":""},{"$f":"IF(ISBLANK('Scholars Nomination Form'!M433),\"\",'Scholars Nomination Form'!M433)","v":""},{"$f":"IF(ISBLANK('Scholars Nomination Form'!N433),\"\",'Scholars Nomination Form'!N433)","v":""},{"$f":"IF(ISBLANK('Scholars Nomination Form'!O433),\"\",'Scholars Nomination Form'!O433)","v":""},{"$f":"IF(ISBLANK('Scholars Nomination Form'!P433),\"\",'Scholars Nomination Form'!P433)","v":""},{"$f":"IF(ISBLANK('Scholars Nomination Form'!Q433),\"\",'Scholars Nomination Form'!Q433)","v":""},{"$f":"IF(ISBLANK('Scholars Nomination Form'!R433),\"\",'Scholars Nomination Form'!R433)","v":""},{"$f":"IF(ISBLANK('Scholars Nomination Form'!S433),\"\",'Scholars Nomination Form'!S433)","v":""},{"$f":"IF(ISBLANK('Scholars Nomination Form'!T433),\"\",'Scholars Nomination Form'!T433)","v":""},{"$f":"IF(ISBLANK('Scholars Nomination Form'!U433),\"\",'Scholars Nomination Form'!U433)","v":""},{"$f":"IF(ISBLANK('Scholars Nomination Form'!V433),\"\",'Scholars Nomination Form'!V433)","v":""},{"$f":"IF(ISBLANK('Scholars Nomination Form'!W433),\"\",'Scholars Nomination Form'!W433)","v":""},{"$f":"IF(ISBLANK('Scholars Nomination Form'!X433),\"\",'Scholars Nomination Form'!X433)","v":""},{"$f":"IF(ISBLANK('Scholars Nomination Form'!Y433),\"\",'Scholars Nomination Form'!Y433)","v":""},{"$f":"IF(ISBLANK('Scholars Nomination Form'!Z433),\"\",'Scholars Nomination Form'!Z433)","v":""},{"$f":"IF(ISBLANK('Scholars Nomination Form'!AA433),\"\",'Scholars Nomination Form'!AA433)","v":""}]
[{"$f":"IF(ISBLANK('Scholars Nomination Form'!$F434),\"\",'Scholars Nomination Form'!$C$11)","v":""},{"$f":"IF(ISBLANK('Scholars Nomination Form'!$F434),\"\",'Scholars Nomination Form'!$C$12)","v":""},{"$f":"IF(ISBLANK('Scholars Nomination Form'!$F434),\"\",'Scholars Nomination Form'!$C$13)","v":""},{"$f":"IF(ISBLANK('Scholars Nomination Form'!$F434),\"\",'Scholars Nomination Form'!$C$14)","v":""},{"$f":"IF(ISBLANK('Scholars Nomination Form'!$F434),\"\",'Scholars Nomination Form'!$C$15)","v":""},{"$f":"IF(ISBLANK('Scholars Nomination Form'!$F434),\"\",'Scholars Nomination Form'!$C$16)","v":""},{"$f":"IF(ISBLANK('Scholars Nomination Form'!B434),\"\",'Scholars Nomination Form'!B434)","v":""},{"$f":"IF(ISBLANK('Scholars Nomination Form'!D434),\"\",'Scholars Nomination Form'!D434)","v":""},{"$f":"IF(ISBLANK('Scholars Nomination Form'!E434),\"\",'Scholars Nomination Form'!E434)","v":""},{"$f":"IF(ISBLANK('Scholars Nomination Form'!F434),\"\",'Scholars Nomination Form'!F434)","v":""},{"$f":"IF(ISBLANK('Scholars Nomination Form'!G434),\"\",'Scholars Nomination Form'!G434)","v":""},{"$f":"IF(ISBLANK('Scholars Nomination Form'!H434),\"\",'Scholars Nomination Form'!H434)","v":""},{"$f":"IF(ISBLANK('Scholars Nomination Form'!I434),\"\",'Scholars Nomination Form'!I434)","v":""},{"$f":"IF(ISBLANK('Scholars Nomination Form'!J434),\"\",'Scholars Nomination Form'!J434)","v":""},{"$f":"IF(ISBLANK('Scholars Nomination Form'!K434),\"\",'Scholars Nomination Form'!K434)","v":""},{"$f":"IF(ISBLANK('Scholars Nomination Form'!L434),\"\",'Scholars Nomination Form'!L434)","v":""},{"$f":"IF(ISBLANK('Scholars Nomination Form'!M434),\"\",'Scholars Nomination Form'!M434)","v":""},{"$f":"IF(ISBLANK('Scholars Nomination Form'!N434),\"\",'Scholars Nomination Form'!N434)","v":""},{"$f":"IF(ISBLANK('Scholars Nomination Form'!O434),\"\",'Scholars Nomination Form'!O434)","v":""},{"$f":"IF(ISBLANK('Scholars Nomination Form'!P434),\"\",'Scholars Nomination Form'!P434)","v":""},{"$f":"IF(ISBLANK('Scholars Nomination Form'!Q434),\"\",'Scholars Nomination Form'!Q434)","v":""},{"$f":"IF(ISBLANK('Scholars Nomination Form'!R434),\"\",'Scholars Nomination Form'!R434)","v":""},{"$f":"IF(ISBLANK('Scholars Nomination Form'!S434),\"\",'Scholars Nomination Form'!S434)","v":""},{"$f":"IF(ISBLANK('Scholars Nomination Form'!T434),\"\",'Scholars Nomination Form'!T434)","v":""},{"$f":"IF(ISBLANK('Scholars Nomination Form'!U434),\"\",'Scholars Nomination Form'!U434)","v":""},{"$f":"IF(ISBLANK('Scholars Nomination Form'!V434),\"\",'Scholars Nomination Form'!V434)","v":""},{"$f":"IF(ISBLANK('Scholars Nomination Form'!W434),\"\",'Scholars Nomination Form'!W434)","v":""},{"$f":"IF(ISBLANK('Scholars Nomination Form'!X434),\"\",'Scholars Nomination Form'!X434)","v":""},{"$f":"IF(ISBLANK('Scholars Nomination Form'!Y434),\"\",'Scholars Nomination Form'!Y434)","v":""},{"$f":"IF(ISBLANK('Scholars Nomination Form'!Z434),\"\",'Scholars Nomination Form'!Z434)","v":""},{"$f":"IF(ISBLANK('Scholars Nomination Form'!AA434),\"\",'Scholars Nomination Form'!AA434)","v":""}]
[{"$f":"IF(ISBLANK('Scholars Nomination Form'!$F435),\"\",'Scholars Nomination Form'!$C$11)","v":""},{"$f":"IF(ISBLANK('Scholars Nomination Form'!$F435),\"\",'Scholars Nomination Form'!$C$12)","v":""},{"$f":"IF(ISBLANK('Scholars Nomination Form'!$F435),\"\",'Scholars Nomination Form'!$C$13)","v":""},{"$f":"IF(ISBLANK('Scholars Nomination Form'!$F435),\"\",'Scholars Nomination Form'!$C$14)","v":""},{"$f":"IF(ISBLANK('Scholars Nomination Form'!$F435),\"\",'Scholars Nomination Form'!$C$15)","v":""},{"$f":"IF(ISBLANK('Scholars Nomination Form'!$F435),\"\",'Scholars Nomination Form'!$C$16)","v":""},{"$f":"IF(ISBLANK('Scholars Nomination Form'!B435),\"\",'Scholars Nomination Form'!B435)","v":""},{"$f":"IF(ISBLANK('Scholars Nomination Form'!D435),\"\",'Scholars Nomination Form'!D435)","v":""},{"$f":"IF(ISBLANK('Scholars Nomination Form'!E435),\"\",'Scholars Nomination Form'!E435)","v":""},{"$f":"IF(ISBLANK('Scholars Nomination Form'!F435),\"\",'Scholars Nomination Form'!F435)","v":""},{"$f":"IF(ISBLANK('Scholars Nomination Form'!G435),\"\",'Scholars Nomination Form'!G435)","v":""},{"$f":"IF(ISBLANK('Scholars Nomination Form'!H435),\"\",'Scholars Nomination Form'!H435)","v":""},{"$f":"IF(ISBLANK('Scholars Nomination Form'!I435),\"\",'Scholars Nomination Form'!I435)","v":""},{"$f":"IF(ISBLANK('Scholars Nomination Form'!J435),\"\",'Scholars Nomination Form'!J435)","v":""},{"$f":"IF(ISBLANK('Scholars Nomination Form'!K435),\"\",'Scholars Nomination Form'!K435)","v":""},{"$f":"IF(ISBLANK('Scholars Nomination Form'!L435),\"\",'Scholars Nomination Form'!L435)","v":""},{"$f":"IF(ISBLANK('Scholars Nomination Form'!M435),\"\",'Scholars Nomination Form'!M435)","v":""},{"$f":"IF(ISBLANK('Scholars Nomination Form'!N435),\"\",'Scholars Nomination Form'!N435)","v":""},{"$f":"IF(ISBLANK('Scholars Nomination Form'!O435),\"\",'Scholars Nomination Form'!O435)","v":""},{"$f":"IF(ISBLANK('Scholars Nomination Form'!P435),\"\",'Scholars Nomination Form'!P435)","v":""},{"$f":"IF(ISBLANK('Scholars Nomination Form'!Q435),\"\",'Scholars Nomination Form'!Q435)","v":""},{"$f":"IF(ISBLANK('Scholars Nomination Form'!R435),\"\",'Scholars Nomination Form'!R435)","v":""},{"$f":"IF(ISBLANK('Scholars Nomination Form'!S435),\"\",'Scholars Nomination Form'!S435)","v":""},{"$f":"IF(ISBLANK('Scholars Nomination Form'!T435),\"\",'Scholars Nomination Form'!T435)","v":""},{"$f":"IF(ISBLANK('Scholars Nomination Form'!U435),\"\",'Scholars Nomination Form'!U435)","v":""},{"$f":"IF(ISBLANK('Scholars Nomination Form'!V435),\"\",'Scholars Nomination Form'!V435)","v":""},{"$f":"IF(ISBLANK('Scholars Nomination Form'!W435),\"\",'Scholars Nomination Form'!W435)","v":""},{"$f":"IF(ISBLANK('Scholars Nomination Form'!X435),\"\",'Scholars Nomination Form'!X435)","v":""},{"$f":"IF(ISBLANK('Scholars Nomination Form'!Y435),\"\",'Scholars Nomination Form'!Y435)","v":""},{"$f":"IF(ISBLANK('Scholars Nomination Form'!Z435),\"\",'Scholars Nomination Form'!Z435)","v":""},{"$f":"IF(ISBLANK('Scholars Nomination Form'!AA435),\"\",'Scholars Nomination Form'!AA435)","v":""}]
[{"$f":"IF(ISBLANK('Scholars Nomination Form'!$F436),\"\",'Scholars Nomination Form'!$C$11)","v":""},{"$f":"IF(ISBLANK('Scholars Nomination Form'!$F436),\"\",'Scholars Nomination Form'!$C$12)","v":""},{"$f":"IF(ISBLANK('Scholars Nomination Form'!$F436),\"\",'Scholars Nomination Form'!$C$13)","v":""},{"$f":"IF(ISBLANK('Scholars Nomination Form'!$F436),\"\",'Scholars Nomination Form'!$C$14)","v":""},{"$f":"IF(ISBLANK('Scholars Nomination Form'!$F436),\"\",'Scholars Nomination Form'!$C$15)","v":""},{"$f":"IF(ISBLANK('Scholars Nomination Form'!$F436),\"\",'Scholars Nomination Form'!$C$16)","v":""},{"$f":"IF(ISBLANK('Scholars Nomination Form'!B436),\"\",'Scholars Nomination Form'!B436)","v":""},{"$f":"IF(ISBLANK('Scholars Nomination Form'!D436),\"\",'Scholars Nomination Form'!D436)","v":""},{"$f":"IF(ISBLANK('Scholars Nomination Form'!E436),\"\",'Scholars Nomination Form'!E436)","v":""},{"$f":"IF(ISBLANK('Scholars Nomination Form'!F436),\"\",'Scholars Nomination Form'!F436)","v":""},{"$f":"IF(ISBLANK('Scholars Nomination Form'!G436),\"\",'Scholars Nomination Form'!G436)","v":""},{"$f":"IF(ISBLANK('Scholars Nomination Form'!H436),\"\",'Scholars Nomination Form'!H436)","v":""},{"$f":"IF(ISBLANK('Scholars Nomination Form'!I436),\"\",'Scholars Nomination Form'!I436)","v":""},{"$f":"IF(ISBLANK('Scholars Nomination Form'!J436),\"\",'Scholars Nomination Form'!J436)","v":""},{"$f":"IF(ISBLANK('Scholars Nomination Form'!K436),\"\",'Scholars Nomination Form'!K436)","v":""},{"$f":"IF(ISBLANK('Scholars Nomination Form'!L436),\"\",'Scholars Nomination Form'!L436)","v":""},{"$f":"IF(ISBLANK('Scholars Nomination Form'!M436),\"\",'Scholars Nomination Form'!M436)","v":""},{"$f":"IF(ISBLANK('Scholars Nomination Form'!N436),\"\",'Scholars Nomination Form'!N436)","v":""},{"$f":"IF(ISBLANK('Scholars Nomination Form'!O436),\"\",'Scholars Nomination Form'!O436)","v":""},{"$f":"IF(ISBLANK('Scholars Nomination Form'!P436),\"\",'Scholars Nomination Form'!P436)","v":""},{"$f":"IF(ISBLANK('Scholars Nomination Form'!Q436),\"\",'Scholars Nomination Form'!Q436)","v":""},{"$f":"IF(ISBLANK('Scholars Nomination Form'!R436),\"\",'Scholars Nomination Form'!R436)","v":""},{"$f":"IF(ISBLANK('Scholars Nomination Form'!S436),\"\",'Scholars Nomination Form'!S436)","v":""},{"$f":"IF(ISBLANK('Scholars Nomination Form'!T436),\"\",'Scholars Nomination Form'!T436)","v":""},{"$f":"IF(ISBLANK('Scholars Nomination Form'!U436),\"\",'Scholars Nomination Form'!U436)","v":""},{"$f":"IF(ISBLANK('Scholars Nomination Form'!V436),\"\",'Scholars Nomination Form'!V436)","v":""},{"$f":"IF(ISBLANK('Scholars Nomination Form'!W436),\"\",'Scholars Nomination Form'!W436)","v":""},{"$f":"IF(ISBLANK('Scholars Nomination Form'!X436),\"\",'Scholars Nomination Form'!X436)","v":""},{"$f":"IF(ISBLANK('Scholars Nomination Form'!Y436),\"\",'Scholars Nomination Form'!Y436)","v":""},{"$f":"IF(ISBLANK('Scholars Nomination Form'!Z436),\"\",'Scholars Nomination Form'!Z436)","v":""},{"$f":"IF(ISBLANK('Scholars Nomination Form'!AA436),\"\",'Scholars Nomination Form'!AA436)","v":""}]
[{"$f":"IF(ISBLANK('Scholars Nomination Form'!$F437),\"\",'Scholars Nomination Form'!$C$11)","v":""},{"$f":"IF(ISBLANK('Scholars Nomination Form'!$F437),\"\",'Scholars Nomination Form'!$C$12)","v":""},{"$f":"IF(ISBLANK('Scholars Nomination Form'!$F437),\"\",'Scholars Nomination Form'!$C$13)","v":""},{"$f":"IF(ISBLANK('Scholars Nomination Form'!$F437),\"\",'Scholars Nomination Form'!$C$14)","v":""},{"$f":"IF(ISBLANK('Scholars Nomination Form'!$F437),\"\",'Scholars Nomination Form'!$C$15)","v":""},{"$f":"IF(ISBLANK('Scholars Nomination Form'!$F437),\"\",'Scholars Nomination Form'!$C$16)","v":""},{"$f":"IF(ISBLANK('Scholars Nomination Form'!B437),\"\",'Scholars Nomination Form'!B437)","v":""},{"$f":"IF(ISBLANK('Scholars Nomination Form'!D437),\"\",'Scholars Nomination Form'!D437)","v":""},{"$f":"IF(ISBLANK('Scholars Nomination Form'!E437),\"\",'Scholars Nomination Form'!E437)","v":""},{"$f":"IF(ISBLANK('Scholars Nomination Form'!F437),\"\",'Scholars Nomination Form'!F437)","v":""},{"$f":"IF(ISBLANK('Scholars Nomination Form'!G437),\"\",'Scholars Nomination Form'!G437)","v":""},{"$f":"IF(ISBLANK('Scholars Nomination Form'!H437),\"\",'Scholars Nomination Form'!H437)","v":""},{"$f":"IF(ISBLANK('Scholars Nomination Form'!I437),\"\",'Scholars Nomination Form'!I437)","v":""},{"$f":"IF(ISBLANK('Scholars Nomination Form'!J437),\"\",'Scholars Nomination Form'!J437)","v":""},{"$f":"IF(ISBLANK('Scholars Nomination Form'!K437),\"\",'Scholars Nomination Form'!K437)","v":""},{"$f":"IF(ISBLANK('Scholars Nomination Form'!L437),\"\",'Scholars Nomination Form'!L437)","v":""},{"$f":"IF(ISBLANK('Scholars Nomination Form'!M437),\"\",'Scholars Nomination Form'!M437)","v":""},{"$f":"IF(ISBLANK('Scholars Nomination Form'!N437),\"\",'Scholars Nomination Form'!N437)","v":""},{"$f":"IF(ISBLANK('Scholars Nomination Form'!O437),\"\",'Scholars Nomination Form'!O437)","v":""},{"$f":"IF(ISBLANK('Scholars Nomination Form'!P437),\"\",'Scholars Nomination Form'!P437)","v":""},{"$f":"IF(ISBLANK('Scholars Nomination Form'!Q437),\"\",'Scholars Nomination Form'!Q437)","v":""},{"$f":"IF(ISBLANK('Scholars Nomination Form'!R437),\"\",'Scholars Nomination Form'!R437)","v":""},{"$f":"IF(ISBLANK('Scholars Nomination Form'!S437),\"\",'Scholars Nomination Form'!S437)","v":""},{"$f":"IF(ISBLANK('Scholars Nomination Form'!T437),\"\",'Scholars Nomination Form'!T437)","v":""},{"$f":"IF(ISBLANK('Scholars Nomination Form'!U437),\"\",'Scholars Nomination Form'!U437)","v":""},{"$f":"IF(ISBLANK('Scholars Nomination Form'!V437),\"\",'Scholars Nomination Form'!V437)","v":""},{"$f":"IF(ISBLANK('Scholars Nomination Form'!W437),\"\",'Scholars Nomination Form'!W437)","v":""},{"$f":"IF(ISBLANK('Scholars Nomination Form'!X437),\"\",'Scholars Nomination Form'!X437)","v":""},{"$f":"IF(ISBLANK('Scholars Nomination Form'!Y437),\"\",'Scholars Nomination Form'!Y437)","v":""},{"$f":"IF(ISBLANK('Scholars Nomination Form'!Z437),\"\",'Scholars Nomination Form'!Z437)","v":""},{"$f":"IF(ISBLANK('Scholars Nomination Form'!AA437),\"\",'Scholars Nomination Form'!AA437)","v":""}]
[{"$f":"IF(ISBLANK('Scholars Nomination Form'!$F438),\"\",'Scholars Nomination Form'!$C$11)","v":""},{"$f":"IF(ISBLANK('Scholars Nomination Form'!$F438),\"\",'Scholars Nomination Form'!$C$12)","v":""},{"$f":"IF(ISBLANK('Scholars Nomination Form'!$F438),\"\",'Scholars Nomination Form'!$C$13)","v":""},{"$f":"IF(ISBLANK('Scholars Nomination Form'!$F438),\"\",'Scholars Nomination Form'!$C$14)","v":""},{"$f":"IF(ISBLANK('Scholars Nomination Form'!$F438),\"\",'Scholars Nomination Form'!$C$15)","v":""},{"$f":"IF(ISBLANK('Scholars Nomination Form'!$F438),\"\",'Scholars Nomination Form'!$C$16)","v":""},{"$f":"IF(ISBLANK('Scholars Nomination Form'!B438),\"\",'Scholars Nomination Form'!B438)","v":""},{"$f":"IF(ISBLANK('Scholars Nomination Form'!D438),\"\",'Scholars Nomination Form'!D438)","v":""},{"$f":"IF(ISBLANK('Scholars Nomination Form'!E438),\"\",'Scholars Nomination Form'!E438)","v":""},{"$f":"IF(ISBLANK('Scholars Nomination Form'!F438),\"\",'Scholars Nomination Form'!F438)","v":""},{"$f":"IF(ISBLANK('Scholars Nomination Form'!G438),\"\",'Scholars Nomination Form'!G438)","v":""},{"$f":"IF(ISBLANK('Scholars Nomination Form'!H438),\"\",'Scholars Nomination Form'!H438)","v":""},{"$f":"IF(ISBLANK('Scholars Nomination Form'!I438),\"\",'Scholars Nomination Form'!I438)","v":""},{"$f":"IF(ISBLANK('Scholars Nomination Form'!J438),\"\",'Scholars Nomination Form'!J438)","v":""},{"$f":"IF(ISBLANK('Scholars Nomination Form'!K438),\"\",'Scholars Nomination Form'!K438)","v":""},{"$f":"IF(ISBLANK('Scholars Nomination Form'!L438),\"\",'Scholars Nomination Form'!L438)","v":""},{"$f":"IF(ISBLANK('Scholars Nomination Form'!M438),\"\",'Scholars Nomination Form'!M438)","v":""},{"$f":"IF(ISBLANK('Scholars Nomination Form'!N438),\"\",'Scholars Nomination Form'!N438)","v":""},{"$f":"IF(ISBLANK('Scholars Nomination Form'!O438),\"\",'Scholars Nomination Form'!O438)","v":""},{"$f":"IF(ISBLANK('Scholars Nomination Form'!P438),\"\",'Scholars Nomination Form'!P438)","v":""},{"$f":"IF(ISBLANK('Scholars Nomination Form'!Q438),\"\",'Scholars Nomination Form'!Q438)","v":""},{"$f":"IF(ISBLANK('Scholars Nomination Form'!R438),\"\",'Scholars Nomination Form'!R438)","v":""},{"$f":"IF(ISBLANK('Scholars Nomination Form'!S438),\"\",'Scholars Nomination Form'!S438)","v":""},{"$f":"IF(ISBLANK('Scholars Nomination Form'!T438),\"\",'Scholars Nomination Form'!T438)","v":""},{"$f":"IF(ISBLANK('Scholars Nomination Form'!U438),\"\",'Scholars Nomination Form'!U438)","v":""},{"$f":"IF(ISBLANK('Scholars Nomination Form'!V438),\"\",'Scholars Nomination Form'!V438)","v":""},{"$f":"IF(ISBLANK('Scholars Nomination Form'!W438),\"\",'Scholars Nomination Form'!W438)","v":""},{"$f":"IF(ISBLANK('Scholars Nomination Form'!X438),\"\",'Scholars Nomination Form'!X438)","v":""},{"$f":"IF(ISBLANK('Scholars Nomination Form'!Y438),\"\",'Scholars Nomination Form'!Y438)","v":""},{"$f":"IF(ISBLANK('Scholars Nomination Form'!Z438),\"\",'Scholars Nomination Form'!Z438)","v":""},{"$f":"IF(ISBLANK('Scholars Nomination Form'!AA438),\"\",'Scholars Nomination Form'!AA438)","v":""}]
[{"$f":"IF(ISBLANK('Scholars Nomination Form'!$F439),\"\",'Scholars Nomination Form'!$C$11)","v":""},{"$f":"IF(ISBLANK('Scholars Nomination Form'!$F439),\"\",'Scholars Nomination Form'!$C$12)","v":""},{"$f":"IF(ISBLANK('Scholars Nomination Form'!$F439),\"\",'Scholars Nomination Form'!$C$13)","v":""},{"$f":"IF(ISBLANK('Scholars Nomination Form'!$F439),\"\",'Scholars Nomination Form'!$C$14)","v":""},{"$f":"IF(ISBLANK('Scholars Nomination Form'!$F439),\"\",'Scholars Nomination Form'!$C$15)","v":""},{"$f":"IF(ISBLANK('Scholars Nomination Form'!$F439),\"\",'Scholars Nomination Form'!$C$16)","v":""},{"$f":"IF(ISBLANK('Scholars Nomination Form'!B439),\"\",'Scholars Nomination Form'!B439)","v":""},{"$f":"IF(ISBLANK('Scholars Nomination Form'!D439),\"\",'Scholars Nomination Form'!D439)","v":""},{"$f":"IF(ISBLANK('Scholars Nomination Form'!E439),\"\",'Scholars Nomination Form'!E439)","v":""},{"$f":"IF(ISBLANK('Scholars Nomination Form'!F439),\"\",'Scholars Nomination Form'!F439)","v":""},{"$f":"IF(ISBLANK('Scholars Nomination Form'!G439),\"\",'Scholars Nomination Form'!G439)","v":""},{"$f":"IF(ISBLANK('Scholars Nomination Form'!H439),\"\",'Scholars Nomination Form'!H439)","v":""},{"$f":"IF(ISBLANK('Scholars Nomination Form'!I439),\"\",'Scholars Nomination Form'!I439)","v":""},{"$f":"IF(ISBLANK('Scholars Nomination Form'!J439),\"\",'Scholars Nomination Form'!J439)","v":""},{"$f":"IF(ISBLANK('Scholars Nomination Form'!K439),\"\",'Scholars Nomination Form'!K439)","v":""},{"$f":"IF(ISBLANK('Scholars Nomination Form'!L439),\"\",'Scholars Nomination Form'!L439)","v":""},{"$f":"IF(ISBLANK('Scholars Nomination Form'!M439),\"\",'Scholars Nomination Form'!M439)","v":""},{"$f":"IF(ISBLANK('Scholars Nomination Form'!N439),\"\",'Scholars Nomination Form'!N439)","v":""},{"$f":"IF(ISBLANK('Scholars Nomination Form'!O439),\"\",'Scholars Nomination Form'!O439)","v":""},{"$f":"IF(ISBLANK('Scholars Nomination Form'!P439),\"\",'Scholars Nomination Form'!P439)","v":""},{"$f":"IF(ISBLANK('Scholars Nomination Form'!Q439),\"\",'Scholars Nomination Form'!Q439)","v":""},{"$f":"IF(ISBLANK('Scholars Nomination Form'!R439),\"\",'Scholars Nomination Form'!R439)","v":""},{"$f":"IF(ISBLANK('Scholars Nomination Form'!S439),\"\",'Scholars Nomination Form'!S439)","v":""},{"$f":"IF(ISBLANK('Scholars Nomination Form'!T439),\"\",'Scholars Nomination Form'!T439)","v":""},{"$f":"IF(ISBLANK('Scholars Nomination Form'!U439),\"\",'Scholars Nomination Form'!U439)","v":""},{"$f":"IF(ISBLANK('Scholars Nomination Form'!V439),\"\",'Scholars Nomination Form'!V439)","v":""},{"$f":"IF(ISBLANK('Scholars Nomination Form'!W439),\"\",'Scholars Nomination Form'!W439)","v":""},{"$f":"IF(ISBLANK('Scholars Nomination Form'!X439),\"\",'Scholars Nomination Form'!X439)","v":""},{"$f":"IF(ISBLANK('Scholars Nomination Form'!Y439),\"\",'Scholars Nomination Form'!Y439)","v":""},{"$f":"IF(ISBLANK('Scholars Nomination Form'!Z439),\"\",'Scholars Nomination Form'!Z439)","v":""},{"$f":"IF(ISBLANK('Scholars Nomination Form'!AA439),\"\",'Scholars Nomination Form'!AA439)","v":""}]
[{"$f":"IF(ISBLANK('Scholars Nomination Form'!$F440),\"\",'Scholars Nomination Form'!$C$11)","v":""},{"$f":"IF(ISBLANK('Scholars Nomination Form'!$F440),\"\",'Scholars Nomination Form'!$C$12)","v":""},{"$f":"IF(ISBLANK('Scholars Nomination Form'!$F440),\"\",'Scholars Nomination Form'!$C$13)","v":""},{"$f":"IF(ISBLANK('Scholars Nomination Form'!$F440),\"\",'Scholars Nomination Form'!$C$14)","v":""},{"$f":"IF(ISBLANK('Scholars Nomination Form'!$F440),\"\",'Scholars Nomination Form'!$C$15)","v":""},{"$f":"IF(ISBLANK('Scholars Nomination Form'!$F440),\"\",'Scholars Nomination Form'!$C$16)","v":""},{"$f":"IF(ISBLANK('Scholars Nomination Form'!B440),\"\",'Scholars Nomination Form'!B440)","v":""},{"$f":"IF(ISBLANK('Scholars Nomination Form'!D440),\"\",'Scholars Nomination Form'!D440)","v":""},{"$f":"IF(ISBLANK('Scholars Nomination Form'!E440),\"\",'Scholars Nomination Form'!E440)","v":""},{"$f":"IF(ISBLANK('Scholars Nomination Form'!F440),\"\",'Scholars Nomination Form'!F440)","v":""},{"$f":"IF(ISBLANK('Scholars Nomination Form'!G440),\"\",'Scholars Nomination Form'!G440)","v":""},{"$f":"IF(ISBLANK('Scholars Nomination Form'!H440),\"\",'Scholars Nomination Form'!H440)","v":""},{"$f":"IF(ISBLANK('Scholars Nomination Form'!I440),\"\",'Scholars Nomination Form'!I440)","v":""},{"$f":"IF(ISBLANK('Scholars Nomination Form'!J440),\"\",'Scholars Nomination Form'!J440)","v":""},{"$f":"IF(ISBLANK('Scholars Nomination Form'!K440),\"\",'Scholars Nomination Form'!K440)","v":""},{"$f":"IF(ISBLANK('Scholars Nomination Form'!L440),\"\",'Scholars Nomination Form'!L440)","v":""},{"$f":"IF(ISBLANK('Scholars Nomination Form'!M440),\"\",'Scholars Nomination Form'!M440)","v":""},{"$f":"IF(ISBLANK('Scholars Nomination Form'!N440),\"\",'Scholars Nomination Form'!N440)","v":""},{"$f":"IF(ISBLANK('Scholars Nomination Form'!O440),\"\",'Scholars Nomination Form'!O440)","v":""},{"$f":"IF(ISBLANK('Scholars Nomination Form'!P440),\"\",'Scholars Nomination Form'!P440)","v":""},{"$f":"IF(ISBLANK('Scholars Nomination Form'!Q440),\"\",'Scholars Nomination Form'!Q440)","v":""},{"$f":"IF(ISBLANK('Scholars Nomination Form'!R440),\"\",'Scholars Nomination Form'!R440)","v":""},{"$f":"IF(ISBLANK('Scholars Nomination Form'!S440),\"\",'Scholars Nomination Form'!S440)","v":""},{"$f":"IF(ISBLANK('Scholars Nomination Form'!T440),\"\",'Scholars Nomination Form'!T440)","v":""},{"$f":"IF(ISBLANK('Scholars Nomination Form'!U440),\"\",'Scholars Nomination Form'!U440)","v":""},{"$f":"IF(ISBLANK('Scholars Nomination Form'!V440),\"\",'Scholars Nomination Form'!V440)","v":""},{"$f":"IF(ISBLANK('Scholars Nomination Form'!W440),\"\",'Scholars Nomination Form'!W440)","v":""},{"$f":"IF(ISBLANK('Scholars Nomination Form'!X440),\"\",'Scholars Nomination Form'!X440)","v":""},{"$f":"IF(ISBLANK('Scholars Nomination Form'!Y440),\"\",'Scholars Nomination Form'!Y440)","v":""},{"$f":"IF(ISBLANK('Scholars Nomination Form'!Z440),\"\",'Scholars Nomination Form'!Z440)","v":""},{"$f":"IF(ISBLANK('Scholars Nomination Form'!AA440),\"\",'Scholars Nomination Form'!AA440)","v":""}]
[{"$f":"IF(ISBLANK('Scholars Nomination Form'!$F441),\"\",'Scholars Nomination Form'!$C$11)","v":""},{"$f":"IF(ISBLANK('Scholars Nomination Form'!$F441),\"\",'Scholars Nomination Form'!$C$12)","v":""},{"$f":"IF(ISBLANK('Scholars Nomination Form'!$F441),\"\",'Scholars Nomination Form'!$C$13)","v":""},{"$f":"IF(ISBLANK('Scholars Nomination Form'!$F441),\"\",'Scholars Nomination Form'!$C$14)","v":""},{"$f":"IF(ISBLANK('Scholars Nomination Form'!$F441),\"\",'Scholars Nomination Form'!$C$15)","v":""},{"$f":"IF(ISBLANK('Scholars Nomination Form'!$F441),\"\",'Scholars Nomination Form'!$C$16)","v":""},{"$f":"IF(ISBLANK('Scholars Nomination Form'!B441),\"\",'Scholars Nomination Form'!B441)","v":""},{"$f":"IF(ISBLANK('Scholars Nomination Form'!D441),\"\",'Scholars Nomination Form'!D441)","v":""},{"$f":"IF(ISBLANK('Scholars Nomination Form'!E441),\"\",'Scholars Nomination Form'!E441)","v":""},{"$f":"IF(ISBLANK('Scholars Nomination Form'!F441),\"\",'Scholars Nomination Form'!F441)","v":""},{"$f":"IF(ISBLANK('Scholars Nomination Form'!G441),\"\",'Scholars Nomination Form'!G441)","v":""},{"$f":"IF(ISBLANK('Scholars Nomination Form'!H441),\"\",'Scholars Nomination Form'!H441)","v":""},{"$f":"IF(ISBLANK('Scholars Nomination Form'!I441),\"\",'Scholars Nomination Form'!I441)","v":""},{"$f":"IF(ISBLANK('Scholars Nomination Form'!J441),\"\",'Scholars Nomination Form'!J441)","v":""},{"$f":"IF(ISBLANK('Scholars Nomination Form'!K441),\"\",'Scholars Nomination Form'!K441)","v":""},{"$f":"IF(ISBLANK('Scholars Nomination Form'!L441),\"\",'Scholars Nomination Form'!L441)","v":""},{"$f":"IF(ISBLANK('Scholars Nomination Form'!M441),\"\",'Scholars Nomination Form'!M441)","v":""},{"$f":"IF(ISBLANK('Scholars Nomination Form'!N441),\"\",'Scholars Nomination Form'!N441)","v":""},{"$f":"IF(ISBLANK('Scholars Nomination Form'!O441),\"\",'Scholars Nomination Form'!O441)","v":""},{"$f":"IF(ISBLANK('Scholars Nomination Form'!P441),\"\",'Scholars Nomination Form'!P441)","v":""},{"$f":"IF(ISBLANK('Scholars Nomination Form'!Q441),\"\",'Scholars Nomination Form'!Q441)","v":""},{"$f":"IF(ISBLANK('Scholars Nomination Form'!R441),\"\",'Scholars Nomination Form'!R441)","v":""},{"$f":"IF(ISBLANK('Scholars Nomination Form'!S441),\"\",'Scholars Nomination Form'!S441)","v":""},{"$f":"IF(ISBLANK('Scholars Nomination Form'!T441),\"\",'Scholars Nomination Form'!T441)","v":""},{"$f":"IF(ISBLANK('Scholars Nomination Form'!U441),\"\",'Scholars Nomination Form'!U441)","v":""},{"$f":"IF(ISBLANK('Scholars Nomination Form'!V441),\"\",'Scholars Nomination Form'!V441)","v":""},{"$f":"IF(ISBLANK('Scholars Nomination Form'!W441),\"\",'Scholars Nomination Form'!W441)","v":""},{"$f":"IF(ISBLANK('Scholars Nomination Form'!X441),\"\",'Scholars Nomination Form'!X441)","v":""},{"$f":"IF(ISBLANK('Scholars Nomination Form'!Y441),\"\",'Scholars Nomination Form'!Y441)","v":""},{"$f":"IF(ISBLANK('Scholars Nomination Form'!Z441),\"\",'Scholars Nomination Form'!Z441)","v":""},{"$f":"IF(ISBLANK('Scholars Nomination Form'!AA441),\"\",'Scholars Nomination Form'!AA441)","v":""}]
[{"$f":"IF(ISBLANK('Scholars Nomination Form'!$F442),\"\",'Scholars Nomination Form'!$C$11)","v":""},{"$f":"IF(ISBLANK('Scholars Nomination Form'!$F442),\"\",'Scholars Nomination Form'!$C$12)","v":""},{"$f":"IF(ISBLANK('Scholars Nomination Form'!$F442),\"\",'Scholars Nomination Form'!$C$13)","v":""},{"$f":"IF(ISBLANK('Scholars Nomination Form'!$F442),\"\",'Scholars Nomination Form'!$C$14)","v":""},{"$f":"IF(ISBLANK('Scholars Nomination Form'!$F442),\"\",'Scholars Nomination Form'!$C$15)","v":""},{"$f":"IF(ISBLANK('Scholars Nomination Form'!$F442),\"\",'Scholars Nomination Form'!$C$16)","v":""},{"$f":"IF(ISBLANK('Scholars Nomination Form'!B442),\"\",'Scholars Nomination Form'!B442)","v":""},{"$f":"IF(ISBLANK('Scholars Nomination Form'!D442),\"\",'Scholars Nomination Form'!D442)","v":""},{"$f":"IF(ISBLANK('Scholars Nomination Form'!E442),\"\",'Scholars Nomination Form'!E442)","v":""},{"$f":"IF(ISBLANK('Scholars Nomination Form'!F442),\"\",'Scholars Nomination Form'!F442)","v":""},{"$f":"IF(ISBLANK('Scholars Nomination Form'!G442),\"\",'Scholars Nomination Form'!G442)","v":""},{"$f":"IF(ISBLANK('Scholars Nomination Form'!H442),\"\",'Scholars Nomination Form'!H442)","v":""},{"$f":"IF(ISBLANK('Scholars Nomination Form'!I442),\"\",'Scholars Nomination Form'!I442)","v":""},{"$f":"IF(ISBLANK('Scholars Nomination Form'!J442),\"\",'Scholars Nomination Form'!J442)","v":""},{"$f":"IF(ISBLANK('Scholars Nomination Form'!K442),\"\",'Scholars Nomination Form'!K442)","v":""},{"$f":"IF(ISBLANK('Scholars Nomination Form'!L442),\"\",'Scholars Nomination Form'!L442)","v":""},{"$f":"IF(ISBLANK('Scholars Nomination Form'!M442),\"\",'Scholars Nomination Form'!M442)","v":""},{"$f":"IF(ISBLANK('Scholars Nomination Form'!N442),\"\",'Scholars Nomination Form'!N442)","v":""},{"$f":"IF(ISBLANK('Scholars Nomination Form'!O442),\"\",'Scholars Nomination Form'!O442)","v":""},{"$f":"IF(ISBLANK('Scholars Nomination Form'!P442),\"\",'Scholars Nomination Form'!P442)","v":""},{"$f":"IF(ISBLANK('Scholars Nomination Form'!Q442),\"\",'Scholars Nomination Form'!Q442)","v":""},{"$f":"IF(ISBLANK('Scholars Nomination Form'!R442),\"\",'Scholars Nomination Form'!R442)","v":""},{"$f":"IF(ISBLANK('Scholars Nomination Form'!S442),\"\",'Scholars Nomination Form'!S442)","v":""},{"$f":"IF(ISBLANK('Scholars Nomination Form'!T442),\"\",'Scholars Nomination Form'!T442)","v":""},{"$f":"IF(ISBLANK('Scholars Nomination Form'!U442),\"\",'Scholars Nomination Form'!U442)","v":""},{"$f":"IF(ISBLANK('Scholars Nomination Form'!V442),\"\",'Scholars Nomination Form'!V442)","v":""},{"$f":"IF(ISBLANK('Scholars Nomination Form'!W442),\"\",'Scholars Nomination Form'!W442)","v":""},{"$f":"IF(ISBLANK('Scholars Nomination Form'!X442),\"\",'Scholars Nomination Form'!X442)","v":""},{"$f":"IF(ISBLANK('Scholars Nomination Form'!Y442),\"\",'Scholars Nomination Form'!Y442)","v":""},{"$f":"IF(ISBLANK('Scholars Nomination Form'!Z442),\"\",'Scholars Nomination Form'!Z442)","v":""},{"$f":"IF(ISBLANK('Scholars Nomination Form'!AA442),\"\",'Scholars Nomination Form'!AA442)","v":""}]
[{"$f":"IF(ISBLANK('Scholars Nomination Form'!$F443),\"\",'Scholars Nomination Form'!$C$11)","v":""},{"$f":"IF(ISBLANK('Scholars Nomination Form'!$F443),\"\",'Scholars Nomination Form'!$C$12)","v":""},{"$f":"IF(ISBLANK('Scholars Nomination Form'!$F443),\"\",'Scholars Nomination Form'!$C$13)","v":""},{"$f":"IF(ISBLANK('Scholars Nomination Form'!$F443),\"\",'Scholars Nomination Form'!$C$14)","v":""},{"$f":"IF(ISBLANK('Scholars Nomination Form'!$F443),\"\",'Scholars Nomination Form'!$C$15)","v":""},{"$f":"IF(ISBLANK('Scholars Nomination Form'!$F443),\"\",'Scholars Nomination Form'!$C$16)","v":""},{"$f":"IF(ISBLANK('Scholars Nomination Form'!B443),\"\",'Scholars Nomination Form'!B443)","v":""},{"$f":"IF(ISBLANK('Scholars Nomination Form'!D443),\"\",'Scholars Nomination Form'!D443)","v":""},{"$f":"IF(ISBLANK('Scholars Nomination Form'!E443),\"\",'Scholars Nomination Form'!E443)","v":""},{"$f":"IF(ISBLANK('Scholars Nomination Form'!F443),\"\",'Scholars Nomination Form'!F443)","v":""},{"$f":"IF(ISBLANK('Scholars Nomination Form'!G443),\"\",'Scholars Nomination Form'!G443)","v":""},{"$f":"IF(ISBLANK('Scholars Nomination Form'!H443),\"\",'Scholars Nomination Form'!H443)","v":""},{"$f":"IF(ISBLANK('Scholars Nomination Form'!I443),\"\",'Scholars Nomination Form'!I443)","v":""},{"$f":"IF(ISBLANK('Scholars Nomination Form'!J443),\"\",'Scholars Nomination Form'!J443)","v":""},{"$f":"IF(ISBLANK('Scholars Nomination Form'!K443),\"\",'Scholars Nomination Form'!K443)","v":""},{"$f":"IF(ISBLANK('Scholars Nomination Form'!L443),\"\",'Scholars Nomination Form'!L443)","v":""},{"$f":"IF(ISBLANK('Scholars Nomination Form'!M443),\"\",'Scholars Nomination Form'!M443)","v":""},{"$f":"IF(ISBLANK('Scholars Nomination Form'!N443),\"\",'Scholars Nomination Form'!N443)","v":""},{"$f":"IF(ISBLANK('Scholars Nomination Form'!O443),\"\",'Scholars Nomination Form'!O443)","v":""},{"$f":"IF(ISBLANK('Scholars Nomination Form'!P443),\"\",'Scholars Nomination Form'!P443)","v":""},{"$f":"IF(ISBLANK('Scholars Nomination Form'!Q443),\"\",'Scholars Nomination Form'!Q443)","v":""},{"$f":"IF(ISBLANK('Scholars Nomination Form'!R443),\"\",'Scholars Nomination Form'!R443)","v":""},{"$f":"IF(ISBLANK('Scholars Nomination Form'!S443),\"\",'Scholars Nomination Form'!S443)","v":""},{"$f":"IF(ISBLANK('Scholars Nomination Form'!T443),\"\",'Scholars Nomination Form'!T443)","v":""},{"$f":"IF(ISBLANK('Scholars Nomination Form'!U443),\"\",'Scholars Nomination Form'!U443)","v":""},{"$f":"IF(ISBLANK('Scholars Nomination Form'!V443),\"\",'Scholars Nomination Form'!V443)","v":""},{"$f":"IF(ISBLANK('Scholars Nomination Form'!W443),\"\",'Scholars Nomination Form'!W443)","v":""},{"$f":"IF(ISBLANK('Scholars Nomination Form'!X443),\"\",'Scholars Nomination Form'!X443)","v":""},{"$f":"IF(ISBLANK('Scholars Nomination Form'!Y443),\"\",'Scholars Nomination Form'!Y443)","v":""},{"$f":"IF(ISBLANK('Scholars Nomination Form'!Z443),\"\",'Scholars Nomination Form'!Z443)","v":""},{"$f":"IF(ISBLANK('Scholars Nomination Form'!AA443),\"\",'Scholars Nomination Form'!AA443)","v":""}]
[{"$f":"IF(ISBLANK('Scholars Nomination Form'!$F444),\"\",'Scholars Nomination Form'!$C$11)","v":""},{"$f":"IF(ISBLANK('Scholars Nomination Form'!$F444),\"\",'Scholars Nomination Form'!$C$12)","v":""},{"$f":"IF(ISBLANK('Scholars Nomination Form'!$F444),\"\",'Scholars Nomination Form'!$C$13)","v":""},{"$f":"IF(ISBLANK('Scholars Nomination Form'!$F444),\"\",'Scholars Nomination Form'!$C$14)","v":""},{"$f":"IF(ISBLANK('Scholars Nomination Form'!$F444),\"\",'Scholars Nomination Form'!$C$15)","v":""},{"$f":"IF(ISBLANK('Scholars Nomination Form'!$F444),\"\",'Scholars Nomination Form'!$C$16)","v":""},{"$f":"IF(ISBLANK('Scholars Nomination Form'!B444),\"\",'Scholars Nomination Form'!B444)","v":""},{"$f":"IF(ISBLANK('Scholars Nomination Form'!D444),\"\",'Scholars Nomination Form'!D444)","v":""},{"$f":"IF(ISBLANK('Scholars Nomination Form'!E444),\"\",'Scholars Nomination Form'!E444)","v":""},{"$f":"IF(ISBLANK('Scholars Nomination Form'!F444),\"\",'Scholars Nomination Form'!F444)","v":""},{"$f":"IF(ISBLANK('Scholars Nomination Form'!G444),\"\",'Scholars Nomination Form'!G444)","v":""},{"$f":"IF(ISBLANK('Scholars Nomination Form'!H444),\"\",'Scholars Nomination Form'!H444)","v":""},{"$f":"IF(ISBLANK('Scholars Nomination Form'!I444),\"\",'Scholars Nomination Form'!I444)","v":""},{"$f":"IF(ISBLANK('Scholars Nomination Form'!J444),\"\",'Scholars Nomination Form'!J444)","v":""},{"$f":"IF(ISBLANK('Scholars Nomination Form'!K444),\"\",'Scholars Nomination Form'!K444)","v":""},{"$f":"IF(ISBLANK('Scholars Nomination Form'!L444),\"\",'Scholars Nomination Form'!L444)","v":""},{"$f":"IF(ISBLANK('Scholars Nomination Form'!M444),\"\",'Scholars Nomination Form'!M444)","v":""},{"$f":"IF(ISBLANK('Scholars Nomination Form'!N444),\"\",'Scholars Nomination Form'!N444)","v":""},{"$f":"IF(ISBLANK('Scholars Nomination Form'!O444),\"\",'Scholars Nomination Form'!O444)","v":""},{"$f":"IF(ISBLANK('Scholars Nomination Form'!P444),\"\",'Scholars Nomination Form'!P444)","v":""},{"$f":"IF(ISBLANK('Scholars Nomination Form'!Q444),\"\",'Scholars Nomination Form'!Q444)","v":""},{"$f":"IF(ISBLANK('Scholars Nomination Form'!R444),\"\",'Scholars Nomination Form'!R444)","v":""},{"$f":"IF(ISBLANK('Scholars Nomination Form'!S444),\"\",'Scholars Nomination Form'!S444)","v":""},{"$f":"IF(ISBLANK('Scholars Nomination Form'!T444),\"\",'Scholars Nomination Form'!T444)","v":""},{"$f":"IF(ISBLANK('Scholars Nomination Form'!U444),\"\",'Scholars Nomination Form'!U444)","v":""},{"$f":"IF(ISBLANK('Scholars Nomination Form'!V444),\"\",'Scholars Nomination Form'!V444)","v":""},{"$f":"IF(ISBLANK('Scholars Nomination Form'!W444),\"\",'Scholars Nomination Form'!W444)","v":""},{"$f":"IF(ISBLANK('Scholars Nomination Form'!X444),\"\",'Scholars Nomination Form'!X444)","v":""},{"$f":"IF(ISBLANK('Scholars Nomination Form'!Y444),\"\",'Scholars Nomination Form'!Y444)","v":""},{"$f":"IF(ISBLANK('Scholars Nomination Form'!Z444),\"\",'Scholars Nomination Form'!Z444)","v":""},{"$f":"IF(ISBLANK('Scholars Nomination Form'!AA444),\"\",'Scholars Nomination Form'!AA444)","v":""}]
[{"$f":"IF(ISBLANK('Scholars Nomination Form'!$F445),\"\",'Scholars Nomination Form'!$C$11)","v":""},{"$f":"IF(ISBLANK('Scholars Nomination Form'!$F445),\"\",'Scholars Nomination Form'!$C$12)","v":""},{"$f":"IF(ISBLANK('Scholars Nomination Form'!$F445),\"\",'Scholars Nomination Form'!$C$13)","v":""},{"$f":"IF(ISBLANK('Scholars Nomination Form'!$F445),\"\",'Scholars Nomination Form'!$C$14)","v":""},{"$f":"IF(ISBLANK('Scholars Nomination Form'!$F445),\"\",'Scholars Nomination Form'!$C$15)","v":""},{"$f":"IF(ISBLANK('Scholars Nomination Form'!$F445),\"\",'Scholars Nomination Form'!$C$16)","v":""},{"$f":"IF(ISBLANK('Scholars Nomination Form'!B445),\"\",'Scholars Nomination Form'!B445)","v":""},{"$f":"IF(ISBLANK('Scholars Nomination Form'!D445),\"\",'Scholars Nomination Form'!D445)","v":""},{"$f":"IF(ISBLANK('Scholars Nomination Form'!E445),\"\",'Scholars Nomination Form'!E445)","v":""},{"$f":"IF(ISBLANK('Scholars Nomination Form'!F445),\"\",'Scholars Nomination Form'!F445)","v":""},{"$f":"IF(ISBLANK('Scholars Nomination Form'!G445),\"\",'Scholars Nomination Form'!G445)","v":""},{"$f":"IF(ISBLANK('Scholars Nomination Form'!H445),\"\",'Scholars Nomination Form'!H445)","v":""},{"$f":"IF(ISBLANK('Scholars Nomination Form'!I445),\"\",'Scholars Nomination Form'!I445)","v":""},{"$f":"IF(ISBLANK('Scholars Nomination Form'!J445),\"\",'Scholars Nomination Form'!J445)","v":""},{"$f":"IF(ISBLANK('Scholars Nomination Form'!K445),\"\",'Scholars Nomination Form'!K445)","v":""},{"$f":"IF(ISBLANK('Scholars Nomination Form'!L445),\"\",'Scholars Nomination Form'!L445)","v":""},{"$f":"IF(ISBLANK('Scholars Nomination Form'!M445),\"\",'Scholars Nomination Form'!M445)","v":""},{"$f":"IF(ISBLANK('Scholars Nomination Form'!N445),\"\",'Scholars Nomination Form'!N445)","v":""},{"$f":"IF(ISBLANK('Scholars Nomination Form'!O445),\"\",'Scholars Nomination Form'!O445)","v":""},{"$f":"IF(ISBLANK('Scholars Nomination Form'!P445),\"\",'Scholars Nomination Form'!P445)","v":""},{"$f":"IF(ISBLANK('Scholars Nomination Form'!Q445),\"\",'Scholars Nomination Form'!Q445)","v":""},{"$f":"IF(ISBLANK('Scholars Nomination Form'!R445),\"\",'Scholars Nomination Form'!R445)","v":""},{"$f":"IF(ISBLANK('Scholars Nomination Form'!S445),\"\",'Scholars Nomination Form'!S445)","v":""},{"$f":"IF(ISBLANK('Scholars Nomination Form'!T445),\"\",'Scholars Nomination Form'!T445)","v":""},{"$f":"IF(ISBLANK('Scholars Nomination Form'!U445),\"\",'Scholars Nomination Form'!U445)","v":""},{"$f":"IF(ISBLANK('Scholars Nomination Form'!V445),\"\",'Scholars Nomination Form'!V445)","v":""},{"$f":"IF(ISBLANK('Scholars Nomination Form'!W445),\"\",'Scholars Nomination Form'!W445)","v":""},{"$f":"IF(ISBLANK('Scholars Nomination Form'!X445),\"\",'Scholars Nomination Form'!X445)","v":""},{"$f":"IF(ISBLANK('Scholars Nomination Form'!Y445),\"\",'Scholars Nomination Form'!Y445)","v":""},{"$f":"IF(ISBLANK('Scholars Nomination Form'!Z445),\"\",'Scholars Nomination Form'!Z445)","v":""},{"$f":"IF(ISBLANK('Scholars Nomination Form'!AA445),\"\",'Scholars Nomination Form'!AA445)","v":""}]
[{"$f":"IF(ISBLANK('Scholars Nomination Form'!$F446),\"\",'Scholars Nomination Form'!$C$11)","v":""},{"$f":"IF(ISBLANK('Scholars Nomination Form'!$F446),\"\",'Scholars Nomination Form'!$C$12)","v":""},{"$f":"IF(ISBLANK('Scholars Nomination Form'!$F446),\"\",'Scholars Nomination Form'!$C$13)","v":""},{"$f":"IF(ISBLANK('Scholars Nomination Form'!$F446),\"\",'Scholars Nomination Form'!$C$14)","v":""},{"$f":"IF(ISBLANK('Scholars Nomination Form'!$F446),\"\",'Scholars Nomination Form'!$C$15)","v":""},{"$f":"IF(ISBLANK('Scholars Nomination Form'!$F446),\"\",'Scholars Nomination Form'!$C$16)","v":""},{"$f":"IF(ISBLANK('Scholars Nomination Form'!B446),\"\",'Scholars Nomination Form'!B446)","v":""},{"$f":"IF(ISBLANK('Scholars Nomination Form'!D446),\"\",'Scholars Nomination Form'!D446)","v":""},{"$f":"IF(ISBLANK('Scholars Nomination Form'!E446),\"\",'Scholars Nomination Form'!E446)","v":""},{"$f":"IF(ISBLANK('Scholars Nomination Form'!F446),\"\",'Scholars Nomination Form'!F446)","v":""},{"$f":"IF(ISBLANK('Scholars Nomination Form'!G446),\"\",'Scholars Nomination Form'!G446)","v":""},{"$f":"IF(ISBLANK('Scholars Nomination Form'!H446),\"\",'Scholars Nomination Form'!H446)","v":""},{"$f":"IF(ISBLANK('Scholars Nomination Form'!I446),\"\",'Scholars Nomination Form'!I446)","v":""},{"$f":"IF(ISBLANK('Scholars Nomination Form'!J446),\"\",'Scholars Nomination Form'!J446)","v":""},{"$f":"IF(ISBLANK('Scholars Nomination Form'!K446),\"\",'Scholars Nomination Form'!K446)","v":""},{"$f":"IF(ISBLANK('Scholars Nomination Form'!L446),\"\",'Scholars Nomination Form'!L446)","v":""},{"$f":"IF(ISBLANK('Scholars Nomination Form'!M446),\"\",'Scholars Nomination Form'!M446)","v":""},{"$f":"IF(ISBLANK('Scholars Nomination Form'!N446),\"\",'Scholars Nomination Form'!N446)","v":""},{"$f":"IF(ISBLANK('Scholars Nomination Form'!O446),\"\",'Scholars Nomination Form'!O446)","v":""},{"$f":"IF(ISBLANK('Scholars Nomination Form'!P446),\"\",'Scholars Nomination Form'!P446)","v":""},{"$f":"IF(ISBLANK('Scholars Nomination Form'!Q446),\"\",'Scholars Nomination Form'!Q446)","v":""},{"$f":"IF(ISBLANK('Scholars Nomination Form'!R446),\"\",'Scholars Nomination Form'!R446)","v":""},{"$f":"IF(ISBLANK('Scholars Nomination Form'!S446),\"\",'Scholars Nomination Form'!S446)","v":""},{"$f":"IF(ISBLANK('Scholars Nomination Form'!T446),\"\",'Scholars Nomination Form'!T446)","v":""},{"$f":"IF(ISBLANK('Scholars Nomination Form'!U446),\"\",'Scholars Nomination Form'!U446)","v":""},{"$f":"IF(ISBLANK('Scholars Nomination Form'!V446),\"\",'Scholars Nomination Form'!V446)","v":""},{"$f":"IF(ISBLANK('Scholars Nomination Form'!W446),\"\",'Scholars Nomination Form'!W446)","v":""},{"$f":"IF(ISBLANK('Scholars Nomination Form'!X446),\"\",'Scholars Nomination Form'!X446)","v":""},{"$f":"IF(ISBLANK('Scholars Nomination Form'!Y446),\"\",'Scholars Nomination Form'!Y446)","v":""},{"$f":"IF(ISBLANK('Scholars Nomination Form'!Z446),\"\",'Scholars Nomination Form'!Z446)","v":""},{"$f":"IF(ISBLANK('Scholars Nomination Form'!AA446),\"\",'Scholars Nomination Form'!AA446)","v":""}]
[{"$f":"IF(ISBLANK('Scholars Nomination Form'!$F447),\"\",'Scholars Nomination Form'!$C$11)","v":""},{"$f":"IF(ISBLANK('Scholars Nomination Form'!$F447),\"\",'Scholars Nomination Form'!$C$12)","v":""},{"$f":"IF(ISBLANK('Scholars Nomination Form'!$F447),\"\",'Scholars Nomination Form'!$C$13)","v":""},{"$f":"IF(ISBLANK('Scholars Nomination Form'!$F447),\"\",'Scholars Nomination Form'!$C$14)","v":""},{"$f":"IF(ISBLANK('Scholars Nomination Form'!$F447),\"\",'Scholars Nomination Form'!$C$15)","v":""},{"$f":"IF(ISBLANK('Scholars Nomination Form'!$F447),\"\",'Scholars Nomination Form'!$C$16)","v":""},{"$f":"IF(ISBLANK('Scholars Nomination Form'!B447),\"\",'Scholars Nomination Form'!B447)","v":""},{"$f":"IF(ISBLANK('Scholars Nomination Form'!D447),\"\",'Scholars Nomination Form'!D447)","v":""},{"$f":"IF(ISBLANK('Scholars Nomination Form'!E447),\"\",'Scholars Nomination Form'!E447)","v":""},{"$f":"IF(ISBLANK('Scholars Nomination Form'!F447),\"\",'Scholars Nomination Form'!F447)","v":""},{"$f":"IF(ISBLANK('Scholars Nomination Form'!G447),\"\",'Scholars Nomination Form'!G447)","v":""},{"$f":"IF(ISBLANK('Scholars Nomination Form'!H447),\"\",'Scholars Nomination Form'!H447)","v":""},{"$f":"IF(ISBLANK('Scholars Nomination Form'!I447),\"\",'Scholars Nomination Form'!I447)","v":""},{"$f":"IF(ISBLANK('Scholars Nomination Form'!J447),\"\",'Scholars Nomination Form'!J447)","v":""},{"$f":"IF(ISBLANK('Scholars Nomination Form'!K447),\"\",'Scholars Nomination Form'!K447)","v":""},{"$f":"IF(ISBLANK('Scholars Nomination Form'!L447),\"\",'Scholars Nomination Form'!L447)","v":""},{"$f":"IF(ISBLANK('Scholars Nomination Form'!M447),\"\",'Scholars Nomination Form'!M447)","v":""},{"$f":"IF(ISBLANK('Scholars Nomination Form'!N447),\"\",'Scholars Nomination Form'!N447)","v":""},{"$f":"IF(ISBLANK('Scholars Nomination Form'!O447),\"\",'Scholars Nomination Form'!O447)","v":""},{"$f":"IF(ISBLANK('Scholars Nomination Form'!P447),\"\",'Scholars Nomination Form'!P447)","v":""},{"$f":"IF(ISBLANK('Scholars Nomination Form'!Q447),\"\",'Scholars Nomination Form'!Q447)","v":""},{"$f":"IF(ISBLANK('Scholars Nomination Form'!R447),\"\",'Scholars Nomination Form'!R447)","v":""},{"$f":"IF(ISBLANK('Scholars Nomination Form'!S447),\"\",'Scholars Nomination Form'!S447)","v":""},{"$f":"IF(ISBLANK('Scholars Nomination Form'!T447),\"\",'Scholars Nomination Form'!T447)","v":""},{"$f":"IF(ISBLANK('Scholars Nomination Form'!U447),\"\",'Scholars Nomination Form'!U447)","v":""},{"$f":"IF(ISBLANK('Scholars Nomination Form'!V447),\"\",'Scholars Nomination Form'!V447)","v":""},{"$f":"IF(ISBLANK('Scholars Nomination Form'!W447),\"\",'Scholars Nomination Form'!W447)","v":""},{"$f":"IF(ISBLANK('Scholars Nomination Form'!X447),\"\",'Scholars Nomination Form'!X447)","v":""},{"$f":"IF(ISBLANK('Scholars Nomination Form'!Y447),\"\",'Scholars Nomination Form'!Y447)","v":""},{"$f":"IF(ISBLANK('Scholars Nomination Form'!Z447),\"\",'Scholars Nomination Form'!Z447)","v":""},{"$f":"IF(ISBLANK('Scholars Nomination Form'!AA447),\"\",'Scholars Nomination Form'!AA447)","v":""}]
[{"$f":"IF(ISBLANK('Scholars Nomination Form'!$F448),\"\",'Scholars Nomination Form'!$C$11)","v":""},{"$f":"IF(ISBLANK('Scholars Nomination Form'!$F448),\"\",'Scholars Nomination Form'!$C$12)","v":""},{"$f":"IF(ISBLANK('Scholars Nomination Form'!$F448),\"\",'Scholars Nomination Form'!$C$13)","v":""},{"$f":"IF(ISBLANK('Scholars Nomination Form'!$F448),\"\",'Scholars Nomination Form'!$C$14)","v":""},{"$f":"IF(ISBLANK('Scholars Nomination Form'!$F448),\"\",'Scholars Nomination Form'!$C$15)","v":""},{"$f":"IF(ISBLANK('Scholars Nomination Form'!$F448),\"\",'Scholars Nomination Form'!$C$16)","v":""},{"$f":"IF(ISBLANK('Scholars Nomination Form'!B448),\"\",'Scholars Nomination Form'!B448)","v":""},{"$f":"IF(ISBLANK('Scholars Nomination Form'!D448),\"\",'Scholars Nomination Form'!D448)","v":""},{"$f":"IF(ISBLANK('Scholars Nomination Form'!E448),\"\",'Scholars Nomination Form'!E448)","v":""},{"$f":"IF(ISBLANK('Scholars Nomination Form'!F448),\"\",'Scholars Nomination Form'!F448)","v":""},{"$f":"IF(ISBLANK('Scholars Nomination Form'!G448),\"\",'Scholars Nomination Form'!G448)","v":""},{"$f":"IF(ISBLANK('Scholars Nomination Form'!H448),\"\",'Scholars Nomination Form'!H448)","v":""},{"$f":"IF(ISBLANK('Scholars Nomination Form'!I448),\"\",'Scholars Nomination Form'!I448)","v":""},{"$f":"IF(ISBLANK('Scholars Nomination Form'!J448),\"\",'Scholars Nomination Form'!J448)","v":""},{"$f":"IF(ISBLANK('Scholars Nomination Form'!K448),\"\",'Scholars Nomination Form'!K448)","v":""},{"$f":"IF(ISBLANK('Scholars Nomination Form'!L448),\"\",'Scholars Nomination Form'!L448)","v":""},{"$f":"IF(ISBLANK('Scholars Nomination Form'!M448),\"\",'Scholars Nomination Form'!M448)","v":""},{"$f":"IF(ISBLANK('Scholars Nomination Form'!N448),\"\",'Scholars Nomination Form'!N448)","v":""},{"$f":"IF(ISBLANK('Scholars Nomination Form'!O448),\"\",'Scholars Nomination Form'!O448)","v":""},{"$f":"IF(ISBLANK('Scholars Nomination Form'!P448),\"\",'Scholars Nomination Form'!P448)","v":""},{"$f":"IF(ISBLANK('Scholars Nomination Form'!Q448),\"\",'Scholars Nomination Form'!Q448)","v":""},{"$f":"IF(ISBLANK('Scholars Nomination Form'!R448),\"\",'Scholars Nomination Form'!R448)","v":""},{"$f":"IF(ISBLANK('Scholars Nomination Form'!S448),\"\",'Scholars Nomination Form'!S448)","v":""},{"$f":"IF(ISBLANK('Scholars Nomination Form'!T448),\"\",'Scholars Nomination Form'!T448)","v":""},{"$f":"IF(ISBLANK('Scholars Nomination Form'!U448),\"\",'Scholars Nomination Form'!U448)","v":""},{"$f":"IF(ISBLANK('Scholars Nomination Form'!V448),\"\",'Scholars Nomination Form'!V448)","v":""},{"$f":"IF(ISBLANK('Scholars Nomination Form'!W448),\"\",'Scholars Nomination Form'!W448)","v":""},{"$f":"IF(ISBLANK('Scholars Nomination Form'!X448),\"\",'Scholars Nomination Form'!X448)","v":""},{"$f":"IF(ISBLANK('Scholars Nomination Form'!Y448),\"\",'Scholars Nomination Form'!Y448)","v":""},{"$f":"IF(ISBLANK('Scholars Nomination Form'!Z448),\"\",'Scholars Nomination Form'!Z448)","v":""},{"$f":"IF(ISBLANK('Scholars Nomination Form'!AA448),\"\",'Scholars Nomination Form'!AA448)","v":""}]
[{"$f":"IF(ISBLANK('Scholars Nomination Form'!$F449),\"\",'Scholars Nomination Form'!$C$11)","v":""},{"$f":"IF(ISBLANK('Scholars Nomination Form'!$F449),\"\",'Scholars Nomination Form'!$C$12)","v":""},{"$f":"IF(ISBLANK('Scholars Nomination Form'!$F449),\"\",'Scholars Nomination Form'!$C$13)","v":""},{"$f":"IF(ISBLANK('Scholars Nomination Form'!$F449),\"\",'Scholars Nomination Form'!$C$14)","v":""},{"$f":"IF(ISBLANK('Scholars Nomination Form'!$F449),\"\",'Scholars Nomination Form'!$C$15)","v":""},{"$f":"IF(ISBLANK('Scholars Nomination Form'!$F449),\"\",'Scholars Nomination Form'!$C$16)","v":""},{"$f":"IF(ISBLANK('Scholars Nomination Form'!B449),\"\",'Scholars Nomination Form'!B449)","v":""},{"$f":"IF(ISBLANK('Scholars Nomination Form'!D449),\"\",'Scholars Nomination Form'!D449)","v":""},{"$f":"IF(ISBLANK('Scholars Nomination Form'!E449),\"\",'Scholars Nomination Form'!E449)","v":""},{"$f":"IF(ISBLANK('Scholars Nomination Form'!F449),\"\",'Scholars Nomination Form'!F449)","v":""},{"$f":"IF(ISBLANK('Scholars Nomination Form'!G449),\"\",'Scholars Nomination Form'!G449)","v":""},{"$f":"IF(ISBLANK('Scholars Nomination Form'!H449),\"\",'Scholars Nomination Form'!H449)","v":""},{"$f":"IF(ISBLANK('Scholars Nomination Form'!I449),\"\",'Scholars Nomination Form'!I449)","v":""},{"$f":"IF(ISBLANK('Scholars Nomination Form'!J449),\"\",'Scholars Nomination Form'!J449)","v":""},{"$f":"IF(ISBLANK('Scholars Nomination Form'!K449),\"\",'Scholars Nomination Form'!K449)","v":""},{"$f":"IF(ISBLANK('Scholars Nomination Form'!L449),\"\",'Scholars Nomination Form'!L449)","v":""},{"$f":"IF(ISBLANK('Scholars Nomination Form'!M449),\"\",'Scholars Nomination Form'!M449)","v":""},{"$f":"IF(ISBLANK('Scholars Nomination Form'!N449),\"\",'Scholars Nomination Form'!N449)","v":""},{"$f":"IF(ISBLANK('Scholars Nomination Form'!O449),\"\",'Scholars Nomination Form'!O449)","v":""},{"$f":"IF(ISBLANK('Scholars Nomination Form'!P449),\"\",'Scholars Nomination Form'!P449)","v":""},{"$f":"IF(ISBLANK('Scholars Nomination Form'!Q449),\"\",'Scholars Nomination Form'!Q449)","v":""},{"$f":"IF(ISBLANK('Scholars Nomination Form'!R449),\"\",'Scholars Nomination Form'!R449)","v":""},{"$f":"IF(ISBLANK('Scholars Nomination Form'!S449),\"\",'Scholars Nomination Form'!S449)","v":""},{"$f":"IF(ISBLANK('Scholars Nomination Form'!T449),\"\",'Scholars Nomination Form'!T449)","v":""},{"$f":"IF(ISBLANK('Scholars Nomination Form'!U449),\"\",'Scholars Nomination Form'!U449)","v":""},{"$f":"IF(ISBLANK('Scholars Nomination Form'!V449),\"\",'Scholars Nomination Form'!V449)","v":""},{"$f":"IF(ISBLANK('Scholars Nomination Form'!W449),\"\",'Scholars Nomination Form'!W449)","v":""},{"$f":"IF(ISBLANK('Scholars Nomination Form'!X449),\"\",'Scholars Nomination Form'!X449)","v":""},{"$f":"IF(ISBLANK('Scholars Nomination Form'!Y449),\"\",'Scholars Nomination Form'!Y449)","v":""},{"$f":"IF(ISBLANK('Scholars Nomination Form'!Z449),\"\",'Scholars Nomination Form'!Z449)","v":""},{"$f":"IF(ISBLANK('Scholars Nomination Form'!AA449),\"\",'Scholars Nomination Form'!AA449)","v":""}]
[{"$f":"IF(ISBLANK('Scholars Nomination Form'!$F450),\"\",'Scholars Nomination Form'!$C$11)","v":""},{"$f":"IF(ISBLANK('Scholars Nomination Form'!$F450),\"\",'Scholars Nomination Form'!$C$12)","v":""},{"$f":"IF(ISBLANK('Scholars Nomination Form'!$F450),\"\",'Scholars Nomination Form'!$C$13)","v":""},{"$f":"IF(ISBLANK('Scholars Nomination Form'!$F450),\"\",'Scholars Nomination Form'!$C$14)","v":""},{"$f":"IF(ISBLANK('Scholars Nomination Form'!$F450),\"\",'Scholars Nomination Form'!$C$15)","v":""},{"$f":"IF(ISBLANK('Scholars Nomination Form'!$F450),\"\",'Scholars Nomination Form'!$C$16)","v":""},{"$f":"IF(ISBLANK('Scholars Nomination Form'!B450),\"\",'Scholars Nomination Form'!B450)","v":""},{"$f":"IF(ISBLANK('Scholars Nomination Form'!D450),\"\",'Scholars Nomination Form'!D450)","v":""},{"$f":"IF(ISBLANK('Scholars Nomination Form'!E450),\"\",'Scholars Nomination Form'!E450)","v":""},{"$f":"IF(ISBLANK('Scholars Nomination Form'!F450),\"\",'Scholars Nomination Form'!F450)","v":""},{"$f":"IF(ISBLANK('Scholars Nomination Form'!G450),\"\",'Scholars Nomination Form'!G450)","v":""},{"$f":"IF(ISBLANK('Scholars Nomination Form'!H450),\"\",'Scholars Nomination Form'!H450)","v":""},{"$f":"IF(ISBLANK('Scholars Nomination Form'!I450),\"\",'Scholars Nomination Form'!I450)","v":""},{"$f":"IF(ISBLANK('Scholars Nomination Form'!J450),\"\",'Scholars Nomination Form'!J450)","v":""},{"$f":"IF(ISBLANK('Scholars Nomination Form'!K450),\"\",'Scholars Nomination Form'!K450)","v":""},{"$f":"IF(ISBLANK('Scholars Nomination Form'!L450),\"\",'Scholars Nomination Form'!L450)","v":""},{"$f":"IF(ISBLANK('Scholars Nomination Form'!M450),\"\",'Scholars Nomination Form'!M450)","v":""},{"$f":"IF(ISBLANK('Scholars Nomination Form'!N450),\"\",'Scholars Nomination Form'!N450)","v":""},{"$f":"IF(ISBLANK('Scholars Nomination Form'!O450),\"\",'Scholars Nomination Form'!O450)","v":""},{"$f":"IF(ISBLANK('Scholars Nomination Form'!P450),\"\",'Scholars Nomination Form'!P450)","v":""},{"$f":"IF(ISBLANK('Scholars Nomination Form'!Q450),\"\",'Scholars Nomination Form'!Q450)","v":""},{"$f":"IF(ISBLANK('Scholars Nomination Form'!R450),\"\",'Scholars Nomination Form'!R450)","v":""},{"$f":"IF(ISBLANK('Scholars Nomination Form'!S450),\"\",'Scholars Nomination Form'!S450)","v":""},{"$f":"IF(ISBLANK('Scholars Nomination Form'!T450),\"\",'Scholars Nomination Form'!T450)","v":""},{"$f":"IF(ISBLANK('Scholars Nomination Form'!U450),\"\",'Scholars Nomination Form'!U450)","v":""},{"$f":"IF(ISBLANK('Scholars Nomination Form'!V450),\"\",'Scholars Nomination Form'!V450)","v":""},{"$f":"IF(ISBLANK('Scholars Nomination Form'!W450),\"\",'Scholars Nomination Form'!W450)","v":""},{"$f":"IF(ISBLANK('Scholars Nomination Form'!X450),\"\",'Scholars Nomination Form'!X450)","v":""},{"$f":"IF(ISBLANK('Scholars Nomination Form'!Y450),\"\",'Scholars Nomination Form'!Y450)","v":""},{"$f":"IF(ISBLANK('Scholars Nomination Form'!Z450),\"\",'Scholars Nomination Form'!Z450)","v":""},{"$f":"IF(ISBLANK('Scholars Nomination Form'!AA450),\"\",'Scholars Nomination Form'!AA450)","v":""}]
[{"$f":"IF(ISBLANK('Scholars Nomination Form'!$F451),\"\",'Scholars Nomination Form'!$C$11)","v":""},{"$f":"IF(ISBLANK('Scholars Nomination Form'!$F451),\"\",'Scholars Nomination Form'!$C$12)","v":""},{"$f":"IF(ISBLANK('Scholars Nomination Form'!$F451),\"\",'Scholars Nomination Form'!$C$13)","v":""},{"$f":"IF(ISBLANK('Scholars Nomination Form'!$F451),\"\",'Scholars Nomination Form'!$C$14)","v":""},{"$f":"IF(ISBLANK('Scholars Nomination Form'!$F451),\"\",'Scholars Nomination Form'!$C$15)","v":""},{"$f":"IF(ISBLANK('Scholars Nomination Form'!$F451),\"\",'Scholars Nomination Form'!$C$16)","v":""},{"$f":"IF(ISBLANK('Scholars Nomination Form'!B451),\"\",'Scholars Nomination Form'!B451)","v":""},{"$f":"IF(ISBLANK('Scholars Nomination Form'!D451),\"\",'Scholars Nomination Form'!D451)","v":""},{"$f":"IF(ISBLANK('Scholars Nomination Form'!E451),\"\",'Scholars Nomination Form'!E451)","v":""},{"$f":"IF(ISBLANK('Scholars Nomination Form'!F451),\"\",'Scholars Nomination Form'!F451)","v":""},{"$f":"IF(ISBLANK('Scholars Nomination Form'!G451),\"\",'Scholars Nomination Form'!G451)","v":""},{"$f":"IF(ISBLANK('Scholars Nomination Form'!H451),\"\",'Scholars Nomination Form'!H451)","v":""},{"$f":"IF(ISBLANK('Scholars Nomination Form'!I451),\"\",'Scholars Nomination Form'!I451)","v":""},{"$f":"IF(ISBLANK('Scholars Nomination Form'!J451),\"\",'Scholars Nomination Form'!J451)","v":""},{"$f":"IF(ISBLANK('Scholars Nomination Form'!K451),\"\",'Scholars Nomination Form'!K451)","v":""},{"$f":"IF(ISBLANK('Scholars Nomination Form'!L451),\"\",'Scholars Nomination Form'!L451)","v":""},{"$f":"IF(ISBLANK('Scholars Nomination Form'!M451),\"\",'Scholars Nomination Form'!M451)","v":""},{"$f":"IF(ISBLANK('Scholars Nomination Form'!N451),\"\",'Scholars Nomination Form'!N451)","v":""},{"$f":"IF(ISBLANK('Scholars Nomination Form'!O451),\"\",'Scholars Nomination Form'!O451)","v":""},{"$f":"IF(ISBLANK('Scholars Nomination Form'!P451),\"\",'Scholars Nomination Form'!P451)","v":""},{"$f":"IF(ISBLANK('Scholars Nomination Form'!Q451),\"\",'Scholars Nomination Form'!Q451)","v":""},{"$f":"IF(ISBLANK('Scholars Nomination Form'!R451),\"\",'Scholars Nomination Form'!R451)","v":""},{"$f":"IF(ISBLANK('Scholars Nomination Form'!S451),\"\",'Scholars Nomination Form'!S451)","v":""},{"$f":"IF(ISBLANK('Scholars Nomination Form'!T451),\"\",'Scholars Nomination Form'!T451)","v":""},{"$f":"IF(ISBLANK('Scholars Nomination Form'!U451),\"\",'Scholars Nomination Form'!U451)","v":""},{"$f":"IF(ISBLANK('Scholars Nomination Form'!V451),\"\",'Scholars Nomination Form'!V451)","v":""},{"$f":"IF(ISBLANK('Scholars Nomination Form'!W451),\"\",'Scholars Nomination Form'!W451)","v":""},{"$f":"IF(ISBLANK('Scholars Nomination Form'!X451),\"\",'Scholars Nomination Form'!X451)","v":""},{"$f":"IF(ISBLANK('Scholars Nomination Form'!Y451),\"\",'Scholars Nomination Form'!Y451)","v":""},{"$f":"IF(ISBLANK('Scholars Nomination Form'!Z451),\"\",'Scholars Nomination Form'!Z451)","v":""},{"$f":"IF(ISBLANK('Scholars Nomination Form'!AA451),\"\",'Scholars Nomination Form'!AA451)","v":""}]
[{"$f":"IF(ISBLANK('Scholars Nomination Form'!$F452),\"\",'Scholars Nomination Form'!$C$11)","v":""},{"$f":"IF(ISBLANK('Scholars Nomination Form'!$F452),\"\",'Scholars Nomination Form'!$C$12)","v":""},{"$f":"IF(ISBLANK('Scholars Nomination Form'!$F452),\"\",'Scholars Nomination Form'!$C$13)","v":""},{"$f":"IF(ISBLANK('Scholars Nomination Form'!$F452),\"\",'Scholars Nomination Form'!$C$14)","v":""},{"$f":"IF(ISBLANK('Scholars Nomination Form'!$F452),\"\",'Scholars Nomination Form'!$C$15)","v":""},{"$f":"IF(ISBLANK('Scholars Nomination Form'!$F452),\"\",'Scholars Nomination Form'!$C$16)","v":""},{"$f":"IF(ISBLANK('Scholars Nomination Form'!B452),\"\",'Scholars Nomination Form'!B452)","v":""},{"$f":"IF(ISBLANK('Scholars Nomination Form'!D452),\"\",'Scholars Nomination Form'!D452)","v":""},{"$f":"IF(ISBLANK('Scholars Nomination Form'!E452),\"\",'Scholars Nomination Form'!E452)","v":""},{"$f":"IF(ISBLANK('Scholars Nomination Form'!F452),\"\",'Scholars Nomination Form'!F452)","v":""},{"$f":"IF(ISBLANK('Scholars Nomination Form'!G452),\"\",'Scholars Nomination Form'!G452)","v":""},{"$f":"IF(ISBLANK('Scholars Nomination Form'!H452),\"\",'Scholars Nomination Form'!H452)","v":""},{"$f":"IF(ISBLANK('Scholars Nomination Form'!I452),\"\",'Scholars Nomination Form'!I452)","v":""},{"$f":"IF(ISBLANK('Scholars Nomination Form'!J452),\"\",'Scholars Nomination Form'!J452)","v":""},{"$f":"IF(ISBLANK('Scholars Nomination Form'!K452),\"\",'Scholars Nomination Form'!K452)","v":""},{"$f":"IF(ISBLANK('Scholars Nomination Form'!L452),\"\",'Scholars Nomination Form'!L452)","v":""},{"$f":"IF(ISBLANK('Scholars Nomination Form'!M452),\"\",'Scholars Nomination Form'!M452)","v":""},{"$f":"IF(ISBLANK('Scholars Nomination Form'!N452),\"\",'Scholars Nomination Form'!N452)","v":""},{"$f":"IF(ISBLANK('Scholars Nomination Form'!O452),\"\",'Scholars Nomination Form'!O452)","v":""},{"$f":"IF(ISBLANK('Scholars Nomination Form'!P452),\"\",'Scholars Nomination Form'!P452)","v":""},{"$f":"IF(ISBLANK('Scholars Nomination Form'!Q452),\"\",'Scholars Nomination Form'!Q452)","v":""},{"$f":"IF(ISBLANK('Scholars Nomination Form'!R452),\"\",'Scholars Nomination Form'!R452)","v":""},{"$f":"IF(ISBLANK('Scholars Nomination Form'!S452),\"\",'Scholars Nomination Form'!S452)","v":""},{"$f":"IF(ISBLANK('Scholars Nomination Form'!T452),\"\",'Scholars Nomination Form'!T452)","v":""},{"$f":"IF(ISBLANK('Scholars Nomination Form'!U452),\"\",'Scholars Nomination Form'!U452)","v":""},{"$f":"IF(ISBLANK('Scholars Nomination Form'!V452),\"\",'Scholars Nomination Form'!V452)","v":""},{"$f":"IF(ISBLANK('Scholars Nomination Form'!W452),\"\",'Scholars Nomination Form'!W452)","v":""},{"$f":"IF(ISBLANK('Scholars Nomination Form'!X452),\"\",'Scholars Nomination Form'!X452)","v":""},{"$f":"IF(ISBLANK('Scholars Nomination Form'!Y452),\"\",'Scholars Nomination Form'!Y452)","v":""},{"$f":"IF(ISBLANK('Scholars Nomination Form'!Z452),\"\",'Scholars Nomination Form'!Z452)","v":""},{"$f":"IF(ISBLANK('Scholars Nomination Form'!AA452),\"\",'Scholars Nomination Form'!AA452)","v":""}]
[{"$f":"IF(ISBLANK('Scholars Nomination Form'!$F453),\"\",'Scholars Nomination Form'!$C$11)","v":""},{"$f":"IF(ISBLANK('Scholars Nomination Form'!$F453),\"\",'Scholars Nomination Form'!$C$12)","v":""},{"$f":"IF(ISBLANK('Scholars Nomination Form'!$F453),\"\",'Scholars Nomination Form'!$C$13)","v":""},{"$f":"IF(ISBLANK('Scholars Nomination Form'!$F453),\"\",'Scholars Nomination Form'!$C$14)","v":""},{"$f":"IF(ISBLANK('Scholars Nomination Form'!$F453),\"\",'Scholars Nomination Form'!$C$15)","v":""},{"$f":"IF(ISBLANK('Scholars Nomination Form'!$F453),\"\",'Scholars Nomination Form'!$C$16)","v":""},{"$f":"IF(ISBLANK('Scholars Nomination Form'!B453),\"\",'Scholars Nomination Form'!B453)","v":""},{"$f":"IF(ISBLANK('Scholars Nomination Form'!D453),\"\",'Scholars Nomination Form'!D453)","v":""},{"$f":"IF(ISBLANK('Scholars Nomination Form'!E453),\"\",'Scholars Nomination Form'!E453)","v":""},{"$f":"IF(ISBLANK('Scholars Nomination Form'!F453),\"\",'Scholars Nomination Form'!F453)","v":""},{"$f":"IF(ISBLANK('Scholars Nomination Form'!G453),\"\",'Scholars Nomination Form'!G453)","v":""},{"$f":"IF(ISBLANK('Scholars Nomination Form'!H453),\"\",'Scholars Nomination Form'!H453)","v":""},{"$f":"IF(ISBLANK('Scholars Nomination Form'!I453),\"\",'Scholars Nomination Form'!I453)","v":""},{"$f":"IF(ISBLANK('Scholars Nomination Form'!J453),\"\",'Scholars Nomination Form'!J453)","v":""},{"$f":"IF(ISBLANK('Scholars Nomination Form'!K453),\"\",'Scholars Nomination Form'!K453)","v":""},{"$f":"IF(ISBLANK('Scholars Nomination Form'!L453),\"\",'Scholars Nomination Form'!L453)","v":""},{"$f":"IF(ISBLANK('Scholars Nomination Form'!M453),\"\",'Scholars Nomination Form'!M453)","v":""},{"$f":"IF(ISBLANK('Scholars Nomination Form'!N453),\"\",'Scholars Nomination Form'!N453)","v":""},{"$f":"IF(ISBLANK('Scholars Nomination Form'!O453),\"\",'Scholars Nomination Form'!O453)","v":""},{"$f":"IF(ISBLANK('Scholars Nomination Form'!P453),\"\",'Scholars Nomination Form'!P453)","v":""},{"$f":"IF(ISBLANK('Scholars Nomination Form'!Q453),\"\",'Scholars Nomination Form'!Q453)","v":""},{"$f":"IF(ISBLANK('Scholars Nomination Form'!R453),\"\",'Scholars Nomination Form'!R453)","v":""},{"$f":"IF(ISBLANK('Scholars Nomination Form'!S453),\"\",'Scholars Nomination Form'!S453)","v":""},{"$f":"IF(ISBLANK('Scholars Nomination Form'!T453),\"\",'Scholars Nomination Form'!T453)","v":""},{"$f":"IF(ISBLANK('Scholars Nomination Form'!U453),\"\",'Scholars Nomination Form'!U453)","v":""},{"$f":"IF(ISBLANK('Scholars Nomination Form'!V453),\"\",'Scholars Nomination Form'!V453)","v":""},{"$f":"IF(ISBLANK('Scholars Nomination Form'!W453),\"\",'Scholars Nomination Form'!W453)","v":""},{"$f":"IF(ISBLANK('Scholars Nomination Form'!X453),\"\",'Scholars Nomination Form'!X453)","v":""},{"$f":"IF(ISBLANK('Scholars Nomination Form'!Y453),\"\",'Scholars Nomination Form'!Y453)","v":""},{"$f":"IF(ISBLANK('Scholars Nomination Form'!Z453),\"\",'Scholars Nomination Form'!Z453)","v":""},{"$f":"IF(ISBLANK('Scholars Nomination Form'!AA453),\"\",'Scholars Nomination Form'!AA453)","v":""}]
[{"$f":"IF(ISBLANK('Scholars Nomination Form'!$F454),\"\",'Scholars Nomination Form'!$C$11)","v":""},{"$f":"IF(ISBLANK('Scholars Nomination Form'!$F454),\"\",'Scholars Nomination Form'!$C$12)","v":""},{"$f":"IF(ISBLANK('Scholars Nomination Form'!$F454),\"\",'Scholars Nomination Form'!$C$13)","v":""},{"$f":"IF(ISBLANK('Scholars Nomination Form'!$F454),\"\",'Scholars Nomination Form'!$C$14)","v":""},{"$f":"IF(ISBLANK('Scholars Nomination Form'!$F454),\"\",'Scholars Nomination Form'!$C$15)","v":""},{"$f":"IF(ISBLANK('Scholars Nomination Form'!$F454),\"\",'Scholars Nomination Form'!$C$16)","v":""},{"$f":"IF(ISBLANK('Scholars Nomination Form'!B454),\"\",'Scholars Nomination Form'!B454)","v":""},{"$f":"IF(ISBLANK('Scholars Nomination Form'!D454),\"\",'Scholars Nomination Form'!D454)","v":""},{"$f":"IF(ISBLANK('Scholars Nomination Form'!E454),\"\",'Scholars Nomination Form'!E454)","v":""},{"$f":"IF(ISBLANK('Scholars Nomination Form'!F454),\"\",'Scholars Nomination Form'!F454)","v":""},{"$f":"IF(ISBLANK('Scholars Nomination Form'!G454),\"\",'Scholars Nomination Form'!G454)","v":""},{"$f":"IF(ISBLANK('Scholars Nomination Form'!H454),\"\",'Scholars Nomination Form'!H454)","v":""},{"$f":"IF(ISBLANK('Scholars Nomination Form'!I454),\"\",'Scholars Nomination Form'!I454)","v":""},{"$f":"IF(ISBLANK('Scholars Nomination Form'!J454),\"\",'Scholars Nomination Form'!J454)","v":""},{"$f":"IF(ISBLANK('Scholars Nomination Form'!K454),\"\",'Scholars Nomination Form'!K454)","v":""},{"$f":"IF(ISBLANK('Scholars Nomination Form'!L454),\"\",'Scholars Nomination Form'!L454)","v":""},{"$f":"IF(ISBLANK('Scholars Nomination Form'!M454),\"\",'Scholars Nomination Form'!M454)","v":""},{"$f":"IF(ISBLANK('Scholars Nomination Form'!N454),\"\",'Scholars Nomination Form'!N454)","v":""},{"$f":"IF(ISBLANK('Scholars Nomination Form'!O454),\"\",'Scholars Nomination Form'!O454)","v":""},{"$f":"IF(ISBLANK('Scholars Nomination Form'!P454),\"\",'Scholars Nomination Form'!P454)","v":""},{"$f":"IF(ISBLANK('Scholars Nomination Form'!Q454),\"\",'Scholars Nomination Form'!Q454)","v":""},{"$f":"IF(ISBLANK('Scholars Nomination Form'!R454),\"\",'Scholars Nomination Form'!R454)","v":""},{"$f":"IF(ISBLANK('Scholars Nomination Form'!S454),\"\",'Scholars Nomination Form'!S454)","v":""},{"$f":"IF(ISBLANK('Scholars Nomination Form'!T454),\"\",'Scholars Nomination Form'!T454)","v":""},{"$f":"IF(ISBLANK('Scholars Nomination Form'!U454),\"\",'Scholars Nomination Form'!U454)","v":""},{"$f":"IF(ISBLANK('Scholars Nomination Form'!V454),\"\",'Scholars Nomination Form'!V454)","v":""},{"$f":"IF(ISBLANK('Scholars Nomination Form'!W454),\"\",'Scholars Nomination Form'!W454)","v":""},{"$f":"IF(ISBLANK('Scholars Nomination Form'!X454),\"\",'Scholars Nomination Form'!X454)","v":""},{"$f":"IF(ISBLANK('Scholars Nomination Form'!Y454),\"\",'Scholars Nomination Form'!Y454)","v":""},{"$f":"IF(ISBLANK('Scholars Nomination Form'!Z454),\"\",'Scholars Nomination Form'!Z454)","v":""},{"$f":"IF(ISBLANK('Scholars Nomination Form'!AA454),\"\",'Scholars Nomination Form'!AA454)","v":""}]
[{"$f":"IF(ISBLANK('Scholars Nomination Form'!$F455),\"\",'Scholars Nomination Form'!$C$11)","v":""},{"$f":"IF(ISBLANK('Scholars Nomination Form'!$F455),\"\",'Scholars Nomination Form'!$C$12)","v":""},{"$f":"IF(ISBLANK('Scholars Nomination Form'!$F455),\"\",'Scholars Nomination Form'!$C$13)","v":""},{"$f":"IF(ISBLANK('Scholars Nomination Form'!$F455),\"\",'Scholars Nomination Form'!$C$14)","v":""},{"$f":"IF(ISBLANK('Scholars Nomination Form'!$F455),\"\",'Scholars Nomination Form'!$C$15)","v":""},{"$f":"IF(ISBLANK('Scholars Nomination Form'!$F455),\"\",'Scholars Nomination Form'!$C$16)","v":""},{"$f":"IF(ISBLANK('Scholars Nomination Form'!B455),\"\",'Scholars Nomination Form'!B455)","v":""},{"$f":"IF(ISBLANK('Scholars Nomination Form'!D455),\"\",'Scholars Nomination Form'!D455)","v":""},{"$f":"IF(ISBLANK('Scholars Nomination Form'!E455),\"\",'Scholars Nomination Form'!E455)","v":""},{"$f":"IF(ISBLANK('Scholars Nomination Form'!F455),\"\",'Scholars Nomination Form'!F455)","v":""},{"$f":"IF(ISBLANK('Scholars Nomination Form'!G455),\"\",'Scholars Nomination Form'!G455)","v":""},{"$f":"IF(ISBLANK('Scholars Nomination Form'!H455),\"\",'Scholars Nomination Form'!H455)","v":""},{"$f":"IF(ISBLANK('Scholars Nomination Form'!I455),\"\",'Scholars Nomination Form'!I455)","v":""},{"$f":"IF(ISBLANK('Scholars Nomination Form'!J455),\"\",'Scholars Nomination Form'!J455)","v":""},{"$f":"IF(ISBLANK('Scholars Nomination Form'!K455),\"\",'Scholars Nomination Form'!K455)","v":""},{"$f":"IF(ISBLANK('Scholars Nomination Form'!L455),\"\",'Scholars Nomination Form'!L455)","v":""},{"$f":"IF(ISBLANK('Scholars Nomination Form'!M455),\"\",'Scholars Nomination Form'!M455)","v":""},{"$f":"IF(ISBLANK('Scholars Nomination Form'!N455),\"\",'Scholars Nomination Form'!N455)","v":""},{"$f":"IF(ISBLANK('Scholars Nomination Form'!O455),\"\",'Scholars Nomination Form'!O455)","v":""},{"$f":"IF(ISBLANK('Scholars Nomination Form'!P455),\"\",'Scholars Nomination Form'!P455)","v":""},{"$f":"IF(ISBLANK('Scholars Nomination Form'!Q455),\"\",'Scholars Nomination Form'!Q455)","v":""},{"$f":"IF(ISBLANK('Scholars Nomination Form'!R455),\"\",'Scholars Nomination Form'!R455)","v":""},{"$f":"IF(ISBLANK('Scholars Nomination Form'!S455),\"\",'Scholars Nomination Form'!S455)","v":""},{"$f":"IF(ISBLANK('Scholars Nomination Form'!T455),\"\",'Scholars Nomination Form'!T455)","v":""},{"$f":"IF(ISBLANK('Scholars Nomination Form'!U455),\"\",'Scholars Nomination Form'!U455)","v":""},{"$f":"IF(ISBLANK('Scholars Nomination Form'!V455),\"\",'Scholars Nomination Form'!V455)","v":""},{"$f":"IF(ISBLANK('Scholars Nomination Form'!W455),\"\",'Scholars Nomination Form'!W455)","v":""},{"$f":"IF(ISBLANK('Scholars Nomination Form'!X455),\"\",'Scholars Nomination Form'!X455)","v":""},{"$f":"IF(ISBLANK('Scholars Nomination Form'!Y455),\"\",'Scholars Nomination Form'!Y455)","v":""},{"$f":"IF(ISBLANK('Scholars Nomination Form'!Z455),\"\",'Scholars Nomination Form'!Z455)","v":""},{"$f":"IF(ISBLANK('Scholars Nomination Form'!AA455),\"\",'Scholars Nomination Form'!AA455)","v":""}]
[{"$f":"IF(ISBLANK('Scholars Nomination Form'!$F456),\"\",'Scholars Nomination Form'!$C$11)","v":""},{"$f":"IF(ISBLANK('Scholars Nomination Form'!$F456),\"\",'Scholars Nomination Form'!$C$12)","v":""},{"$f":"IF(ISBLANK('Scholars Nomination Form'!$F456),\"\",'Scholars Nomination Form'!$C$13)","v":""},{"$f":"IF(ISBLANK('Scholars Nomination Form'!$F456),\"\",'Scholars Nomination Form'!$C$14)","v":""},{"$f":"IF(ISBLANK('Scholars Nomination Form'!$F456),\"\",'Scholars Nomination Form'!$C$15)","v":""},{"$f":"IF(ISBLANK('Scholars Nomination Form'!$F456),\"\",'Scholars Nomination Form'!$C$16)","v":""},{"$f":"IF(ISBLANK('Scholars Nomination Form'!B456),\"\",'Scholars Nomination Form'!B456)","v":""},{"$f":"IF(ISBLANK('Scholars Nomination Form'!D456),\"\",'Scholars Nomination Form'!D456)","v":""},{"$f":"IF(ISBLANK('Scholars Nomination Form'!E456),\"\",'Scholars Nomination Form'!E456)","v":""},{"$f":"IF(ISBLANK('Scholars Nomination Form'!F456),\"\",'Scholars Nomination Form'!F456)","v":""},{"$f":"IF(ISBLANK('Scholars Nomination Form'!G456),\"\",'Scholars Nomination Form'!G456)","v":""},{"$f":"IF(ISBLANK('Scholars Nomination Form'!H456),\"\",'Scholars Nomination Form'!H456)","v":""},{"$f":"IF(ISBLANK('Scholars Nomination Form'!I456),\"\",'Scholars Nomination Form'!I456)","v":""},{"$f":"IF(ISBLANK('Scholars Nomination Form'!J456),\"\",'Scholars Nomination Form'!J456)","v":""},{"$f":"IF(ISBLANK('Scholars Nomination Form'!K456),\"\",'Scholars Nomination Form'!K456)","v":""},{"$f":"IF(ISBLANK('Scholars Nomination Form'!L456),\"\",'Scholars Nomination Form'!L456)","v":""},{"$f":"IF(ISBLANK('Scholars Nomination Form'!M456),\"\",'Scholars Nomination Form'!M456)","v":""},{"$f":"IF(ISBLANK('Scholars Nomination Form'!N456),\"\",'Scholars Nomination Form'!N456)","v":""},{"$f":"IF(ISBLANK('Scholars Nomination Form'!O456),\"\",'Scholars Nomination Form'!O456)","v":""},{"$f":"IF(ISBLANK('Scholars Nomination Form'!P456),\"\",'Scholars Nomination Form'!P456)","v":""},{"$f":"IF(ISBLANK('Scholars Nomination Form'!Q456),\"\",'Scholars Nomination Form'!Q456)","v":""},{"$f":"IF(ISBLANK('Scholars Nomination Form'!R456),\"\",'Scholars Nomination Form'!R456)","v":""},{"$f":"IF(ISBLANK('Scholars Nomination Form'!S456),\"\",'Scholars Nomination Form'!S456)","v":""},{"$f":"IF(ISBLANK('Scholars Nomination Form'!T456),\"\",'Scholars Nomination Form'!T456)","v":""},{"$f":"IF(ISBLANK('Scholars Nomination Form'!U456),\"\",'Scholars Nomination Form'!U456)","v":""},{"$f":"IF(ISBLANK('Scholars Nomination Form'!V456),\"\",'Scholars Nomination Form'!V456)","v":""},{"$f":"IF(ISBLANK('Scholars Nomination Form'!W456),\"\",'Scholars Nomination Form'!W456)","v":""},{"$f":"IF(ISBLANK('Scholars Nomination Form'!X456),\"\",'Scholars Nomination Form'!X456)","v":""},{"$f":"IF(ISBLANK('Scholars Nomination Form'!Y456),\"\",'Scholars Nomination Form'!Y456)","v":""},{"$f":"IF(ISBLANK('Scholars Nomination Form'!Z456),\"\",'Scholars Nomination Form'!Z456)","v":""},{"$f":"IF(ISBLANK('Scholars Nomination Form'!AA456),\"\",'Scholars Nomination Form'!AA456)","v":""}]
[{"$f":"IF(ISBLANK('Scholars Nomination Form'!$F457),\"\",'Scholars Nomination Form'!$C$11)","v":""},{"$f":"IF(ISBLANK('Scholars Nomination Form'!$F457),\"\",'Scholars Nomination Form'!$C$12)","v":""},{"$f":"IF(ISBLANK('Scholars Nomination Form'!$F457),\"\",'Scholars Nomination Form'!$C$13)","v":""},{"$f":"IF(ISBLANK('Scholars Nomination Form'!$F457),\"\",'Scholars Nomination Form'!$C$14)","v":""},{"$f":"IF(ISBLANK('Scholars Nomination Form'!$F457),\"\",'Scholars Nomination Form'!$C$15)","v":""},{"$f":"IF(ISBLANK('Scholars Nomination Form'!$F457),\"\",'Scholars Nomination Form'!$C$16)","v":""},{"$f":"IF(ISBLANK('Scholars Nomination Form'!B457),\"\",'Scholars Nomination Form'!B457)","v":""},{"$f":"IF(ISBLANK('Scholars Nomination Form'!D457),\"\",'Scholars Nomination Form'!D457)","v":""},{"$f":"IF(ISBLANK('Scholars Nomination Form'!E457),\"\",'Scholars Nomination Form'!E457)","v":""},{"$f":"IF(ISBLANK('Scholars Nomination Form'!F457),\"\",'Scholars Nomination Form'!F457)","v":""},{"$f":"IF(ISBLANK('Scholars Nomination Form'!G457),\"\",'Scholars Nomination Form'!G457)","v":""},{"$f":"IF(ISBLANK('Scholars Nomination Form'!H457),\"\",'Scholars Nomination Form'!H457)","v":""},{"$f":"IF(ISBLANK('Scholars Nomination Form'!I457),\"\",'Scholars Nomination Form'!I457)","v":""},{"$f":"IF(ISBLANK('Scholars Nomination Form'!J457),\"\",'Scholars Nomination Form'!J457)","v":""},{"$f":"IF(ISBLANK('Scholars Nomination Form'!K457),\"\",'Scholars Nomination Form'!K457)","v":""},{"$f":"IF(ISBLANK('Scholars Nomination Form'!L457),\"\",'Scholars Nomination Form'!L457)","v":""},{"$f":"IF(ISBLANK('Scholars Nomination Form'!M457),\"\",'Scholars Nomination Form'!M457)","v":""},{"$f":"IF(ISBLANK('Scholars Nomination Form'!N457),\"\",'Scholars Nomination Form'!N457)","v":""},{"$f":"IF(ISBLANK('Scholars Nomination Form'!O457),\"\",'Scholars Nomination Form'!O457)","v":""},{"$f":"IF(ISBLANK('Scholars Nomination Form'!P457),\"\",'Scholars Nomination Form'!P457)","v":""},{"$f":"IF(ISBLANK('Scholars Nomination Form'!Q457),\"\",'Scholars Nomination Form'!Q457)","v":""},{"$f":"IF(ISBLANK('Scholars Nomination Form'!R457),\"\",'Scholars Nomination Form'!R457)","v":""},{"$f":"IF(ISBLANK('Scholars Nomination Form'!S457),\"\",'Scholars Nomination Form'!S457)","v":""},{"$f":"IF(ISBLANK('Scholars Nomination Form'!T457),\"\",'Scholars Nomination Form'!T457)","v":""},{"$f":"IF(ISBLANK('Scholars Nomination Form'!U457),\"\",'Scholars Nomination Form'!U457)","v":""},{"$f":"IF(ISBLANK('Scholars Nomination Form'!V457),\"\",'Scholars Nomination Form'!V457)","v":""},{"$f":"IF(ISBLANK('Scholars Nomination Form'!W457),\"\",'Scholars Nomination Form'!W457)","v":""},{"$f":"IF(ISBLANK('Scholars Nomination Form'!X457),\"\",'Scholars Nomination Form'!X457)","v":""},{"$f":"IF(ISBLANK('Scholars Nomination Form'!Y457),\"\",'Scholars Nomination Form'!Y457)","v":""},{"$f":"IF(ISBLANK('Scholars Nomination Form'!Z457),\"\",'Scholars Nomination Form'!Z457)","v":""},{"$f":"IF(ISBLANK('Scholars Nomination Form'!AA457),\"\",'Scholars Nomination Form'!AA457)","v":""}]
[{"$f":"IF(ISBLANK('Scholars Nomination Form'!$F458),\"\",'Scholars Nomination Form'!$C$11)","v":""},{"$f":"IF(ISBLANK('Scholars Nomination Form'!$F458),\"\",'Scholars Nomination Form'!$C$12)","v":""},{"$f":"IF(ISBLANK('Scholars Nomination Form'!$F458),\"\",'Scholars Nomination Form'!$C$13)","v":""},{"$f":"IF(ISBLANK('Scholars Nomination Form'!$F458),\"\",'Scholars Nomination Form'!$C$14)","v":""},{"$f":"IF(ISBLANK('Scholars Nomination Form'!$F458),\"\",'Scholars Nomination Form'!$C$15)","v":""},{"$f":"IF(ISBLANK('Scholars Nomination Form'!$F458),\"\",'Scholars Nomination Form'!$C$16)","v":""},{"$f":"IF(ISBLANK('Scholars Nomination Form'!B458),\"\",'Scholars Nomination Form'!B458)","v":""},{"$f":"IF(ISBLANK('Scholars Nomination Form'!D458),\"\",'Scholars Nomination Form'!D458)","v":""},{"$f":"IF(ISBLANK('Scholars Nomination Form'!E458),\"\",'Scholars Nomination Form'!E458)","v":""},{"$f":"IF(ISBLANK('Scholars Nomination Form'!F458),\"\",'Scholars Nomination Form'!F458)","v":""},{"$f":"IF(ISBLANK('Scholars Nomination Form'!G458),\"\",'Scholars Nomination Form'!G458)","v":""},{"$f":"IF(ISBLANK('Scholars Nomination Form'!H458),\"\",'Scholars Nomination Form'!H458)","v":""},{"$f":"IF(ISBLANK('Scholars Nomination Form'!I458),\"\",'Scholars Nomination Form'!I458)","v":""},{"$f":"IF(ISBLANK('Scholars Nomination Form'!J458),\"\",'Scholars Nomination Form'!J458)","v":""},{"$f":"IF(ISBLANK('Scholars Nomination Form'!K458),\"\",'Scholars Nomination Form'!K458)","v":""},{"$f":"IF(ISBLANK('Scholars Nomination Form'!L458),\"\",'Scholars Nomination Form'!L458)","v":""},{"$f":"IF(ISBLANK('Scholars Nomination Form'!M458),\"\",'Scholars Nomination Form'!M458)","v":""},{"$f":"IF(ISBLANK('Scholars Nomination Form'!N458),\"\",'Scholars Nomination Form'!N458)","v":""},{"$f":"IF(ISBLANK('Scholars Nomination Form'!O458),\"\",'Scholars Nomination Form'!O458)","v":""},{"$f":"IF(ISBLANK('Scholars Nomination Form'!P458),\"\",'Scholars Nomination Form'!P458)","v":""},{"$f":"IF(ISBLANK('Scholars Nomination Form'!Q458),\"\",'Scholars Nomination Form'!Q458)","v":""},{"$f":"IF(ISBLANK('Scholars Nomination Form'!R458),\"\",'Scholars Nomination Form'!R458)","v":""},{"$f":"IF(ISBLANK('Scholars Nomination Form'!S458),\"\",'Scholars Nomination Form'!S458)","v":""},{"$f":"IF(ISBLANK('Scholars Nomination Form'!T458),\"\",'Scholars Nomination Form'!T458)","v":""},{"$f":"IF(ISBLANK('Scholars Nomination Form'!U458),\"\",'Scholars Nomination Form'!U458)","v":""},{"$f":"IF(ISBLANK('Scholars Nomination Form'!V458),\"\",'Scholars Nomination Form'!V458)","v":""},{"$f":"IF(ISBLANK('Scholars Nomination Form'!W458),\"\",'Scholars Nomination Form'!W458)","v":""},{"$f":"IF(ISBLANK('Scholars Nomination Form'!X458),\"\",'Scholars Nomination Form'!X458)","v":""},{"$f":"IF(ISBLANK('Scholars Nomination Form'!Y458),\"\",'Scholars Nomination Form'!Y458)","v":""},{"$f":"IF(ISBLANK('Scholars Nomination Form'!Z458),\"\",'Scholars Nomination Form'!Z458)","v":""},{"$f":"IF(ISBLANK('Scholars Nomination Form'!AA458),\"\",'Scholars Nomination Form'!AA458)","v":""}]
[{"$f":"IF(ISBLANK('Scholars Nomination Form'!$F459),\"\",'Scholars Nomination Form'!$C$11)","v":""},{"$f":"IF(ISBLANK('Scholars Nomination Form'!$F459),\"\",'Scholars Nomination Form'!$C$12)","v":""},{"$f":"IF(ISBLANK('Scholars Nomination Form'!$F459),\"\",'Scholars Nomination Form'!$C$13)","v":""},{"$f":"IF(ISBLANK('Scholars Nomination Form'!$F459),\"\",'Scholars Nomination Form'!$C$14)","v":""},{"$f":"IF(ISBLANK('Scholars Nomination Form'!$F459),\"\",'Scholars Nomination Form'!$C$15)","v":""},{"$f":"IF(ISBLANK('Scholars Nomination Form'!$F459),\"\",'Scholars Nomination Form'!$C$16)","v":""},{"$f":"IF(ISBLANK('Scholars Nomination Form'!B459),\"\",'Scholars Nomination Form'!B459)","v":""},{"$f":"IF(ISBLANK('Scholars Nomination Form'!D459),\"\",'Scholars Nomination Form'!D459)","v":""},{"$f":"IF(ISBLANK('Scholars Nomination Form'!E459),\"\",'Scholars Nomination Form'!E459)","v":""},{"$f":"IF(ISBLANK('Scholars Nomination Form'!F459),\"\",'Scholars Nomination Form'!F459)","v":""},{"$f":"IF(ISBLANK('Scholars Nomination Form'!G459),\"\",'Scholars Nomination Form'!G459)","v":""},{"$f":"IF(ISBLANK('Scholars Nomination Form'!H459),\"\",'Scholars Nomination Form'!H459)","v":""},{"$f":"IF(ISBLANK('Scholars Nomination Form'!I459),\"\",'Scholars Nomination Form'!I459)","v":""},{"$f":"IF(ISBLANK('Scholars Nomination Form'!J459),\"\",'Scholars Nomination Form'!J459)","v":""},{"$f":"IF(ISBLANK('Scholars Nomination Form'!K459),\"\",'Scholars Nomination Form'!K459)","v":""},{"$f":"IF(ISBLANK('Scholars Nomination Form'!L459),\"\",'Scholars Nomination Form'!L459)","v":""},{"$f":"IF(ISBLANK('Scholars Nomination Form'!M459),\"\",'Scholars Nomination Form'!M459)","v":""},{"$f":"IF(ISBLANK('Scholars Nomination Form'!N459),\"\",'Scholars Nomination Form'!N459)","v":""},{"$f":"IF(ISBLANK('Scholars Nomination Form'!O459),\"\",'Scholars Nomination Form'!O459)","v":""},{"$f":"IF(ISBLANK('Scholars Nomination Form'!P459),\"\",'Scholars Nomination Form'!P459)","v":""},{"$f":"IF(ISBLANK('Scholars Nomination Form'!Q459),\"\",'Scholars Nomination Form'!Q459)","v":""},{"$f":"IF(ISBLANK('Scholars Nomination Form'!R459),\"\",'Scholars Nomination Form'!R459)","v":""},{"$f":"IF(ISBLANK('Scholars Nomination Form'!S459),\"\",'Scholars Nomination Form'!S459)","v":""},{"$f":"IF(ISBLANK('Scholars Nomination Form'!T459),\"\",'Scholars Nomination Form'!T459)","v":""},{"$f":"IF(ISBLANK('Scholars Nomination Form'!U459),\"\",'Scholars Nomination Form'!U459)","v":""},{"$f":"IF(ISBLANK('Scholars Nomination Form'!V459),\"\",'Scholars Nomination Form'!V459)","v":""},{"$f":"IF(ISBLANK('Scholars Nomination Form'!W459),\"\",'Scholars Nomination Form'!W459)","v":""},{"$f":"IF(ISBLANK('Scholars Nomination Form'!X459),\"\",'Scholars Nomination Form'!X459)","v":""},{"$f":"IF(ISBLANK('Scholars Nomination Form'!Y459),\"\",'Scholars Nomination Form'!Y459)","v":""},{"$f":"IF(ISBLANK('Scholars Nomination Form'!Z459),\"\",'Scholars Nomination Form'!Z459)","v":""},{"$f":"IF(ISBLANK('Scholars Nomination Form'!AA459),\"\",'Scholars Nomination Form'!AA459)","v":""}]
[{"$f":"IF(ISBLANK('Scholars Nomination Form'!$F460),\"\",'Scholars Nomination Form'!$C$11)","v":""},{"$f":"IF(ISBLANK('Scholars Nomination Form'!$F460),\"\",'Scholars Nomination Form'!$C$12)","v":""},{"$f":"IF(ISBLANK('Scholars Nomination Form'!$F460),\"\",'Scholars Nomination Form'!$C$13)","v":""},{"$f":"IF(ISBLANK('Scholars Nomination Form'!$F460),\"\",'Scholars Nomination Form'!$C$14)","v":""},{"$f":"IF(ISBLANK('Scholars Nomination Form'!$F460),\"\",'Scholars Nomination Form'!$C$15)","v":""},{"$f":"IF(ISBLANK('Scholars Nomination Form'!$F460),\"\",'Scholars Nomination Form'!$C$16)","v":""},{"$f":"IF(ISBLANK('Scholars Nomination Form'!B460),\"\",'Scholars Nomination Form'!B460)","v":""},{"$f":"IF(ISBLANK('Scholars Nomination Form'!D460),\"\",'Scholars Nomination Form'!D460)","v":""},{"$f":"IF(ISBLANK('Scholars Nomination Form'!E460),\"\",'Scholars Nomination Form'!E460)","v":""},{"$f":"IF(ISBLANK('Scholars Nomination Form'!F460),\"\",'Scholars Nomination Form'!F460)","v":""},{"$f":"IF(ISBLANK('Scholars Nomination Form'!G460),\"\",'Scholars Nomination Form'!G460)","v":""},{"$f":"IF(ISBLANK('Scholars Nomination Form'!H460),\"\",'Scholars Nomination Form'!H460)","v":""},{"$f":"IF(ISBLANK('Scholars Nomination Form'!I460),\"\",'Scholars Nomination Form'!I460)","v":""},{"$f":"IF(ISBLANK('Scholars Nomination Form'!J460),\"\",'Scholars Nomination Form'!J460)","v":""},{"$f":"IF(ISBLANK('Scholars Nomination Form'!K460),\"\",'Scholars Nomination Form'!K460)","v":""},{"$f":"IF(ISBLANK('Scholars Nomination Form'!L460),\"\",'Scholars Nomination Form'!L460)","v":""},{"$f":"IF(ISBLANK('Scholars Nomination Form'!M460),\"\",'Scholars Nomination Form'!M460)","v":""},{"$f":"IF(ISBLANK('Scholars Nomination Form'!N460),\"\",'Scholars Nomination Form'!N460)","v":""},{"$f":"IF(ISBLANK('Scholars Nomination Form'!O460),\"\",'Scholars Nomination Form'!O460)","v":""},{"$f":"IF(ISBLANK('Scholars Nomination Form'!P460),\"\",'Scholars Nomination Form'!P460)","v":""},{"$f":"IF(ISBLANK('Scholars Nomination Form'!Q460),\"\",'Scholars Nomination Form'!Q460)","v":""},{"$f":"IF(ISBLANK('Scholars Nomination Form'!R460),\"\",'Scholars Nomination Form'!R460)","v":""},{"$f":"IF(ISBLANK('Scholars Nomination Form'!S460),\"\",'Scholars Nomination Form'!S460)","v":""},{"$f":"IF(ISBLANK('Scholars Nomination Form'!T460),\"\",'Scholars Nomination Form'!T460)","v":""},{"$f":"IF(ISBLANK('Scholars Nomination Form'!U460),\"\",'Scholars Nomination Form'!U460)","v":""},{"$f":"IF(ISBLANK('Scholars Nomination Form'!V460),\"\",'Scholars Nomination Form'!V460)","v":""},{"$f":"IF(ISBLANK('Scholars Nomination Form'!W460),\"\",'Scholars Nomination Form'!W460)","v":""},{"$f":"IF(ISBLANK('Scholars Nomination Form'!X460),\"\",'Scholars Nomination Form'!X460)","v":""},{"$f":"IF(ISBLANK('Scholars Nomination Form'!Y460),\"\",'Scholars Nomination Form'!Y460)","v":""},{"$f":"IF(ISBLANK('Scholars Nomination Form'!Z460),\"\",'Scholars Nomination Form'!Z460)","v":""},{"$f":"IF(ISBLANK('Scholars Nomination Form'!AA460),\"\",'Scholars Nomination Form'!AA460)","v":""}]
[{"$f":"IF(ISBLANK('Scholars Nomination Form'!$F461),\"\",'Scholars Nomination Form'!$C$11)","v":""},{"$f":"IF(ISBLANK('Scholars Nomination Form'!$F461),\"\",'Scholars Nomination Form'!$C$12)","v":""},{"$f":"IF(ISBLANK('Scholars Nomination Form'!$F461),\"\",'Scholars Nomination Form'!$C$13)","v":""},{"$f":"IF(ISBLANK('Scholars Nomination Form'!$F461),\"\",'Scholars Nomination Form'!$C$14)","v":""},{"$f":"IF(ISBLANK('Scholars Nomination Form'!$F461),\"\",'Scholars Nomination Form'!$C$15)","v":""},{"$f":"IF(ISBLANK('Scholars Nomination Form'!$F461),\"\",'Scholars Nomination Form'!$C$16)","v":""},{"$f":"IF(ISBLANK('Scholars Nomination Form'!B461),\"\",'Scholars Nomination Form'!B461)","v":""},{"$f":"IF(ISBLANK('Scholars Nomination Form'!D461),\"\",'Scholars Nomination Form'!D461)","v":""},{"$f":"IF(ISBLANK('Scholars Nomination Form'!E461),\"\",'Scholars Nomination Form'!E461)","v":""},{"$f":"IF(ISBLANK('Scholars Nomination Form'!F461),\"\",'Scholars Nomination Form'!F461)","v":""},{"$f":"IF(ISBLANK('Scholars Nomination Form'!G461),\"\",'Scholars Nomination Form'!G461)","v":""},{"$f":"IF(ISBLANK('Scholars Nomination Form'!H461),\"\",'Scholars Nomination Form'!H461)","v":""},{"$f":"IF(ISBLANK('Scholars Nomination Form'!I461),\"\",'Scholars Nomination Form'!I461)","v":""},{"$f":"IF(ISBLANK('Scholars Nomination Form'!J461),\"\",'Scholars Nomination Form'!J461)","v":""},{"$f":"IF(ISBLANK('Scholars Nomination Form'!K461),\"\",'Scholars Nomination Form'!K461)","v":""},{"$f":"IF(ISBLANK('Scholars Nomination Form'!L461),\"\",'Scholars Nomination Form'!L461)","v":""},{"$f":"IF(ISBLANK('Scholars Nomination Form'!M461),\"\",'Scholars Nomination Form'!M461)","v":""},{"$f":"IF(ISBLANK('Scholars Nomination Form'!N461),\"\",'Scholars Nomination Form'!N461)","v":""},{"$f":"IF(ISBLANK('Scholars Nomination Form'!O461),\"\",'Scholars Nomination Form'!O461)","v":""},{"$f":"IF(ISBLANK('Scholars Nomination Form'!P461),\"\",'Scholars Nomination Form'!P461)","v":""},{"$f":"IF(ISBLANK('Scholars Nomination Form'!Q461),\"\",'Scholars Nomination Form'!Q461)","v":""},{"$f":"IF(ISBLANK('Scholars Nomination Form'!R461),\"\",'Scholars Nomination Form'!R461)","v":""},{"$f":"IF(ISBLANK('Scholars Nomination Form'!S461),\"\",'Scholars Nomination Form'!S461)","v":""},{"$f":"IF(ISBLANK('Scholars Nomination Form'!T461),\"\",'Scholars Nomination Form'!T461)","v":""},{"$f":"IF(ISBLANK('Scholars Nomination Form'!U461),\"\",'Scholars Nomination Form'!U461)","v":""},{"$f":"IF(ISBLANK('Scholars Nomination Form'!V461),\"\",'Scholars Nomination Form'!V461)","v":""},{"$f":"IF(ISBLANK('Scholars Nomination Form'!W461),\"\",'Scholars Nomination Form'!W461)","v":""},{"$f":"IF(ISBLANK('Scholars Nomination Form'!X461),\"\",'Scholars Nomination Form'!X461)","v":""},{"$f":"IF(ISBLANK('Scholars Nomination Form'!Y461),\"\",'Scholars Nomination Form'!Y461)","v":""},{"$f":"IF(ISBLANK('Scholars Nomination Form'!Z461),\"\",'Scholars Nomination Form'!Z461)","v":""},{"$f":"IF(ISBLANK('Scholars Nomination Form'!AA461),\"\",'Scholars Nomination Form'!AA461)","v":""}]
[{"$f":"IF(ISBLANK('Scholars Nomination Form'!$F462),\"\",'Scholars Nomination Form'!$C$11)","v":""},{"$f":"IF(ISBLANK('Scholars Nomination Form'!$F462),\"\",'Scholars Nomination Form'!$C$12)","v":""},{"$f":"IF(ISBLANK('Scholars Nomination Form'!$F462),\"\",'Scholars Nomination Form'!$C$13)","v":""},{"$f":"IF(ISBLANK('Scholars Nomination Form'!$F462),\"\",'Scholars Nomination Form'!$C$14)","v":""},{"$f":"IF(ISBLANK('Scholars Nomination Form'!$F462),\"\",'Scholars Nomination Form'!$C$15)","v":""},{"$f":"IF(ISBLANK('Scholars Nomination Form'!$F462),\"\",'Scholars Nomination Form'!$C$16)","v":""},{"$f":"IF(ISBLANK('Scholars Nomination Form'!B462),\"\",'Scholars Nomination Form'!B462)","v":""},{"$f":"IF(ISBLANK('Scholars Nomination Form'!D462),\"\",'Scholars Nomination Form'!D462)","v":""},{"$f":"IF(ISBLANK('Scholars Nomination Form'!E462),\"\",'Scholars Nomination Form'!E462)","v":""},{"$f":"IF(ISBLANK('Scholars Nomination Form'!F462),\"\",'Scholars Nomination Form'!F462)","v":""},{"$f":"IF(ISBLANK('Scholars Nomination Form'!G462),\"\",'Scholars Nomination Form'!G462)","v":""},{"$f":"IF(ISBLANK('Scholars Nomination Form'!H462),\"\",'Scholars Nomination Form'!H462)","v":""},{"$f":"IF(ISBLANK('Scholars Nomination Form'!I462),\"\",'Scholars Nomination Form'!I462)","v":""},{"$f":"IF(ISBLANK('Scholars Nomination Form'!J462),\"\",'Scholars Nomination Form'!J462)","v":""},{"$f":"IF(ISBLANK('Scholars Nomination Form'!K462),\"\",'Scholars Nomination Form'!K462)","v":""},{"$f":"IF(ISBLANK('Scholars Nomination Form'!L462),\"\",'Scholars Nomination Form'!L462)","v":""},{"$f":"IF(ISBLANK('Scholars Nomination Form'!M462),\"\",'Scholars Nomination Form'!M462)","v":""},{"$f":"IF(ISBLANK('Scholars Nomination Form'!N462),\"\",'Scholars Nomination Form'!N462)","v":""},{"$f":"IF(ISBLANK('Scholars Nomination Form'!O462),\"\",'Scholars Nomination Form'!O462)","v":""},{"$f":"IF(ISBLANK('Scholars Nomination Form'!P462),\"\",'Scholars Nomination Form'!P462)","v":""},{"$f":"IF(ISBLANK('Scholars Nomination Form'!Q462),\"\",'Scholars Nomination Form'!Q462)","v":""},{"$f":"IF(ISBLANK('Scholars Nomination Form'!R462),\"\",'Scholars Nomination Form'!R462)","v":""},{"$f":"IF(ISBLANK('Scholars Nomination Form'!S462),\"\",'Scholars Nomination Form'!S462)","v":""},{"$f":"IF(ISBLANK('Scholars Nomination Form'!T462),\"\",'Scholars Nomination Form'!T462)","v":""},{"$f":"IF(ISBLANK('Scholars Nomination Form'!U462),\"\",'Scholars Nomination Form'!U462)","v":""},{"$f":"IF(ISBLANK('Scholars Nomination Form'!V462),\"\",'Scholars Nomination Form'!V462)","v":""},{"$f":"IF(ISBLANK('Scholars Nomination Form'!W462),\"\",'Scholars Nomination Form'!W462)","v":""},{"$f":"IF(ISBLANK('Scholars Nomination Form'!X462),\"\",'Scholars Nomination Form'!X462)","v":""},{"$f":"IF(ISBLANK('Scholars Nomination Form'!Y462),\"\",'Scholars Nomination Form'!Y462)","v":""},{"$f":"IF(ISBLANK('Scholars Nomination Form'!Z462),\"\",'Scholars Nomination Form'!Z462)","v":""},{"$f":"IF(ISBLANK('Scholars Nomination Form'!AA462),\"\",'Scholars Nomination Form'!AA462)","v":""}]
[{"$f":"IF(ISBLANK('Scholars Nomination Form'!$F463),\"\",'Scholars Nomination Form'!$C$11)","v":""},{"$f":"IF(ISBLANK('Scholars Nomination Form'!$F463),\"\",'Scholars Nomination Form'!$C$12)","v":""},{"$f":"IF(ISBLANK('Scholars Nomination Form'!$F463),\"\",'Scholars Nomination Form'!$C$13)","v":""},{"$f":"IF(ISBLANK('Scholars Nomination Form'!$F463),\"\",'Scholars Nomination Form'!$C$14)","v":""},{"$f":"IF(ISBLANK('Scholars Nomination Form'!$F463),\"\",'Scholars Nomination Form'!$C$15)","v":""},{"$f":"IF(ISBLANK('Scholars Nomination Form'!$F463),\"\",'Scholars Nomination Form'!$C$16)","v":""},{"$f":"IF(ISBLANK('Scholars Nomination Form'!B463),\"\",'Scholars Nomination Form'!B463)","v":""},{"$f":"IF(ISBLANK('Scholars Nomination Form'!D463),\"\",'Scholars Nomination Form'!D463)","v":""},{"$f":"IF(ISBLANK('Scholars Nomination Form'!E463),\"\",'Scholars Nomination Form'!E463)","v":""},{"$f":"IF(ISBLANK('Scholars Nomination Form'!F463),\"\",'Scholars Nomination Form'!F463)","v":""},{"$f":"IF(ISBLANK('Scholars Nomination Form'!G463),\"\",'Scholars Nomination Form'!G463)","v":""},{"$f":"IF(ISBLANK('Scholars Nomination Form'!H463),\"\",'Scholars Nomination Form'!H463)","v":""},{"$f":"IF(ISBLANK('Scholars Nomination Form'!I463),\"\",'Scholars Nomination Form'!I463)","v":""},{"$f":"IF(ISBLANK('Scholars Nomination Form'!J463),\"\",'Scholars Nomination Form'!J463)","v":""},{"$f":"IF(ISBLANK('Scholars Nomination Form'!K463),\"\",'Scholars Nomination Form'!K463)","v":""},{"$f":"IF(ISBLANK('Scholars Nomination Form'!L463),\"\",'Scholars Nomination Form'!L463)","v":""},{"$f":"IF(ISBLANK('Scholars Nomination Form'!M463),\"\",'Scholars Nomination Form'!M463)","v":""},{"$f":"IF(ISBLANK('Scholars Nomination Form'!N463),\"\",'Scholars Nomination Form'!N463)","v":""},{"$f":"IF(ISBLANK('Scholars Nomination Form'!O463),\"\",'Scholars Nomination Form'!O463)","v":""},{"$f":"IF(ISBLANK('Scholars Nomination Form'!P463),\"\",'Scholars Nomination Form'!P463)","v":""},{"$f":"IF(ISBLANK('Scholars Nomination Form'!Q463),\"\",'Scholars Nomination Form'!Q463)","v":""},{"$f":"IF(ISBLANK('Scholars Nomination Form'!R463),\"\",'Scholars Nomination Form'!R463)","v":""},{"$f":"IF(ISBLANK('Scholars Nomination Form'!S463),\"\",'Scholars Nomination Form'!S463)","v":""},{"$f":"IF(ISBLANK('Scholars Nomination Form'!T463),\"\",'Scholars Nomination Form'!T463)","v":""},{"$f":"IF(ISBLANK('Scholars Nomination Form'!U463),\"\",'Scholars Nomination Form'!U463)","v":""},{"$f":"IF(ISBLANK('Scholars Nomination Form'!V463),\"\",'Scholars Nomination Form'!V463)","v":""},{"$f":"IF(ISBLANK('Scholars Nomination Form'!W463),\"\",'Scholars Nomination Form'!W463)","v":""},{"$f":"IF(ISBLANK('Scholars Nomination Form'!X463),\"\",'Scholars Nomination Form'!X463)","v":""},{"$f":"IF(ISBLANK('Scholars Nomination Form'!Y463),\"\",'Scholars Nomination Form'!Y463)","v":""},{"$f":"IF(ISBLANK('Scholars Nomination Form'!Z463),\"\",'Scholars Nomination Form'!Z463)","v":""},{"$f":"IF(ISBLANK('Scholars Nomination Form'!AA463),\"\",'Scholars Nomination Form'!AA463)","v":""}]
[{"$f":"IF(ISBLANK('Scholars Nomination Form'!$F464),\"\",'Scholars Nomination Form'!$C$11)","v":""},{"$f":"IF(ISBLANK('Scholars Nomination Form'!$F464),\"\",'Scholars Nomination Form'!$C$12)","v":""},{"$f":"IF(ISBLANK('Scholars Nomination Form'!$F464),\"\",'Scholars Nomination Form'!$C$13)","v":""},{"$f":"IF(ISBLANK('Scholars Nomination Form'!$F464),\"\",'Scholars Nomination Form'!$C$14)","v":""},{"$f":"IF(ISBLANK('Scholars Nomination Form'!$F464),\"\",'Scholars Nomination Form'!$C$15)","v":""},{"$f":"IF(ISBLANK('Scholars Nomination Form'!$F464),\"\",'Scholars Nomination Form'!$C$16)","v":""},{"$f":"IF(ISBLANK('Scholars Nomination Form'!B464),\"\",'Scholars Nomination Form'!B464)","v":""},{"$f":"IF(ISBLANK('Scholars Nomination Form'!D464),\"\",'Scholars Nomination Form'!D464)","v":""},{"$f":"IF(ISBLANK('Scholars Nomination Form'!E464),\"\",'Scholars Nomination Form'!E464)","v":""},{"$f":"IF(ISBLANK('Scholars Nomination Form'!F464),\"\",'Scholars Nomination Form'!F464)","v":""},{"$f":"IF(ISBLANK('Scholars Nomination Form'!G464),\"\",'Scholars Nomination Form'!G464)","v":""},{"$f":"IF(ISBLANK('Scholars Nomination Form'!H464),\"\",'Scholars Nomination Form'!H464)","v":""},{"$f":"IF(ISBLANK('Scholars Nomination Form'!I464),\"\",'Scholars Nomination Form'!I464)","v":""},{"$f":"IF(ISBLANK('Scholars Nomination Form'!J464),\"\",'Scholars Nomination Form'!J464)","v":""},{"$f":"IF(ISBLANK('Scholars Nomination Form'!K464),\"\",'Scholars Nomination Form'!K464)","v":""},{"$f":"IF(ISBLANK('Scholars Nomination Form'!L464),\"\",'Scholars Nomination Form'!L464)","v":""},{"$f":"IF(ISBLANK('Scholars Nomination Form'!M464),\"\",'Scholars Nomination Form'!M464)","v":""},{"$f":"IF(ISBLANK('Scholars Nomination Form'!N464),\"\",'Scholars Nomination Form'!N464)","v":""},{"$f":"IF(ISBLANK('Scholars Nomination Form'!O464),\"\",'Scholars Nomination Form'!O464)","v":""},{"$f":"IF(ISBLANK('Scholars Nomination Form'!P464),\"\",'Scholars Nomination Form'!P464)","v":""},{"$f":"IF(ISBLANK('Scholars Nomination Form'!Q464),\"\",'Scholars Nomination Form'!Q464)","v":""},{"$f":"IF(ISBLANK('Scholars Nomination Form'!R464),\"\",'Scholars Nomination Form'!R464)","v":""},{"$f":"IF(ISBLANK('Scholars Nomination Form'!S464),\"\",'Scholars Nomination Form'!S464)","v":""},{"$f":"IF(ISBLANK('Scholars Nomination Form'!T464),\"\",'Scholars Nomination Form'!T464)","v":""},{"$f":"IF(ISBLANK('Scholars Nomination Form'!U464),\"\",'Scholars Nomination Form'!U464)","v":""},{"$f":"IF(ISBLANK('Scholars Nomination Form'!V464),\"\",'Scholars Nomination Form'!V464)","v":""},{"$f":"IF(ISBLANK('Scholars Nomination Form'!W464),\"\",'Scholars Nomination Form'!W464)","v":""},{"$f":"IF(ISBLANK('Scholars Nomination Form'!X464),\"\",'Scholars Nomination Form'!X464)","v":""},{"$f":"IF(ISBLANK('Scholars Nomination Form'!Y464),\"\",'Scholars Nomination Form'!Y464)","v":""},{"$f":"IF(ISBLANK('Scholars Nomination Form'!Z464),\"\",'Scholars Nomination Form'!Z464)","v":""},{"$f":"IF(ISBLANK('Scholars Nomination Form'!AA464),\"\",'Scholars Nomination Form'!AA464)","v":""}]
[{"$f":"IF(ISBLANK('Scholars Nomination Form'!$F465),\"\",'Scholars Nomination Form'!$C$11)","v":""},{"$f":"IF(ISBLANK('Scholars Nomination Form'!$F465),\"\",'Scholars Nomination Form'!$C$12)","v":""},{"$f":"IF(ISBLANK('Scholars Nomination Form'!$F465),\"\",'Scholars Nomination Form'!$C$13)","v":""},{"$f":"IF(ISBLANK('Scholars Nomination Form'!$F465),\"\",'Scholars Nomination Form'!$C$14)","v":""},{"$f":"IF(ISBLANK('Scholars Nomination Form'!$F465),\"\",'Scholars Nomination Form'!$C$15)","v":""},{"$f":"IF(ISBLANK('Scholars Nomination Form'!$F465),\"\",'Scholars Nomination Form'!$C$16)","v":""},{"$f":"IF(ISBLANK('Scholars Nomination Form'!B465),\"\",'Scholars Nomination Form'!B465)","v":""},{"$f":"IF(ISBLANK('Scholars Nomination Form'!D465),\"\",'Scholars Nomination Form'!D465)","v":""},{"$f":"IF(ISBLANK('Scholars Nomination Form'!E465),\"\",'Scholars Nomination Form'!E465)","v":""},{"$f":"IF(ISBLANK('Scholars Nomination Form'!F465),\"\",'Scholars Nomination Form'!F465)","v":""},{"$f":"IF(ISBLANK('Scholars Nomination Form'!G465),\"\",'Scholars Nomination Form'!G465)","v":""},{"$f":"IF(ISBLANK('Scholars Nomination Form'!H465),\"\",'Scholars Nomination Form'!H465)","v":""},{"$f":"IF(ISBLANK('Scholars Nomination Form'!I465),\"\",'Scholars Nomination Form'!I465)","v":""},{"$f":"IF(ISBLANK('Scholars Nomination Form'!J465),\"\",'Scholars Nomination Form'!J465)","v":""},{"$f":"IF(ISBLANK('Scholars Nomination Form'!K465),\"\",'Scholars Nomination Form'!K465)","v":""},{"$f":"IF(ISBLANK('Scholars Nomination Form'!L465),\"\",'Scholars Nomination Form'!L465)","v":""},{"$f":"IF(ISBLANK('Scholars Nomination Form'!M465),\"\",'Scholars Nomination Form'!M465)","v":""},{"$f":"IF(ISBLANK('Scholars Nomination Form'!N465),\"\",'Scholars Nomination Form'!N465)","v":""},{"$f":"IF(ISBLANK('Scholars Nomination Form'!O465),\"\",'Scholars Nomination Form'!O465)","v":""},{"$f":"IF(ISBLANK('Scholars Nomination Form'!P465),\"\",'Scholars Nomination Form'!P465)","v":""},{"$f":"IF(ISBLANK('Scholars Nomination Form'!Q465),\"\",'Scholars Nomination Form'!Q465)","v":""},{"$f":"IF(ISBLANK('Scholars Nomination Form'!R465),\"\",'Scholars Nomination Form'!R465)","v":""},{"$f":"IF(ISBLANK('Scholars Nomination Form'!S465),\"\",'Scholars Nomination Form'!S465)","v":""},{"$f":"IF(ISBLANK('Scholars Nomination Form'!T465),\"\",'Scholars Nomination Form'!T465)","v":""},{"$f":"IF(ISBLANK('Scholars Nomination Form'!U465),\"\",'Scholars Nomination Form'!U465)","v":""},{"$f":"IF(ISBLANK('Scholars Nomination Form'!V465),\"\",'Scholars Nomination Form'!V465)","v":""},{"$f":"IF(ISBLANK('Scholars Nomination Form'!W465),\"\",'Scholars Nomination Form'!W465)","v":""},{"$f":"IF(ISBLANK('Scholars Nomination Form'!X465),\"\",'Scholars Nomination Form'!X465)","v":""},{"$f":"IF(ISBLANK('Scholars Nomination Form'!Y465),\"\",'Scholars Nomination Form'!Y465)","v":""},{"$f":"IF(ISBLANK('Scholars Nomination Form'!Z465),\"\",'Scholars Nomination Form'!Z465)","v":""},{"$f":"IF(ISBLANK('Scholars Nomination Form'!AA465),\"\",'Scholars Nomination Form'!AA465)","v":""}]
[{"$f":"IF(ISBLANK('Scholars Nomination Form'!$F466),\"\",'Scholars Nomination Form'!$C$11)","v":""},{"$f":"IF(ISBLANK('Scholars Nomination Form'!$F466),\"\",'Scholars Nomination Form'!$C$12)","v":""},{"$f":"IF(ISBLANK('Scholars Nomination Form'!$F466),\"\",'Scholars Nomination Form'!$C$13)","v":""},{"$f":"IF(ISBLANK('Scholars Nomination Form'!$F466),\"\",'Scholars Nomination Form'!$C$14)","v":""},{"$f":"IF(ISBLANK('Scholars Nomination Form'!$F466),\"\",'Scholars Nomination Form'!$C$15)","v":""},{"$f":"IF(ISBLANK('Scholars Nomination Form'!$F466),\"\",'Scholars Nomination Form'!$C$16)","v":""},{"$f":"IF(ISBLANK('Scholars Nomination Form'!B466),\"\",'Scholars Nomination Form'!B466)","v":""},{"$f":"IF(ISBLANK('Scholars Nomination Form'!D466),\"\",'Scholars Nomination Form'!D466)","v":""},{"$f":"IF(ISBLANK('Scholars Nomination Form'!E466),\"\",'Scholars Nomination Form'!E466)","v":""},{"$f":"IF(ISBLANK('Scholars Nomination Form'!F466),\"\",'Scholars Nomination Form'!F466)","v":""},{"$f":"IF(ISBLANK('Scholars Nomination Form'!G466),\"\",'Scholars Nomination Form'!G466)","v":""},{"$f":"IF(ISBLANK('Scholars Nomination Form'!H466),\"\",'Scholars Nomination Form'!H466)","v":""},{"$f":"IF(ISBLANK('Scholars Nomination Form'!I466),\"\",'Scholars Nomination Form'!I466)","v":""},{"$f":"IF(ISBLANK('Scholars Nomination Form'!J466),\"\",'Scholars Nomination Form'!J466)","v":""},{"$f":"IF(ISBLANK('Scholars Nomination Form'!K466),\"\",'Scholars Nomination Form'!K466)","v":""},{"$f":"IF(ISBLANK('Scholars Nomination Form'!L466),\"\",'Scholars Nomination Form'!L466)","v":""},{"$f":"IF(ISBLANK('Scholars Nomination Form'!M466),\"\",'Scholars Nomination Form'!M466)","v":""},{"$f":"IF(ISBLANK('Scholars Nomination Form'!N466),\"\",'Scholars Nomination Form'!N466)","v":""},{"$f":"IF(ISBLANK('Scholars Nomination Form'!O466),\"\",'Scholars Nomination Form'!O466)","v":""},{"$f":"IF(ISBLANK('Scholars Nomination Form'!P466),\"\",'Scholars Nomination Form'!P466)","v":""},{"$f":"IF(ISBLANK('Scholars Nomination Form'!Q466),\"\",'Scholars Nomination Form'!Q466)","v":""},{"$f":"IF(ISBLANK('Scholars Nomination Form'!R466),\"\",'Scholars Nomination Form'!R466)","v":""},{"$f":"IF(ISBLANK('Scholars Nomination Form'!S466),\"\",'Scholars Nomination Form'!S466)","v":""},{"$f":"IF(ISBLANK('Scholars Nomination Form'!T466),\"\",'Scholars Nomination Form'!T466)","v":""},{"$f":"IF(ISBLANK('Scholars Nomination Form'!U466),\"\",'Scholars Nomination Form'!U466)","v":""},{"$f":"IF(ISBLANK('Scholars Nomination Form'!V466),\"\",'Scholars Nomination Form'!V466)","v":""},{"$f":"IF(ISBLANK('Scholars Nomination Form'!W466),\"\",'Scholars Nomination Form'!W466)","v":""},{"$f":"IF(ISBLANK('Scholars Nomination Form'!X466),\"\",'Scholars Nomination Form'!X466)","v":""},{"$f":"IF(ISBLANK('Scholars Nomination Form'!Y466),\"\",'Scholars Nomination Form'!Y466)","v":""},{"$f":"IF(ISBLANK('Scholars Nomination Form'!Z466),\"\",'Scholars Nomination Form'!Z466)","v":""},{"$f":"IF(ISBLANK('Scholars Nomination Form'!AA466),\"\",'Scholars Nomination Form'!AA466)","v":""}]
[{"$f":"IF(ISBLANK('Scholars Nomination Form'!$F467),\"\",'Scholars Nomination Form'!$C$11)","v":""},{"$f":"IF(ISBLANK('Scholars Nomination Form'!$F467),\"\",'Scholars Nomination Form'!$C$12)","v":""},{"$f":"IF(ISBLANK('Scholars Nomination Form'!$F467),\"\",'Scholars Nomination Form'!$C$13)","v":""},{"$f":"IF(ISBLANK('Scholars Nomination Form'!$F467),\"\",'Scholars Nomination Form'!$C$14)","v":""},{"$f":"IF(ISBLANK('Scholars Nomination Form'!$F467),\"\",'Scholars Nomination Form'!$C$15)","v":""},{"$f":"IF(ISBLANK('Scholars Nomination Form'!$F467),\"\",'Scholars Nomination Form'!$C$16)","v":""},{"$f":"IF(ISBLANK('Scholars Nomination Form'!B467),\"\",'Scholars Nomination Form'!B467)","v":""},{"$f":"IF(ISBLANK('Scholars Nomination Form'!D467),\"\",'Scholars Nomination Form'!D467)","v":""},{"$f":"IF(ISBLANK('Scholars Nomination Form'!E467),\"\",'Scholars Nomination Form'!E467)","v":""},{"$f":"IF(ISBLANK('Scholars Nomination Form'!F467),\"\",'Scholars Nomination Form'!F467)","v":""},{"$f":"IF(ISBLANK('Scholars Nomination Form'!G467),\"\",'Scholars Nomination Form'!G467)","v":""},{"$f":"IF(ISBLANK('Scholars Nomination Form'!H467),\"\",'Scholars Nomination Form'!H467)","v":""},{"$f":"IF(ISBLANK('Scholars Nomination Form'!I467),\"\",'Scholars Nomination Form'!I467)","v":""},{"$f":"IF(ISBLANK('Scholars Nomination Form'!J467),\"\",'Scholars Nomination Form'!J467)","v":""},{"$f":"IF(ISBLANK('Scholars Nomination Form'!K467),\"\",'Scholars Nomination Form'!K467)","v":""},{"$f":"IF(ISBLANK('Scholars Nomination Form'!L467),\"\",'Scholars Nomination Form'!L467)","v":""},{"$f":"IF(ISBLANK('Scholars Nomination Form'!M467),\"\",'Scholars Nomination Form'!M467)","v":""},{"$f":"IF(ISBLANK('Scholars Nomination Form'!N467),\"\",'Scholars Nomination Form'!N467)","v":""},{"$f":"IF(ISBLANK('Scholars Nomination Form'!O467),\"\",'Scholars Nomination Form'!O467)","v":""},{"$f":"IF(ISBLANK('Scholars Nomination Form'!P467),\"\",'Scholars Nomination Form'!P467)","v":""},{"$f":"IF(ISBLANK('Scholars Nomination Form'!Q467),\"\",'Scholars Nomination Form'!Q467)","v":""},{"$f":"IF(ISBLANK('Scholars Nomination Form'!R467),\"\",'Scholars Nomination Form'!R467)","v":""},{"$f":"IF(ISBLANK('Scholars Nomination Form'!S467),\"\",'Scholars Nomination Form'!S467)","v":""},{"$f":"IF(ISBLANK('Scholars Nomination Form'!T467),\"\",'Scholars Nomination Form'!T467)","v":""},{"$f":"IF(ISBLANK('Scholars Nomination Form'!U467),\"\",'Scholars Nomination Form'!U467)","v":""},{"$f":"IF(ISBLANK('Scholars Nomination Form'!V467),\"\",'Scholars Nomination Form'!V467)","v":""},{"$f":"IF(ISBLANK('Scholars Nomination Form'!W467),\"\",'Scholars Nomination Form'!W467)","v":""},{"$f":"IF(ISBLANK('Scholars Nomination Form'!X467),\"\",'Scholars Nomination Form'!X467)","v":""},{"$f":"IF(ISBLANK('Scholars Nomination Form'!Y467),\"\",'Scholars Nomination Form'!Y467)","v":""},{"$f":"IF(ISBLANK('Scholars Nomination Form'!Z467),\"\",'Scholars Nomination Form'!Z467)","v":""},{"$f":"IF(ISBLANK('Scholars Nomination Form'!AA467),\"\",'Scholars Nomination Form'!AA467)","v":""}]
[{"$f":"IF(ISBLANK('Scholars Nomination Form'!$F468),\"\",'Scholars Nomination Form'!$C$11)","v":""},{"$f":"IF(ISBLANK('Scholars Nomination Form'!$F468),\"\",'Scholars Nomination Form'!$C$12)","v":""},{"$f":"IF(ISBLANK('Scholars Nomination Form'!$F468),\"\",'Scholars Nomination Form'!$C$13)","v":""},{"$f":"IF(ISBLANK('Scholars Nomination Form'!$F468),\"\",'Scholars Nomination Form'!$C$14)","v":""},{"$f":"IF(ISBLANK('Scholars Nomination Form'!$F468),\"\",'Scholars Nomination Form'!$C$15)","v":""},{"$f":"IF(ISBLANK('Scholars Nomination Form'!$F468),\"\",'Scholars Nomination Form'!$C$16)","v":""},{"$f":"IF(ISBLANK('Scholars Nomination Form'!B468),\"\",'Scholars Nomination Form'!B468)","v":""},{"$f":"IF(ISBLANK('Scholars Nomination Form'!D468),\"\",'Scholars Nomination Form'!D468)","v":""},{"$f":"IF(ISBLANK('Scholars Nomination Form'!E468),\"\",'Scholars Nomination Form'!E468)","v":""},{"$f":"IF(ISBLANK('Scholars Nomination Form'!F468),\"\",'Scholars Nomination Form'!F468)","v":""},{"$f":"IF(ISBLANK('Scholars Nomination Form'!G468),\"\",'Scholars Nomination Form'!G468)","v":""},{"$f":"IF(ISBLANK('Scholars Nomination Form'!H468),\"\",'Scholars Nomination Form'!H468)","v":""},{"$f":"IF(ISBLANK('Scholars Nomination Form'!I468),\"\",'Scholars Nomination Form'!I468)","v":""},{"$f":"IF(ISBLANK('Scholars Nomination Form'!J468),\"\",'Scholars Nomination Form'!J468)","v":""},{"$f":"IF(ISBLANK('Scholars Nomination Form'!K468),\"\",'Scholars Nomination Form'!K468)","v":""},{"$f":"IF(ISBLANK('Scholars Nomination Form'!L468),\"\",'Scholars Nomination Form'!L468)","v":""},{"$f":"IF(ISBLANK('Scholars Nomination Form'!M468),\"\",'Scholars Nomination Form'!M468)","v":""},{"$f":"IF(ISBLANK('Scholars Nomination Form'!N468),\"\",'Scholars Nomination Form'!N468)","v":""},{"$f":"IF(ISBLANK('Scholars Nomination Form'!O468),\"\",'Scholars Nomination Form'!O468)","v":""},{"$f":"IF(ISBLANK('Scholars Nomination Form'!P468),\"\",'Scholars Nomination Form'!P468)","v":""},{"$f":"IF(ISBLANK('Scholars Nomination Form'!Q468),\"\",'Scholars Nomination Form'!Q468)","v":""},{"$f":"IF(ISBLANK('Scholars Nomination Form'!R468),\"\",'Scholars Nomination Form'!R468)","v":""},{"$f":"IF(ISBLANK('Scholars Nomination Form'!S468),\"\",'Scholars Nomination Form'!S468)","v":""},{"$f":"IF(ISBLANK('Scholars Nomination Form'!T468),\"\",'Scholars Nomination Form'!T468)","v":""},{"$f":"IF(ISBLANK('Scholars Nomination Form'!U468),\"\",'Scholars Nomination Form'!U468)","v":""},{"$f":"IF(ISBLANK('Scholars Nomination Form'!V468),\"\",'Scholars Nomination Form'!V468)","v":""},{"$f":"IF(ISBLANK('Scholars Nomination Form'!W468),\"\",'Scholars Nomination Form'!W468)","v":""},{"$f":"IF(ISBLANK('Scholars Nomination Form'!X468),\"\",'Scholars Nomination Form'!X468)","v":""},{"$f":"IF(ISBLANK('Scholars Nomination Form'!Y468),\"\",'Scholars Nomination Form'!Y468)","v":""},{"$f":"IF(ISBLANK('Scholars Nomination Form'!Z468),\"\",'Scholars Nomination Form'!Z468)","v":""},{"$f":"IF(ISBLANK('Scholars Nomination Form'!AA468),\"\",'Scholars Nomination Form'!AA468)","v":""}]
[{"$f":"IF(ISBLANK('Scholars Nomination Form'!$F469),\"\",'Scholars Nomination Form'!$C$11)","v":""},{"$f":"IF(ISBLANK('Scholars Nomination Form'!$F469),\"\",'Scholars Nomination Form'!$C$12)","v":""},{"$f":"IF(ISBLANK('Scholars Nomination Form'!$F469),\"\",'Scholars Nomination Form'!$C$13)","v":""},{"$f":"IF(ISBLANK('Scholars Nomination Form'!$F469),\"\",'Scholars Nomination Form'!$C$14)","v":""},{"$f":"IF(ISBLANK('Scholars Nomination Form'!$F469),\"\",'Scholars Nomination Form'!$C$15)","v":""},{"$f":"IF(ISBLANK('Scholars Nomination Form'!$F469),\"\",'Scholars Nomination Form'!$C$16)","v":""},{"$f":"IF(ISBLANK('Scholars Nomination Form'!B469),\"\",'Scholars Nomination Form'!B469)","v":""},{"$f":"IF(ISBLANK('Scholars Nomination Form'!D469),\"\",'Scholars Nomination Form'!D469)","v":""},{"$f":"IF(ISBLANK('Scholars Nomination Form'!E469),\"\",'Scholars Nomination Form'!E469)","v":""},{"$f":"IF(ISBLANK('Scholars Nomination Form'!F469),\"\",'Scholars Nomination Form'!F469)","v":""},{"$f":"IF(ISBLANK('Scholars Nomination Form'!G469),\"\",'Scholars Nomination Form'!G469)","v":""},{"$f":"IF(ISBLANK('Scholars Nomination Form'!H469),\"\",'Scholars Nomination Form'!H469)","v":""},{"$f":"IF(ISBLANK('Scholars Nomination Form'!I469),\"\",'Scholars Nomination Form'!I469)","v":""},{"$f":"IF(ISBLANK('Scholars Nomination Form'!J469),\"\",'Scholars Nomination Form'!J469)","v":""},{"$f":"IF(ISBLANK('Scholars Nomination Form'!K469),\"\",'Scholars Nomination Form'!K469)","v":""},{"$f":"IF(ISBLANK('Scholars Nomination Form'!L469),\"\",'Scholars Nomination Form'!L469)","v":""},{"$f":"IF(ISBLANK('Scholars Nomination Form'!M469),\"\",'Scholars Nomination Form'!M469)","v":""},{"$f":"IF(ISBLANK('Scholars Nomination Form'!N469),\"\",'Scholars Nomination Form'!N469)","v":""},{"$f":"IF(ISBLANK('Scholars Nomination Form'!O469),\"\",'Scholars Nomination Form'!O469)","v":""},{"$f":"IF(ISBLANK('Scholars Nomination Form'!P469),\"\",'Scholars Nomination Form'!P469)","v":""},{"$f":"IF(ISBLANK('Scholars Nomination Form'!Q469),\"\",'Scholars Nomination Form'!Q469)","v":""},{"$f":"IF(ISBLANK('Scholars Nomination Form'!R469),\"\",'Scholars Nomination Form'!R469)","v":""},{"$f":"IF(ISBLANK('Scholars Nomination Form'!S469),\"\",'Scholars Nomination Form'!S469)","v":""},{"$f":"IF(ISBLANK('Scholars Nomination Form'!T469),\"\",'Scholars Nomination Form'!T469)","v":""},{"$f":"IF(ISBLANK('Scholars Nomination Form'!U469),\"\",'Scholars Nomination Form'!U469)","v":""},{"$f":"IF(ISBLANK('Scholars Nomination Form'!V469),\"\",'Scholars Nomination Form'!V469)","v":""},{"$f":"IF(ISBLANK('Scholars Nomination Form'!W469),\"\",'Scholars Nomination Form'!W469)","v":""},{"$f":"IF(ISBLANK('Scholars Nomination Form'!X469),\"\",'Scholars Nomination Form'!X469)","v":""},{"$f":"IF(ISBLANK('Scholars Nomination Form'!Y469),\"\",'Scholars Nomination Form'!Y469)","v":""},{"$f":"IF(ISBLANK('Scholars Nomination Form'!Z469),\"\",'Scholars Nomination Form'!Z469)","v":""},{"$f":"IF(ISBLANK('Scholars Nomination Form'!AA469),\"\",'Scholars Nomination Form'!AA469)","v":""}]
[{"$f":"IF(ISBLANK('Scholars Nomination Form'!$F470),\"\",'Scholars Nomination Form'!$C$11)","v":""},{"$f":"IF(ISBLANK('Scholars Nomination Form'!$F470),\"\",'Scholars Nomination Form'!$C$12)","v":""},{"$f":"IF(ISBLANK('Scholars Nomination Form'!$F470),\"\",'Scholars Nomination Form'!$C$13)","v":""},{"$f":"IF(ISBLANK('Scholars Nomination Form'!$F470),\"\",'Scholars Nomination Form'!$C$14)","v":""},{"$f":"IF(ISBLANK('Scholars Nomination Form'!$F470),\"\",'Scholars Nomination Form'!$C$15)","v":""},{"$f":"IF(ISBLANK('Scholars Nomination Form'!$F470),\"\",'Scholars Nomination Form'!$C$16)","v":""},{"$f":"IF(ISBLANK('Scholars Nomination Form'!B470),\"\",'Scholars Nomination Form'!B470)","v":""},{"$f":"IF(ISBLANK('Scholars Nomination Form'!D470),\"\",'Scholars Nomination Form'!D470)","v":""},{"$f":"IF(ISBLANK('Scholars Nomination Form'!E470),\"\",'Scholars Nomination Form'!E470)","v":""},{"$f":"IF(ISBLANK('Scholars Nomination Form'!F470),\"\",'Scholars Nomination Form'!F470)","v":""},{"$f":"IF(ISBLANK('Scholars Nomination Form'!G470),\"\",'Scholars Nomination Form'!G470)","v":""},{"$f":"IF(ISBLANK('Scholars Nomination Form'!H470),\"\",'Scholars Nomination Form'!H470)","v":""},{"$f":"IF(ISBLANK('Scholars Nomination Form'!I470),\"\",'Scholars Nomination Form'!I470)","v":""},{"$f":"IF(ISBLANK('Scholars Nomination Form'!J470),\"\",'Scholars Nomination Form'!J470)","v":""},{"$f":"IF(ISBLANK('Scholars Nomination Form'!K470),\"\",'Scholars Nomination Form'!K470)","v":""},{"$f":"IF(ISBLANK('Scholars Nomination Form'!L470),\"\",'Scholars Nomination Form'!L470)","v":""},{"$f":"IF(ISBLANK('Scholars Nomination Form'!M470),\"\",'Scholars Nomination Form'!M470)","v":""},{"$f":"IF(ISBLANK('Scholars Nomination Form'!N470),\"\",'Scholars Nomination Form'!N470)","v":""},{"$f":"IF(ISBLANK('Scholars Nomination Form'!O470),\"\",'Scholars Nomination Form'!O470)","v":""},{"$f":"IF(ISBLANK('Scholars Nomination Form'!P470),\"\",'Scholars Nomination Form'!P470)","v":""},{"$f":"IF(ISBLANK('Scholars Nomination Form'!Q470),\"\",'Scholars Nomination Form'!Q470)","v":""},{"$f":"IF(ISBLANK('Scholars Nomination Form'!R470),\"\",'Scholars Nomination Form'!R470)","v":""},{"$f":"IF(ISBLANK('Scholars Nomination Form'!S470),\"\",'Scholars Nomination Form'!S470)","v":""},{"$f":"IF(ISBLANK('Scholars Nomination Form'!T470),\"\",'Scholars Nomination Form'!T470)","v":""},{"$f":"IF(ISBLANK('Scholars Nomination Form'!U470),\"\",'Scholars Nomination Form'!U470)","v":""},{"$f":"IF(ISBLANK('Scholars Nomination Form'!V470),\"\",'Scholars Nomination Form'!V470)","v":""},{"$f":"IF(ISBLANK('Scholars Nomination Form'!W470),\"\",'Scholars Nomination Form'!W470)","v":""},{"$f":"IF(ISBLANK('Scholars Nomination Form'!X470),\"\",'Scholars Nomination Form'!X470)","v":""},{"$f":"IF(ISBLANK('Scholars Nomination Form'!Y470),\"\",'Scholars Nomination Form'!Y470)","v":""},{"$f":"IF(ISBLANK('Scholars Nomination Form'!Z470),\"\",'Scholars Nomination Form'!Z470)","v":""},{"$f":"IF(ISBLANK('Scholars Nomination Form'!AA470),\"\",'Scholars Nomination Form'!AA470)","v":""}]
[{"$f":"IF(ISBLANK('Scholars Nomination Form'!$F471),\"\",'Scholars Nomination Form'!$C$11)","v":""},{"$f":"IF(ISBLANK('Scholars Nomination Form'!$F471),\"\",'Scholars Nomination Form'!$C$12)","v":""},{"$f":"IF(ISBLANK('Scholars Nomination Form'!$F471),\"\",'Scholars Nomination Form'!$C$13)","v":""},{"$f":"IF(ISBLANK('Scholars Nomination Form'!$F471),\"\",'Scholars Nomination Form'!$C$14)","v":""},{"$f":"IF(ISBLANK('Scholars Nomination Form'!$F471),\"\",'Scholars Nomination Form'!$C$15)","v":""},{"$f":"IF(ISBLANK('Scholars Nomination Form'!$F471),\"\",'Scholars Nomination Form'!$C$16)","v":""},{"$f":"IF(ISBLANK('Scholars Nomination Form'!B471),\"\",'Scholars Nomination Form'!B471)","v":""},{"$f":"IF(ISBLANK('Scholars Nomination Form'!D471),\"\",'Scholars Nomination Form'!D471)","v":""},{"$f":"IF(ISBLANK('Scholars Nomination Form'!E471),\"\",'Scholars Nomination Form'!E471)","v":""},{"$f":"IF(ISBLANK('Scholars Nomination Form'!F471),\"\",'Scholars Nomination Form'!F471)","v":""},{"$f":"IF(ISBLANK('Scholars Nomination Form'!G471),\"\",'Scholars Nomination Form'!G471)","v":""},{"$f":"IF(ISBLANK('Scholars Nomination Form'!H471),\"\",'Scholars Nomination Form'!H471)","v":""},{"$f":"IF(ISBLANK('Scholars Nomination Form'!I471),\"\",'Scholars Nomination Form'!I471)","v":""},{"$f":"IF(ISBLANK('Scholars Nomination Form'!J471),\"\",'Scholars Nomination Form'!J471)","v":""},{"$f":"IF(ISBLANK('Scholars Nomination Form'!K471),\"\",'Scholars Nomination Form'!K471)","v":""},{"$f":"IF(ISBLANK('Scholars Nomination Form'!L471),\"\",'Scholars Nomination Form'!L471)","v":""},{"$f":"IF(ISBLANK('Scholars Nomination Form'!M471),\"\",'Scholars Nomination Form'!M471)","v":""},{"$f":"IF(ISBLANK('Scholars Nomination Form'!N471),\"\",'Scholars Nomination Form'!N471)","v":""},{"$f":"IF(ISBLANK('Scholars Nomination Form'!O471),\"\",'Scholars Nomination Form'!O471)","v":""},{"$f":"IF(ISBLANK('Scholars Nomination Form'!P471),\"\",'Scholars Nomination Form'!P471)","v":""},{"$f":"IF(ISBLANK('Scholars Nomination Form'!Q471),\"\",'Scholars Nomination Form'!Q471)","v":""},{"$f":"IF(ISBLANK('Scholars Nomination Form'!R471),\"\",'Scholars Nomination Form'!R471)","v":""},{"$f":"IF(ISBLANK('Scholars Nomination Form'!S471),\"\",'Scholars Nomination Form'!S471)","v":""},{"$f":"IF(ISBLANK('Scholars Nomination Form'!T471),\"\",'Scholars Nomination Form'!T471)","v":""},{"$f":"IF(ISBLANK('Scholars Nomination Form'!U471),\"\",'Scholars Nomination Form'!U471)","v":""},{"$f":"IF(ISBLANK('Scholars Nomination Form'!V471),\"\",'Scholars Nomination Form'!V471)","v":""},{"$f":"IF(ISBLANK('Scholars Nomination Form'!W471),\"\",'Scholars Nomination Form'!W471)","v":""},{"$f":"IF(ISBLANK('Scholars Nomination Form'!X471),\"\",'Scholars Nomination Form'!X471)","v":""},{"$f":"IF(ISBLANK('Scholars Nomination Form'!Y471),\"\",'Scholars Nomination Form'!Y471)","v":""},{"$f":"IF(ISBLANK('Scholars Nomination Form'!Z471),\"\",'Scholars Nomination Form'!Z471)","v":""},{"$f":"IF(ISBLANK('Scholars Nomination Form'!AA471),\"\",'Scholars Nomination Form'!AA471)","v":""}]
[{"$f":"IF(ISBLANK('Scholars Nomination Form'!$F472),\"\",'Scholars Nomination Form'!$C$11)","v":""},{"$f":"IF(ISBLANK('Scholars Nomination Form'!$F472),\"\",'Scholars Nomination Form'!$C$12)","v":""},{"$f":"IF(ISBLANK('Scholars Nomination Form'!$F472),\"\",'Scholars Nomination Form'!$C$13)","v":""},{"$f":"IF(ISBLANK('Scholars Nomination Form'!$F472),\"\",'Scholars Nomination Form'!$C$14)","v":""},{"$f":"IF(ISBLANK('Scholars Nomination Form'!$F472),\"\",'Scholars Nomination Form'!$C$15)","v":""},{"$f":"IF(ISBLANK('Scholars Nomination Form'!$F472),\"\",'Scholars Nomination Form'!$C$16)","v":""},{"$f":"IF(ISBLANK('Scholars Nomination Form'!B472),\"\",'Scholars Nomination Form'!B472)","v":""},{"$f":"IF(ISBLANK('Scholars Nomination Form'!D472),\"\",'Scholars Nomination Form'!D472)","v":""},{"$f":"IF(ISBLANK('Scholars Nomination Form'!E472),\"\",'Scholars Nomination Form'!E472)","v":""},{"$f":"IF(ISBLANK('Scholars Nomination Form'!F472),\"\",'Scholars Nomination Form'!F472)","v":""},{"$f":"IF(ISBLANK('Scholars Nomination Form'!G472),\"\",'Scholars Nomination Form'!G472)","v":""},{"$f":"IF(ISBLANK('Scholars Nomination Form'!H472),\"\",'Scholars Nomination Form'!H472)","v":""},{"$f":"IF(ISBLANK('Scholars Nomination Form'!I472),\"\",'Scholars Nomination Form'!I472)","v":""},{"$f":"IF(ISBLANK('Scholars Nomination Form'!J472),\"\",'Scholars Nomination Form'!J472)","v":""},{"$f":"IF(ISBLANK('Scholars Nomination Form'!K472),\"\",'Scholars Nomination Form'!K472)","v":""},{"$f":"IF(ISBLANK('Scholars Nomination Form'!L472),\"\",'Scholars Nomination Form'!L472)","v":""},{"$f":"IF(ISBLANK('Scholars Nomination Form'!M472),\"\",'Scholars Nomination Form'!M472)","v":""},{"$f":"IF(ISBLANK('Scholars Nomination Form'!N472),\"\",'Scholars Nomination Form'!N472)","v":""},{"$f":"IF(ISBLANK('Scholars Nomination Form'!O472),\"\",'Scholars Nomination Form'!O472)","v":""},{"$f":"IF(ISBLANK('Scholars Nomination Form'!P472),\"\",'Scholars Nomination Form'!P472)","v":""},{"$f":"IF(ISBLANK('Scholars Nomination Form'!Q472),\"\",'Scholars Nomination Form'!Q472)","v":""},{"$f":"IF(ISBLANK('Scholars Nomination Form'!R472),\"\",'Scholars Nomination Form'!R472)","v":""},{"$f":"IF(ISBLANK('Scholars Nomination Form'!S472),\"\",'Scholars Nomination Form'!S472)","v":""},{"$f":"IF(ISBLANK('Scholars Nomination Form'!T472),\"\",'Scholars Nomination Form'!T472)","v":""},{"$f":"IF(ISBLANK('Scholars Nomination Form'!U472),\"\",'Scholars Nomination Form'!U472)","v":""},{"$f":"IF(ISBLANK('Scholars Nomination Form'!V472),\"\",'Scholars Nomination Form'!V472)","v":""},{"$f":"IF(ISBLANK('Scholars Nomination Form'!W472),\"\",'Scholars Nomination Form'!W472)","v":""},{"$f":"IF(ISBLANK('Scholars Nomination Form'!X472),\"\",'Scholars Nomination Form'!X472)","v":""},{"$f":"IF(ISBLANK('Scholars Nomination Form'!Y472),\"\",'Scholars Nomination Form'!Y472)","v":""},{"$f":"IF(ISBLANK('Scholars Nomination Form'!Z472),\"\",'Scholars Nomination Form'!Z472)","v":""},{"$f":"IF(ISBLANK('Scholars Nomination Form'!AA472),\"\",'Scholars Nomination Form'!AA472)","v":""}]
[{"$f":"IF(ISBLANK('Scholars Nomination Form'!$F473),\"\",'Scholars Nomination Form'!$C$11)","v":""},{"$f":"IF(ISBLANK('Scholars Nomination Form'!$F473),\"\",'Scholars Nomination Form'!$C$12)","v":""},{"$f":"IF(ISBLANK('Scholars Nomination Form'!$F473),\"\",'Scholars Nomination Form'!$C$13)","v":""},{"$f":"IF(ISBLANK('Scholars Nomination Form'!$F473),\"\",'Scholars Nomination Form'!$C$14)","v":""},{"$f":"IF(ISBLANK('Scholars Nomination Form'!$F473),\"\",'Scholars Nomination Form'!$C$15)","v":""},{"$f":"IF(ISBLANK('Scholars Nomination Form'!$F473),\"\",'Scholars Nomination Form'!$C$16)","v":""},{"$f":"IF(ISBLANK('Scholars Nomination Form'!B473),\"\",'Scholars Nomination Form'!B473)","v":""},{"$f":"IF(ISBLANK('Scholars Nomination Form'!D473),\"\",'Scholars Nomination Form'!D473)","v":""},{"$f":"IF(ISBLANK('Scholars Nomination Form'!E473),\"\",'Scholars Nomination Form'!E473)","v":""},{"$f":"IF(ISBLANK('Scholars Nomination Form'!F473),\"\",'Scholars Nomination Form'!F473)","v":""},{"$f":"IF(ISBLANK('Scholars Nomination Form'!G473),\"\",'Scholars Nomination Form'!G473)","v":""},{"$f":"IF(ISBLANK('Scholars Nomination Form'!H473),\"\",'Scholars Nomination Form'!H473)","v":""},{"$f":"IF(ISBLANK('Scholars Nomination Form'!I473),\"\",'Scholars Nomination Form'!I473)","v":""},{"$f":"IF(ISBLANK('Scholars Nomination Form'!J473),\"\",'Scholars Nomination Form'!J473)","v":""},{"$f":"IF(ISBLANK('Scholars Nomination Form'!K473),\"\",'Scholars Nomination Form'!K473)","v":""},{"$f":"IF(ISBLANK('Scholars Nomination Form'!L473),\"\",'Scholars Nomination Form'!L473)","v":""},{"$f":"IF(ISBLANK('Scholars Nomination Form'!M473),\"\",'Scholars Nomination Form'!M473)","v":""},{"$f":"IF(ISBLANK('Scholars Nomination Form'!N473),\"\",'Scholars Nomination Form'!N473)","v":""},{"$f":"IF(ISBLANK('Scholars Nomination Form'!O473),\"\",'Scholars Nomination Form'!O473)","v":""},{"$f":"IF(ISBLANK('Scholars Nomination Form'!P473),\"\",'Scholars Nomination Form'!P473)","v":""},{"$f":"IF(ISBLANK('Scholars Nomination Form'!Q473),\"\",'Scholars Nomination Form'!Q473)","v":""},{"$f":"IF(ISBLANK('Scholars Nomination Form'!R473),\"\",'Scholars Nomination Form'!R473)","v":""},{"$f":"IF(ISBLANK('Scholars Nomination Form'!S473),\"\",'Scholars Nomination Form'!S473)","v":""},{"$f":"IF(ISBLANK('Scholars Nomination Form'!T473),\"\",'Scholars Nomination Form'!T473)","v":""},{"$f":"IF(ISBLANK('Scholars Nomination Form'!U473),\"\",'Scholars Nomination Form'!U473)","v":""},{"$f":"IF(ISBLANK('Scholars Nomination Form'!V473),\"\",'Scholars Nomination Form'!V473)","v":""},{"$f":"IF(ISBLANK('Scholars Nomination Form'!W473),\"\",'Scholars Nomination Form'!W473)","v":""},{"$f":"IF(ISBLANK('Scholars Nomination Form'!X473),\"\",'Scholars Nomination Form'!X473)","v":""},{"$f":"IF(ISBLANK('Scholars Nomination Form'!Y473),\"\",'Scholars Nomination Form'!Y473)","v":""},{"$f":"IF(ISBLANK('Scholars Nomination Form'!Z473),\"\",'Scholars Nomination Form'!Z473)","v":""},{"$f":"IF(ISBLANK('Scholars Nomination Form'!AA473),\"\",'Scholars Nomination Form'!AA473)","v":""}]
[{"$f":"IF(ISBLANK('Scholars Nomination Form'!$F474),\"\",'Scholars Nomination Form'!$C$11)","v":""},{"$f":"IF(ISBLANK('Scholars Nomination Form'!$F474),\"\",'Scholars Nomination Form'!$C$12)","v":""},{"$f":"IF(ISBLANK('Scholars Nomination Form'!$F474),\"\",'Scholars Nomination Form'!$C$13)","v":""},{"$f":"IF(ISBLANK('Scholars Nomination Form'!$F474),\"\",'Scholars Nomination Form'!$C$14)","v":""},{"$f":"IF(ISBLANK('Scholars Nomination Form'!$F474),\"\",'Scholars Nomination Form'!$C$15)","v":""},{"$f":"IF(ISBLANK('Scholars Nomination Form'!$F474),\"\",'Scholars Nomination Form'!$C$16)","v":""},{"$f":"IF(ISBLANK('Scholars Nomination Form'!B474),\"\",'Scholars Nomination Form'!B474)","v":""},{"$f":"IF(ISBLANK('Scholars Nomination Form'!D474),\"\",'Scholars Nomination Form'!D474)","v":""},{"$f":"IF(ISBLANK('Scholars Nomination Form'!E474),\"\",'Scholars Nomination Form'!E474)","v":""},{"$f":"IF(ISBLANK('Scholars Nomination Form'!F474),\"\",'Scholars Nomination Form'!F474)","v":""},{"$f":"IF(ISBLANK('Scholars Nomination Form'!G474),\"\",'Scholars Nomination Form'!G474)","v":""},{"$f":"IF(ISBLANK('Scholars Nomination Form'!H474),\"\",'Scholars Nomination Form'!H474)","v":""},{"$f":"IF(ISBLANK('Scholars Nomination Form'!I474),\"\",'Scholars Nomination Form'!I474)","v":""},{"$f":"IF(ISBLANK('Scholars Nomination Form'!J474),\"\",'Scholars Nomination Form'!J474)","v":""},{"$f":"IF(ISBLANK('Scholars Nomination Form'!K474),\"\",'Scholars Nomination Form'!K474)","v":""},{"$f":"IF(ISBLANK('Scholars Nomination Form'!L474),\"\",'Scholars Nomination Form'!L474)","v":""},{"$f":"IF(ISBLANK('Scholars Nomination Form'!M474),\"\",'Scholars Nomination Form'!M474)","v":""},{"$f":"IF(ISBLANK('Scholars Nomination Form'!N474),\"\",'Scholars Nomination Form'!N474)","v":""},{"$f":"IF(ISBLANK('Scholars Nomination Form'!O474),\"\",'Scholars Nomination Form'!O474)","v":""},{"$f":"IF(ISBLANK('Scholars Nomination Form'!P474),\"\",'Scholars Nomination Form'!P474)","v":""},{"$f":"IF(ISBLANK('Scholars Nomination Form'!Q474),\"\",'Scholars Nomination Form'!Q474)","v":""},{"$f":"IF(ISBLANK('Scholars Nomination Form'!R474),\"\",'Scholars Nomination Form'!R474)","v":""},{"$f":"IF(ISBLANK('Scholars Nomination Form'!S474),\"\",'Scholars Nomination Form'!S474)","v":""},{"$f":"IF(ISBLANK('Scholars Nomination Form'!T474),\"\",'Scholars Nomination Form'!T474)","v":""},{"$f":"IF(ISBLANK('Scholars Nomination Form'!U474),\"\",'Scholars Nomination Form'!U474)","v":""},{"$f":"IF(ISBLANK('Scholars Nomination Form'!V474),\"\",'Scholars Nomination Form'!V474)","v":""},{"$f":"IF(ISBLANK('Scholars Nomination Form'!W474),\"\",'Scholars Nomination Form'!W474)","v":""},{"$f":"IF(ISBLANK('Scholars Nomination Form'!X474),\"\",'Scholars Nomination Form'!X474)","v":""},{"$f":"IF(ISBLANK('Scholars Nomination Form'!Y474),\"\",'Scholars Nomination Form'!Y474)","v":""},{"$f":"IF(ISBLANK('Scholars Nomination Form'!Z474),\"\",'Scholars Nomination Form'!Z474)","v":""},{"$f":"IF(ISBLANK('Scholars Nomination Form'!AA474),\"\",'Scholars Nomination Form'!AA474)","v":""}]
[{"$f":"IF(ISBLANK('Scholars Nomination Form'!$F475),\"\",'Scholars Nomination Form'!$C$11)","v":""},{"$f":"IF(ISBLANK('Scholars Nomination Form'!$F475),\"\",'Scholars Nomination Form'!$C$12)","v":""},{"$f":"IF(ISBLANK('Scholars Nomination Form'!$F475),\"\",'Scholars Nomination Form'!$C$13)","v":""},{"$f":"IF(ISBLANK('Scholars Nomination Form'!$F475),\"\",'Scholars Nomination Form'!$C$14)","v":""},{"$f":"IF(ISBLANK('Scholars Nomination Form'!$F475),\"\",'Scholars Nomination Form'!$C$15)","v":""},{"$f":"IF(ISBLANK('Scholars Nomination Form'!$F475),\"\",'Scholars Nomination Form'!$C$16)","v":""},{"$f":"IF(ISBLANK('Scholars Nomination Form'!B475),\"\",'Scholars Nomination Form'!B475)","v":""},{"$f":"IF(ISBLANK('Scholars Nomination Form'!D475),\"\",'Scholars Nomination Form'!D475)","v":""},{"$f":"IF(ISBLANK('Scholars Nomination Form'!E475),\"\",'Scholars Nomination Form'!E475)","v":""},{"$f":"IF(ISBLANK('Scholars Nomination Form'!F475),\"\",'Scholars Nomination Form'!F475)","v":""},{"$f":"IF(ISBLANK('Scholars Nomination Form'!G475),\"\",'Scholars Nomination Form'!G475)","v":""},{"$f":"IF(ISBLANK('Scholars Nomination Form'!H475),\"\",'Scholars Nomination Form'!H475)","v":""},{"$f":"IF(ISBLANK('Scholars Nomination Form'!I475),\"\",'Scholars Nomination Form'!I475)","v":""},{"$f":"IF(ISBLANK('Scholars Nomination Form'!J475),\"\",'Scholars Nomination Form'!J475)","v":""},{"$f":"IF(ISBLANK('Scholars Nomination Form'!K475),\"\",'Scholars Nomination Form'!K475)","v":""},{"$f":"IF(ISBLANK('Scholars Nomination Form'!L475),\"\",'Scholars Nomination Form'!L475)","v":""},{"$f":"IF(ISBLANK('Scholars Nomination Form'!M475),\"\",'Scholars Nomination Form'!M475)","v":""},{"$f":"IF(ISBLANK('Scholars Nomination Form'!N475),\"\",'Scholars Nomination Form'!N475)","v":""},{"$f":"IF(ISBLANK('Scholars Nomination Form'!O475),\"\",'Scholars Nomination Form'!O475)","v":""},{"$f":"IF(ISBLANK('Scholars Nomination Form'!P475),\"\",'Scholars Nomination Form'!P475)","v":""},{"$f":"IF(ISBLANK('Scholars Nomination Form'!Q475),\"\",'Scholars Nomination Form'!Q475)","v":""},{"$f":"IF(ISBLANK('Scholars Nomination Form'!R475),\"\",'Scholars Nomination Form'!R475)","v":""},{"$f":"IF(ISBLANK('Scholars Nomination Form'!S475),\"\",'Scholars Nomination Form'!S475)","v":""},{"$f":"IF(ISBLANK('Scholars Nomination Form'!T475),\"\",'Scholars Nomination Form'!T475)","v":""},{"$f":"IF(ISBLANK('Scholars Nomination Form'!U475),\"\",'Scholars Nomination Form'!U475)","v":""},{"$f":"IF(ISBLANK('Scholars Nomination Form'!V475),\"\",'Scholars Nomination Form'!V475)","v":""},{"$f":"IF(ISBLANK('Scholars Nomination Form'!W475),\"\",'Scholars Nomination Form'!W475)","v":""},{"$f":"IF(ISBLANK('Scholars Nomination Form'!X475),\"\",'Scholars Nomination Form'!X475)","v":""},{"$f":"IF(ISBLANK('Scholars Nomination Form'!Y475),\"\",'Scholars Nomination Form'!Y475)","v":""},{"$f":"IF(ISBLANK('Scholars Nomination Form'!Z475),\"\",'Scholars Nomination Form'!Z475)","v":""},{"$f":"IF(ISBLANK('Scholars Nomination Form'!AA475),\"\",'Scholars Nomination Form'!AA475)","v":""}]
[{"$f":"IF(ISBLANK('Scholars Nomination Form'!$F476),\"\",'Scholars Nomination Form'!$C$11)","v":""},{"$f":"IF(ISBLANK('Scholars Nomination Form'!$F476),\"\",'Scholars Nomination Form'!$C$12)","v":""},{"$f":"IF(ISBLANK('Scholars Nomination Form'!$F476),\"\",'Scholars Nomination Form'!$C$13)","v":""},{"$f":"IF(ISBLANK('Scholars Nomination Form'!$F476),\"\",'Scholars Nomination Form'!$C$14)","v":""},{"$f":"IF(ISBLANK('Scholars Nomination Form'!$F476),\"\",'Scholars Nomination Form'!$C$15)","v":""},{"$f":"IF(ISBLANK('Scholars Nomination Form'!$F476),\"\",'Scholars Nomination Form'!$C$16)","v":""},{"$f":"IF(ISBLANK('Scholars Nomination Form'!B476),\"\",'Scholars Nomination Form'!B476)","v":""},{"$f":"IF(ISBLANK('Scholars Nomination Form'!D476),\"\",'Scholars Nomination Form'!D476)","v":""},{"$f":"IF(ISBLANK('Scholars Nomination Form'!E476),\"\",'Scholars Nomination Form'!E476)","v":""},{"$f":"IF(ISBLANK('Scholars Nomination Form'!F476),\"\",'Scholars Nomination Form'!F476)","v":""},{"$f":"IF(ISBLANK('Scholars Nomination Form'!G476),\"\",'Scholars Nomination Form'!G476)","v":""},{"$f":"IF(ISBLANK('Scholars Nomination Form'!H476),\"\",'Scholars Nomination Form'!H476)","v":""},{"$f":"IF(ISBLANK('Scholars Nomination Form'!I476),\"\",'Scholars Nomination Form'!I476)","v":""},{"$f":"IF(ISBLANK('Scholars Nomination Form'!J476),\"\",'Scholars Nomination Form'!J476)","v":""},{"$f":"IF(ISBLANK('Scholars Nomination Form'!K476),\"\",'Scholars Nomination Form'!K476)","v":""},{"$f":"IF(ISBLANK('Scholars Nomination Form'!L476),\"\",'Scholars Nomination Form'!L476)","v":""},{"$f":"IF(ISBLANK('Scholars Nomination Form'!M476),\"\",'Scholars Nomination Form'!M476)","v":""},{"$f":"IF(ISBLANK('Scholars Nomination Form'!N476),\"\",'Scholars Nomination Form'!N476)","v":""},{"$f":"IF(ISBLANK('Scholars Nomination Form'!O476),\"\",'Scholars Nomination Form'!O476)","v":""},{"$f":"IF(ISBLANK('Scholars Nomination Form'!P476),\"\",'Scholars Nomination Form'!P476)","v":""},{"$f":"IF(ISBLANK('Scholars Nomination Form'!Q476),\"\",'Scholars Nomination Form'!Q476)","v":""},{"$f":"IF(ISBLANK('Scholars Nomination Form'!R476),\"\",'Scholars Nomination Form'!R476)","v":""},{"$f":"IF(ISBLANK('Scholars Nomination Form'!S476),\"\",'Scholars Nomination Form'!S476)","v":""},{"$f":"IF(ISBLANK('Scholars Nomination Form'!T476),\"\",'Scholars Nomination Form'!T476)","v":""},{"$f":"IF(ISBLANK('Scholars Nomination Form'!U476),\"\",'Scholars Nomination Form'!U476)","v":""},{"$f":"IF(ISBLANK('Scholars Nomination Form'!V476),\"\",'Scholars Nomination Form'!V476)","v":""},{"$f":"IF(ISBLANK('Scholars Nomination Form'!W476),\"\",'Scholars Nomination Form'!W476)","v":""},{"$f":"IF(ISBLANK('Scholars Nomination Form'!X476),\"\",'Scholars Nomination Form'!X476)","v":""},{"$f":"IF(ISBLANK('Scholars Nomination Form'!Y476),\"\",'Scholars Nomination Form'!Y476)","v":""},{"$f":"IF(ISBLANK('Scholars Nomination Form'!Z476),\"\",'Scholars Nomination Form'!Z476)","v":""},{"$f":"IF(ISBLANK('Scholars Nomination Form'!AA476),\"\",'Scholars Nomination Form'!AA476)","v":""}]
[{"$f":"IF(ISBLANK('Scholars Nomination Form'!$F477),\"\",'Scholars Nomination Form'!$C$11)","v":""},{"$f":"IF(ISBLANK('Scholars Nomination Form'!$F477),\"\",'Scholars Nomination Form'!$C$12)","v":""},{"$f":"IF(ISBLANK('Scholars Nomination Form'!$F477),\"\",'Scholars Nomination Form'!$C$13)","v":""},{"$f":"IF(ISBLANK('Scholars Nomination Form'!$F477),\"\",'Scholars Nomination Form'!$C$14)","v":""},{"$f":"IF(ISBLANK('Scholars Nomination Form'!$F477),\"\",'Scholars Nomination Form'!$C$15)","v":""},{"$f":"IF(ISBLANK('Scholars Nomination Form'!$F477),\"\",'Scholars Nomination Form'!$C$16)","v":""},{"$f":"IF(ISBLANK('Scholars Nomination Form'!B477),\"\",'Scholars Nomination Form'!B477)","v":""},{"$f":"IF(ISBLANK('Scholars Nomination Form'!D477),\"\",'Scholars Nomination Form'!D477)","v":""},{"$f":"IF(ISBLANK('Scholars Nomination Form'!E477),\"\",'Scholars Nomination Form'!E477)","v":""},{"$f":"IF(ISBLANK('Scholars Nomination Form'!F477),\"\",'Scholars Nomination Form'!F477)","v":""},{"$f":"IF(ISBLANK('Scholars Nomination Form'!G477),\"\",'Scholars Nomination Form'!G477)","v":""},{"$f":"IF(ISBLANK('Scholars Nomination Form'!H477),\"\",'Scholars Nomination Form'!H477)","v":""},{"$f":"IF(ISBLANK('Scholars Nomination Form'!I477),\"\",'Scholars Nomination Form'!I477)","v":""},{"$f":"IF(ISBLANK('Scholars Nomination Form'!J477),\"\",'Scholars Nomination Form'!J477)","v":""},{"$f":"IF(ISBLANK('Scholars Nomination Form'!K477),\"\",'Scholars Nomination Form'!K477)","v":""},{"$f":"IF(ISBLANK('Scholars Nomination Form'!L477),\"\",'Scholars Nomination Form'!L477)","v":""},{"$f":"IF(ISBLANK('Scholars Nomination Form'!M477),\"\",'Scholars Nomination Form'!M477)","v":""},{"$f":"IF(ISBLANK('Scholars Nomination Form'!N477),\"\",'Scholars Nomination Form'!N477)","v":""},{"$f":"IF(ISBLANK('Scholars Nomination Form'!O477),\"\",'Scholars Nomination Form'!O477)","v":""},{"$f":"IF(ISBLANK('Scholars Nomination Form'!P477),\"\",'Scholars Nomination Form'!P477)","v":""},{"$f":"IF(ISBLANK('Scholars Nomination Form'!Q477),\"\",'Scholars Nomination Form'!Q477)","v":""},{"$f":"IF(ISBLANK('Scholars Nomination Form'!R477),\"\",'Scholars Nomination Form'!R477)","v":""},{"$f":"IF(ISBLANK('Scholars Nomination Form'!S477),\"\",'Scholars Nomination Form'!S477)","v":""},{"$f":"IF(ISBLANK('Scholars Nomination Form'!T477),\"\",'Scholars Nomination Form'!T477)","v":""},{"$f":"IF(ISBLANK('Scholars Nomination Form'!U477),\"\",'Scholars Nomination Form'!U477)","v":""},{"$f":"IF(ISBLANK('Scholars Nomination Form'!V477),\"\",'Scholars Nomination Form'!V477)","v":""},{"$f":"IF(ISBLANK('Scholars Nomination Form'!W477),\"\",'Scholars Nomination Form'!W477)","v":""},{"$f":"IF(ISBLANK('Scholars Nomination Form'!X477),\"\",'Scholars Nomination Form'!X477)","v":""},{"$f":"IF(ISBLANK('Scholars Nomination Form'!Y477),\"\",'Scholars Nomination Form'!Y477)","v":""},{"$f":"IF(ISBLANK('Scholars Nomination Form'!Z477),\"\",'Scholars Nomination Form'!Z477)","v":""},{"$f":"IF(ISBLANK('Scholars Nomination Form'!AA477),\"\",'Scholars Nomination Form'!AA477)","v":""}]
[{"$f":"IF(ISBLANK('Scholars Nomination Form'!$F478),\"\",'Scholars Nomination Form'!$C$11)","v":""},{"$f":"IF(ISBLANK('Scholars Nomination Form'!$F478),\"\",'Scholars Nomination Form'!$C$12)","v":""},{"$f":"IF(ISBLANK('Scholars Nomination Form'!$F478),\"\",'Scholars Nomination Form'!$C$13)","v":""},{"$f":"IF(ISBLANK('Scholars Nomination Form'!$F478),\"\",'Scholars Nomination Form'!$C$14)","v":""},{"$f":"IF(ISBLANK('Scholars Nomination Form'!$F478),\"\",'Scholars Nomination Form'!$C$15)","v":""},{"$f":"IF(ISBLANK('Scholars Nomination Form'!$F478),\"\",'Scholars Nomination Form'!$C$16)","v":""},{"$f":"IF(ISBLANK('Scholars Nomination Form'!B478),\"\",'Scholars Nomination Form'!B478)","v":""},{"$f":"IF(ISBLANK('Scholars Nomination Form'!D478),\"\",'Scholars Nomination Form'!D478)","v":""},{"$f":"IF(ISBLANK('Scholars Nomination Form'!E478),\"\",'Scholars Nomination Form'!E478)","v":""},{"$f":"IF(ISBLANK('Scholars Nomination Form'!F478),\"\",'Scholars Nomination Form'!F478)","v":""},{"$f":"IF(ISBLANK('Scholars Nomination Form'!G478),\"\",'Scholars Nomination Form'!G478)","v":""},{"$f":"IF(ISBLANK('Scholars Nomination Form'!H478),\"\",'Scholars Nomination Form'!H478)","v":""},{"$f":"IF(ISBLANK('Scholars Nomination Form'!I478),\"\",'Scholars Nomination Form'!I478)","v":""},{"$f":"IF(ISBLANK('Scholars Nomination Form'!J478),\"\",'Scholars Nomination Form'!J478)","v":""},{"$f":"IF(ISBLANK('Scholars Nomination Form'!K478),\"\",'Scholars Nomination Form'!K478)","v":""},{"$f":"IF(ISBLANK('Scholars Nomination Form'!L478),\"\",'Scholars Nomination Form'!L478)","v":""},{"$f":"IF(ISBLANK('Scholars Nomination Form'!M478),\"\",'Scholars Nomination Form'!M478)","v":""},{"$f":"IF(ISBLANK('Scholars Nomination Form'!N478),\"\",'Scholars Nomination Form'!N478)","v":""},{"$f":"IF(ISBLANK('Scholars Nomination Form'!O478),\"\",'Scholars Nomination Form'!O478)","v":""},{"$f":"IF(ISBLANK('Scholars Nomination Form'!P478),\"\",'Scholars Nomination Form'!P478)","v":""},{"$f":"IF(ISBLANK('Scholars Nomination Form'!Q478),\"\",'Scholars Nomination Form'!Q478)","v":""},{"$f":"IF(ISBLANK('Scholars Nomination Form'!R478),\"\",'Scholars Nomination Form'!R478)","v":""},{"$f":"IF(ISBLANK('Scholars Nomination Form'!S478),\"\",'Scholars Nomination Form'!S478)","v":""},{"$f":"IF(ISBLANK('Scholars Nomination Form'!T478),\"\",'Scholars Nomination Form'!T478)","v":""},{"$f":"IF(ISBLANK('Scholars Nomination Form'!U478),\"\",'Scholars Nomination Form'!U478)","v":""},{"$f":"IF(ISBLANK('Scholars Nomination Form'!V478),\"\",'Scholars Nomination Form'!V478)","v":""},{"$f":"IF(ISBLANK('Scholars Nomination Form'!W478),\"\",'Scholars Nomination Form'!W478)","v":""},{"$f":"IF(ISBLANK('Scholars Nomination Form'!X478),\"\",'Scholars Nomination Form'!X478)","v":""},{"$f":"IF(ISBLANK('Scholars Nomination Form'!Y478),\"\",'Scholars Nomination Form'!Y478)","v":""},{"$f":"IF(ISBLANK('Scholars Nomination Form'!Z478),\"\",'Scholars Nomination Form'!Z478)","v":""},{"$f":"IF(ISBLANK('Scholars Nomination Form'!AA478),\"\",'Scholars Nomination Form'!AA478)","v":""}]
[{"$f":"IF(ISBLANK('Scholars Nomination Form'!$F479),\"\",'Scholars Nomination Form'!$C$11)","v":""},{"$f":"IF(ISBLANK('Scholars Nomination Form'!$F479),\"\",'Scholars Nomination Form'!$C$12)","v":""},{"$f":"IF(ISBLANK('Scholars Nomination Form'!$F479),\"\",'Scholars Nomination Form'!$C$13)","v":""},{"$f":"IF(ISBLANK('Scholars Nomination Form'!$F479),\"\",'Scholars Nomination Form'!$C$14)","v":""},{"$f":"IF(ISBLANK('Scholars Nomination Form'!$F479),\"\",'Scholars Nomination Form'!$C$15)","v":""},{"$f":"IF(ISBLANK('Scholars Nomination Form'!$F479),\"\",'Scholars Nomination Form'!$C$16)","v":""},{"$f":"IF(ISBLANK('Scholars Nomination Form'!B479),\"\",'Scholars Nomination Form'!B479)","v":""},{"$f":"IF(ISBLANK('Scholars Nomination Form'!D479),\"\",'Scholars Nomination Form'!D479)","v":""},{"$f":"IF(ISBLANK('Scholars Nomination Form'!E479),\"\",'Scholars Nomination Form'!E479)","v":""},{"$f":"IF(ISBLANK('Scholars Nomination Form'!F479),\"\",'Scholars Nomination Form'!F479)","v":""},{"$f":"IF(ISBLANK('Scholars Nomination Form'!G479),\"\",'Scholars Nomination Form'!G479)","v":""},{"$f":"IF(ISBLANK('Scholars Nomination Form'!H479),\"\",'Scholars Nomination Form'!H479)","v":""},{"$f":"IF(ISBLANK('Scholars Nomination Form'!I479),\"\",'Scholars Nomination Form'!I479)","v":""},{"$f":"IF(ISBLANK('Scholars Nomination Form'!J479),\"\",'Scholars Nomination Form'!J479)","v":""},{"$f":"IF(ISBLANK('Scholars Nomination Form'!K479),\"\",'Scholars Nomination Form'!K479)","v":""},{"$f":"IF(ISBLANK('Scholars Nomination Form'!L479),\"\",'Scholars Nomination Form'!L479)","v":""},{"$f":"IF(ISBLANK('Scholars Nomination Form'!M479),\"\",'Scholars Nomination Form'!M479)","v":""},{"$f":"IF(ISBLANK('Scholars Nomination Form'!N479),\"\",'Scholars Nomination Form'!N479)","v":""},{"$f":"IF(ISBLANK('Scholars Nomination Form'!O479),\"\",'Scholars Nomination Form'!O479)","v":""},{"$f":"IF(ISBLANK('Scholars Nomination Form'!P479),\"\",'Scholars Nomination Form'!P479)","v":""},{"$f":"IF(ISBLANK('Scholars Nomination Form'!Q479),\"\",'Scholars Nomination Form'!Q479)","v":""},{"$f":"IF(ISBLANK('Scholars Nomination Form'!R479),\"\",'Scholars Nomination Form'!R479)","v":""},{"$f":"IF(ISBLANK('Scholars Nomination Form'!S479),\"\",'Scholars Nomination Form'!S479)","v":""},{"$f":"IF(ISBLANK('Scholars Nomination Form'!T479),\"\",'Scholars Nomination Form'!T479)","v":""},{"$f":"IF(ISBLANK('Scholars Nomination Form'!U479),\"\",'Scholars Nomination Form'!U479)","v":""},{"$f":"IF(ISBLANK('Scholars Nomination Form'!V479),\"\",'Scholars Nomination Form'!V479)","v":""},{"$f":"IF(ISBLANK('Scholars Nomination Form'!W479),\"\",'Scholars Nomination Form'!W479)","v":""},{"$f":"IF(ISBLANK('Scholars Nomination Form'!X479),\"\",'Scholars Nomination Form'!X479)","v":""},{"$f":"IF(ISBLANK('Scholars Nomination Form'!Y479),\"\",'Scholars Nomination Form'!Y479)","v":""},{"$f":"IF(ISBLANK('Scholars Nomination Form'!Z479),\"\",'Scholars Nomination Form'!Z479)","v":""},{"$f":"IF(ISBLANK('Scholars Nomination Form'!AA479),\"\",'Scholars Nomination Form'!AA479)","v":""}]
[{"$f":"IF(ISBLANK('Scholars Nomination Form'!$F480),\"\",'Scholars Nomination Form'!$C$11)","v":""},{"$f":"IF(ISBLANK('Scholars Nomination Form'!$F480),\"\",'Scholars Nomination Form'!$C$12)","v":""},{"$f":"IF(ISBLANK('Scholars Nomination Form'!$F480),\"\",'Scholars Nomination Form'!$C$13)","v":""},{"$f":"IF(ISBLANK('Scholars Nomination Form'!$F480),\"\",'Scholars Nomination Form'!$C$14)","v":""},{"$f":"IF(ISBLANK('Scholars Nomination Form'!$F480),\"\",'Scholars Nomination Form'!$C$15)","v":""},{"$f":"IF(ISBLANK('Scholars Nomination Form'!$F480),\"\",'Scholars Nomination Form'!$C$16)","v":""},{"$f":"IF(ISBLANK('Scholars Nomination Form'!B480),\"\",'Scholars Nomination Form'!B480)","v":""},{"$f":"IF(ISBLANK('Scholars Nomination Form'!D480),\"\",'Scholars Nomination Form'!D480)","v":""},{"$f":"IF(ISBLANK('Scholars Nomination Form'!E480),\"\",'Scholars Nomination Form'!E480)","v":""},{"$f":"IF(ISBLANK('Scholars Nomination Form'!F480),\"\",'Scholars Nomination Form'!F480)","v":""},{"$f":"IF(ISBLANK('Scholars Nomination Form'!G480),\"\",'Scholars Nomination Form'!G480)","v":""},{"$f":"IF(ISBLANK('Scholars Nomination Form'!H480),\"\",'Scholars Nomination Form'!H480)","v":""},{"$f":"IF(ISBLANK('Scholars Nomination Form'!I480),\"\",'Scholars Nomination Form'!I480)","v":""},{"$f":"IF(ISBLANK('Scholars Nomination Form'!J480),\"\",'Scholars Nomination Form'!J480)","v":""},{"$f":"IF(ISBLANK('Scholars Nomination Form'!K480),\"\",'Scholars Nomination Form'!K480)","v":""},{"$f":"IF(ISBLANK('Scholars Nomination Form'!L480),\"\",'Scholars Nomination Form'!L480)","v":""},{"$f":"IF(ISBLANK('Scholars Nomination Form'!M480),\"\",'Scholars Nomination Form'!M480)","v":""},{"$f":"IF(ISBLANK('Scholars Nomination Form'!N480),\"\",'Scholars Nomination Form'!N480)","v":""},{"$f":"IF(ISBLANK('Scholars Nomination Form'!O480),\"\",'Scholars Nomination Form'!O480)","v":""},{"$f":"IF(ISBLANK('Scholars Nomination Form'!P480),\"\",'Scholars Nomination Form'!P480)","v":""},{"$f":"IF(ISBLANK('Scholars Nomination Form'!Q480),\"\",'Scholars Nomination Form'!Q480)","v":""},{"$f":"IF(ISBLANK('Scholars Nomination Form'!R480),\"\",'Scholars Nomination Form'!R480)","v":""},{"$f":"IF(ISBLANK('Scholars Nomination Form'!S480),\"\",'Scholars Nomination Form'!S480)","v":""},{"$f":"IF(ISBLANK('Scholars Nomination Form'!T480),\"\",'Scholars Nomination Form'!T480)","v":""},{"$f":"IF(ISBLANK('Scholars Nomination Form'!U480),\"\",'Scholars Nomination Form'!U480)","v":""},{"$f":"IF(ISBLANK('Scholars Nomination Form'!V480),\"\",'Scholars Nomination Form'!V480)","v":""},{"$f":"IF(ISBLANK('Scholars Nomination Form'!W480),\"\",'Scholars Nomination Form'!W480)","v":""},{"$f":"IF(ISBLANK('Scholars Nomination Form'!X480),\"\",'Scholars Nomination Form'!X480)","v":""},{"$f":"IF(ISBLANK('Scholars Nomination Form'!Y480),\"\",'Scholars Nomination Form'!Y480)","v":""},{"$f":"IF(ISBLANK('Scholars Nomination Form'!Z480),\"\",'Scholars Nomination Form'!Z480)","v":""},{"$f":"IF(ISBLANK('Scholars Nomination Form'!AA480),\"\",'Scholars Nomination Form'!AA480)","v":""}]
[{"$f":"IF(ISBLANK('Scholars Nomination Form'!$F481),\"\",'Scholars Nomination Form'!$C$11)","v":""},{"$f":"IF(ISBLANK('Scholars Nomination Form'!$F481),\"\",'Scholars Nomination Form'!$C$12)","v":""},{"$f":"IF(ISBLANK('Scholars Nomination Form'!$F481),\"\",'Scholars Nomination Form'!$C$13)","v":""},{"$f":"IF(ISBLANK('Scholars Nomination Form'!$F481),\"\",'Scholars Nomination Form'!$C$14)","v":""},{"$f":"IF(ISBLANK('Scholars Nomination Form'!$F481),\"\",'Scholars Nomination Form'!$C$15)","v":""},{"$f":"IF(ISBLANK('Scholars Nomination Form'!$F481),\"\",'Scholars Nomination Form'!$C$16)","v":""},{"$f":"IF(ISBLANK('Scholars Nomination Form'!B481),\"\",'Scholars Nomination Form'!B481)","v":""},{"$f":"IF(ISBLANK('Scholars Nomination Form'!D481),\"\",'Scholars Nomination Form'!D481)","v":""},{"$f":"IF(ISBLANK('Scholars Nomination Form'!E481),\"\",'Scholars Nomination Form'!E481)","v":""},{"$f":"IF(ISBLANK('Scholars Nomination Form'!F481),\"\",'Scholars Nomination Form'!F481)","v":""},{"$f":"IF(ISBLANK('Scholars Nomination Form'!G481),\"\",'Scholars Nomination Form'!G481)","v":""},{"$f":"IF(ISBLANK('Scholars Nomination Form'!H481),\"\",'Scholars Nomination Form'!H481)","v":""},{"$f":"IF(ISBLANK('Scholars Nomination Form'!I481),\"\",'Scholars Nomination Form'!I481)","v":""},{"$f":"IF(ISBLANK('Scholars Nomination Form'!J481),\"\",'Scholars Nomination Form'!J481)","v":""},{"$f":"IF(ISBLANK('Scholars Nomination Form'!K481),\"\",'Scholars Nomination Form'!K481)","v":""},{"$f":"IF(ISBLANK('Scholars Nomination Form'!L481),\"\",'Scholars Nomination Form'!L481)","v":""},{"$f":"IF(ISBLANK('Scholars Nomination Form'!M481),\"\",'Scholars Nomination Form'!M481)","v":""},{"$f":"IF(ISBLANK('Scholars Nomination Form'!N481),\"\",'Scholars Nomination Form'!N481)","v":""},{"$f":"IF(ISBLANK('Scholars Nomination Form'!O481),\"\",'Scholars Nomination Form'!O481)","v":""},{"$f":"IF(ISBLANK('Scholars Nomination Form'!P481),\"\",'Scholars Nomination Form'!P481)","v":""},{"$f":"IF(ISBLANK('Scholars Nomination Form'!Q481),\"\",'Scholars Nomination Form'!Q481)","v":""},{"$f":"IF(ISBLANK('Scholars Nomination Form'!R481),\"\",'Scholars Nomination Form'!R481)","v":""},{"$f":"IF(ISBLANK('Scholars Nomination Form'!S481),\"\",'Scholars Nomination Form'!S481)","v":""},{"$f":"IF(ISBLANK('Scholars Nomination Form'!T481),\"\",'Scholars Nomination Form'!T481)","v":""},{"$f":"IF(ISBLANK('Scholars Nomination Form'!U481),\"\",'Scholars Nomination Form'!U481)","v":""},{"$f":"IF(ISBLANK('Scholars Nomination Form'!V481),\"\",'Scholars Nomination Form'!V481)","v":""},{"$f":"IF(ISBLANK('Scholars Nomination Form'!W481),\"\",'Scholars Nomination Form'!W481)","v":""},{"$f":"IF(ISBLANK('Scholars Nomination Form'!X481),\"\",'Scholars Nomination Form'!X481)","v":""},{"$f":"IF(ISBLANK('Scholars Nomination Form'!Y481),\"\",'Scholars Nomination Form'!Y481)","v":""},{"$f":"IF(ISBLANK('Scholars Nomination Form'!Z481),\"\",'Scholars Nomination Form'!Z481)","v":""},{"$f":"IF(ISBLANK('Scholars Nomination Form'!AA481),\"\",'Scholars Nomination Form'!AA481)","v":""}]
[{"$f":"IF(ISBLANK('Scholars Nomination Form'!$F482),\"\",'Scholars Nomination Form'!$C$11)","v":""},{"$f":"IF(ISBLANK('Scholars Nomination Form'!$F482),\"\",'Scholars Nomination Form'!$C$12)","v":""},{"$f":"IF(ISBLANK('Scholars Nomination Form'!$F482),\"\",'Scholars Nomination Form'!$C$13)","v":""},{"$f":"IF(ISBLANK('Scholars Nomination Form'!$F482),\"\",'Scholars Nomination Form'!$C$14)","v":""},{"$f":"IF(ISBLANK('Scholars Nomination Form'!$F482),\"\",'Scholars Nomination Form'!$C$15)","v":""},{"$f":"IF(ISBLANK('Scholars Nomination Form'!$F482),\"\",'Scholars Nomination Form'!$C$16)","v":""},{"$f":"IF(ISBLANK('Scholars Nomination Form'!B482),\"\",'Scholars Nomination Form'!B482)","v":""},{"$f":"IF(ISBLANK('Scholars Nomination Form'!D482),\"\",'Scholars Nomination Form'!D482)","v":""},{"$f":"IF(ISBLANK('Scholars Nomination Form'!E482),\"\",'Scholars Nomination Form'!E482)","v":""},{"$f":"IF(ISBLANK('Scholars Nomination Form'!F482),\"\",'Scholars Nomination Form'!F482)","v":""},{"$f":"IF(ISBLANK('Scholars Nomination Form'!G482),\"\",'Scholars Nomination Form'!G482)","v":""},{"$f":"IF(ISBLANK('Scholars Nomination Form'!H482),\"\",'Scholars Nomination Form'!H482)","v":""},{"$f":"IF(ISBLANK('Scholars Nomination Form'!I482),\"\",'Scholars Nomination Form'!I482)","v":""},{"$f":"IF(ISBLANK('Scholars Nomination Form'!J482),\"\",'Scholars Nomination Form'!J482)","v":""},{"$f":"IF(ISBLANK('Scholars Nomination Form'!K482),\"\",'Scholars Nomination Form'!K482)","v":""},{"$f":"IF(ISBLANK('Scholars Nomination Form'!L482),\"\",'Scholars Nomination Form'!L482)","v":""},{"$f":"IF(ISBLANK('Scholars Nomination Form'!M482),\"\",'Scholars Nomination Form'!M482)","v":""},{"$f":"IF(ISBLANK('Scholars Nomination Form'!N482),\"\",'Scholars Nomination Form'!N482)","v":""},{"$f":"IF(ISBLANK('Scholars Nomination Form'!O482),\"\",'Scholars Nomination Form'!O482)","v":""},{"$f":"IF(ISBLANK('Scholars Nomination Form'!P482),\"\",'Scholars Nomination Form'!P482)","v":""},{"$f":"IF(ISBLANK('Scholars Nomination Form'!Q482),\"\",'Scholars Nomination Form'!Q482)","v":""},{"$f":"IF(ISBLANK('Scholars Nomination Form'!R482),\"\",'Scholars Nomination Form'!R482)","v":""},{"$f":"IF(ISBLANK('Scholars Nomination Form'!S482),\"\",'Scholars Nomination Form'!S482)","v":""},{"$f":"IF(ISBLANK('Scholars Nomination Form'!T482),\"\",'Scholars Nomination Form'!T482)","v":""},{"$f":"IF(ISBLANK('Scholars Nomination Form'!U482),\"\",'Scholars Nomination Form'!U482)","v":""},{"$f":"IF(ISBLANK('Scholars Nomination Form'!V482),\"\",'Scholars Nomination Form'!V482)","v":""},{"$f":"IF(ISBLANK('Scholars Nomination Form'!W482),\"\",'Scholars Nomination Form'!W482)","v":""},{"$f":"IF(ISBLANK('Scholars Nomination Form'!X482),\"\",'Scholars Nomination Form'!X482)","v":""},{"$f":"IF(ISBLANK('Scholars Nomination Form'!Y482),\"\",'Scholars Nomination Form'!Y482)","v":""},{"$f":"IF(ISBLANK('Scholars Nomination Form'!Z482),\"\",'Scholars Nomination Form'!Z482)","v":""},{"$f":"IF(ISBLANK('Scholars Nomination Form'!AA482),\"\",'Scholars Nomination Form'!AA482)","v":""}]
[{"$f":"IF(ISBLANK('Scholars Nomination Form'!$F483),\"\",'Scholars Nomination Form'!$C$11)","v":""},{"$f":"IF(ISBLANK('Scholars Nomination Form'!$F483),\"\",'Scholars Nomination Form'!$C$12)","v":""},{"$f":"IF(ISBLANK('Scholars Nomination Form'!$F483),\"\",'Scholars Nomination Form'!$C$13)","v":""},{"$f":"IF(ISBLANK('Scholars Nomination Form'!$F483),\"\",'Scholars Nomination Form'!$C$14)","v":""},{"$f":"IF(ISBLANK('Scholars Nomination Form'!$F483),\"\",'Scholars Nomination Form'!$C$15)","v":""},{"$f":"IF(ISBLANK('Scholars Nomination Form'!$F483),\"\",'Scholars Nomination Form'!$C$16)","v":""},{"$f":"IF(ISBLANK('Scholars Nomination Form'!B483),\"\",'Scholars Nomination Form'!B483)","v":""},{"$f":"IF(ISBLANK('Scholars Nomination Form'!D483),\"\",'Scholars Nomination Form'!D483)","v":""},{"$f":"IF(ISBLANK('Scholars Nomination Form'!E483),\"\",'Scholars Nomination Form'!E483)","v":""},{"$f":"IF(ISBLANK('Scholars Nomination Form'!F483),\"\",'Scholars Nomination Form'!F483)","v":""},{"$f":"IF(ISBLANK('Scholars Nomination Form'!G483),\"\",'Scholars Nomination Form'!G483)","v":""},{"$f":"IF(ISBLANK('Scholars Nomination Form'!H483),\"\",'Scholars Nomination Form'!H483)","v":""},{"$f":"IF(ISBLANK('Scholars Nomination Form'!I483),\"\",'Scholars Nomination Form'!I483)","v":""},{"$f":"IF(ISBLANK('Scholars Nomination Form'!J483),\"\",'Scholars Nomination Form'!J483)","v":""},{"$f":"IF(ISBLANK('Scholars Nomination Form'!K483),\"\",'Scholars Nomination Form'!K483)","v":""},{"$f":"IF(ISBLANK('Scholars Nomination Form'!L483),\"\",'Scholars Nomination Form'!L483)","v":""},{"$f":"IF(ISBLANK('Scholars Nomination Form'!M483),\"\",'Scholars Nomination Form'!M483)","v":""},{"$f":"IF(ISBLANK('Scholars Nomination Form'!N483),\"\",'Scholars Nomination Form'!N483)","v":""},{"$f":"IF(ISBLANK('Scholars Nomination Form'!O483),\"\",'Scholars Nomination Form'!O483)","v":""},{"$f":"IF(ISBLANK('Scholars Nomination Form'!P483),\"\",'Scholars Nomination Form'!P483)","v":""},{"$f":"IF(ISBLANK('Scholars Nomination Form'!Q483),\"\",'Scholars Nomination Form'!Q483)","v":""},{"$f":"IF(ISBLANK('Scholars Nomination Form'!R483),\"\",'Scholars Nomination Form'!R483)","v":""},{"$f":"IF(ISBLANK('Scholars Nomination Form'!S483),\"\",'Scholars Nomination Form'!S483)","v":""},{"$f":"IF(ISBLANK('Scholars Nomination Form'!T483),\"\",'Scholars Nomination Form'!T483)","v":""},{"$f":"IF(ISBLANK('Scholars Nomination Form'!U483),\"\",'Scholars Nomination Form'!U483)","v":""},{"$f":"IF(ISBLANK('Scholars Nomination Form'!V483),\"\",'Scholars Nomination Form'!V483)","v":""},{"$f":"IF(ISBLANK('Scholars Nomination Form'!W483),\"\",'Scholars Nomination Form'!W483)","v":""},{"$f":"IF(ISBLANK('Scholars Nomination Form'!X483),\"\",'Scholars Nomination Form'!X483)","v":""},{"$f":"IF(ISBLANK('Scholars Nomination Form'!Y483),\"\",'Scholars Nomination Form'!Y483)","v":""},{"$f":"IF(ISBLANK('Scholars Nomination Form'!Z483),\"\",'Scholars Nomination Form'!Z483)","v":""},{"$f":"IF(ISBLANK('Scholars Nomination Form'!AA483),\"\",'Scholars Nomination Form'!AA483)","v":""}]
[{"$f":"IF(ISBLANK('Scholars Nomination Form'!$F484),\"\",'Scholars Nomination Form'!$C$11)","v":""},{"$f":"IF(ISBLANK('Scholars Nomination Form'!$F484),\"\",'Scholars Nomination Form'!$C$12)","v":""},{"$f":"IF(ISBLANK('Scholars Nomination Form'!$F484),\"\",'Scholars Nomination Form'!$C$13)","v":""},{"$f":"IF(ISBLANK('Scholars Nomination Form'!$F484),\"\",'Scholars Nomination Form'!$C$14)","v":""},{"$f":"IF(ISBLANK('Scholars Nomination Form'!$F484),\"\",'Scholars Nomination Form'!$C$15)","v":""},{"$f":"IF(ISBLANK('Scholars Nomination Form'!$F484),\"\",'Scholars Nomination Form'!$C$16)","v":""},{"$f":"IF(ISBLANK('Scholars Nomination Form'!B484),\"\",'Scholars Nomination Form'!B484)","v":""},{"$f":"IF(ISBLANK('Scholars Nomination Form'!D484),\"\",'Scholars Nomination Form'!D484)","v":""},{"$f":"IF(ISBLANK('Scholars Nomination Form'!E484),\"\",'Scholars Nomination Form'!E484)","v":""},{"$f":"IF(ISBLANK('Scholars Nomination Form'!F484),\"\",'Scholars Nomination Form'!F484)","v":""},{"$f":"IF(ISBLANK('Scholars Nomination Form'!G484),\"\",'Scholars Nomination Form'!G484)","v":""},{"$f":"IF(ISBLANK('Scholars Nomination Form'!H484),\"\",'Scholars Nomination Form'!H484)","v":""},{"$f":"IF(ISBLANK('Scholars Nomination Form'!I484),\"\",'Scholars Nomination Form'!I484)","v":""},{"$f":"IF(ISBLANK('Scholars Nomination Form'!J484),\"\",'Scholars Nomination Form'!J484)","v":""},{"$f":"IF(ISBLANK('Scholars Nomination Form'!K484),\"\",'Scholars Nomination Form'!K484)","v":""},{"$f":"IF(ISBLANK('Scholars Nomination Form'!L484),\"\",'Scholars Nomination Form'!L484)","v":""},{"$f":"IF(ISBLANK('Scholars Nomination Form'!M484),\"\",'Scholars Nomination Form'!M484)","v":""},{"$f":"IF(ISBLANK('Scholars Nomination Form'!N484),\"\",'Scholars Nomination Form'!N484)","v":""},{"$f":"IF(ISBLANK('Scholars Nomination Form'!O484),\"\",'Scholars Nomination Form'!O484)","v":""},{"$f":"IF(ISBLANK('Scholars Nomination Form'!P484),\"\",'Scholars Nomination Form'!P484)","v":""},{"$f":"IF(ISBLANK('Scholars Nomination Form'!Q484),\"\",'Scholars Nomination Form'!Q484)","v":""},{"$f":"IF(ISBLANK('Scholars Nomination Form'!R484),\"\",'Scholars Nomination Form'!R484)","v":""},{"$f":"IF(ISBLANK('Scholars Nomination Form'!S484),\"\",'Scholars Nomination Form'!S484)","v":""},{"$f":"IF(ISBLANK('Scholars Nomination Form'!T484),\"\",'Scholars Nomination Form'!T484)","v":""},{"$f":"IF(ISBLANK('Scholars Nomination Form'!U484),\"\",'Scholars Nomination Form'!U484)","v":""},{"$f":"IF(ISBLANK('Scholars Nomination Form'!V484),\"\",'Scholars Nomination Form'!V484)","v":""},{"$f":"IF(ISBLANK('Scholars Nomination Form'!W484),\"\",'Scholars Nomination Form'!W484)","v":""},{"$f":"IF(ISBLANK('Scholars Nomination Form'!X484),\"\",'Scholars Nomination Form'!X484)","v":""},{"$f":"IF(ISBLANK('Scholars Nomination Form'!Y484),\"\",'Scholars Nomination Form'!Y484)","v":""},{"$f":"IF(ISBLANK('Scholars Nomination Form'!Z484),\"\",'Scholars Nomination Form'!Z484)","v":""},{"$f":"IF(ISBLANK('Scholars Nomination Form'!AA484),\"\",'Scholars Nomination Form'!AA484)","v":""}]
[{"$f":"IF(ISBLANK('Scholars Nomination Form'!$F485),\"\",'Scholars Nomination Form'!$C$11)","v":""},{"$f":"IF(ISBLANK('Scholars Nomination Form'!$F485),\"\",'Scholars Nomination Form'!$C$12)","v":""},{"$f":"IF(ISBLANK('Scholars Nomination Form'!$F485),\"\",'Scholars Nomination Form'!$C$13)","v":""},{"$f":"IF(ISBLANK('Scholars Nomination Form'!$F485),\"\",'Scholars Nomination Form'!$C$14)","v":""},{"$f":"IF(ISBLANK('Scholars Nomination Form'!$F485),\"\",'Scholars Nomination Form'!$C$15)","v":""},{"$f":"IF(ISBLANK('Scholars Nomination Form'!$F485),\"\",'Scholars Nomination Form'!$C$16)","v":""},{"$f":"IF(ISBLANK('Scholars Nomination Form'!B485),\"\",'Scholars Nomination Form'!B485)","v":""},{"$f":"IF(ISBLANK('Scholars Nomination Form'!D485),\"\",'Scholars Nomination Form'!D485)","v":""},{"$f":"IF(ISBLANK('Scholars Nomination Form'!E485),\"\",'Scholars Nomination Form'!E485)","v":""},{"$f":"IF(ISBLANK('Scholars Nomination Form'!F485),\"\",'Scholars Nomination Form'!F485)","v":""},{"$f":"IF(ISBLANK('Scholars Nomination Form'!G485),\"\",'Scholars Nomination Form'!G485)","v":""},{"$f":"IF(ISBLANK('Scholars Nomination Form'!H485),\"\",'Scholars Nomination Form'!H485)","v":""},{"$f":"IF(ISBLANK('Scholars Nomination Form'!I485),\"\",'Scholars Nomination Form'!I485)","v":""},{"$f":"IF(ISBLANK('Scholars Nomination Form'!J485),\"\",'Scholars Nomination Form'!J485)","v":""},{"$f":"IF(ISBLANK('Scholars Nomination Form'!K485),\"\",'Scholars Nomination Form'!K485)","v":""},{"$f":"IF(ISBLANK('Scholars Nomination Form'!L485),\"\",'Scholars Nomination Form'!L485)","v":""},{"$f":"IF(ISBLANK('Scholars Nomination Form'!M485),\"\",'Scholars Nomination Form'!M485)","v":""},{"$f":"IF(ISBLANK('Scholars Nomination Form'!N485),\"\",'Scholars Nomination Form'!N485)","v":""},{"$f":"IF(ISBLANK('Scholars Nomination Form'!O485),\"\",'Scholars Nomination Form'!O485)","v":""},{"$f":"IF(ISBLANK('Scholars Nomination Form'!P485),\"\",'Scholars Nomination Form'!P485)","v":""},{"$f":"IF(ISBLANK('Scholars Nomination Form'!Q485),\"\",'Scholars Nomination Form'!Q485)","v":""},{"$f":"IF(ISBLANK('Scholars Nomination Form'!R485),\"\",'Scholars Nomination Form'!R485)","v":""},{"$f":"IF(ISBLANK('Scholars Nomination Form'!S485),\"\",'Scholars Nomination Form'!S485)","v":""},{"$f":"IF(ISBLANK('Scholars Nomination Form'!T485),\"\",'Scholars Nomination Form'!T485)","v":""},{"$f":"IF(ISBLANK('Scholars Nomination Form'!U485),\"\",'Scholars Nomination Form'!U485)","v":""},{"$f":"IF(ISBLANK('Scholars Nomination Form'!V485),\"\",'Scholars Nomination Form'!V485)","v":""},{"$f":"IF(ISBLANK('Scholars Nomination Form'!W485),\"\",'Scholars Nomination Form'!W485)","v":""},{"$f":"IF(ISBLANK('Scholars Nomination Form'!X485),\"\",'Scholars Nomination Form'!X485)","v":""},{"$f":"IF(ISBLANK('Scholars Nomination Form'!Y485),\"\",'Scholars Nomination Form'!Y485)","v":""},{"$f":"IF(ISBLANK('Scholars Nomination Form'!Z485),\"\",'Scholars Nomination Form'!Z485)","v":""},{"$f":"IF(ISBLANK('Scholars Nomination Form'!AA485),\"\",'Scholars Nomination Form'!AA485)","v":""}]
[{"$f":"IF(ISBLANK('Scholars Nomination Form'!$F486),\"\",'Scholars Nomination Form'!$C$11)","v":""},{"$f":"IF(ISBLANK('Scholars Nomination Form'!$F486),\"\",'Scholars Nomination Form'!$C$12)","v":""},{"$f":"IF(ISBLANK('Scholars Nomination Form'!$F486),\"\",'Scholars Nomination Form'!$C$13)","v":""},{"$f":"IF(ISBLANK('Scholars Nomination Form'!$F486),\"\",'Scholars Nomination Form'!$C$14)","v":""},{"$f":"IF(ISBLANK('Scholars Nomination Form'!$F486),\"\",'Scholars Nomination Form'!$C$15)","v":""},{"$f":"IF(ISBLANK('Scholars Nomination Form'!$F486),\"\",'Scholars Nomination Form'!$C$16)","v":""},{"$f":"IF(ISBLANK('Scholars Nomination Form'!B486),\"\",'Scholars Nomination Form'!B486)","v":""},{"$f":"IF(ISBLANK('Scholars Nomination Form'!D486),\"\",'Scholars Nomination Form'!D486)","v":""},{"$f":"IF(ISBLANK('Scholars Nomination Form'!E486),\"\",'Scholars Nomination Form'!E486)","v":""},{"$f":"IF(ISBLANK('Scholars Nomination Form'!F486),\"\",'Scholars Nomination Form'!F486)","v":""},{"$f":"IF(ISBLANK('Scholars Nomination Form'!G486),\"\",'Scholars Nomination Form'!G486)","v":""},{"$f":"IF(ISBLANK('Scholars Nomination Form'!H486),\"\",'Scholars Nomination Form'!H486)","v":""},{"$f":"IF(ISBLANK('Scholars Nomination Form'!I486),\"\",'Scholars Nomination Form'!I486)","v":""},{"$f":"IF(ISBLANK('Scholars Nomination Form'!J486),\"\",'Scholars Nomination Form'!J486)","v":""},{"$f":"IF(ISBLANK('Scholars Nomination Form'!K486),\"\",'Scholars Nomination Form'!K486)","v":""},{"$f":"IF(ISBLANK('Scholars Nomination Form'!L486),\"\",'Scholars Nomination Form'!L486)","v":""},{"$f":"IF(ISBLANK('Scholars Nomination Form'!M486),\"\",'Scholars Nomination Form'!M486)","v":""},{"$f":"IF(ISBLANK('Scholars Nomination Form'!N486),\"\",'Scholars Nomination Form'!N486)","v":""},{"$f":"IF(ISBLANK('Scholars Nomination Form'!O486),\"\",'Scholars Nomination Form'!O486)","v":""},{"$f":"IF(ISBLANK('Scholars Nomination Form'!P486),\"\",'Scholars Nomination Form'!P486)","v":""},{"$f":"IF(ISBLANK('Scholars Nomination Form'!Q486),\"\",'Scholars Nomination Form'!Q486)","v":""},{"$f":"IF(ISBLANK('Scholars Nomination Form'!R486),\"\",'Scholars Nomination Form'!R486)","v":""},{"$f":"IF(ISBLANK('Scholars Nomination Form'!S486),\"\",'Scholars Nomination Form'!S486)","v":""},{"$f":"IF(ISBLANK('Scholars Nomination Form'!T486),\"\",'Scholars Nomination Form'!T486)","v":""},{"$f":"IF(ISBLANK('Scholars Nomination Form'!U486),\"\",'Scholars Nomination Form'!U486)","v":""},{"$f":"IF(ISBLANK('Scholars Nomination Form'!V486),\"\",'Scholars Nomination Form'!V486)","v":""},{"$f":"IF(ISBLANK('Scholars Nomination Form'!W486),\"\",'Scholars Nomination Form'!W486)","v":""},{"$f":"IF(ISBLANK('Scholars Nomination Form'!X486),\"\",'Scholars Nomination Form'!X486)","v":""},{"$f":"IF(ISBLANK('Scholars Nomination Form'!Y486),\"\",'Scholars Nomination Form'!Y486)","v":""},{"$f":"IF(ISBLANK('Scholars Nomination Form'!Z486),\"\",'Scholars Nomination Form'!Z486)","v":""},{"$f":"IF(ISBLANK('Scholars Nomination Form'!AA486),\"\",'Scholars Nomination Form'!AA486)","v":""}]
[{"$f":"IF(ISBLANK('Scholars Nomination Form'!$F487),\"\",'Scholars Nomination Form'!$C$11)","v":""},{"$f":"IF(ISBLANK('Scholars Nomination Form'!$F487),\"\",'Scholars Nomination Form'!$C$12)","v":""},{"$f":"IF(ISBLANK('Scholars Nomination Form'!$F487),\"\",'Scholars Nomination Form'!$C$13)","v":""},{"$f":"IF(ISBLANK('Scholars Nomination Form'!$F487),\"\",'Scholars Nomination Form'!$C$14)","v":""},{"$f":"IF(ISBLANK('Scholars Nomination Form'!$F487),\"\",'Scholars Nomination Form'!$C$15)","v":""},{"$f":"IF(ISBLANK('Scholars Nomination Form'!$F487),\"\",'Scholars Nomination Form'!$C$16)","v":""},{"$f":"IF(ISBLANK('Scholars Nomination Form'!B487),\"\",'Scholars Nomination Form'!B487)","v":""},{"$f":"IF(ISBLANK('Scholars Nomination Form'!D487),\"\",'Scholars Nomination Form'!D487)","v":""},{"$f":"IF(ISBLANK('Scholars Nomination Form'!E487),\"\",'Scholars Nomination Form'!E487)","v":""},{"$f":"IF(ISBLANK('Scholars Nomination Form'!F487),\"\",'Scholars Nomination Form'!F487)","v":""},{"$f":"IF(ISBLANK('Scholars Nomination Form'!G487),\"\",'Scholars Nomination Form'!G487)","v":""},{"$f":"IF(ISBLANK('Scholars Nomination Form'!H487),\"\",'Scholars Nomination Form'!H487)","v":""},{"$f":"IF(ISBLANK('Scholars Nomination Form'!I487),\"\",'Scholars Nomination Form'!I487)","v":""},{"$f":"IF(ISBLANK('Scholars Nomination Form'!J487),\"\",'Scholars Nomination Form'!J487)","v":""},{"$f":"IF(ISBLANK('Scholars Nomination Form'!K487),\"\",'Scholars Nomination Form'!K487)","v":""},{"$f":"IF(ISBLANK('Scholars Nomination Form'!L487),\"\",'Scholars Nomination Form'!L487)","v":""},{"$f":"IF(ISBLANK('Scholars Nomination Form'!M487),\"\",'Scholars Nomination Form'!M487)","v":""},{"$f":"IF(ISBLANK('Scholars Nomination Form'!N487),\"\",'Scholars Nomination Form'!N487)","v":""},{"$f":"IF(ISBLANK('Scholars Nomination Form'!O487),\"\",'Scholars Nomination Form'!O487)","v":""},{"$f":"IF(ISBLANK('Scholars Nomination Form'!P487),\"\",'Scholars Nomination Form'!P487)","v":""},{"$f":"IF(ISBLANK('Scholars Nomination Form'!Q487),\"\",'Scholars Nomination Form'!Q487)","v":""},{"$f":"IF(ISBLANK('Scholars Nomination Form'!R487),\"\",'Scholars Nomination Form'!R487)","v":""},{"$f":"IF(ISBLANK('Scholars Nomination Form'!S487),\"\",'Scholars Nomination Form'!S487)","v":""},{"$f":"IF(ISBLANK('Scholars Nomination Form'!T487),\"\",'Scholars Nomination Form'!T487)","v":""},{"$f":"IF(ISBLANK('Scholars Nomination Form'!U487),\"\",'Scholars Nomination Form'!U487)","v":""},{"$f":"IF(ISBLANK('Scholars Nomination Form'!V487),\"\",'Scholars Nomination Form'!V487)","v":""},{"$f":"IF(ISBLANK('Scholars Nomination Form'!W487),\"\",'Scholars Nomination Form'!W487)","v":""},{"$f":"IF(ISBLANK('Scholars Nomination Form'!X487),\"\",'Scholars Nomination Form'!X487)","v":""},{"$f":"IF(ISBLANK('Scholars Nomination Form'!Y487),\"\",'Scholars Nomination Form'!Y487)","v":""},{"$f":"IF(ISBLANK('Scholars Nomination Form'!Z487),\"\",'Scholars Nomination Form'!Z487)","v":""},{"$f":"IF(ISBLANK('Scholars Nomination Form'!AA487),\"\",'Scholars Nomination Form'!AA487)","v":""}]
[{"$f":"IF(ISBLANK('Scholars Nomination Form'!$F488),\"\",'Scholars Nomination Form'!$C$11)","v":""},{"$f":"IF(ISBLANK('Scholars Nomination Form'!$F488),\"\",'Scholars Nomination Form'!$C$12)","v":""},{"$f":"IF(ISBLANK('Scholars Nomination Form'!$F488),\"\",'Scholars Nomination Form'!$C$13)","v":""},{"$f":"IF(ISBLANK('Scholars Nomination Form'!$F488),\"\",'Scholars Nomination Form'!$C$14)","v":""},{"$f":"IF(ISBLANK('Scholars Nomination Form'!$F488),\"\",'Scholars Nomination Form'!$C$15)","v":""},{"$f":"IF(ISBLANK('Scholars Nomination Form'!$F488),\"\",'Scholars Nomination Form'!$C$16)","v":""},{"$f":"IF(ISBLANK('Scholars Nomination Form'!B488),\"\",'Scholars Nomination Form'!B488)","v":""},{"$f":"IF(ISBLANK('Scholars Nomination Form'!D488),\"\",'Scholars Nomination Form'!D488)","v":""},{"$f":"IF(ISBLANK('Scholars Nomination Form'!E488),\"\",'Scholars Nomination Form'!E488)","v":""},{"$f":"IF(ISBLANK('Scholars Nomination Form'!F488),\"\",'Scholars Nomination Form'!F488)","v":""},{"$f":"IF(ISBLANK('Scholars Nomination Form'!G488),\"\",'Scholars Nomination Form'!G488)","v":""},{"$f":"IF(ISBLANK('Scholars Nomination Form'!H488),\"\",'Scholars Nomination Form'!H488)","v":""},{"$f":"IF(ISBLANK('Scholars Nomination Form'!I488),\"\",'Scholars Nomination Form'!I488)","v":""},{"$f":"IF(ISBLANK('Scholars Nomination Form'!J488),\"\",'Scholars Nomination Form'!J488)","v":""},{"$f":"IF(ISBLANK('Scholars Nomination Form'!K488),\"\",'Scholars Nomination Form'!K488)","v":""},{"$f":"IF(ISBLANK('Scholars Nomination Form'!L488),\"\",'Scholars Nomination Form'!L488)","v":""},{"$f":"IF(ISBLANK('Scholars Nomination Form'!M488),\"\",'Scholars Nomination Form'!M488)","v":""},{"$f":"IF(ISBLANK('Scholars Nomination Form'!N488),\"\",'Scholars Nomination Form'!N488)","v":""},{"$f":"IF(ISBLANK('Scholars Nomination Form'!O488),\"\",'Scholars Nomination Form'!O488)","v":""},{"$f":"IF(ISBLANK('Scholars Nomination Form'!P488),\"\",'Scholars Nomination Form'!P488)","v":""},{"$f":"IF(ISBLANK('Scholars Nomination Form'!Q488),\"\",'Scholars Nomination Form'!Q488)","v":""},{"$f":"IF(ISBLANK('Scholars Nomination Form'!R488),\"\",'Scholars Nomination Form'!R488)","v":""},{"$f":"IF(ISBLANK('Scholars Nomination Form'!S488),\"\",'Scholars Nomination Form'!S488)","v":""},{"$f":"IF(ISBLANK('Scholars Nomination Form'!T488),\"\",'Scholars Nomination Form'!T488)","v":""},{"$f":"IF(ISBLANK('Scholars Nomination Form'!U488),\"\",'Scholars Nomination Form'!U488)","v":""},{"$f":"IF(ISBLANK('Scholars Nomination Form'!V488),\"\",'Scholars Nomination Form'!V488)","v":""},{"$f":"IF(ISBLANK('Scholars Nomination Form'!W488),\"\",'Scholars Nomination Form'!W488)","v":""},{"$f":"IF(ISBLANK('Scholars Nomination Form'!X488),\"\",'Scholars Nomination Form'!X488)","v":""},{"$f":"IF(ISBLANK('Scholars Nomination Form'!Y488),\"\",'Scholars Nomination Form'!Y488)","v":""},{"$f":"IF(ISBLANK('Scholars Nomination Form'!Z488),\"\",'Scholars Nomination Form'!Z488)","v":""},{"$f":"IF(ISBLANK('Scholars Nomination Form'!AA488),\"\",'Scholars Nomination Form'!AA488)","v":""}]
[{"$f":"IF(ISBLANK('Scholars Nomination Form'!$F489),\"\",'Scholars Nomination Form'!$C$11)","v":""},{"$f":"IF(ISBLANK('Scholars Nomination Form'!$F489),\"\",'Scholars Nomination Form'!$C$12)","v":""},{"$f":"IF(ISBLANK('Scholars Nomination Form'!$F489),\"\",'Scholars Nomination Form'!$C$13)","v":""},{"$f":"IF(ISBLANK('Scholars Nomination Form'!$F489),\"\",'Scholars Nomination Form'!$C$14)","v":""},{"$f":"IF(ISBLANK('Scholars Nomination Form'!$F489),\"\",'Scholars Nomination Form'!$C$15)","v":""},{"$f":"IF(ISBLANK('Scholars Nomination Form'!$F489),\"\",'Scholars Nomination Form'!$C$16)","v":""},{"$f":"IF(ISBLANK('Scholars Nomination Form'!B489),\"\",'Scholars Nomination Form'!B489)","v":""},{"$f":"IF(ISBLANK('Scholars Nomination Form'!D489),\"\",'Scholars Nomination Form'!D489)","v":""},{"$f":"IF(ISBLANK('Scholars Nomination Form'!E489),\"\",'Scholars Nomination Form'!E489)","v":""},{"$f":"IF(ISBLANK('Scholars Nomination Form'!F489),\"\",'Scholars Nomination Form'!F489)","v":""},{"$f":"IF(ISBLANK('Scholars Nomination Form'!G489),\"\",'Scholars Nomination Form'!G489)","v":""},{"$f":"IF(ISBLANK('Scholars Nomination Form'!H489),\"\",'Scholars Nomination Form'!H489)","v":""},{"$f":"IF(ISBLANK('Scholars Nomination Form'!I489),\"\",'Scholars Nomination Form'!I489)","v":""},{"$f":"IF(ISBLANK('Scholars Nomination Form'!J489),\"\",'Scholars Nomination Form'!J489)","v":""},{"$f":"IF(ISBLANK('Scholars Nomination Form'!K489),\"\",'Scholars Nomination Form'!K489)","v":""},{"$f":"IF(ISBLANK('Scholars Nomination Form'!L489),\"\",'Scholars Nomination Form'!L489)","v":""},{"$f":"IF(ISBLANK('Scholars Nomination Form'!M489),\"\",'Scholars Nomination Form'!M489)","v":""},{"$f":"IF(ISBLANK('Scholars Nomination Form'!N489),\"\",'Scholars Nomination Form'!N489)","v":""},{"$f":"IF(ISBLANK('Scholars Nomination Form'!O489),\"\",'Scholars Nomination Form'!O489)","v":""},{"$f":"IF(ISBLANK('Scholars Nomination Form'!P489),\"\",'Scholars Nomination Form'!P489)","v":""},{"$f":"IF(ISBLANK('Scholars Nomination Form'!Q489),\"\",'Scholars Nomination Form'!Q489)","v":""},{"$f":"IF(ISBLANK('Scholars Nomination Form'!R489),\"\",'Scholars Nomination Form'!R489)","v":""},{"$f":"IF(ISBLANK('Scholars Nomination Form'!S489),\"\",'Scholars Nomination Form'!S489)","v":""},{"$f":"IF(ISBLANK('Scholars Nomination Form'!T489),\"\",'Scholars Nomination Form'!T489)","v":""},{"$f":"IF(ISBLANK('Scholars Nomination Form'!U489),\"\",'Scholars Nomination Form'!U489)","v":""},{"$f":"IF(ISBLANK('Scholars Nomination Form'!V489),\"\",'Scholars Nomination Form'!V489)","v":""},{"$f":"IF(ISBLANK('Scholars Nomination Form'!W489),\"\",'Scholars Nomination Form'!W489)","v":""},{"$f":"IF(ISBLANK('Scholars Nomination Form'!X489),\"\",'Scholars Nomination Form'!X489)","v":""},{"$f":"IF(ISBLANK('Scholars Nomination Form'!Y489),\"\",'Scholars Nomination Form'!Y489)","v":""},{"$f":"IF(ISBLANK('Scholars Nomination Form'!Z489),\"\",'Scholars Nomination Form'!Z489)","v":""},{"$f":"IF(ISBLANK('Scholars Nomination Form'!AA489),\"\",'Scholars Nomination Form'!AA489)","v":""}]
[{"$f":"IF(ISBLANK('Scholars Nomination Form'!$F490),\"\",'Scholars Nomination Form'!$C$11)","v":""},{"$f":"IF(ISBLANK('Scholars Nomination Form'!$F490),\"\",'Scholars Nomination Form'!$C$12)","v":""},{"$f":"IF(ISBLANK('Scholars Nomination Form'!$F490),\"\",'Scholars Nomination Form'!$C$13)","v":""},{"$f":"IF(ISBLANK('Scholars Nomination Form'!$F490),\"\",'Scholars Nomination Form'!$C$14)","v":""},{"$f":"IF(ISBLANK('Scholars Nomination Form'!$F490),\"\",'Scholars Nomination Form'!$C$15)","v":""},{"$f":"IF(ISBLANK('Scholars Nomination Form'!$F490),\"\",'Scholars Nomination Form'!$C$16)","v":""},{"$f":"IF(ISBLANK('Scholars Nomination Form'!B490),\"\",'Scholars Nomination Form'!B490)","v":""},{"$f":"IF(ISBLANK('Scholars Nomination Form'!D490),\"\",'Scholars Nomination Form'!D490)","v":""},{"$f":"IF(ISBLANK('Scholars Nomination Form'!E490),\"\",'Scholars Nomination Form'!E490)","v":""},{"$f":"IF(ISBLANK('Scholars Nomination Form'!F490),\"\",'Scholars Nomination Form'!F490)","v":""},{"$f":"IF(ISBLANK('Scholars Nomination Form'!G490),\"\",'Scholars Nomination Form'!G490)","v":""},{"$f":"IF(ISBLANK('Scholars Nomination Form'!H490),\"\",'Scholars Nomination Form'!H490)","v":""},{"$f":"IF(ISBLANK('Scholars Nomination Form'!I490),\"\",'Scholars Nomination Form'!I490)","v":""},{"$f":"IF(ISBLANK('Scholars Nomination Form'!J490),\"\",'Scholars Nomination Form'!J490)","v":""},{"$f":"IF(ISBLANK('Scholars Nomination Form'!K490),\"\",'Scholars Nomination Form'!K490)","v":""},{"$f":"IF(ISBLANK('Scholars Nomination Form'!L490),\"\",'Scholars Nomination Form'!L490)","v":""},{"$f":"IF(ISBLANK('Scholars Nomination Form'!M490),\"\",'Scholars Nomination Form'!M490)","v":""},{"$f":"IF(ISBLANK('Scholars Nomination Form'!N490),\"\",'Scholars Nomination Form'!N490)","v":""},{"$f":"IF(ISBLANK('Scholars Nomination Form'!O490),\"\",'Scholars Nomination Form'!O490)","v":""},{"$f":"IF(ISBLANK('Scholars Nomination Form'!P490),\"\",'Scholars Nomination Form'!P490)","v":""},{"$f":"IF(ISBLANK('Scholars Nomination Form'!Q490),\"\",'Scholars Nomination Form'!Q490)","v":""},{"$f":"IF(ISBLANK('Scholars Nomination Form'!R490),\"\",'Scholars Nomination Form'!R490)","v":""},{"$f":"IF(ISBLANK('Scholars Nomination Form'!S490),\"\",'Scholars Nomination Form'!S490)","v":""},{"$f":"IF(ISBLANK('Scholars Nomination Form'!T490),\"\",'Scholars Nomination Form'!T490)","v":""},{"$f":"IF(ISBLANK('Scholars Nomination Form'!U490),\"\",'Scholars Nomination Form'!U490)","v":""},{"$f":"IF(ISBLANK('Scholars Nomination Form'!V490),\"\",'Scholars Nomination Form'!V490)","v":""},{"$f":"IF(ISBLANK('Scholars Nomination Form'!W490),\"\",'Scholars Nomination Form'!W490)","v":""},{"$f":"IF(ISBLANK('Scholars Nomination Form'!X490),\"\",'Scholars Nomination Form'!X490)","v":""},{"$f":"IF(ISBLANK('Scholars Nomination Form'!Y490),\"\",'Scholars Nomination Form'!Y490)","v":""},{"$f":"IF(ISBLANK('Scholars Nomination Form'!Z490),\"\",'Scholars Nomination Form'!Z490)","v":""},{"$f":"IF(ISBLANK('Scholars Nomination Form'!AA490),\"\",'Scholars Nomination Form'!AA490)","v":""}]
[{"$f":"IF(ISBLANK('Scholars Nomination Form'!$F491),\"\",'Scholars Nomination Form'!$C$11)","v":""},{"$f":"IF(ISBLANK('Scholars Nomination Form'!$F491),\"\",'Scholars Nomination Form'!$C$12)","v":""},{"$f":"IF(ISBLANK('Scholars Nomination Form'!$F491),\"\",'Scholars Nomination Form'!$C$13)","v":""},{"$f":"IF(ISBLANK('Scholars Nomination Form'!$F491),\"\",'Scholars Nomination Form'!$C$14)","v":""},{"$f":"IF(ISBLANK('Scholars Nomination Form'!$F491),\"\",'Scholars Nomination Form'!$C$15)","v":""},{"$f":"IF(ISBLANK('Scholars Nomination Form'!$F491),\"\",'Scholars Nomination Form'!$C$16)","v":""},{"$f":"IF(ISBLANK('Scholars Nomination Form'!B491),\"\",'Scholars Nomination Form'!B491)","v":""},{"$f":"IF(ISBLANK('Scholars Nomination Form'!D491),\"\",'Scholars Nomination Form'!D491)","v":""},{"$f":"IF(ISBLANK('Scholars Nomination Form'!E491),\"\",'Scholars Nomination Form'!E491)","v":""},{"$f":"IF(ISBLANK('Scholars Nomination Form'!F491),\"\",'Scholars Nomination Form'!F491)","v":""},{"$f":"IF(ISBLANK('Scholars Nomination Form'!G491),\"\",'Scholars Nomination Form'!G491)","v":""},{"$f":"IF(ISBLANK('Scholars Nomination Form'!H491),\"\",'Scholars Nomination Form'!H491)","v":""},{"$f":"IF(ISBLANK('Scholars Nomination Form'!I491),\"\",'Scholars Nomination Form'!I491)","v":""},{"$f":"IF(ISBLANK('Scholars Nomination Form'!J491),\"\",'Scholars Nomination Form'!J491)","v":""},{"$f":"IF(ISBLANK('Scholars Nomination Form'!K491),\"\",'Scholars Nomination Form'!K491)","v":""},{"$f":"IF(ISBLANK('Scholars Nomination Form'!L491),\"\",'Scholars Nomination Form'!L491)","v":""},{"$f":"IF(ISBLANK('Scholars Nomination Form'!M491),\"\",'Scholars Nomination Form'!M491)","v":""},{"$f":"IF(ISBLANK('Scholars Nomination Form'!N491),\"\",'Scholars Nomination Form'!N491)","v":""},{"$f":"IF(ISBLANK('Scholars Nomination Form'!O491),\"\",'Scholars Nomination Form'!O491)","v":""},{"$f":"IF(ISBLANK('Scholars Nomination Form'!P491),\"\",'Scholars Nomination Form'!P491)","v":""},{"$f":"IF(ISBLANK('Scholars Nomination Form'!Q491),\"\",'Scholars Nomination Form'!Q491)","v":""},{"$f":"IF(ISBLANK('Scholars Nomination Form'!R491),\"\",'Scholars Nomination Form'!R491)","v":""},{"$f":"IF(ISBLANK('Scholars Nomination Form'!S491),\"\",'Scholars Nomination Form'!S491)","v":""},{"$f":"IF(ISBLANK('Scholars Nomination Form'!T491),\"\",'Scholars Nomination Form'!T491)","v":""},{"$f":"IF(ISBLANK('Scholars Nomination Form'!U491),\"\",'Scholars Nomination Form'!U491)","v":""},{"$f":"IF(ISBLANK('Scholars Nomination Form'!V491),\"\",'Scholars Nomination Form'!V491)","v":""},{"$f":"IF(ISBLANK('Scholars Nomination Form'!W491),\"\",'Scholars Nomination Form'!W491)","v":""},{"$f":"IF(ISBLANK('Scholars Nomination Form'!X491),\"\",'Scholars Nomination Form'!X491)","v":""},{"$f":"IF(ISBLANK('Scholars Nomination Form'!Y491),\"\",'Scholars Nomination Form'!Y491)","v":""},{"$f":"IF(ISBLANK('Scholars Nomination Form'!Z491),\"\",'Scholars Nomination Form'!Z491)","v":""},{"$f":"IF(ISBLANK('Scholars Nomination Form'!AA491),\"\",'Scholars Nomination Form'!AA491)","v":""}]
[{"$f":"IF(ISBLANK('Scholars Nomination Form'!$F492),\"\",'Scholars Nomination Form'!$C$11)","v":""},{"$f":"IF(ISBLANK('Scholars Nomination Form'!$F492),\"\",'Scholars Nomination Form'!$C$12)","v":""},{"$f":"IF(ISBLANK('Scholars Nomination Form'!$F492),\"\",'Scholars Nomination Form'!$C$13)","v":""},{"$f":"IF(ISBLANK('Scholars Nomination Form'!$F492),\"\",'Scholars Nomination Form'!$C$14)","v":""},{"$f":"IF(ISBLANK('Scholars Nomination Form'!$F492),\"\",'Scholars Nomination Form'!$C$15)","v":""},{"$f":"IF(ISBLANK('Scholars Nomination Form'!$F492),\"\",'Scholars Nomination Form'!$C$16)","v":""},{"$f":"IF(ISBLANK('Scholars Nomination Form'!B492),\"\",'Scholars Nomination Form'!B492)","v":""},{"$f":"IF(ISBLANK('Scholars Nomination Form'!D492),\"\",'Scholars Nomination Form'!D492)","v":""},{"$f":"IF(ISBLANK('Scholars Nomination Form'!E492),\"\",'Scholars Nomination Form'!E492)","v":""},{"$f":"IF(ISBLANK('Scholars Nomination Form'!F492),\"\",'Scholars Nomination Form'!F492)","v":""},{"$f":"IF(ISBLANK('Scholars Nomination Form'!G492),\"\",'Scholars Nomination Form'!G492)","v":""},{"$f":"IF(ISBLANK('Scholars Nomination Form'!H492),\"\",'Scholars Nomination Form'!H492)","v":""},{"$f":"IF(ISBLANK('Scholars Nomination Form'!I492),\"\",'Scholars Nomination Form'!I492)","v":""},{"$f":"IF(ISBLANK('Scholars Nomination Form'!J492),\"\",'Scholars Nomination Form'!J492)","v":""},{"$f":"IF(ISBLANK('Scholars Nomination Form'!K492),\"\",'Scholars Nomination Form'!K492)","v":""},{"$f":"IF(ISBLANK('Scholars Nomination Form'!L492),\"\",'Scholars Nomination Form'!L492)","v":""},{"$f":"IF(ISBLANK('Scholars Nomination Form'!M492),\"\",'Scholars Nomination Form'!M492)","v":""},{"$f":"IF(ISBLANK('Scholars Nomination Form'!N492),\"\",'Scholars Nomination Form'!N492)","v":""},{"$f":"IF(ISBLANK('Scholars Nomination Form'!O492),\"\",'Scholars Nomination Form'!O492)","v":""},{"$f":"IF(ISBLANK('Scholars Nomination Form'!P492),\"\",'Scholars Nomination Form'!P492)","v":""},{"$f":"IF(ISBLANK('Scholars Nomination Form'!Q492),\"\",'Scholars Nomination Form'!Q492)","v":""},{"$f":"IF(ISBLANK('Scholars Nomination Form'!R492),\"\",'Scholars Nomination Form'!R492)","v":""},{"$f":"IF(ISBLANK('Scholars Nomination Form'!S492),\"\",'Scholars Nomination Form'!S492)","v":""},{"$f":"IF(ISBLANK('Scholars Nomination Form'!T492),\"\",'Scholars Nomination Form'!T492)","v":""},{"$f":"IF(ISBLANK('Scholars Nomination Form'!U492),\"\",'Scholars Nomination Form'!U492)","v":""},{"$f":"IF(ISBLANK('Scholars Nomination Form'!V492),\"\",'Scholars Nomination Form'!V492)","v":""},{"$f":"IF(ISBLANK('Scholars Nomination Form'!W492),\"\",'Scholars Nomination Form'!W492)","v":""},{"$f":"IF(ISBLANK('Scholars Nomination Form'!X492),\"\",'Scholars Nomination Form'!X492)","v":""},{"$f":"IF(ISBLANK('Scholars Nomination Form'!Y492),\"\",'Scholars Nomination Form'!Y492)","v":""},{"$f":"IF(ISBLANK('Scholars Nomination Form'!Z492),\"\",'Scholars Nomination Form'!Z492)","v":""},{"$f":"IF(ISBLANK('Scholars Nomination Form'!AA492),\"\",'Scholars Nomination Form'!AA492)","v":""}]
[{"$f":"IF(ISBLANK('Scholars Nomination Form'!$F493),\"\",'Scholars Nomination Form'!$C$11)","v":""},{"$f":"IF(ISBLANK('Scholars Nomination Form'!$F493),\"\",'Scholars Nomination Form'!$C$12)","v":""},{"$f":"IF(ISBLANK('Scholars Nomination Form'!$F493),\"\",'Scholars Nomination Form'!$C$13)","v":""},{"$f":"IF(ISBLANK('Scholars Nomination Form'!$F493),\"\",'Scholars Nomination Form'!$C$14)","v":""},{"$f":"IF(ISBLANK('Scholars Nomination Form'!$F493),\"\",'Scholars Nomination Form'!$C$15)","v":""},{"$f":"IF(ISBLANK('Scholars Nomination Form'!$F493),\"\",'Scholars Nomination Form'!$C$16)","v":""},{"$f":"IF(ISBLANK('Scholars Nomination Form'!B493),\"\",'Scholars Nomination Form'!B493)","v":""},{"$f":"IF(ISBLANK('Scholars Nomination Form'!D493),\"\",'Scholars Nomination Form'!D493)","v":""},{"$f":"IF(ISBLANK('Scholars Nomination Form'!E493),\"\",'Scholars Nomination Form'!E493)","v":""},{"$f":"IF(ISBLANK('Scholars Nomination Form'!F493),\"\",'Scholars Nomination Form'!F493)","v":""},{"$f":"IF(ISBLANK('Scholars Nomination Form'!G493),\"\",'Scholars Nomination Form'!G493)","v":""},{"$f":"IF(ISBLANK('Scholars Nomination Form'!H493),\"\",'Scholars Nomination Form'!H493)","v":""},{"$f":"IF(ISBLANK('Scholars Nomination Form'!I493),\"\",'Scholars Nomination Form'!I493)","v":""},{"$f":"IF(ISBLANK('Scholars Nomination Form'!J493),\"\",'Scholars Nomination Form'!J493)","v":""},{"$f":"IF(ISBLANK('Scholars Nomination Form'!K493),\"\",'Scholars Nomination Form'!K493)","v":""},{"$f":"IF(ISBLANK('Scholars Nomination Form'!L493),\"\",'Scholars Nomination Form'!L493)","v":""},{"$f":"IF(ISBLANK('Scholars Nomination Form'!M493),\"\",'Scholars Nomination Form'!M493)","v":""},{"$f":"IF(ISBLANK('Scholars Nomination Form'!N493),\"\",'Scholars Nomination Form'!N493)","v":""},{"$f":"IF(ISBLANK('Scholars Nomination Form'!O493),\"\",'Scholars Nomination Form'!O493)","v":""},{"$f":"IF(ISBLANK('Scholars Nomination Form'!P493),\"\",'Scholars Nomination Form'!P493)","v":""},{"$f":"IF(ISBLANK('Scholars Nomination Form'!Q493),\"\",'Scholars Nomination Form'!Q493)","v":""},{"$f":"IF(ISBLANK('Scholars Nomination Form'!R493),\"\",'Scholars Nomination Form'!R493)","v":""},{"$f":"IF(ISBLANK('Scholars Nomination Form'!S493),\"\",'Scholars Nomination Form'!S493)","v":""},{"$f":"IF(ISBLANK('Scholars Nomination Form'!T493),\"\",'Scholars Nomination Form'!T493)","v":""},{"$f":"IF(ISBLANK('Scholars Nomination Form'!U493),\"\",'Scholars Nomination Form'!U493)","v":""},{"$f":"IF(ISBLANK('Scholars Nomination Form'!V493),\"\",'Scholars Nomination Form'!V493)","v":""},{"$f":"IF(ISBLANK('Scholars Nomination Form'!W493),\"\",'Scholars Nomination Form'!W493)","v":""},{"$f":"IF(ISBLANK('Scholars Nomination Form'!X493),\"\",'Scholars Nomination Form'!X493)","v":""},{"$f":"IF(ISBLANK('Scholars Nomination Form'!Y493),\"\",'Scholars Nomination Form'!Y493)","v":""},{"$f":"IF(ISBLANK('Scholars Nomination Form'!Z493),\"\",'Scholars Nomination Form'!Z493)","v":""},{"$f":"IF(ISBLANK('Scholars Nomination Form'!AA493),\"\",'Scholars Nomination Form'!AA493)","v":""}]
[{"$f":"IF(ISBLANK('Scholars Nomination Form'!$F494),\"\",'Scholars Nomination Form'!$C$11)","v":""},{"$f":"IF(ISBLANK('Scholars Nomination Form'!$F494),\"\",'Scholars Nomination Form'!$C$12)","v":""},{"$f":"IF(ISBLANK('Scholars Nomination Form'!$F494),\"\",'Scholars Nomination Form'!$C$13)","v":""},{"$f":"IF(ISBLANK('Scholars Nomination Form'!$F494),\"\",'Scholars Nomination Form'!$C$14)","v":""},{"$f":"IF(ISBLANK('Scholars Nomination Form'!$F494),\"\",'Scholars Nomination Form'!$C$15)","v":""},{"$f":"IF(ISBLANK('Scholars Nomination Form'!$F494),\"\",'Scholars Nomination Form'!$C$16)","v":""},{"$f":"IF(ISBLANK('Scholars Nomination Form'!B494),\"\",'Scholars Nomination Form'!B494)","v":""},{"$f":"IF(ISBLANK('Scholars Nomination Form'!D494),\"\",'Scholars Nomination Form'!D494)","v":""},{"$f":"IF(ISBLANK('Scholars Nomination Form'!E494),\"\",'Scholars Nomination Form'!E494)","v":""},{"$f":"IF(ISBLANK('Scholars Nomination Form'!F494),\"\",'Scholars Nomination Form'!F494)","v":""},{"$f":"IF(ISBLANK('Scholars Nomination Form'!G494),\"\",'Scholars Nomination Form'!G494)","v":""},{"$f":"IF(ISBLANK('Scholars Nomination Form'!H494),\"\",'Scholars Nomination Form'!H494)","v":""},{"$f":"IF(ISBLANK('Scholars Nomination Form'!I494),\"\",'Scholars Nomination Form'!I494)","v":""},{"$f":"IF(ISBLANK('Scholars Nomination Form'!J494),\"\",'Scholars Nomination Form'!J494)","v":""},{"$f":"IF(ISBLANK('Scholars Nomination Form'!K494),\"\",'Scholars Nomination Form'!K494)","v":""},{"$f":"IF(ISBLANK('Scholars Nomination Form'!L494),\"\",'Scholars Nomination Form'!L494)","v":""},{"$f":"IF(ISBLANK('Scholars Nomination Form'!M494),\"\",'Scholars Nomination Form'!M494)","v":""},{"$f":"IF(ISBLANK('Scholars Nomination Form'!N494),\"\",'Scholars Nomination Form'!N494)","v":""},{"$f":"IF(ISBLANK('Scholars Nomination Form'!O494),\"\",'Scholars Nomination Form'!O494)","v":""},{"$f":"IF(ISBLANK('Scholars Nomination Form'!P494),\"\",'Scholars Nomination Form'!P494)","v":""},{"$f":"IF(ISBLANK('Scholars Nomination Form'!Q494),\"\",'Scholars Nomination Form'!Q494)","v":""},{"$f":"IF(ISBLANK('Scholars Nomination Form'!R494),\"\",'Scholars Nomination Form'!R494)","v":""},{"$f":"IF(ISBLANK('Scholars Nomination Form'!S494),\"\",'Scholars Nomination Form'!S494)","v":""},{"$f":"IF(ISBLANK('Scholars Nomination Form'!T494),\"\",'Scholars Nomination Form'!T494)","v":""},{"$f":"IF(ISBLANK('Scholars Nomination Form'!U494),\"\",'Scholars Nomination Form'!U494)","v":""},{"$f":"IF(ISBLANK('Scholars Nomination Form'!V494),\"\",'Scholars Nomination Form'!V494)","v":""},{"$f":"IF(ISBLANK('Scholars Nomination Form'!W494),\"\",'Scholars Nomination Form'!W494)","v":""},{"$f":"IF(ISBLANK('Scholars Nomination Form'!X494),\"\",'Scholars Nomination Form'!X494)","v":""},{"$f":"IF(ISBLANK('Scholars Nomination Form'!Y494),\"\",'Scholars Nomination Form'!Y494)","v":""},{"$f":"IF(ISBLANK('Scholars Nomination Form'!Z494),\"\",'Scholars Nomination Form'!Z494)","v":""},{"$f":"IF(ISBLANK('Scholars Nomination Form'!AA494),\"\",'Scholars Nomination Form'!AA494)","v":""}]
[{"$f":"IF(ISBLANK('Scholars Nomination Form'!$F495),\"\",'Scholars Nomination Form'!$C$11)","v":""},{"$f":"IF(ISBLANK('Scholars Nomination Form'!$F495),\"\",'Scholars Nomination Form'!$C$12)","v":""},{"$f":"IF(ISBLANK('Scholars Nomination Form'!$F495),\"\",'Scholars Nomination Form'!$C$13)","v":""},{"$f":"IF(ISBLANK('Scholars Nomination Form'!$F495),\"\",'Scholars Nomination Form'!$C$14)","v":""},{"$f":"IF(ISBLANK('Scholars Nomination Form'!$F495),\"\",'Scholars Nomination Form'!$C$15)","v":""},{"$f":"IF(ISBLANK('Scholars Nomination Form'!$F495),\"\",'Scholars Nomination Form'!$C$16)","v":""},{"$f":"IF(ISBLANK('Scholars Nomination Form'!B495),\"\",'Scholars Nomination Form'!B495)","v":""},{"$f":"IF(ISBLANK('Scholars Nomination Form'!D495),\"\",'Scholars Nomination Form'!D495)","v":""},{"$f":"IF(ISBLANK('Scholars Nomination Form'!E495),\"\",'Scholars Nomination Form'!E495)","v":""},{"$f":"IF(ISBLANK('Scholars Nomination Form'!F495),\"\",'Scholars Nomination Form'!F495)","v":""},{"$f":"IF(ISBLANK('Scholars Nomination Form'!G495),\"\",'Scholars Nomination Form'!G495)","v":""},{"$f":"IF(ISBLANK('Scholars Nomination Form'!H495),\"\",'Scholars Nomination Form'!H495)","v":""},{"$f":"IF(ISBLANK('Scholars Nomination Form'!I495),\"\",'Scholars Nomination Form'!I495)","v":""},{"$f":"IF(ISBLANK('Scholars Nomination Form'!J495),\"\",'Scholars Nomination Form'!J495)","v":""},{"$f":"IF(ISBLANK('Scholars Nomination Form'!K495),\"\",'Scholars Nomination Form'!K495)","v":""},{"$f":"IF(ISBLANK('Scholars Nomination Form'!L495),\"\",'Scholars Nomination Form'!L495)","v":""},{"$f":"IF(ISBLANK('Scholars Nomination Form'!M495),\"\",'Scholars Nomination Form'!M495)","v":""},{"$f":"IF(ISBLANK('Scholars Nomination Form'!N495),\"\",'Scholars Nomination Form'!N495)","v":""},{"$f":"IF(ISBLANK('Scholars Nomination Form'!O495),\"\",'Scholars Nomination Form'!O495)","v":""},{"$f":"IF(ISBLANK('Scholars Nomination Form'!P495),\"\",'Scholars Nomination Form'!P495)","v":""},{"$f":"IF(ISBLANK('Scholars Nomination Form'!Q495),\"\",'Scholars Nomination Form'!Q495)","v":""},{"$f":"IF(ISBLANK('Scholars Nomination Form'!R495),\"\",'Scholars Nomination Form'!R495)","v":""},{"$f":"IF(ISBLANK('Scholars Nomination Form'!S495),\"\",'Scholars Nomination Form'!S495)","v":""},{"$f":"IF(ISBLANK('Scholars Nomination Form'!T495),\"\",'Scholars Nomination Form'!T495)","v":""},{"$f":"IF(ISBLANK('Scholars Nomination Form'!U495),\"\",'Scholars Nomination Form'!U495)","v":""},{"$f":"IF(ISBLANK('Scholars Nomination Form'!V495),\"\",'Scholars Nomination Form'!V495)","v":""},{"$f":"IF(ISBLANK('Scholars Nomination Form'!W495),\"\",'Scholars Nomination Form'!W495)","v":""},{"$f":"IF(ISBLANK('Scholars Nomination Form'!X495),\"\",'Scholars Nomination Form'!X495)","v":""},{"$f":"IF(ISBLANK('Scholars Nomination Form'!Y495),\"\",'Scholars Nomination Form'!Y495)","v":""},{"$f":"IF(ISBLANK('Scholars Nomination Form'!Z495),\"\",'Scholars Nomination Form'!Z495)","v":""},{"$f":"IF(ISBLANK('Scholars Nomination Form'!AA495),\"\",'Scholars Nomination Form'!AA495)","v":""}]
[{"$f":"IF(ISBLANK('Scholars Nomination Form'!$F496),\"\",'Scholars Nomination Form'!$C$11)","v":""},{"$f":"IF(ISBLANK('Scholars Nomination Form'!$F496),\"\",'Scholars Nomination Form'!$C$12)","v":""},{"$f":"IF(ISBLANK('Scholars Nomination Form'!$F496),\"\",'Scholars Nomination Form'!$C$13)","v":""},{"$f":"IF(ISBLANK('Scholars Nomination Form'!$F496),\"\",'Scholars Nomination Form'!$C$14)","v":""},{"$f":"IF(ISBLANK('Scholars Nomination Form'!$F496),\"\",'Scholars Nomination Form'!$C$15)","v":""},{"$f":"IF(ISBLANK('Scholars Nomination Form'!$F496),\"\",'Scholars Nomination Form'!$C$16)","v":""},{"$f":"IF(ISBLANK('Scholars Nomination Form'!B496),\"\",'Scholars Nomination Form'!B496)","v":""},{"$f":"IF(ISBLANK('Scholars Nomination Form'!D496),\"\",'Scholars Nomination Form'!D496)","v":""},{"$f":"IF(ISBLANK('Scholars Nomination Form'!E496),\"\",'Scholars Nomination Form'!E496)","v":""},{"$f":"IF(ISBLANK('Scholars Nomination Form'!F496),\"\",'Scholars Nomination Form'!F496)","v":""},{"$f":"IF(ISBLANK('Scholars Nomination Form'!G496),\"\",'Scholars Nomination Form'!G496)","v":""},{"$f":"IF(ISBLANK('Scholars Nomination Form'!H496),\"\",'Scholars Nomination Form'!H496)","v":""},{"$f":"IF(ISBLANK('Scholars Nomination Form'!I496),\"\",'Scholars Nomination Form'!I496)","v":""},{"$f":"IF(ISBLANK('Scholars Nomination Form'!J496),\"\",'Scholars Nomination Form'!J496)","v":""},{"$f":"IF(ISBLANK('Scholars Nomination Form'!K496),\"\",'Scholars Nomination Form'!K496)","v":""},{"$f":"IF(ISBLANK('Scholars Nomination Form'!L496),\"\",'Scholars Nomination Form'!L496)","v":""},{"$f":"IF(ISBLANK('Scholars Nomination Form'!M496),\"\",'Scholars Nomination Form'!M496)","v":""},{"$f":"IF(ISBLANK('Scholars Nomination Form'!N496),\"\",'Scholars Nomination Form'!N496)","v":""},{"$f":"IF(ISBLANK('Scholars Nomination Form'!O496),\"\",'Scholars Nomination Form'!O496)","v":""},{"$f":"IF(ISBLANK('Scholars Nomination Form'!P496),\"\",'Scholars Nomination Form'!P496)","v":""},{"$f":"IF(ISBLANK('Scholars Nomination Form'!Q496),\"\",'Scholars Nomination Form'!Q496)","v":""},{"$f":"IF(ISBLANK('Scholars Nomination Form'!R496),\"\",'Scholars Nomination Form'!R496)","v":""},{"$f":"IF(ISBLANK('Scholars Nomination Form'!S496),\"\",'Scholars Nomination Form'!S496)","v":""},{"$f":"IF(ISBLANK('Scholars Nomination Form'!T496),\"\",'Scholars Nomination Form'!T496)","v":""},{"$f":"IF(ISBLANK('Scholars Nomination Form'!U496),\"\",'Scholars Nomination Form'!U496)","v":""},{"$f":"IF(ISBLANK('Scholars Nomination Form'!V496),\"\",'Scholars Nomination Form'!V496)","v":""},{"$f":"IF(ISBLANK('Scholars Nomination Form'!W496),\"\",'Scholars Nomination Form'!W496)","v":""},{"$f":"IF(ISBLANK('Scholars Nomination Form'!X496),\"\",'Scholars Nomination Form'!X496)","v":""},{"$f":"IF(ISBLANK('Scholars Nomination Form'!Y496),\"\",'Scholars Nomination Form'!Y496)","v":""},{"$f":"IF(ISBLANK('Scholars Nomination Form'!Z496),\"\",'Scholars Nomination Form'!Z496)","v":""},{"$f":"IF(ISBLANK('Scholars Nomination Form'!AA496),\"\",'Scholars Nomination Form'!AA496)","v":""}]
[{"$f":"IF(ISBLANK('Scholars Nomination Form'!$F497),\"\",'Scholars Nomination Form'!$C$11)","v":""},{"$f":"IF(ISBLANK('Scholars Nomination Form'!$F497),\"\",'Scholars Nomination Form'!$C$12)","v":""},{"$f":"IF(ISBLANK('Scholars Nomination Form'!$F497),\"\",'Scholars Nomination Form'!$C$13)","v":""},{"$f":"IF(ISBLANK('Scholars Nomination Form'!$F497),\"\",'Scholars Nomination Form'!$C$14)","v":""},{"$f":"IF(ISBLANK('Scholars Nomination Form'!$F497),\"\",'Scholars Nomination Form'!$C$15)","v":""},{"$f":"IF(ISBLANK('Scholars Nomination Form'!$F497),\"\",'Scholars Nomination Form'!$C$16)","v":""},{"$f":"IF(ISBLANK('Scholars Nomination Form'!B497),\"\",'Scholars Nomination Form'!B497)","v":""},{"$f":"IF(ISBLANK('Scholars Nomination Form'!D497),\"\",'Scholars Nomination Form'!D497)","v":""},{"$f":"IF(ISBLANK('Scholars Nomination Form'!E497),\"\",'Scholars Nomination Form'!E497)","v":""},{"$f":"IF(ISBLANK('Scholars Nomination Form'!F497),\"\",'Scholars Nomination Form'!F497)","v":""},{"$f":"IF(ISBLANK('Scholars Nomination Form'!G497),\"\",'Scholars Nomination Form'!G497)","v":""},{"$f":"IF(ISBLANK('Scholars Nomination Form'!H497),\"\",'Scholars Nomination Form'!H497)","v":""},{"$f":"IF(ISBLANK('Scholars Nomination Form'!I497),\"\",'Scholars Nomination Form'!I497)","v":""},{"$f":"IF(ISBLANK('Scholars Nomination Form'!J497),\"\",'Scholars Nomination Form'!J497)","v":""},{"$f":"IF(ISBLANK('Scholars Nomination Form'!K497),\"\",'Scholars Nomination Form'!K497)","v":""},{"$f":"IF(ISBLANK('Scholars Nomination Form'!L497),\"\",'Scholars Nomination Form'!L497)","v":""},{"$f":"IF(ISBLANK('Scholars Nomination Form'!M497),\"\",'Scholars Nomination Form'!M497)","v":""},{"$f":"IF(ISBLANK('Scholars Nomination Form'!N497),\"\",'Scholars Nomination Form'!N497)","v":""},{"$f":"IF(ISBLANK('Scholars Nomination Form'!O497),\"\",'Scholars Nomination Form'!O497)","v":""},{"$f":"IF(ISBLANK('Scholars Nomination Form'!P497),\"\",'Scholars Nomination Form'!P497)","v":""},{"$f":"IF(ISBLANK('Scholars Nomination Form'!Q497),\"\",'Scholars Nomination Form'!Q497)","v":""},{"$f":"IF(ISBLANK('Scholars Nomination Form'!R497),\"\",'Scholars Nomination Form'!R497)","v":""},{"$f":"IF(ISBLANK('Scholars Nomination Form'!S497),\"\",'Scholars Nomination Form'!S497)","v":""},{"$f":"IF(ISBLANK('Scholars Nomination Form'!T497),\"\",'Scholars Nomination Form'!T497)","v":""},{"$f":"IF(ISBLANK('Scholars Nomination Form'!U497),\"\",'Scholars Nomination Form'!U497)","v":""},{"$f":"IF(ISBLANK('Scholars Nomination Form'!V497),\"\",'Scholars Nomination Form'!V497)","v":""},{"$f":"IF(ISBLANK('Scholars Nomination Form'!W497),\"\",'Scholars Nomination Form'!W497)","v":""},{"$f":"IF(ISBLANK('Scholars Nomination Form'!X497),\"\",'Scholars Nomination Form'!X497)","v":""},{"$f":"IF(ISBLANK('Scholars Nomination Form'!Y497),\"\",'Scholars Nomination Form'!Y497)","v":""},{"$f":"IF(ISBLANK('Scholars Nomination Form'!Z497),\"\",'Scholars Nomination Form'!Z497)","v":""},{"$f":"IF(ISBLANK('Scholars Nomination Form'!AA497),\"\",'Scholars Nomination Form'!AA497)","v":""}]
[{"$f":"IF(ISBLANK('Scholars Nomination Form'!$F498),\"\",'Scholars Nomination Form'!$C$11)","v":""},{"$f":"IF(ISBLANK('Scholars Nomination Form'!$F498),\"\",'Scholars Nomination Form'!$C$12)","v":""},{"$f":"IF(ISBLANK('Scholars Nomination Form'!$F498),\"\",'Scholars Nomination Form'!$C$13)","v":""},{"$f":"IF(ISBLANK('Scholars Nomination Form'!$F498),\"\",'Scholars Nomination Form'!$C$14)","v":""},{"$f":"IF(ISBLANK('Scholars Nomination Form'!$F498),\"\",'Scholars Nomination Form'!$C$15)","v":""},{"$f":"IF(ISBLANK('Scholars Nomination Form'!$F498),\"\",'Scholars Nomination Form'!$C$16)","v":""},{"$f":"IF(ISBLANK('Scholars Nomination Form'!B498),\"\",'Scholars Nomination Form'!B498)","v":""},{"$f":"IF(ISBLANK('Scholars Nomination Form'!D498),\"\",'Scholars Nomination Form'!D498)","v":""},{"$f":"IF(ISBLANK('Scholars Nomination Form'!E498),\"\",'Scholars Nomination Form'!E498)","v":""},{"$f":"IF(ISBLANK('Scholars Nomination Form'!F498),\"\",'Scholars Nomination Form'!F498)","v":""},{"$f":"IF(ISBLANK('Scholars Nomination Form'!G498),\"\",'Scholars Nomination Form'!G498)","v":""},{"$f":"IF(ISBLANK('Scholars Nomination Form'!H498),\"\",'Scholars Nomination Form'!H498)","v":""},{"$f":"IF(ISBLANK('Scholars Nomination Form'!I498),\"\",'Scholars Nomination Form'!I498)","v":""},{"$f":"IF(ISBLANK('Scholars Nomination Form'!J498),\"\",'Scholars Nomination Form'!J498)","v":""},{"$f":"IF(ISBLANK('Scholars Nomination Form'!K498),\"\",'Scholars Nomination Form'!K498)","v":""},{"$f":"IF(ISBLANK('Scholars Nomination Form'!L498),\"\",'Scholars Nomination Form'!L498)","v":""},{"$f":"IF(ISBLANK('Scholars Nomination Form'!M498),\"\",'Scholars Nomination Form'!M498)","v":""},{"$f":"IF(ISBLANK('Scholars Nomination Form'!N498),\"\",'Scholars Nomination Form'!N498)","v":""},{"$f":"IF(ISBLANK('Scholars Nomination Form'!O498),\"\",'Scholars Nomination Form'!O498)","v":""},{"$f":"IF(ISBLANK('Scholars Nomination Form'!P498),\"\",'Scholars Nomination Form'!P498)","v":""},{"$f":"IF(ISBLANK('Scholars Nomination Form'!Q498),\"\",'Scholars Nomination Form'!Q498)","v":""},{"$f":"IF(ISBLANK('Scholars Nomination Form'!R498),\"\",'Scholars Nomination Form'!R498)","v":""},{"$f":"IF(ISBLANK('Scholars Nomination Form'!S498),\"\",'Scholars Nomination Form'!S498)","v":""},{"$f":"IF(ISBLANK('Scholars Nomination Form'!T498),\"\",'Scholars Nomination Form'!T498)","v":""},{"$f":"IF(ISBLANK('Scholars Nomination Form'!U498),\"\",'Scholars Nomination Form'!U498)","v":""},{"$f":"IF(ISBLANK('Scholars Nomination Form'!V498),\"\",'Scholars Nomination Form'!V498)","v":""},{"$f":"IF(ISBLANK('Scholars Nomination Form'!W498),\"\",'Scholars Nomination Form'!W498)","v":""},{"$f":"IF(ISBLANK('Scholars Nomination Form'!X498),\"\",'Scholars Nomination Form'!X498)","v":""},{"$f":"IF(ISBLANK('Scholars Nomination Form'!Y498),\"\",'Scholars Nomination Form'!Y498)","v":""},{"$f":"IF(ISBLANK('Scholars Nomination Form'!Z498),\"\",'Scholars Nomination Form'!Z498)","v":""},{"$f":"IF(ISBLANK('Scholars Nomination Form'!AA498),\"\",'Scholars Nomination Form'!AA498)","v":""}]
[{"$f":"IF(ISBLANK('Scholars Nomination Form'!$F499),\"\",'Scholars Nomination Form'!$C$11)","v":""},{"$f":"IF(ISBLANK('Scholars Nomination Form'!$F499),\"\",'Scholars Nomination Form'!$C$12)","v":""},{"$f":"IF(ISBLANK('Scholars Nomination Form'!$F499),\"\",'Scholars Nomination Form'!$C$13)","v":""},{"$f":"IF(ISBLANK('Scholars Nomination Form'!$F499),\"\",'Scholars Nomination Form'!$C$14)","v":""},{"$f":"IF(ISBLANK('Scholars Nomination Form'!$F499),\"\",'Scholars Nomination Form'!$C$15)","v":""},{"$f":"IF(ISBLANK('Scholars Nomination Form'!$F499),\"\",'Scholars Nomination Form'!$C$16)","v":""},{"$f":"IF(ISBLANK('Scholars Nomination Form'!B499),\"\",'Scholars Nomination Form'!B499)","v":""},{"$f":"IF(ISBLANK('Scholars Nomination Form'!D499),\"\",'Scholars Nomination Form'!D499)","v":""},{"$f":"IF(ISBLANK('Scholars Nomination Form'!E499),\"\",'Scholars Nomination Form'!E499)","v":""},{"$f":"IF(ISBLANK('Scholars Nomination Form'!F499),\"\",'Scholars Nomination Form'!F499)","v":""},{"$f":"IF(ISBLANK('Scholars Nomination Form'!G499),\"\",'Scholars Nomination Form'!G499)","v":""},{"$f":"IF(ISBLANK('Scholars Nomination Form'!H499),\"\",'Scholars Nomination Form'!H499)","v":""},{"$f":"IF(ISBLANK('Scholars Nomination Form'!I499),\"\",'Scholars Nomination Form'!I499)","v":""},{"$f":"IF(ISBLANK('Scholars Nomination Form'!J499),\"\",'Scholars Nomination Form'!J499)","v":""},{"$f":"IF(ISBLANK('Scholars Nomination Form'!K499),\"\",'Scholars Nomination Form'!K499)","v":""},{"$f":"IF(ISBLANK('Scholars Nomination Form'!L499),\"\",'Scholars Nomination Form'!L499)","v":""},{"$f":"IF(ISBLANK('Scholars Nomination Form'!M499),\"\",'Scholars Nomination Form'!M499)","v":""},{"$f":"IF(ISBLANK('Scholars Nomination Form'!N499),\"\",'Scholars Nomination Form'!N499)","v":""},{"$f":"IF(ISBLANK('Scholars Nomination Form'!O499),\"\",'Scholars Nomination Form'!O499)","v":""},{"$f":"IF(ISBLANK('Scholars Nomination Form'!P499),\"\",'Scholars Nomination Form'!P499)","v":""},{"$f":"IF(ISBLANK('Scholars Nomination Form'!Q499),\"\",'Scholars Nomination Form'!Q499)","v":""},{"$f":"IF(ISBLANK('Scholars Nomination Form'!R499),\"\",'Scholars Nomination Form'!R499)","v":""},{"$f":"IF(ISBLANK('Scholars Nomination Form'!S499),\"\",'Scholars Nomination Form'!S499)","v":""},{"$f":"IF(ISBLANK('Scholars Nomination Form'!T499),\"\",'Scholars Nomination Form'!T499)","v":""},{"$f":"IF(ISBLANK('Scholars Nomination Form'!U499),\"\",'Scholars Nomination Form'!U499)","v":""},{"$f":"IF(ISBLANK('Scholars Nomination Form'!V499),\"\",'Scholars Nomination Form'!V499)","v":""},{"$f":"IF(ISBLANK('Scholars Nomination Form'!W499),\"\",'Scholars Nomination Form'!W499)","v":""},{"$f":"IF(ISBLANK('Scholars Nomination Form'!X499),\"\",'Scholars Nomination Form'!X499)","v":""},{"$f":"IF(ISBLANK('Scholars Nomination Form'!Y499),\"\",'Scholars Nomination Form'!Y499)","v":""},{"$f":"IF(ISBLANK('Scholars Nomination Form'!Z499),\"\",'Scholars Nomination Form'!Z499)","v":""},{"$f":"IF(ISBLANK('Scholars Nomination Form'!AA499),\"\",'Scholars Nomination Form'!AA499)","v":""}]
[{"$f":"IF(ISBLANK('Scholars Nomination Form'!$F500),\"\",'Scholars Nomination Form'!$C$11)","v":""},{"$f":"IF(ISBLANK('Scholars Nomination Form'!$F500),\"\",'Scholars Nomination Form'!$C$12)","v":""},{"$f":"IF(ISBLANK('Scholars Nomination Form'!$F500),\"\",'Scholars Nomination Form'!$C$13)","v":""},{"$f":"IF(ISBLANK('Scholars Nomination Form'!$F500),\"\",'Scholars Nomination Form'!$C$14)","v":""},{"$f":"IF(ISBLANK('Scholars Nomination Form'!$F500),\"\",'Scholars Nomination Form'!$C$15)","v":""},{"$f":"IF(ISBLANK('Scholars Nomination Form'!$F500),\"\",'Scholars Nomination Form'!$C$16)","v":""},{"$f":"IF(ISBLANK('Scholars Nomination Form'!B500),\"\",'Scholars Nomination Form'!B500)","v":""},{"$f":"IF(ISBLANK('Scholars Nomination Form'!D500),\"\",'Scholars Nomination Form'!D500)","v":""},{"$f":"IF(ISBLANK('Scholars Nomination Form'!E500),\"\",'Scholars Nomination Form'!E500)","v":""},{"$f":"IF(ISBLANK('Scholars Nomination Form'!F500),\"\",'Scholars Nomination Form'!F500)","v":""},{"$f":"IF(ISBLANK('Scholars Nomination Form'!G500),\"\",'Scholars Nomination Form'!G500)","v":""},{"$f":"IF(ISBLANK('Scholars Nomination Form'!H500),\"\",'Scholars Nomination Form'!H500)","v":""},{"$f":"IF(ISBLANK('Scholars Nomination Form'!I500),\"\",'Scholars Nomination Form'!I500)","v":""},{"$f":"IF(ISBLANK('Scholars Nomination Form'!J500),\"\",'Scholars Nomination Form'!J500)","v":""},{"$f":"IF(ISBLANK('Scholars Nomination Form'!K500),\"\",'Scholars Nomination Form'!K500)","v":""},{"$f":"IF(ISBLANK('Scholars Nomination Form'!L500),\"\",'Scholars Nomination Form'!L500)","v":""},{"$f":"IF(ISBLANK('Scholars Nomination Form'!M500),\"\",'Scholars Nomination Form'!M500)","v":""},{"$f":"IF(ISBLANK('Scholars Nomination Form'!N500),\"\",'Scholars Nomination Form'!N500)","v":""},{"$f":"IF(ISBLANK('Scholars Nomination Form'!O500),\"\",'Scholars Nomination Form'!O500)","v":""},{"$f":"IF(ISBLANK('Scholars Nomination Form'!P500),\"\",'Scholars Nomination Form'!P500)","v":""},{"$f":"IF(ISBLANK('Scholars Nomination Form'!Q500),\"\",'Scholars Nomination Form'!Q500)","v":""},{"$f":"IF(ISBLANK('Scholars Nomination Form'!R500),\"\",'Scholars Nomination Form'!R500)","v":""},{"$f":"IF(ISBLANK('Scholars Nomination Form'!S500),\"\",'Scholars Nomination Form'!S500)","v":""},{"$f":"IF(ISBLANK('Scholars Nomination Form'!T500),\"\",'Scholars Nomination Form'!T500)","v":""},{"$f":"IF(ISBLANK('Scholars Nomination Form'!U500),\"\",'Scholars Nomination Form'!U500)","v":""},{"$f":"IF(ISBLANK('Scholars Nomination Form'!V500),\"\",'Scholars Nomination Form'!V500)","v":""},{"$f":"IF(ISBLANK('Scholars Nomination Form'!W500),\"\",'Scholars Nomination Form'!W500)","v":""},{"$f":"IF(ISBLANK('Scholars Nomination Form'!X500),\"\",'Scholars Nomination Form'!X500)","v":""},{"$f":"IF(ISBLANK('Scholars Nomination Form'!Y500),\"\",'Scholars Nomination Form'!Y500)","v":""},{"$f":"IF(ISBLANK('Scholars Nomination Form'!Z500),\"\",'Scholars Nomination Form'!Z500)","v":""},{"$f":"IF(ISBLANK('Scholars Nomination Form'!AA500),\"\",'Scholars Nomination Form'!AA500)","v":""}]

{"sheet":"Demographic Options","index":2,"n_rows":6,"n_cols":4,"rows_kept":6,"cut":false,"hidden":true,"merged":[]}
["Hispanic","Race","Legal Sex","Gender Identity"]
["Yes","American Indian or Alaska Native","Female","Female"]
["No","Asian","Male","Male"]
[null,"Black or African American",null,"Non-Binary"]
[null,"Native Hawaiian or Other Pacific Islander",null,"Other"]
[null,"White"]